{"text_format":"1","workbook":"xlsx","n_sheets":17,"sheets":["0. Intro","Inputs","BOM","Zipscreen","Wire Guide","Straight Drop","Ctrl_Lists","Ctrl_Selections","Ctrl_Deductions","Ctrl_Recommendations","Ctrl_Limitations","Calc_Reference","PriceList_AU","PriceList_US","ChangeLog","ItemCodes","BOM_Length"],"not_rendered":{"charts":0,"images":6,"macros":1,"external_links":0,"defined_names":290,"comments":10,"pivot_tables":0},"unopened":[],"bounds":{"document_bytes":16777216,"sheet_cells":100000,"rows_first":2000,"rows_last":500,"rows_between":2000,"halvings":0,"cell_chars":16384,"cell_head_chars":4096},"cells_cut":0,"cells_raw":0,"read":"whole","date_system":"1900"}

{"sheet":"0. Intro","index":0,"n_rows":34,"n_cols":21,"rows_kept":34,"cut":false,"hidden":false,"merged":[[3,1,5,16],[30,20,32,33]]}
[]
[null,"If the eBOM opens to this page first, it means Excel Macro's have not been enabled. "]
[]
[null,"Excel Macros provide improved functionality for this file, and it will not work properly unless they are enabled. "]
[]
[]
[]
[null,"This may be caused by one of the following warnings:"]
[null,null,"Follow the steps below each warning to enable Macros."]
[]
[]
[]
[]
[]
[null,null,"Simply click 'Enable Content'"]
[]
[]
[]
[]
[]
[]
[null,null,"Find out more here: ",null,"https://docs.microsoft.com/en-us/deployoffice/security/internet-macros-blocked#remove-mark-of-the-web-from-a-file"]
[]
[null,null,"1. Close workbook"]
[null,null,"2. Right click on the Excel file and click 'Properties'"]
[null,null,"3. Tick 'Unblock' and click 'OK'"]
[null,null,"4. Re-open file"]
[]
[]
[]
[null,null,null,null,null,null,null,null,null,null,null,null,null,null,null,null,null,null,null,null,"This prompt is for the excel file to connect to our website to check if this version is current. A message will flag if the excel is not the latest version. "]
[]
[]
[null,null,null,null,null,null,null,null,null,null,null,null,null,null,null,null,null,null,null,null,"If 'cancel' is clicked, the workbook is still 100% functional. "]

{"sheet":"Inputs","index":1,"n_rows":105,"n_cols":23,"rows_kept":105,"cut":false,"hidden":false,"merged":[[64,18,64,19],[66,18,66,19],[62,17,62,21],[49,17,49,21],[53,18,53,19],[60,17,60,22],[58,17,58,22],[59,17,59,22],[50,18,50,19],[52,18,52,19]]}
[1,1,"1",1,1,1,1,1,1,1,1,1,1,1,1,1]
["macro disabled",false]
["Row # of First Flag",null,{"$f":"ROW(INDEX(A7:OFFSET(A7,options_count-1,0),MATCH(FALSE,ISBLANK(A7:OFFSET(A7,options_count-1,0)),0)))","v":10}]
["Number of Options",null,{"$f":"COUNTA(R7:R46)","v":39},null,null,null,null,null,null,"is open but not extreme",null,null,null,null,null,null,null,null,null,null,null,"Release"]
[{"$f":"SUM(A7:OFFSET(A7,options_count-1,0))","v":17},{"$f":"COUNTIF(B7:OFFSET(B7,options_count-1,0),1)","v":0},{"$f":"SUM(C7:OFFSET(C7,options_count-1,0))","v":5},null,null,null,null,null,null,null,null,null,null,null,{"$f":"\"Col: \" &COLUMN(O6)","v":"Col: 15"},null,null,null,{"$f":"IFERROR(IF(CurrentRevisionReturn=TRUE(),\"Current Version. \",\"File out of date - please download the latest version from the Rollease Acmeda Document Library \"),\"\")&\"\"","v":"Current Version. "},null,null,null,"File Version: 05-Jun-2024"]
["Must Fill Flag","Check error Flag","Check Fill Flag","Condition_1",null,"Condition_2",null,"Optional?","SkipCheck","Enter Precedent",null,"Check For_1","Check For_2","Row Outcome*","WarningCol",null,null,"OPTIONS","INPUT",null,"INSTRUCTIONS",null,"COMMENTS "]
[null,null,null,"i_SystemType",null,"i_IdlerType",null,null,null,null,null,null,null,null,null,null,null,"Job Name",null,null,"← Enter Job Name"]
[null,null,null,null,null,null,null,null,null,null,null,null,null,null,null,null,null,"Job Ref 1",null,null,"← Enter Job Ref 1"]
[null,null,null,null,null,null,null,null,null,null,null,null,null,null,null,null,null,"Job Ref 2",null,null,"← Enter Job Ref 2"]
[1,null,{"$f":"IF(AND(LEN(S10)>0,N10<>\"HIDE\"),1,0)","v":0},null,null,null,null,null,null,null,null,null,null,null,null,null,null,"Region",null,{"$f":"HYPERLINK(\"#\"&ADDRESS(ROW(),COLUMN()-1),CHAR(128))","v":"€"},"← Select Region",null,{"$f":"IF(i_Location=\"\",\"Please select a Region.\",\"\")","v":"Please select a Region."}]
[1,null,{"$f":"IF(AND(LEN(S11)>0,N11<>\"HIDE\"),1,0)","v":0},null,null,null,null,null,null,null,null,null,null,null,null,null,null,"Units",null,{"$f":"HYPERLINK(\"#\"&ADDRESS(ROW(),COLUMN()-1),CHAR(128))","v":"€"},"← Select Units",null,{"$f":"IFERROR(IF(AND(i_SystemType<>\"\",i_SystemType<>\"Pivot Arm\",w_SystemChart=\"On\"),OFFSET(w_SystemChart,0,1,),\"\"),\"\")","v":""}]
[null,null,null,null,null,null,null,null,null,null,null,null,null,"HIDE",null,null,null,"Fabric",null,{"$f":"HYPERLINK(\"#\"&ADDRESS(ROW(),COLUMN()-1),CHAR(128))","v":"€"},"← Select Fabric"]
[1,null,{"$f":"IF(AND(S13>0,N13<>\"HIDE\"),1,0)","v":0},null,null,null,null,null,null,null,null,null,null,null,{"$f":"IFERROR(IF(SEARCH(\"Warning\",W13)>0,1,0),0)","v":0},null,null,"Blind Width",null,null,{"$f":"_xlfn.IFNA(\"← Enter Total Blind Width (\"&INDEX(T_UnitSelection[Units],MATCH(i_Units,T_UnitSelection[UnitSelection],0))&\")\",\"← Enter Blind Width\")","v":"← Enter Blind Width"},null,{"$f":"IFERROR(IF(i_SystemType<>\"\",_xlfn.XLOOKUP(\"On\",w_BlindWidth,Ctrl_Recommendations!W11:W12,\"\",0),\"\"),\"\")","v":""}]
[{"$f":"IF(N14=\"HIDE\",0,1)","v":1},null,{"$f":"IF(AND(S14>0,N14<>\"HIDE\"),1,0)","v":0},null,null,null,null,null,null,"i_SystemType",null,"Pivot Arm",null,{"$f":"IF(ISNUMBER(SEARCH(L14,INDIRECT(J14))),\"HIDE\",\"SHOW\")","v":"SHOW"},{"$f":"IFERROR(IF(SEARCH(\"Warning\",W14)>0,1,0),0)","v":0},null,null,"Blind Drop",null,null,{"$f":"_xlfn.IFNA(\"← Enter Total Blind Drop (\"&INDEX(T_UnitSelection[Units],MATCH(i_Units,T_UnitSelection[UnitSelection],0))&\")\",\"← Enter Blind Drop\")","v":"← Enter Blind Drop"},null,{"$f":"IFERROR(IF(i_SystemType<>\"\",_xlfn.XLOOKUP(\"On\",w_BlindDrop,Ctrl_Recommendations!W6:W7,\"\",0),\"\"),\"\")","v":""}]
[{"$f":"IF(N15=\"HIDE\",0,1)","v":1},null,{"$f":"IF(AND(LEN(S15)>0,N15<>\"HIDE\"),1,0)","v":0},null,null,null,null,null,null,null,null,null,null,null,{"$f":"IFERROR(IF(SEARCH(\"Warning\",W15)>0,1,0),0)","v":0},null,null,"System Type",null,{"$f":"HYPERLINK(\"#\"&ADDRESS(ROW(),COLUMN()-1),CHAR(128))","v":"€"},{"$f":"\"← Select \"&R15","v":"← Select System Type"},null,{"$f":"IFERROR(IF(AND(i_Tube<>\"\",i_SystemType<>\"\",i_InstallationType<>\"\",w_MaxArea=\"On\"),OFFSET(w_MaxArea,0,1,),\"\"),\"\")","v":""}]
[1,null,0,null,null,null,null,null,null,null,null,null,null,null,{"$f":"IFERROR(IF(SEARCH(\"Warning\",W16)>0,1,0),0)","v":0},null,null,"Installation Type",null,{"$f":"HYPERLINK(\"#\"&ADDRESS(ROW(),COLUMN()-1),CHAR(128))","v":"€"},"← Select Installation Type",null,{"$f":"IF(w_ZipscreenBox120=\"on\",OFFSET(w_ZipscreenBox120,0,1),\"\")","v":""}]
[{"$f":"IF(N17=\"HIDE\",0,1)","v":1},null,{"$f":"IF(AND(LEN(S17)>0,N17<>\"HIDE\"),1,0)","v":0},null,null,null,null,null,null,"i_InstallationType","!=","Recess",null,{"$f":"IF(ISNUMBER(SEARCH(L17,INDIRECT(J17))),\"HIDE\",\"SHOW\")","v":"SHOW"},null,null,null,"Bracket Fix Orientation",null,"€",{"$f":"\"← Select \"&R17","v":"← Select Bracket Fix Orientation"}]
[{"$f":"IF(N18=\"HIDE\",0,1)","v":0},null,{"$f":"IF(AND(LEN(S18)>0,N18<>\"HIDE\"),1,0)","v":0},null,null,null,null,null,null,"i_installationType","=","Open",null,{"$f":"IF(L18=INDIRECT(J18),\"SHOW\",\"HIDE\")","v":"HIDE"},null,null,null,"Open Bracket Style",null,"€","← Select Open Bracket Style"]
[{"$f":"IF(N19=\"HIDE\",0,1)","v":0},null,{"$f":"IF(AND(LEN(S19)>0,N19<>\"HIDE\"),1,0)","v":0},null,null,{"$f":"IFERROR(IF(FIND(\"VEUE\",i_SystemType)>0,\"VEUE\",\"\"),\"\")","v":""},null,null,1,"i_installationType","=","Open",null,{"$f":"IF(L19=INDIRECT(J19),\"SHOW\",\"HIDE\")","v":"HIDE"},null,null,null,"Open Bracket Options",null,"€","← Select Open Bracket Options"]
[0,null,0,null,null,null,null,null,null,"i_SystemType",null,"Zipscreen",null,{"$f":"IF(ISNUMBER(SEARCH(L20,INDIRECT(J20))),\"SHOW\",\"HIDE\")","v":"HIDE"},null,null,null,{"$f":"IF(i_Location=\"US\",\"Zipscreen Inside Mount\",\"Zipscreen Side Guide Fix\")","v":"Zipscreen Side Guide Fix"},null,"€","← Select Zipscreen Side Guide Fix"]
[0,null,0,null,null,null,null,null,null,"i_ZipscreenSideGuideFix",null,"Face",null,"HIDE",null,null,null,"Zipscreen Side Guide Type",null,"€","← Select Zipscreen Side Guide Type"]
[0,null,0,null,null,null,null,null,null,"i_SystemType",null,"Pivot Arm",null,"HIDE",null,null,null,"Pivot Arm Length",null,{"$f":"HYPERLINK(\"#\"&ADDRESS(ROW(),COLUMN()-1),CHAR(128))","v":"€"},{"$f":"\"← Select \"&R22","v":"← Select Pivot Arm Length"},null,{"$f":"IFERROR(IF(w_ControlWidth=\"On\",OFFSET(w_ControlWidth,0,1,),\"\"),\"\")","v":""}]
[1,null,0,null,null,null,null,null,null,null,null,null,null,{"$f":"IF(ISNUMBER(SEARCH(L23,INDIRECT(J23))),\"HIDE\",\"SHOW\")","v":"SHOW"},null,null,null,{"$f":"IF(i_Location=\"US\",\"Hem Bar\",\"Weight Bar\")","v":"Weight Bar"},null,"€",{"$f":"\"← Select \"&R23","v":"← Select Weight Bar"},null,{"$f":"IFERROR(IF(AND(i_SystemType=\"Zipscreen\",o_Widthmm>4000),\"F72 Weight Bar recommended for Zipscreens over 4000mm [158in] wide.\",\"\"),\"\")","v":""}]
[{"$f":"IF(N24=\"HIDE\",0,1)","v":1},null,{"$f":"IF(AND(LEN(S24)>0,N24<>\"HIDE\"),1,0)","v":0},null,null,null,null,null,null,null,null,null,null,null,{"$f":"IFERROR(IF(SEARCH(\"Warning\",W24)>0,1,0),0)","v":0},null,null,"Tube",null,"€",{"$f":"\"← Select \"&R24","v":"← Select Tube"},null,{"$f":"IF(w_TubeChart=\"On\",OFFSET(w_TubeChart,0,1,),\"Refer relevant Product Specifications chart for tube recommendations.\")","v":"Refer relevant Product Specifications chart for tube recommendations."}]
[{"$f":"IF(N25=\"HIDE\",0,1)","v":1},null,{"$f":"IF(AND(LEN(S25)>0,N25<>\"HIDE\"),1,0)","v":0},null,null,null,null,null,null,null,null,null,null,"SHOW",null,null,null,"Idler Type",null,{"$f":"HYPERLINK(\"#\"&ADDRESS(ROW(),COLUMN()-1),CHAR(128))","v":"€"},{"$f":"\"← Select \"&R25","v":"← Select Idler Type"}]
[{"$f":"IF(N26=\"HIDE\",0,1)","v":0},null,{"$f":"IF(AND(LEN(S26)>0,N26<>\"HIDE\"),1,0)","v":0},null,null,"Extreme",null,null,null,"i_SystemType",null,"Wire Guide",null,{"$f":"IF(AND(ISNUMBER(SEARCH(L26,INDIRECT(J26))),ISNUMBER(SEARCH(F26,INDIRECT($F$7)))),\"SHOW\",\"HIDE\")","v":"HIDE"},null,null,null,"Wire Bottom Terminal",null,"€",{"$f":"\"← Select \"&R26","v":"← Select Wire Bottom Terminal"}]
[1,null,0,null,null,null,null,null,null,null,null,null,null,null,{"$f":"IFERROR(IF(SEARCH(\"Warning\",W27)>0,1,0),0)","v":0},null,null,"Control Type",null,{"$f":"HYPERLINK(\"#\"&ADDRESS(ROW(),COLUMN()-1),CHAR(128))","v":"€"},"← Select Control Type",null,{"$f":"IFERROR(IF(w_ControlWidth=\"on\",OFFSET(w_ControlWidth,0,1,),\"\"),\"\")","v":""}]
[{"$f":"IF(N28=\"HIDE\",0,1)","v":0},null,{"$f":"IF(AND(H28=1,N28=\"SHOW\"),1,IF(AND(LEN(S28)>0,N28<>\"HIDE\"),1,0))","v":0},null,null,null,null,1,null,"i_ControlType",null,"Motor","Gear",{"$f":"IF(SUMPRODUCT(--ISNUMBER(SEARCH(L28:M28,INDIRECT(J28)))),\"SHOW\",\"HIDE\")","v":"HIDE"},null,null,null,"Control Side",null,"€",{"$f":"\"← Select \"&R28","v":"← Select Control Side"}]
[0,{"$f":"IFERROR(IF(SEARCH(\"Warning\",W29)>0,1,0),0)","v":0},{"$f":"IF(AND(LEN(S29)>0,N29<>\"HIDE\"),1,0)","v":0},null,null,null,null,null,null,"i_ControlType",null,"Spring",null,{"$f":"IF(ISNUMBER(SEARCH(L29,INDIRECT(J29))),\"SHOW\",\"HIDE\")","v":"HIDE"},null,null,null,"Spring",null,"€","← Select Spring",null,{"$f":"IFERROR(IF(i_WeightBar<>\"\",IF(o_BoosterWarningTrigger=1,o_BoosterWarning,o_BoosterTextRec),\"\"),\"\")","v":""}]
[0,null,{"$f":"IF(AND(H30=1,N30=\"SHOW\"),1,IF(AND(LEN(S30)>0,N30<>\"HIDE\"),1,0))","v":0},null,null,null,null,1,null,"i_ControlType",null,"Gear",null,"HIDE",null,null,null,"Gear Arm Length",null,"€","← Select Gear Arm Length"]
[0,null,{"$f":"IF(AND(H31=1,N31=\"SHOW\"),1,IF(AND(LEN(S31)>0,N31<>\"HIDE\"),1,0))","v":0},null,null,null,null,1,null,"i_ControlType",null,"Gear",null,"HIDE",null,null,null,"Gear Handle Clip",null,"€",{"$f":"\"← Select \"&R31","v":"← Select Gear Handle Clip"}]
[0,null,{"$f":"IF(AND(LEN(S32)>0,N32<>\"HIDE\"),1,0)","v":0},null,null,null,null,null,1,"i_ControlType",null,"Gear",null,"HIDE",null,null,null,"Gear Ratio",null,"€",{"$f":"\"← Select \"&R32","v":"← Select Gear Ratio"},null,{"$f":"IFERROR(IF(AND(i_GearRatio<>\"8:1 (20 Nm)\",IF(FIND(\"Ultra Lock\",i_wbLock)>0,TRUE())),\"8:1 Gear recommended when Ultra Lock is used.\",\"Refer Product Specifications Manual for Gear recommendations.\"),\"8:1 Gear ratio is recommended for shades wider than 3000mm [116in].\")","v":"8:1 Gear ratio is recommended for shades wider than 3000mm [116in]."}]
[0,null,{"$f":"IF(AND(LEN(S33)>0,N33<>\"HIDE\"),1,0)","v":0},null,null,null,null,null,null,"i_ControlType",null,"Motor",null,"HIDE",null,null,null,"Motor",null,{"$f":"HYPERLINK(\"#\"&ADDRESS(ROW(),COLUMN()-1),CHAR(128))","v":"€"},"← Select Motor",null,{"$f":"IFERROR(IF(w_MotorWarning=\"on\",OFFSET(w_MotorWarning,0,1,),\"\"),\"\")","v":""}]
[0,null,{"$f":"IF(AND(H34=1,N34=\"SHOW\"),1,IF(AND(LEN(S34)>0,N34<>\"HIDE\"),1,0))","v":0},null,null,null,null,1,null,"i_motor",null,"AUTOMATE",null,"HIDE",null,null,null,"Remote",null,{"$f":"HYPERLINK(\"#\"&ADDRESS(ROW(),COLUMN()-1),CHAR(128))","v":"€"},{"$f":"\"← Select \"&R34","v":"← Select Remote"}]
[0,null,{"$f":"IF(AND(H35=1,N35=\"SHOW\"),1,IF(AND(LEN(S35)>0,N35<>\"HIDE\"),1,0))","v":0},null,null,null,null,1,null,"i_motor",null,"AUTOMATE",null,"HIDE",null,null,null,"Sensor",null,{"$f":"HYPERLINK(\"#\"&ADDRESS(ROW(),COLUMN()-1),CHAR(128))","v":"€"},{"$f":"\"← Select \"&R35","v":"← Select Sensor"}]
[{"$f":"IF(N36=\"HIDE\",0,1)","v":1},null,{"$f":"IF(AND(H36=1,N36=\"SHOW\"),1,IF(AND(LEN(S36)>0,N36<>\"HIDE\"),1,0))","v":1},null,null,null,null,1,null,"i_SystemType","!=","Pivot",null,{"$f":"IF(ISNUMBER(SEARCH(L36,INDIRECT(J36))),\"HIDE\",\"SHOW\")","v":"SHOW"},null,null,null,{"$f":"IF(i_Location=\"US\",\"Hem Bar Lock\",\"Weight Bar Lock\")","v":"Weight Bar Lock"},null,"€",{"$f":"\"← Select \"&R36","v":"← Select Weight Bar Lock"}]
[0,null,{"$f":"IF(AND(LEN(S37)>0,N37<>\"HIDE\"),1,0)","v":0},null,null,null,null,null,null,null,null,null,null,{"$f":"IF(ISERROR(INDEX(L_wbStrap,1)),\"HIDE\",\"SHOW\")","v":"HIDE"},null,null,null,{"$f":"IF(i_Location=\"US\",\"Hem Bar Strap\",\"Weight Bar Strap\")","v":"Weight Bar Strap"},null,"€",{"$f":"\"← Select \"&R37","v":"← Select Weight Bar Strap"}]
[1,null,{"$f":"IF(AND(H38=1,N38=\"SHOW\"),1,IF(AND(LEN(S38)>0,N38<>\"HIDE\"),1,0))","v":1},null,null,null,null,1,null,"i_SystemType","!=","Pivot Arm",null,{"$f":"IF(ISNUMBER(SEARCH(L38,INDIRECT(J38))),\"HIDE\",\"SHOW\")","v":"SHOW"},null,null,null,{"$f":"IF(i_Location=\"US\",\"Hem Bar Seal\",\"Weight Bar Seal\")","v":"Weight Bar Seal"},null,"€",{"$f":"\"← Select \"&R38","v":"← Select Weight Bar Seal"}]
[1,null,{"$f":"IF(AND(H39=1,N39=\"SHOW\"),1,IF(AND(LEN(S39)>0,N39<>\"HIDE\"),1,0))","v":1},null,null,null,null,1,null,"i_ControlType","!=","Spring",null,{"$f":"IF(ISNUMBER(SEARCH(L39,INDIRECT(J39))),\"HIDE\",\"SHOW\")","v":"SHOW"},null,null,null,{"$f":"IF(i_Location=\"US\",\"Hem Bar Ballast\",\"Weight Bar Ballast\")","v":"Weight Bar Ballast"},null,"€","← Select Weight Bar Ballast",null,{"$f":"IF(i_wbLock=\"Ultra-Lock Zipscreen\",\"Ballast is recommended when using the Ultra-Lock.\",IF(AND(o_Widthmm>0,o_Widthmm<1600),\"Ballast is recommended for shades under 1600mm [63in] wide.\",\"\"))","v":""}]
[0,null,{"$f":"IF(AND(H40=1,N40=\"SHOW\"),1,IF(AND(LEN(S40)>0,N40<>\"HIDE\"),1,0))","v":0},null,null,null,null,1,1,"i_ControlType",null,"Spring",null,{"$f":"IF(ISNUMBER(SEARCH(L40,INDIRECT(J40))),\"SHOW\",\"HIDE\")","v":"HIDE"},null,null,null,{"$f":"IF(i_Location=\"US\",\"Hem Bar Handle\",\"Weight Bar Handle\")","v":"Weight Bar Handle"},null,"€","← Select Weight Bar Handle",null,{"$f":"IFERROR(IF(SEARCH(\"Handle\",i_wbHandle)>0,\"Handles are to be located centrally on the weight bar.\",\"\"),\"\")","v":""}]
[0,null,{"$f":"IF(AND(H41=1,N41=\"SHOW\"),1,IF(AND(LEN(S41)>0,N41<>\"HIDE\"),1,0))","v":0},null,null,null,null,1,1,"i_ControlType",null,{"$f":"IF(i_Location=\"AU\",\"Spring\",\"US doesn’t have pull sticks\")","v":"US doesn’t have pull sticks"},null,{"$f":"IF(ISNUMBER(SEARCH(L41,INDIRECT(J41))),\"SHOW\",\"HIDE\")","v":"HIDE"},null,null,null,"Pull Stick",null,"€",{"$f":"\"← Select \"&R41","v":"← Select Pull Stick"}]
[{"$f":"IF(N42=\"HIDE\",0,1)","v":1},null,{"$f":"IF(AND(LEN(S42)>0,N42<>\"HIDE\"),1,0)","v":0},null,null,null,null,null,1,null,null,null,null,null,null,null,null,"Finish",null,"€",{"$f":"\"← Select \"&R42","v":"← Select Finish"}]
[{"$f":"IF(N43=\"HIDE\",0,1)","v":0},null,{"$f":"IF(AND(H43=1,N43=\"SHOW\"),1,IF(AND(LEN(S43)>0,N43<>\"HIDE\"),1,0))","v":0},null,null,null,null,1,1,"i_Finish",null,"Powdercoat",null,{"$f":"IF(ISNUMBER(SEARCH(L43,INDIRECT(J43))),\"SHOW\",\"HIDE\")","v":"HIDE"},null,null,null,"Colour",null,"€",{"$f":"\"← Select Colour or type custom colour\"","v":"← Select Colour or type custom colour"}]
[1,null,1,null,null,null,null,null,null,null,null,null,null,null,null,null,null,null,0]
[{"$f":"IF(N45=\"HIDE\",0,1)","v":1},null,{"$f":"IF(AND(LEN(S45)>0,N45<>\"HIDE\"),1,0)","v":1},null,null,null,null,null,null,null,null,null,null,"SHOW",null,null,null,"HARDWARE DISCOUNT",0,null,"← Enter Discount %"]
[{"$f":"IF(N46=\"HIDE\",0,1)","v":1},null,{"$f":"IF(AND(LEN(S46)>0,N46<>\"HIDE\"),1,0)","v":1},null,null,null,null,null,null,null,null,null,null,"SHOW",null,null,null,"AUTOMATE DISCOUNT",0,null,"← Enter Discount %"]
[null,null,null,null,null,null,null,null,null,null,null,null,null,"SHOW",null,null,null,"SHOW PRICING","Yes",null,"← Select if pricing is to be shown on BOM"]
[0,null,0,null,null,null,null,null,null,null,null,null,null,"HIDE",null,null,null,"SYSTEM QTY",1,null,"← Enter QTY Required"]
[]
[null,null,null,null,null,null,null,null,null,null,null,null,null,"HIDE",null,null,null,"CALCULATOR"]
[null,null,null,null,null,null,null,null,null,null,null,null,null,"HIDE",null,null,null,"Booster Pre-turns",{"$f":"IF(i_ControlType=\"Spring\",Calc_Reference!BA38,\"\")","v":""},null,"Turns"]
[null,null,null,null,null,null,null,null,null,null,null,null,null,"HIDE",null,null,null,"Motor cycle time (1-way)",null,null,"sec"]
[null,null,null,null,null,null,null,null,null,null,null,null,null,"HIDE",null,null,null,"Tube Deflection",{"$f":"(5/384)*((g*(Fabric_Density*o_BlindDropm+Tube_UnitMass+wb_UnitMass)*o_BlindWidthm^4)/Tube_IE)*1000","v":{"$error":"#N/A"}},null,"mm"]
[null,null,null,null,null,null,null,null,null,null,null,null,null,"HIDE",null,null,null,"Roll Diameter",null,null,"mm",null,"including zip (if applicable) - data bar needs to be box/open bracket limit"]
[null,null,null,null,null,null,null,null,null,null,null,null,null,"SHOW"]
["Enable Visualiser Button",null,false,null,null,null,null,null,null,null,null,null,null,null,null,null,null,"LEGEND","INSTRUCTIONS"]
["Enable Restore Data",null,true,null,null,null,null,null,null,null,null,null,null,null,null,null,null,"OPTIONAL FIELD","STEP 1: In order to obtain cutting lists, ensure all required fields are filled in"]
["Row # of First Option",null,{"$f":"ROW(R7)","v":7},null,null,null,null,null,null,null,null,null,null,null,null,null,null,"REQUIRED FIELD","STEP 2: Once Inputs are completed, click SUBMIT button to generate Bill of Materials & Cutting List. If the SUBMIT button is greyed out when all yellow fields have data - then macros have not been enabled."]
["Row # of Last Option",null,{"$f":"ROW(i_Finish)","v":42}]
["Row # of First System Input",null,{"$f":"MIN(ROW(System_Inputs))","v":15},null,null,null,null,null,null,null,null,null,null,null,null,null,null,"NOTE: Microsoft Excel 2016 or later required for complete functionality. MACROS MUST BE ENABLED."]
[null,null,null,null,null,null,null,null,null,null,null,null,{"$f":"IF(SUM(O10:O45)>=1,\"Warnings\",\"No Warnings\")","v":"No Warnings"},null,null,null,null,"DISCLAIMER: Rollease Acmeda has used reasonable care in preparing the information included in this workbook, but makes no representations or warranties as to the completeness or accuracy of the information. Information is supplied upon the condition that the persons receiving the information will make their own determination as to is suitability for their purposes prior to use. Rollease Acmeda assumes no liability whatsoever for any damages incurred by you resulting from errors in or omissions from the information included herein. \nThe pricing tool is an indicative estimation only based on selections and does not account for indicidental wastage. Rollease Acmeda reserves the right to make changes without further notice to any products to improve the reliability, function or design."]
[]
[null,null,"={IF(SUMPRODUCT(--ISNUMBER(SEARCH(E42,INDIRECT(D42)))),\"HIDE\",\"SHOW\")}",null,null,null,null,null,null,null,null,null,null,null,null,null,null,"Recent changes:\nv4.08 - Corrected issue with installation dropdowns not appearing correctly. \nv4.07 -Added colour options for Crank Handles and Clips. (AU)\nAdded 'eBOM Mode' to allow alternative tube selections.\nCorrected minimum widths for motorisation options. \nAllowed custom colour input."]
[null,null,"=IF(AND(ISNUMBER(SEARCH(K20,@INDIRECT(I20))),(D20=@INDIRECT($D$7))),\"SHOW\",\"HIDE\")"]
[null,null,"=IF(AND(ISERROR(SEARCH(L17,@INDIRECT($F$7))),ISNUMBER(SEARCH(K17,@INDIRECT(I17)))),IF(@INDIRECT($D$7)=D17,\"SHOW\",\"HIDE\"),\"HIDE\")",null,null,null,null,null,null,null,null,null,null,null,null,null,null,null,"eBOM Mode"]
[null,null,null,null,null,null,null,null,null,null,null,null,null,null,null,null,null,null,"Default",{"$f":"HYPERLINK(\"#\"&ADDRESS(ROW(),COLUMN()-1),CHAR(128))","v":"€"}]
[null,null,null,null,null,null,null,null,null,null,null,null,null,null,null,null,null,null,"FFA ignores system capacity recommendations."]
["# of inputs",{"$f":"COUNTA(B70:B114)","v":30}]
[null,"Current Inputs","Stored Input (Last 1)","Stored Input (Last 2)"]
[null,{"$f":"IF(NOT(ISBLANK(UserInputs)),UserInputs,\"\")","v":""}]
[null,""]
[null,""]
[null,""]
[null,""]
[null,""]
[null,""]
[null,""]
[null,""]
[null,""]
[null,""]
[null,""]
[null,""]
[null,""]
[null,""]
[null,""]
[null,""]
[null,""]
[null,""]
[null,""]
[null,""]
[null,""]
[null,""]
[null,""]
[null,""]
[null,""]
[null,""]
[null,""]
[null,""]
[null,""]
[]
[null,null,0,0]
[null,null,0,0]
[null,null,0,0]
[null,null,0,0]
[null,null,"Powdercoat",0]

{"sheet":"BOM","index":2,"n_rows":346,"n_cols":95,"rows_kept":346,"cut":false,"hidden":true,"merged":[[172,57,173,57],[172,55,173,55],[8,65,9,65],[8,71,9,71],[8,64,9,64],[8,66,9,66],[8,60,9,60],[8,61,9,61],[8,62,9,62],[8,67,9,67],[8,63,9,63],[8,68,9,68],[8,70,9,70],[13,34,13,42],[8,34,8,48],[8,59,9,59],[8,58,9,58],[8,57,9,57],[8,55,9,55],[9,45,10,45],[2,2,6,2],[2,25,6,25],[2,33,6,33],[8,26,8,31],[9,13,9,14],[9,15,9,16],[8,3,8,23],[9,3,9,4],[9,5,9,6],[9,7,9,8],[9,9,9,10],[9,11,9,12],[9,17,9,18],[9,19,9,20],[9,21,9,22],[172,74,173,74],[172,72,173,72],[8,73,9,73],[172,73,173,73],[8,74,9,74],[8,72,9,72],[8,81,9,81],[8,87,9,87],[8,78,9,78],[8,69,9,69],[8,82,9,82],[8,76,9,76],[8,75,9,75],[8,77,9,77],[8,83,9,83]]}
["HIDE","HIDE","HIDE","HIDE","HIDE","HIDE","HIDE","HIDE","HIDE","HIDE","HIDE","HIDE","HIDE","HIDE","HIDE","HIDE","HIDE","HIDE","HIDE","HIDE","HIDE","HIDE","HIDE","HIDE","HIDE","HIDE","HIDE","HIDE","HIDE","HIDE","HIDE","HIDE","HIDE","HIDE","HIDE","HIDE","HIDE","HIDE","HIDE","HIDE","HIDE","HIDE","HIDE","HIDE","HIDE","HIDE","HIDE","HIDE","HIDE","HIDE","HIDE","HIDE","HIDE","HIDE","HIDE","HIDE",null,null,null,"HIDE","HIDE","HIDE","HIDE","HIDE","HIDE",{"$f":"IF(i_Units=\"Metric\",\"SHOW\",\"HIDE\")","v":"HIDE"},{"$f":"IF(i_Units=\"Imperial\",\"SHOW\",\"HIDE\")","v":"HIDE"},null,"HIDE","HIDE","HIDE","HIDE","HIDE","HIDE",null,"HIDE","HIDE","HIDE",{"$f":"IF(i_Pricing=\"Yes\",\"SHOW\",\"HIDE\")","v":"SHOW"},null,"HIDE","HIDE","HIDE","HIDE",null,"HIDE","HIDE","HIDE","HIDE","HIDE","HIDE","HIDE","HIDE","HIDE","HIDE"]
[null,null,null,null,null,null,null,null,null,null,null,null,null,null,null,null,null,null,null,null,null,null,null,null,null,null,null,null,null,null,null,null,null,null,null,null,null,null,null,null,null,null,null,null,null,null,null,null,null,null,"SHOW",null,null,null,null,null,null,null,"Job Name:",null,null,null,null,null,null,{"$f":"IF(i_CustName=0,\"\",i_CustName)","v":""}]
[null,null,"CONDITIONS",null,null,null,null,null,null,null,null,null,null,null,null,null,null,null,null,null,null,null,null,null,null,"QTY",null,null,null,null,null,null,null,"COLOURS",null,null,null,null,null,null,null,null,null,null,null,null,null,null,null,null,"SHOW",null,null,null,null,null,null,null,"Job Ref 1:",null,null,null,null,null,null,{"$f":"IF(i_JobNumber=0,\"\",i_JobNumber)","v":""},{"$f":"IF(i_JobNumber=0,\"\",i_JobNumber)","v":""}]
[null,null,null,null,null,null,null,null,null,null,null,null,null,null,null,null,null,null,null,null,null,null,null,null,null,null,null,null,null,null,null,null,null,null,null,null,null,null,null,null,null,null,null,null,null,null,null,null,null,null,"SHOW",null,null,null,null,null,null,null,"Job Ref 2:",null,null,null,null,null,null,{"$f":"IF(i_JobNumber2=0,\"\",i_JobNumber2)","v":""},{"$f":"IF(i_JobNumber2=0,\"\",i_JobNumber2)","v":""},null,null,null,null,null,null,null,null,null,null,null,null,null,null,null,"isnt accounting for duplicate items, i.e fabric splien rolls"]
[null,null,null,null,null,null,null,null,null,null,null,null,null,null,null,null,null,null,null,null,null,null,null,null,null,null,null,null,null,null,null,null,null,null,null,null,null,null,null,null,null,null,null,null,null,null,null,null,null,null,"SHOW",null,null,null,null,null,null,null,"Blind Width:",null,null,null,null,null,null,{"$f":"o_Widthmm","v":0},{"$f":"TEXT(o_Widthin,\"0\"&IF(ABS(o_Widthin-ROUND(o_Widthin,0))>1/32,\"-0/\"&CHOOSE(ROUND(MOD(o_Widthin,1)*16,0),16,8,16,4,16,8,16,2,16,8,16,4,16,8,16),\"\"))","v":"0"},{"$f":"INDEX(T_UnitSelection[Units],MATCH(i_Units,T_UnitSelection[UnitSelection],0))","v":{"$error":"#N/A"}},null,null,null,null,null,null,null,null,null,null,null,null,null,null,null,null,null,"cutTol was 5mm, changed to 0.05m"]
[null,null,null,null,null,null,null,null,null,null,null,null,null,null,null,null,null,null,null,null,null,null,null,null,null,null,null,null,null,null,null,null,null,null,null,null,null,null,null,null,null,null,null,null,null,null,null,null,null,null,"SHOW",null,null,null,null,null,null,null,"Blind Drop:",null,null,null,{"$f":"NOT(OR($BA17=i_ShowType,i_ShowType=\"All\",$BA17=\"\"))","v":false},null,null,{"$f":"o_Dropmm","v":0},{"$f":"TEXT(o_Dropin,\"0\"&IF(ABS(o_Dropin-ROUND(o_Dropin,0))>1/32,\"-0/\"&CHOOSE(ROUND(MOD(o_Dropin,1)*16,0),16,8,16,4,16,8,16,2,16,8,16,4,16,8,16),\"\"))","v":"0"},{"$f":"INDEX(T_UnitSelection[Units],MATCH(i_Units,T_UnitSelection[UnitSelection],0))","v":{"$error":"#N/A"}},null,null,null,null,null,null,null,null,null,null,null,null,null,null,"show wastage %?"]
[null,null,null,null,null,null,null,null,null,null,null,null,null,null,null,null,null,null,null,null,null,null,null,null,null,null,null,null,null,null,null,null,null,null,null,null,null,null,null,null,null,null,null,null,null,null,null,null,null,null,"SHOW",null,null,null,null,null,null,{"$f":"i_SystemType&\", \"&i_InstallationType&\", \"&IF(OR(i_SystemType=\"Zipscreen\",i_SystemType=\"EXTREME - Zipscreen\"),LEFT(i_ZipscreenSideGuideFix,FIND(\"(\",i_ZipscreenSideGuideFix)-2)&\", \",\"\")&i_WeightBar&\", \"&i_ControlType&\" Control\"&IF(i_ControlSide<>\"\",\" (\"&i_ControlSide&\")\",\"\")&IF(i_Colour<>\"\",\", \"&i_Colour,\"\")","v":", , ,  Control"},null,null,null,null,null,null,null,null,null,null,null,null,null,null,null,null,null,null,null,null,null,null,null,"needs to be calculated from unique values only"]
[null,null,null,null,null,null,null,null,null,null,null,null,null,null,null,null,null,null,null,null,null,null,null,null,null,null,null,null,null,null,null,null,null,null,null,null,null,null,null,null,null,null,null,null,null,null,null,null,null,null,"SHOW"]
[null,null,null,"ROW HIDE/SHOW CONDITIONS",null,null,null,null,null,null,null,null,null,null,null,null,null,null,null,null,null,null,null,null,null,null,"QTY Modifiers",null,null,null,null,null,null,null,"Colour Selection",null,null,null,null,null,null,null,null,null,null,null,null,null,null,null,"SHOW",null,null,null,null,"PART NUMBER for NAV costs",null,"PART NUMBER","PART DESCRIPTION","Std Lengths (meters)","CutList?","Deduction Type","Deduction Lookup","Deduc Type","Cut length (mm)","CUT LENGTH\n(mm)","CUT LENGTH (in)","U.O.M","Supplied UOM","secondary UoM","UoM SWAP?","Discount","QTY (Base)","QTY / SYSTEM","Total QTY","unit/metre lookup cost",{"$f":"\"LINE COST\n(\"&i_Currency&\")\"","v":{"$error":"#N/A"}},{"$f":"\"$ Discount (\"&i_Currency&\")\"","v":{"$error":"#N/A"}},{"$f":"\"LINE COST\n(\"&i_Currency&\")\"","v":{"$error":"#N/A"}},null,null,"Line Order QTY","Order QTY","Line Order Cost",null,"List Price / unit",null,"creates # systems per supplied unit"]
[null,null,"RowCtrl","Condition_1",null,"Condition_2",null,"Condition_3",null,"Condition_4",null,"Condition_5",null,"Condition_6",null,"Condition_7",null,"Condition_8",null,"Condition_9",null,"Condition_10",null,null,null,null,"Links","Distance","Other Rules_1","Other Rules_x","QTY Factor.","Comments",null,null,null,null,null,null,null,null,null,null,null,null,"System Default",null,null,null,null,null,"SHOW",null,null,null,null,null,null,null,null,null,null,null,null,null,null,null,null,null,null,null,null,null,null,null,null,"COST $$$"]
[null,null,null,null,null,null,null,null,null,null,null,null,null,null,null,null,null,null,null,null,null,null,null,null,null,null,null,null,null,null,null,null,null,null,"Fallback ",null,null,null,null,null,null,null,null,null,"Black",null,null,null,null,null,{"$f":"IF(AND(ISBLANK(BD11),ISBLANK(C11)),\"HIDE\",_xlfn.SWITCH(PRODUCT(C11:Z11,B11),2,\"HEADING\",1,\"SHOW\",0,\"HIDE\"))","v":"HIDE"}]
[null,"2=heading",null,null,null,null,null,null,null,null,null,null,null,null,null,null,null,null,null,null,null,null,null,null,null,null,null,"i_Width","i_Drop",null,null,null,null,null,"Colour",null,null,null,null,null,null,null,null,null,null,null,null,null,null,null,{"$f":"IF(AND(ISBLANK(BD12),ISBLANK(C12)),\"HIDE\",_xlfn.SWITCH(PRODUCT(C12:Z12,B12),2,\"HEADING\",1,\"SHOW\",0,\"HIDE\"))","v":"HIDE"},null,null,null,null,null,null,null,null,null,null,null,null,null,null,"&\" (x\"&BT17&\")\"",null,null,null,null,null,null,null,null,null,null,null,null,"total line cost",null,null,null,null,null,null,null,null,"can be more than system QTY"]
[null,null,null,null,null,null,null,null,null,null,null,null,null,null,null,null,null,null,null,null,null,null,null,null,null,null,null,{"$f":"IF(i_Units=\"Metric\",i_Width,CONVERT(i_Width,\"in\",\"mm\"))","v":0},{"$f":"IF(i_Units=\"Metric\",i_Drop,CONVERT(i_Drop,\"in\",\"mm\"))","v":0},null,null,null,null,null,1,2,3,4,5,6,7,8,9,null,null,null,null,null,null,null,{"$f":"IF(AND(ISBLANK(BD13),ISBLANK(C13)),\"HIDE\",_xlfn.SWITCH(PRODUCT(C13:Z13,B13),2,\"HEADING\",1,\"SHOW\",0,\"HIDE\"))","v":"HIDE"},null,null,null,null,null,null,null,null,null,null,null,null,null,null,"mm","in",null,null,null,null,null,null,null,"pcs required for mfg"]
[null,null,null,null,null,null,null,null,null,null,null,null,null,null,null,null,null,null,null,null,null,null,null,null,null,null,null,null,null,null,null,null,null,null,"COLOUR OPTIONS",null,null,null,null,null,null,null,null,"LOC.","DEFAULT","Col_IN Selec",null,"Col_OUT Desc","Col_OUT Code",null,{"$f":"IF(AND(ISBLANK(BD14),ISBLANK(C14)),\"HIDE\",_xlfn.SWITCH(PRODUCT(C14:Z14,B14),2,\"HEADING\",1,\"SHOW\",0,\"HIDE\"))","v":"HIDE"},null,null,"incomplete",null,null,null,null,null,null,null,null,null,null,null,"potential QTY column",null,null,null,null,null,null,null,null,"PRO-RATA CONSUMED"]
[null,2,{"$f":"C16","v":0},null,null,null,null,null,null,null,null,null,null,null,null,null,null,null,null,null,null,null,null,null,null,null,null,null,null,null,null,null,null,null,null,null,null,null,null,null,null,null,null,null,null,null,null,null,null,null,{"$f":"IF(AND(ISBLANK(BD15),ISBLANK(C15)),\"HIDE\",_xlfn.SWITCH(PRODUCT(C15:Z15,B15),2,\"HEADING\",1,\"SHOW\",0,\"HIDE\"))","v":"HIDE"}]
[null,2,{"$f":"IF(COUNTIF(AY17:AY35,\"SHOW\")>0,1,0)","v":0},"i_InstallationType",null,"i_OpenBktCovers",null,"i_BracketOptions",null,"i_SystemType",null,"i_OpenBktStyle",null,"i_BktFixType",null,null,null,null,null,null,null,null,null,null,null,null,null,null,null,null,null,null,null,null,null,null,null,null,null,null,null,null,null,null,null,null,null,null,null,null,{"$f":"IF(AND(ISBLANK(BD16),ISBLANK(C16)),\"HIDE\",_xlfn.SWITCH(PRODUCT(C16:Z16,B16),2,\"HEADING\",1,\"SHOW\",0,\"HIDE\"))","v":"HIDE"},null,"Part Type","Region",null,{"$f":"_xlfn.IFNA(SUBSTITUTE(IF(AR16=\"AU\",SUBSTITUTE(BF16,\"xxx\",AW16),SUBSTITUTE(SUBSTITUTE(BF16,\"xx\",AW16),\"x\",\"\")),\"LLL\",\"580\"),BF16)","v":"BOX / BRACKETS"},null,"BOX / BRACKETS"]
[null,null,null,"Box 120",{"$f":"IFERROR(IF(ISBLANK(D17),\"\",IF(FIND(D17,INDIRECT($D$16))>0,1,0)),0)","v":0},null,null,null,null,null,null,null,null,null,{"$f":"IFERROR(IF(ISBLANK(N17),\"\",IF(FIND(N17,INDIRECT($N$16))>0,1,0)),0)","v":""},null,null,null,null,null,null,null,null,null,null,null,null,null,null,null,{"$f":"IFERROR(IF(AND(AA17=\"Y\",PRODUCT(AB17:AD17)=0),o_nScreens,IF(PRODUCT(AB17:AD17)=0,\"\",PRODUCT(AB17:AD17))),\"\")","v":""},null,null,null,"White","Vanilla","Anodised","Bronze","Black","mill",null,null,null,"AU",{"$f":"IF(ISNUMBER(FIND(\"x\",BF17)),IFERROR(INDEX(AI17:AQ17,0,MATCH(AT17,AI17:AQ17,0)),IF(AI17<>\"\",AI17,i_DefaultColour)),\"\")","v":"White"},{"$f":"i_Finish","v":0},null,{"$f":"IF(ISNUMBER(FIND(\"x\",BF17)),IFERROR(INDEX(AI17:AQ17,0,MATCH(AT17,AI17:AQ17,0)),AS17),\"\")","v":"White"},{"$f":"IF(ISNUMBER(FIND(\"x\",BF17)),IFERROR(INDEX(INDIRECT(\"T_FinishColour[ColourCode-\"&IF(ISNUMBER(FIND(\"xxx\",BF17)),\"xxx\",IF(ISNUMBER(FIND(\"xx\",BF17)),\"xx\",\"error\"))&AR17&\"]\"),MATCH(AV17,T_FinishColour[Finish / Colour],0)),\"\"),\"\")","v":"069"},null,{"$f":"IF(AND(ISBLANK(BD17),ISBLANK(C17)),\"HIDE\",_xlfn.SWITCH(PRODUCT(C17:Z17,B17),2,\"HEADING\",1,\"SHOW\",0,\"HIDE\"))","v":"HIDE"},null,{"$f":"IF(BQ17=\"LENGTH\",\"LENGTH\",\"PICK\")","v":"PICK"},"GL",null,"RE01-0101-069580",null,{"$f":"\"RE01-0101-xxxLLL\"&IF(i_Finish=\"Powdercoat\",\"-PF\",\"\")","v":"RE01-0101-xxxLLL"},"Box 120 Back",5.8,{"$f":"IF(ISBLANK(BP17),\"\",IF(OR(BP17=L_Units),\"Y\",\"N\"))","v":{"$error":"#N/A"}},"Box",{"$f":"IFERROR(IF(BI17=\"Y\",((INDEX(T_Deduc[Deduction],MATCH(BJ17,T_Deduc[Type],0),0))),\"\"),\"\")","v":""},"o_Widthmm",{"$f":"IFERROR(IF(BI17=\"Y\",INDIRECT(BL17)-BK17,\"\"),\"\")","v":""},{"$f":"IFERROR(IF(BI17=\"Y\",BM17,\"\"),\"\")","v":""},{"$f":"IFERROR(IF(BI17=\"Y\",TEXT(BM17/25.4,\"0\"&IF(ABS(BM17/25.4-ROUND(BM17/25.4,0))>1/32,\"-0/\"&CHOOSE(ROUND(MOD(BM17/25.4,1)*16,0),16,8,16,4,16,8,16,2,16,8,16,4,16,8,16),\"\")),\"\"),\"\")","v":""},{"$f":"INDEX(T_UnitSelection[Units],MATCH(i_Units,T_UnitSelection[UnitSelection],0))","v":{"$error":"#N/A"}},{"$f":"IFERROR(IF(ISBLANK(BD17),\"\",INDEX(T_NAV_AU[Unit of Measure],MATCH(BD17,T_NAV_AU[No.],0))),\"\")","v":""},"METRE",null,"HW",1,{"$f":"IF(ISBLANK(BU17),\"\",PRODUCT(AE17,BU17))","v":1},{"$f":"IF(ISBLANK(BU17),\"\",PRODUCT(AE17,BU17,i_systemQTY))","v":1},{"$f":"IFERROR(INDEX(INDIRECT(\"T_NAV_\"&i_Location&\"[\"&i_Location&\"]\"),MATCH(1,--(BD17=INDIRECT(\"T_NAV_\"&i_Location&\"[No.]\"))*--((INDIRECT(\"T_NAV_\"&i_Location&\"[\"&i_Location&\"]\"))<>\"\"),0))/IF(AND(BR17=\"METRE\",BH17<>\"\",BS17=\"\"),BH17,1),\"\")","v":""},{"$f":"IFERROR(IF(AND(AY17=\"SHOW\",BX17<>\"\"),BX17*BW17*IF(AND(BN17<>\"\",OR(BQ17=\"LENGTH\",BQ17=\"METRE\",BQ17=\"ROLL\")),(BM17/1000),1),\"\"),\"\")","v":""},{"$f":"IF(BY17<>\"\",(INDIRECT(\"i_\"&BT17&\"discount\"))*BY17,\"\")","v":""},{"$f":"IFERROR(IF(BY17<>\"\",BY17-BZ17,\"\"),\"\")","v":""},null,null,{"$f":"IFERROR(IF(AY17=\"SHOW\",IF(AND(OR(BQ17=\"ROLL\",BQ17=\"LENGTH\"),BW17>0),ROUNDUP(BW17/CJ17/#REF!,0)*#REF!,IF(BQ17=\"METRE\",#REF!*ROUNDUP(((BW17*BM17)/1000)/#REF!,0),#REF!*ROUNDUP(BW17/#REF!,0))),\"\"),\"\")","v":""},{"$f":"IF(CD17<>\"\",CD17&\"x \"&BQ17&IF(CD17>1,\"S\",\"\"),\"\")","v":""},{"$f":"IFERROR(IF(AY17=\"SHOW\",CH17*CD17*(1-(INDIRECT(\"i_\"&BT17&\"discount\"))),\"\"),\"\")","v":""},null,{"$f":"IFERROR(INDEX(INDIRECT(\"T_NAV_\"&i_Location&\"[\"&i_Location&\"]\"),MATCH(1,--(BD17=INDIRECT(\"T_NAV_\"&i_Location&\"[No.]\"))*--((INDIRECT(\"T_NAV_\"&i_Location&\"[\"&i_Location&\"]\"))<>\"\"),0)),\"\")","v":""},null,{"$f":"IFERROR(IF(ISBLANK(BU17),\"\",IF(OR(BQ17=\"ROLL\",BQ17=\"LENGTH\"),ROUNDDOWN((BH17*1000)/(BM17+CutTol),0),PRODUCT(AE7,BU17))),\"\")","v":1}]
[null,null,null,"Full",0,null,null,null,null,null,null,null,null,null,"",null,null,null,null,null,null,null,null,null,null,null,null,null,null,null,{"$f":"IFERROR(IF(AND(AA18=\"Y\",PRODUCT(AB18:AD18)=0),o_nScreens,IF(PRODUCT(AB18:AD18)=0,\"\",PRODUCT(AB18:AD18))),\"\")","v":""},null,null,null,"White","Vanilla","Anodised","Bronze","Black","mill",null,null,null,"AU","White",0,null,"White",{"$f":"IF(ISNUMBER(FIND(\"x\",BF18)),IFERROR(INDEX(INDIRECT(\"T_FinishColour[ColourCode-\"&IF(ISNUMBER(FIND(\"xxx\",BF18)),\"xxx\",IF(ISNUMBER(FIND(\"xx\",BF18)),\"xx\",\"error\"))&AR18&\"]\"),MATCH(AV18,T_FinishColour[Finish / Colour],0)),\"\"),\"\")","v":"069"},null,{"$f":"IF(AND(ISBLANK(BD18),ISBLANK(C18)),\"HIDE\",_xlfn.SWITCH(PRODUCT(C18:Z18,B18),2,\"HEADING\",1,\"SHOW\",0,\"HIDE\"))","v":"HIDE"},null,{"$f":"IF(BQ18=\"LENGTH\",\"LENGTH\",\"PICK\")","v":"PICK"},"GL",null,"RE01-0102-069580",null,{"$f":"\"RE01-0102-xxxLLL\"&IF(i_Finish=\"Powdercoat\",\"-PF\",\"\")","v":"RE01-0102-xxxLLL"},"Box 120 Front Cover",5.8,{"$f":"IF(ISBLANK(BP18),\"\",IF(OR(BP18=L_Units),\"Y\",\"N\"))","v":{"$error":"#N/A"}},"Box",{"$f":"IFERROR(IF(BI18=\"Y\",((INDEX(T_Deduc[Deduction],MATCH(BJ18,T_Deduc[Type],0),0))),\"\"),\"\")","v":""},"o_widthmm","",{"$f":"IFERROR(IF(BI18=\"Y\",BM18,\"\"),\"\")","v":""},{"$f":"IFERROR(IF(BI18=\"Y\",TEXT(BM18/25.4,\"0\"&IF(ABS(BM18/25.4-ROUND(BM18/25.4,0))>1/32,\"-0/\"&CHOOSE(ROUND(MOD(BM18/25.4,1)*16,0),16,8,16,4,16,8,16,2,16,8,16,4,16,8,16),\"\")),\"\"),\"\")","v":""},{"$f":"INDEX(T_UnitSelection[Units],MATCH(i_Units,T_UnitSelection[UnitSelection],0))","v":{"$error":"#N/A"}},{"$f":"IFERROR(IF(ISBLANK(BD18),\"\",INDEX(T_NAV_AU[Unit of Measure],MATCH(BD18,T_NAV_AU[No.],0))),\"\")","v":""},"METRE",null,"HW",1,1,1,{"$f":"IFERROR(INDEX(INDIRECT(\"T_NAV_\"&i_Location&\"[\"&i_Location&\"]\"),MATCH(1,--(BD18=INDIRECT(\"T_NAV_\"&i_Location&\"[No.]\"))*--((INDIRECT(\"T_NAV_\"&i_Location&\"[\"&i_Location&\"]\"))<>\"\"),0))/IF(AND(BR18=\"METRE\",BH18<>\"\",BS18=\"\"),BH18,1),\"\")","v":""},"","","",null,null,{"$f":"IFERROR(IF(AY18=\"SHOW\",IF(AND(OR(BQ18=\"ROLL\",BQ18=\"LENGTH\"),BW18>0),ROUNDUP(BW18/CJ18/#REF!,0)*#REF!,IF(BQ18=\"METRE\",#REF!*ROUNDUP(((BW18*BM18)/1000)/#REF!,0),#REF!*ROUNDUP(BW18/#REF!,0))),\"\"),\"\")","v":""},"","",null,{"$f":"IFERROR(INDEX(INDIRECT(\"T_NAV_\"&i_Location&\"[\"&i_Location&\"]\"),MATCH(1,--(BD18=INDIRECT(\"T_NAV_\"&i_Location&\"[No.]\"))*--((INDIRECT(\"T_NAV_\"&i_Location&\"[\"&i_Location&\"]\"))<>\"\"),0)),\"\")","v":""},null,{"$f":"IFERROR(IF(ISBLANK(BU18),\"\",IF(OR(BQ18=\"ROLL\",BQ18=\"LENGTH\"),ROUNDDOWN((BH18*1000)/(BM18+CutTol),0),PRODUCT(AE8,BU18))),\"\")","v":1}]
[null,null,null,"(Semi Cover)",0,null,null,null,null,null,null,null,null,null,"",null,null,null,null,null,null,null,null,null,null,null,null,null,null,null,{"$f":"IFERROR(IF(AND(AA19=\"Y\",PRODUCT(AB19:AD19)=0),o_nScreens,IF(PRODUCT(AB19:AD19)=0,\"\",PRODUCT(AB19:AD19))),\"\")","v":""},null,null,null,"White","White","Anodised","Bronze","Black","mill",null,null,null,"AU","White",0,null,"White",{"$f":"IF(ISNUMBER(FIND(\"x\",BF19)),IFERROR(INDEX(INDIRECT(\"T_FinishColour[ColourCode-\"&IF(ISNUMBER(FIND(\"xxx\",BF19)),\"xxx\",IF(ISNUMBER(FIND(\"xx\",BF19)),\"xx\",\"error\"))&AR19&\"]\"),MATCH(AV19,T_FinishColour[Finish / Colour],0)),\"\"),\"\")","v":"069"},null,{"$f":"IF(AND(ISBLANK(BD19),ISBLANK(C19)),\"HIDE\",_xlfn.SWITCH(PRODUCT(C19:Z19,B19),2,\"HEADING\",1,\"SHOW\",0,\"HIDE\"))","v":"HIDE"},null,"PICK","GL",null,"RE01-0103-069580",null,{"$f":"\"RE01-0103-xxxLLL\"&IF(i_Finish=\"Powdercoat\",\"-PF\",\"\")","v":"RE01-0103-xxxLLL"},"Box 120 Semi Cover",5.8,{"$f":"IF(ISBLANK(BP19),\"\",IF(OR(BP19=L_Units),\"Y\",\"N\"))","v":{"$error":"#N/A"}},"Box",{"$f":"IFERROR(IF(BI19=\"Y\",((INDEX(T_Deduc[Deduction],MATCH(BJ19,T_Deduc[Type],0),0))),\"\"),\"\")","v":""},"o_widthmm","","","",{"$f":"INDEX(T_UnitSelection[Units],MATCH(i_Units,T_UnitSelection[UnitSelection],0))","v":{"$error":"#N/A"}},{"$f":"IFERROR(IF(ISBLANK(BD19),\"\",INDEX(T_NAV_AU[Unit of Measure],MATCH(BD19,T_NAV_AU[No.],0))),\"\")","v":""},"METRE",null,"HW",1,1,1,{"$f":"IFERROR(INDEX(INDIRECT(\"T_NAV_\"&i_Location&\"[\"&i_Location&\"]\"),MATCH(1,--(BD19=INDIRECT(\"T_NAV_\"&i_Location&\"[No.]\"))*--((INDIRECT(\"T_NAV_\"&i_Location&\"[\"&i_Location&\"]\"))<>\"\"),0))/IF(AND(BR19=\"METRE\",BH19<>\"\",BS19=\"\"),BH19,1),\"\")","v":""},"","","",null,null,{"$f":"IFERROR(IF(AY19=\"SHOW\",IF(AND(OR(BQ19=\"ROLL\",BQ19=\"LENGTH\"),BW19>0),ROUNDUP(BW19/CJ19/#REF!,0)*#REF!,IF(BQ19=\"METRE\",#REF!*ROUNDUP(((BW19*BM19)/1000)/#REF!,0),#REF!*ROUNDUP(BW19/#REF!,0))),\"\"),\"\")","v":""},"","",null,{"$f":"IFERROR(INDEX(INDIRECT(\"T_NAV_\"&i_Location&\"[\"&i_Location&\"]\"),MATCH(1,--(BD19=INDIRECT(\"T_NAV_\"&i_Location&\"[No.]\"))*--((INDIRECT(\"T_NAV_\"&i_Location&\"[\"&i_Location&\"]\"))<>\"\"),0)),\"\")","v":""},null,{"$f":"IFERROR(IF(ISBLANK(BU19),\"\",IF(OR(BQ19=\"ROLL\",BQ19=\"LENGTH\"),ROUNDDOWN((BH19*1000)/(BM19+CutTol),0),PRODUCT(AE9,BU19))),\"\")","v":1}]
[null,null,null,"Cover",0,null,null,null,null,null,null,null,null,null,"",null,null,null,null,null,null,null,null,null,null,null,null,null,null,null,{"$f":"IFERROR(IF(AND(AA20=\"Y\",PRODUCT(AB20:AD20)=0),o_nScreens,IF(PRODUCT(AB20:AD20)=0,\"\",PRODUCT(AB20:AD20))),\"\")","v":""},null,null,null,"White","Vanilla","Grey","Bronze","Black","Mill",null,null,null,"AU","White",0,null,"White",{"$f":"IF(ISNUMBER(FIND(\"x\",BF20)),IFERROR(INDEX(INDIRECT(\"T_FinishColour[ColourCode-\"&IF(ISNUMBER(FIND(\"xxx\",BF20)),\"xxx\",IF(ISNUMBER(FIND(\"xx\",BF20)),\"xx\",\"error\"))&AR20&\"]\"),MATCH(AV20,T_FinishColour[Finish / Colour],0)),\"\"),\"\")","v":"069"},null,{"$f":"IF(AND(ISBLANK(BD20),ISBLANK(C20)),\"HIDE\",_xlfn.SWITCH(PRODUCT(C20:Z20,B20),2,\"HEADING\",1,\"SHOW\",0,\"HIDE\"))","v":"HIDE"},null,"PICK","GL",null,"RE01-1101-069120",null,"RE01-1101-xxx120","Box 120 End Plates",null,{"$f":"IF(ISBLANK(BP20),\"\",IF(OR(BP20=L_Units),\"Y\",\"N\"))","v":"N"},null,{"$f":"IFERROR(IF(BI20=\"Y\",((INDEX(T_Deduc[Deduction],MATCH(BJ20,T_Deduc[Type],0),0))),\"\"),\"\")","v":""},null,"","","","Pair",{"$f":"IFERROR(IF(ISBLANK(BD20),\"\",INDEX(T_NAV_AU[Unit of Measure],MATCH(BD20,T_NAV_AU[No.],0))),\"\")","v":"PAIR"},null,null,"HW",1,1,1,{"$f":"IFERROR(INDEX(INDIRECT(\"T_NAV_\"&i_Location&\"[\"&i_Location&\"]\"),MATCH(1,--(BD20=INDIRECT(\"T_NAV_\"&i_Location&\"[No.]\"))*--((INDIRECT(\"T_NAV_\"&i_Location&\"[\"&i_Location&\"]\"))<>\"\"),0))/IF(AND(BR20=\"METRE\",BH20<>\"\",BS20=\"\"),BH20,1),\"\")","v":""},"","","",null,null,{"$f":"IFERROR(IF(AY20=\"SHOW\",IF(AND(OR(BQ20=\"ROLL\",BQ20=\"LENGTH\"),BW20>0),ROUNDUP(BW20/CJ20/#REF!,0)*#REF!,IF(BQ20=\"METRE\",#REF!*ROUNDUP(((BW20*BM20)/1000)/#REF!,0),#REF!*ROUNDUP(BW20/#REF!,0))),\"\"),\"\")","v":""},"","",null,{"$f":"IFERROR(INDEX(INDIRECT(\"T_NAV_\"&i_Location&\"[\"&i_Location&\"]\"),MATCH(1,--(BD20=INDIRECT(\"T_NAV_\"&i_Location&\"[No.]\"))*--((INDIRECT(\"T_NAV_\"&i_Location&\"[\"&i_Location&\"]\"))<>\"\"),0)),\"\")","v":""},null,{"$f":"IFERROR(IF(ISBLANK(BU20),\"\",IF(OR(BQ20=\"ROLL\",BQ20=\"LENGTH\"),ROUNDDOWN((BH20*1000)/(BM20+CutTol),0),PRODUCT(AE11,BU20))),\"\")","v":1}]
[null,null,null,"Open",0,null,{"$f":"IFERROR(IF(ISBLANK(F21),\"\",IF(FIND(F21,INDIRECT($F$16))>0,1,0)),0)","v":""},"Mild",{"$f":"IFERROR(IF(ISBLANK(H21),\"\",IF(FIND(H21,INDIRECT($H$16))>0,1,0)),0)","v":0},null,{"$f":"IFERROR(IF(ISBLANK(J21),\"\",IF(FIND(J21,INDIRECT($J$16))>0,1,0)),0)","v":""},"ROUND",{"$f":"IFERROR(IF(ISBLANK(L21),\"\",IF(FIND(L21,INDIRECT($L$16))>0,1,0)),0)","v":0},null,"",null,null,null,null,null,null,null,null,null,null,null,null,null,null,null,{"$f":"IFERROR(IF(AND(AA21=\"Y\",PRODUCT(AB21:AD21)=0),o_nScreens,IF(PRODUCT(AB21:AD21)=0,\"\",PRODUCT(AB21:AD21))),\"\")","v":""},null,null,null,"White","White",null,"Bronze","Black",null,null,null,null,"AU","White",0,null,"White",{"$f":"IF(ISNUMBER(FIND(\"x\",BF21)),IFERROR(INDEX(INDIRECT(\"T_FinishColour[ColourCode-\"&IF(ISNUMBER(FIND(\"xxx\",BF21)),\"xxx\",IF(ISNUMBER(FIND(\"xx\",BF21)),\"xx\",\"error\"))&AR21&\"]\"),MATCH(AV21,T_FinishColour[Finish / Colour],0)),\"\"),\"\")","v":"069"},null,{"$f":"IF(AND(ISBLANK(BD21),ISBLANK(C21)),\"HIDE\",_xlfn.SWITCH(PRODUCT(C21:Z21,B21),2,\"HEADING\",1,\"SHOW\",0,\"HIDE\"))","v":"HIDE"},null,"PICK","GL",null,"RE01-3020-069000",null,"RE01-3020-xxx000","Open Brackets ROUND | Mild Steel",null,{"$f":"IF(ISBLANK(BP21),\"\",IF(OR(BP21=L_Units),\"Y\",\"N\"))","v":"N"},null,{"$f":"IFERROR(IF(BI21=\"Y\",((INDEX(T_Deduc[Deduction],MATCH(BJ21,T_Deduc[Type],0),0))),\"\"),\"\")","v":""},null,"","","","Pair",{"$f":"IFERROR(IF(ISBLANK(BD21),\"\",INDEX(T_NAV_AU[Unit of Measure],MATCH(BD21,T_NAV_AU[No.],0))),\"\")","v":"SET"},null,null,"HW",1,1,1,{"$f":"IFERROR(INDEX(INDIRECT(\"T_NAV_\"&i_Location&\"[\"&i_Location&\"]\"),MATCH(1,--(BD21=INDIRECT(\"T_NAV_\"&i_Location&\"[No.]\"))*--((INDIRECT(\"T_NAV_\"&i_Location&\"[\"&i_Location&\"]\"))<>\"\"),0))/IF(AND(BR21=\"METRE\",BH21<>\"\",BS21=\"\"),BH21,1),\"\")","v":""},"","","",null,null,{"$f":"IFERROR(IF(AY21=\"SHOW\",IF(AND(OR(BQ21=\"ROLL\",BQ21=\"LENGTH\"),BW21>0),ROUNDUP(BW21/CJ21/#REF!,0)*#REF!,IF(BQ21=\"METRE\",#REF!*ROUNDUP(((BW21*BM21)/1000)/#REF!,0),#REF!*ROUNDUP(BW21/#REF!,0))),\"\"),\"\")","v":""},"","",null,{"$f":"IFERROR(INDEX(INDIRECT(\"T_NAV_\"&i_Location&\"[\"&i_Location&\"]\"),MATCH(1,--(BD21=INDIRECT(\"T_NAV_\"&i_Location&\"[No.]\"))*--((INDIRECT(\"T_NAV_\"&i_Location&\"[\"&i_Location&\"]\"))<>\"\"),0)),\"\")","v":""},null,1]
[null,null,null,"Open",0,null,{"$f":"IFERROR(IF(ISBLANK(F22),\"\",IF(FIND(F22,INDIRECT($F$16))>0,1,0)),0)","v":""},"Stainless",{"$f":"IFERROR(IF(ISBLANK(H22),\"\",IF(FIND(H22,INDIRECT($H$16))>0,1,0)),0)","v":0},null,{"$f":"IFERROR(IF(ISBLANK(J22),\"\",IF(FIND(J22,INDIRECT($J$16))>0,1,0)),0)","v":""},"ROUND",{"$f":"IFERROR(IF(ISBLANK(L22),\"\",IF(FIND(L22,INDIRECT($L$16))>0,1,0)),0)","v":0},null,"",null,null,null,null,null,null,null,null,null,null,null,null,null,null,null,{"$f":"IFERROR(IF(AND(AA22=\"Y\",PRODUCT(AB22:AD22)=0),o_nScreens,IF(PRODUCT(AB22:AD22)=0,\"\",PRODUCT(AB22:AD22))),\"\")","v":""},null,null,null,null,null,null,null,null,null,null,null,null,"AU","",0,null,"",{"$f":"IF(ISNUMBER(FIND(\"x\",BF22)),IFERROR(INDEX(INDIRECT(\"T_FinishColour[ColourCode-\"&IF(ISNUMBER(FIND(\"xxx\",BF22)),\"xxx\",IF(ISNUMBER(FIND(\"xx\",BF22)),\"xx\",\"error\"))&AR22&\"]\"),MATCH(AV22,T_FinishColour[Finish / Colour],0)),\"\"),\"\")","v":""},null,{"$f":"IF(AND(ISBLANK(BD22),ISBLANK(C22)),\"HIDE\",_xlfn.SWITCH(PRODUCT(C22:Z22,B22),2,\"HEADING\",1,\"SHOW\",0,\"HIDE\"))","v":"HIDE"},null,"PICK","GL",null,"RE01-3021-012000",null,"RE01-3021-012000","Open Brackets ROUND | Stainless Steel",null,{"$f":"IF(ISBLANK(BP22),\"\",IF(OR(BP22=L_Units),\"Y\",\"N\"))","v":"N"},null,{"$f":"IFERROR(IF(BI22=\"Y\",((INDEX(T_Deduc[Deduction],MATCH(BJ22,T_Deduc[Type],0),0))),\"\"),\"\")","v":""},null,"","","","Pair",{"$f":"IFERROR(IF(ISBLANK(BD22),\"\",INDEX(T_NAV_AU[Unit of Measure],MATCH(BD22,T_NAV_AU[No.],0))),\"\")","v":"SET"},null,null,"HW",1,1,1,{"$f":"IFERROR(INDEX(INDIRECT(\"T_NAV_\"&i_Location&\"[\"&i_Location&\"]\"),MATCH(1,--(BD22=INDIRECT(\"T_NAV_\"&i_Location&\"[No.]\"))*--((INDIRECT(\"T_NAV_\"&i_Location&\"[\"&i_Location&\"]\"))<>\"\"),0))/IF(AND(BR22=\"METRE\",BH22<>\"\",BS22=\"\"),BH22,1),\"\")","v":""},"","","",null,null,{"$f":"IFERROR(IF(AY22=\"SHOW\",IF(AND(OR(BQ22=\"ROLL\",BQ22=\"LENGTH\"),BW22>0),ROUNDUP(BW22/CJ22/#REF!,0)*#REF!,IF(BQ22=\"METRE\",#REF!*ROUNDUP(((BW22*BM22)/1000)/#REF!,0),#REF!*ROUNDUP(BW22/#REF!,0))),\"\"),\"\")","v":""},"","",null,{"$f":"IFERROR(INDEX(INDIRECT(\"T_NAV_\"&i_Location&\"[\"&i_Location&\"]\"),MATCH(1,--(BD22=INDIRECT(\"T_NAV_\"&i_Location&\"[No.]\"))*--((INDIRECT(\"T_NAV_\"&i_Location&\"[\"&i_Location&\"]\"))<>\"\"),0)),\"\")","v":""},null,1]
[null,null,null,"Open",0,null,{"$f":"IFERROR(IF(ISBLANK(F23),\"\",IF(FIND(F23,INDIRECT($F$16))>0,1,0)),0)","v":""},"Mild",{"$f":"IFERROR(IF(ISBLANK(H23),\"\",IF(FIND(H23,INDIRECT($H$16))>0,1,0)),0)","v":0},null,{"$f":"IFERROR(IF(ISBLANK(J23),\"\",IF(J23=INDIRECT($J$16),1,0)),0)","v":""},"SQUARE",{"$f":"IFERROR(IF(ISBLANK(L23),\"\",IF(FIND(L23,INDIRECT($L$16))>0,1,0)),0)","v":0},null,"",null,null,null,null,null,null,null,null,null,null,null,null,null,null,null,{"$f":"IFERROR(IF(AND(AA23=\"Y\",PRODUCT(AB23:AD23)=0),o_nScreens,IF(PRODUCT(AB23:AD23)=0,\"\",PRODUCT(AB23:AD23))),\"\")","v":""},null,null,null,"White","White",null,"Bronze","Black",null,null,null,null,"AU","White",0,null,"White",{"$f":"IF(ISNUMBER(FIND(\"x\",BF23)),IFERROR(INDEX(INDIRECT(\"T_FinishColour[ColourCode-\"&IF(ISNUMBER(FIND(\"xxx\",BF23)),\"xxx\",IF(ISNUMBER(FIND(\"xx\",BF23)),\"xx\",\"error\"))&AR23&\"]\"),MATCH(AV23,T_FinishColour[Finish / Colour],0)),\"\"),\"\")","v":"069"},null,{"$f":"IF(AND(ISBLANK(BD23),ISBLANK(C23)),\"HIDE\",_xlfn.SWITCH(PRODUCT(C23:Z23,B23),2,\"HEADING\",1,\"SHOW\",0,\"HIDE\"))","v":"HIDE"},null,"PICK","GL",null,"RE01-3030-069000",null,"RE01-3030-xxx000","Open Brackets SQUARE | Mild Steel",null,{"$f":"IF(ISBLANK(BP23),\"\",IF(OR(BP23=L_Units),\"Y\",\"N\"))","v":"N"},null,{"$f":"IFERROR(IF(BI23=\"Y\",((INDEX(T_Deduc[Deduction],MATCH(BJ23,T_Deduc[Type],0),0))),\"\"),\"\")","v":""},null,"",{"$f":"IFERROR(IF(BI23=\"Y\",BM23,\"\"),\"\")","v":""},{"$f":"IFERROR(IF(BI23=\"Y\",TEXT(BM23/25.4,\"0\"&IF(ABS(BM23/25.4-ROUND(BM23/25.4,0))>1/32,\"-0/\"&CHOOSE(ROUND(MOD(BM23/25.4,1)*16,0),16,8,16,4,16,8,16,2,16,8,16,4,16,8,16),\"\")),\"\"),\"\")","v":""},"Pair",{"$f":"IFERROR(IF(ISBLANK(BD23),\"\",INDEX(T_NAV_AU[Unit of Measure],MATCH(BD23,T_NAV_AU[No.],0))),\"\")","v":"SET"},null,null,"HW",1,1,1,{"$f":"IFERROR(INDEX(INDIRECT(\"T_NAV_\"&i_Location&\"[\"&i_Location&\"]\"),MATCH(1,--(BD23=INDIRECT(\"T_NAV_\"&i_Location&\"[No.]\"))*--((INDIRECT(\"T_NAV_\"&i_Location&\"[\"&i_Location&\"]\"))<>\"\"),0))/IF(AND(BR23=\"METRE\",BH23<>\"\",BS23=\"\"),BH23,1),\"\")","v":""},"","","",null,null,{"$f":"IFERROR(IF(AY23=\"SHOW\",IF(AND(OR(BQ23=\"ROLL\",BQ23=\"LENGTH\"),BW23>0),ROUNDUP(BW23/CJ23/#REF!,0)*#REF!,IF(BQ23=\"METRE\",#REF!*ROUNDUP(((BW23*BM23)/1000)/#REF!,0),#REF!*ROUNDUP(BW23/#REF!,0))),\"\"),\"\")","v":""},"","",null,{"$f":"IFERROR(INDEX(INDIRECT(\"T_NAV_\"&i_Location&\"[\"&i_Location&\"]\"),MATCH(1,--(BD23=INDIRECT(\"T_NAV_\"&i_Location&\"[No.]\"))*--((INDIRECT(\"T_NAV_\"&i_Location&\"[\"&i_Location&\"]\"))<>\"\"),0)),\"\")","v":""},null,1]
[null,null,null,"Open",0,null,{"$f":"IFERROR(IF(ISBLANK(F24),\"\",IF(FIND(F24,INDIRECT($F$16))>0,1,0)),0)","v":""},"Stainless",{"$f":"IFERROR(IF(ISBLANK(H24),\"\",IF(FIND(H24,INDIRECT($H$16))>0,1,0)),0)","v":0},null,{"$f":"IFERROR(IF(ISBLANK(J24),\"\",IF(J24=INDIRECT($J$16),1,0)),0)","v":""},"SQUARE",{"$f":"IFERROR(IF(ISBLANK(L24),\"\",IF(FIND(L24,INDIRECT($L$16))>0,1,0)),0)","v":0},null,"",null,null,null,null,null,null,null,null,null,null,null,null,null,null,null,{"$f":"IFERROR(IF(AND(AA24=\"Y\",PRODUCT(AB24:AD24)=0),o_nScreens,IF(PRODUCT(AB24:AD24)=0,\"\",PRODUCT(AB24:AD24))),\"\")","v":""},null,null,null,null,null,null,null,null,null,null,null,null,"AU","",0,null,"",{"$f":"IF(ISNUMBER(FIND(\"x\",BF24)),IFERROR(INDEX(INDIRECT(\"T_FinishColour[ColourCode-\"&IF(ISNUMBER(FIND(\"xxx\",BF24)),\"xxx\",IF(ISNUMBER(FIND(\"xx\",BF24)),\"xx\",\"error\"))&AR24&\"]\"),MATCH(AV24,T_FinishColour[Finish / Colour],0)),\"\"),\"\")","v":""},null,{"$f":"IF(AND(ISBLANK(BD24),ISBLANK(C24)),\"HIDE\",_xlfn.SWITCH(PRODUCT(C24:Z24,B24),2,\"HEADING\",1,\"SHOW\",0,\"HIDE\"))","v":"HIDE"},null,"PICK","GL",null,"RE01-3031-012000",null,"RE01-3031-012000","Open Brackets SQUARE | Stainless Steel",null,{"$f":"IF(ISBLANK(BP24),\"\",IF(OR(BP24=L_Units),\"Y\",\"N\"))","v":"N"},null,{"$f":"IFERROR(IF(BI24=\"Y\",((INDEX(T_Deduc[Deduction],MATCH(BJ24,T_Deduc[Type],0),0))),\"\"),\"\")","v":""},null,"","","","Pair",{"$f":"IFERROR(IF(ISBLANK(BD24),\"\",INDEX(T_NAV_AU[Unit of Measure],MATCH(BD24,T_NAV_AU[No.],0))),\"\")","v":"SET"},null,null,"HW",1,1,1,{"$f":"IFERROR(INDEX(INDIRECT(\"T_NAV_\"&i_Location&\"[\"&i_Location&\"]\"),MATCH(1,--(BD24=INDIRECT(\"T_NAV_\"&i_Location&\"[No.]\"))*--((INDIRECT(\"T_NAV_\"&i_Location&\"[\"&i_Location&\"]\"))<>\"\"),0))/IF(AND(BR24=\"METRE\",BH24<>\"\",BS24=\"\"),BH24,1),\"\")","v":""},"","","",null,null,{"$f":"IFERROR(IF(AY24=\"SHOW\",IF(AND(OR(BQ24=\"ROLL\",BQ24=\"LENGTH\"),BW24>0),ROUNDUP(BW24/CJ24/#REF!,0)*#REF!,IF(BQ24=\"METRE\",#REF!*ROUNDUP(((BW24*BM24)/1000)/#REF!,0),#REF!*ROUNDUP(BW24/#REF!,0))),\"\"),\"\")","v":""},"","",null,{"$f":"IFERROR(INDEX(INDIRECT(\"T_NAV_\"&i_Location&\"[\"&i_Location&\"]\"),MATCH(1,--(BD24=INDIRECT(\"T_NAV_\"&i_Location&\"[No.]\"))*--((INDIRECT(\"T_NAV_\"&i_Location&\"[\"&i_Location&\"]\"))<>\"\"),0)),\"\")","v":""},null,1]
[null,null,null,"Box 190",0,null,null,null,null,null,null,null,null,null,null,null,null,null,null,null,null,null,null,null,null,null,null,null,null,null,null,null,null,null,"White","Black","mill",null,null,null,null,null,null,"AU","White",0,null,"White",{"$f":"IF(ISNUMBER(FIND(\"x\",BF25)),IFERROR(INDEX(INDIRECT(\"T_FinishColour[ColourCode-\"&IF(ISNUMBER(FIND(\"xxx\",BF25)),\"xxx\",IF(ISNUMBER(FIND(\"xx\",BF25)),\"xx\",\"error\"))&AR25&\"]\"),MATCH(AV25,T_FinishColour[Finish / Colour],0)),\"\"),\"\")","v":"069"},null,{"$f":"IF(AND(ISBLANK(BD25),ISBLANK(C25)),\"HIDE\",_xlfn.SWITCH(PRODUCT(C25:Z25,B25),2,\"HEADING\",1,\"SHOW\",0,\"HIDE\"))","v":"HIDE"},null,"PICK","GL",null,"RE01-1105-069001",null,"RE01-1105-xxx001","BOX 190 – End Plates & Screws Only",null,"N",null,{"$f":"IFERROR(IF(BI25=\"Y\",((INDEX(T_Deduc[Deduction],MATCH(BJ25,T_Deduc[Type],0),0))),\"\"),\"\")","v":""},null,"","","","Set",{"$f":"IFERROR(IF(ISBLANK(BD25),\"\",INDEX(T_NAV_AU[Unit of Measure],MATCH(BD25,T_NAV_AU[No.],0))),\"\")","v":"SET"},null,null,"HW",1,1,1,{"$f":"IFERROR(INDEX(INDIRECT(\"T_NAV_\"&i_Location&\"[\"&i_Location&\"]\"),MATCH(1,--(BD25=INDIRECT(\"T_NAV_\"&i_Location&\"[No.]\"))*--((INDIRECT(\"T_NAV_\"&i_Location&\"[\"&i_Location&\"]\"))<>\"\"),0))/IF(AND(BR25=\"METRE\",BH25<>\"\",BS25=\"\"),BH25,1),\"\")","v":""},"","","",null,null,{"$f":"IFERROR(IF(AY25=\"SHOW\",IF(AND(OR(BQ25=\"ROLL\",BQ25=\"LENGTH\"),BW25>0),ROUNDUP(BW25/CJ25/#REF!,0)*#REF!,IF(BQ25=\"METRE\",#REF!*ROUNDUP(((BW25*BM25)/1000)/#REF!,0),#REF!*ROUNDUP(BW25/#REF!,0))),\"\"),\"\")","v":""},"","",null,{"$f":"IFERROR(INDEX(INDIRECT(\"T_NAV_\"&i_Location&\"[\"&i_Location&\"]\"),MATCH(1,--(BD25=INDIRECT(\"T_NAV_\"&i_Location&\"[No.]\"))*--((INDIRECT(\"T_NAV_\"&i_Location&\"[\"&i_Location&\"]\"))<>\"\"),0)),\"\")","v":""},null,1]
[null,null,null,"Box 190",0,null,null,null,null,null,null,null,null,null,null,null,null,null,null,null,null,null,null,null,null,null,null,null,null,null,null,null,null,null,"White","Black",null,null,null,null,null,null,null,"AU","",0,null,"",{"$f":"IF(ISNUMBER(FIND(\"x\",BF26)),IFERROR(INDEX(INDIRECT(\"T_FinishColour[ColourCode-\"&IF(ISNUMBER(FIND(\"xxx\",BF26)),\"xxx\",IF(ISNUMBER(FIND(\"xx\",BF26)),\"xx\",\"error\"))&AR26&\"]\"),MATCH(AV26,T_FinishColour[Finish / Colour],0)),\"\"),\"\")","v":""},null,{"$f":"IF(AND(ISBLANK(BD26),ISBLANK(C26)),\"HIDE\",_xlfn.SWITCH(PRODUCT(C26:Z26,B26),2,\"HEADING\",1,\"SHOW\",0,\"HIDE\"))","v":"HIDE"},null,"PICK","GL",null,"SB91-0012-050300",null,"SB91-0012-050300","Fabric Brush T-Slot Fit | 200m Rolls",1,"Y","Brush",{"$f":"IFERROR(IF(BI26=\"Y\",((INDEX(T_Deduc[Deduction],MATCH(BJ26,T_Deduc[Type],0),0))),\"\"),\"\")","v":0},"o_widthmm",0,{"$f":"IFERROR(IF(BI26=\"Y\",BM26,\"\"),\"\")","v":0},{"$f":"IFERROR(IF(BI26=\"Y\",TEXT(BM26/25.4,\"0\"&IF(ABS(BM26/25.4-ROUND(BM26/25.4,0))>1/32,\"-0/\"&CHOOSE(ROUND(MOD(BM26/25.4,1)*16,0),16,8,16,4,16,8,16,2,16,8,16,4,16,8,16),\"\")),\"\"),\"\")","v":"0"},{"$f":"INDEX(T_UnitSelection[Units],MATCH(i_Units,T_UnitSelection[UnitSelection],0))","v":{"$error":"#N/A"}},{"$f":"IFERROR(IF(ISBLANK(BD26),\"\",INDEX(T_NAV_AU[Unit of Measure],MATCH(BD26,T_NAV_AU[No.],0))),\"\")","v":"METRE"},"ROLL",null,"HW",1,1,1,{"$f":"IFERROR(INDEX(INDIRECT(\"T_NAV_\"&i_Location&\"[\"&i_Location&\"]\"),MATCH(1,--(BD26=INDIRECT(\"T_NAV_\"&i_Location&\"[No.]\"))*--((INDIRECT(\"T_NAV_\"&i_Location&\"[\"&i_Location&\"]\"))<>\"\"),0))/IF(AND(BR26=\"METRE\",BH26<>\"\",BS26=\"\"),BH26,1),\"\")","v":""},"","","",null,null,{"$f":"IFERROR(IF(AY26=\"SHOW\",IF(AND(OR(BQ26=\"ROLL\",BQ26=\"LENGTH\"),BW26>0),ROUNDUP(BW26/CJ26/#REF!,0)*#REF!,IF(BQ26=\"METRE\",#REF!*ROUNDUP(((BW26*BM26)/1000)/#REF!,0),#REF!*ROUNDUP(BW26/#REF!,0))),\"\"),\"\")","v":""},"","",null,{"$f":"IFERROR(INDEX(INDIRECT(\"T_NAV_\"&i_Location&\"[\"&i_Location&\"]\"),MATCH(1,--(BD26=INDIRECT(\"T_NAV_\"&i_Location&\"[No.]\"))*--((INDIRECT(\"T_NAV_\"&i_Location&\"[\"&i_Location&\"]\"))<>\"\"),0)),\"\")","v":""},null,1]
[null,null,null,"Box 190",0,null,null,null,null,null,null,null,null,null,null,null,null,null,null,null,null,null,null,null,null,null,null,null,null,null,null,null,null,null,"White","Black","mill",null,null,null,null,null,null,"AU","White",0,null,"White",{"$f":"IF(ISNUMBER(FIND(\"x\",BF27)),IFERROR(INDEX(INDIRECT(\"T_FinishColour[ColourCode-\"&IF(ISNUMBER(FIND(\"xxx\",BF27)),\"xxx\",IF(ISNUMBER(FIND(\"xx\",BF27)),\"xx\",\"error\"))&AR27&\"]\"),MATCH(AV27,T_FinishColour[Finish / Colour],0)),\"\"),\"\")","v":"069"},null,{"$f":"IF(AND(ISBLANK(BD27),ISBLANK(C27)),\"HIDE\",_xlfn.SWITCH(PRODUCT(C27:Z27,B27),2,\"HEADING\",1,\"SHOW\",0,\"HIDE\"))","v":"HIDE"},null,"PICK","GL",null,{"$f":"_xlfn.IFNA(SUBSTITUTE(IF(AR27=\"AU\",SUBSTITUTE(BF27,\"xxx\",AW27),SUBSTITUTE(SUBSTITUTE(BF27,\"xx\",AW27),\"x\",\"\")),\"LLL\",\"700\"),BF27)","v":"RE01-0106-069700"},null,{"$f":"\"RE01-0106-xxxLLL\"&IF(i_Finish=\"Powdercoat\",\"-PF\",\"\")","v":"RE01-0106-xxxLLL"},"Box 190 Universal Extrusion",7,"Y","Box",{"$f":"IFERROR(IF(BI27=\"Y\",((INDEX(T_Deduc[Deduction],MATCH(BJ27,T_Deduc[Type],0),0))),\"\"),\"\")","v":66},"o_widthmm",-66,{"$f":"IFERROR(IF(BI27=\"Y\",BM27,\"\"),\"\")","v":-66},{"$f":"IFERROR(IF(BI27=\"Y\",TEXT(BM27/25.4,\"0\"&IF(ABS(BM27/25.4-ROUND(BM27/25.4,0))>1/32,\"-0/\"&CHOOSE(ROUND(MOD(BM27/25.4,1)*16,0),16,8,16,4,16,8,16,2,16,8,16,4,16,8,16),\"\")),\"\"),\"\")","v":"-2-5/8"},{"$f":"INDEX(T_UnitSelection[Units],MATCH(i_Units,T_UnitSelection[UnitSelection],0))","v":{"$error":"#N/A"}},{"$f":"IFERROR(IF(ISBLANK(BD27),\"\",INDEX(T_NAV_AU[Unit of Measure],MATCH(BD27,T_NAV_AU[No.],0))),\"\")","v":""},"METRE",null,"HW",2,2,2,{"$f":"IFERROR(INDEX(INDIRECT(\"T_NAV_\"&i_Location&\"[\"&i_Location&\"]\"),MATCH(1,--(BD27=INDIRECT(\"T_NAV_\"&i_Location&\"[No.]\"))*--((INDIRECT(\"T_NAV_\"&i_Location&\"[\"&i_Location&\"]\"))<>\"\"),0))/IF(AND(BR27=\"METRE\",BH27<>\"\",BS27=\"\"),BH27,1),\"\")","v":""},"","","",null,null,{"$f":"IFERROR(IF(AY27=\"SHOW\",IF(AND(OR(BQ27=\"ROLL\",BQ27=\"LENGTH\"),BW27>0),ROUNDUP(BW27/CJ27/#REF!,0)*#REF!,IF(BQ27=\"METRE\",#REF!*ROUNDUP(((BW27*BM27)/1000)/#REF!,0),#REF!*ROUNDUP(BW27/#REF!,0))),\"\"),\"\")","v":""},"","",null,{"$f":"IFERROR(INDEX(INDIRECT(\"T_NAV_\"&i_Location&\"[\"&i_Location&\"]\"),MATCH(1,--(BD27=INDIRECT(\"T_NAV_\"&i_Location&\"[No.]\"))*--((INDIRECT(\"T_NAV_\"&i_Location&\"[\"&i_Location&\"]\"))<>\"\"),0)),\"\")","v":""},null,2]
[null,null,null,"Box 190",0,null,null,null,null,null,null,null,null,null,null,null,null,null,null,null,null,null,null,null,null,null,null,null,null,null,null,null,null,null,"White","Black","mill",null,null,null,null,null,null,"AU","White",0,null,"White",{"$f":"IF(ISNUMBER(FIND(\"x\",BF28)),IFERROR(INDEX(INDIRECT(\"T_FinishColour[ColourCode-\"&IF(ISNUMBER(FIND(\"xxx\",BF28)),\"xxx\",IF(ISNUMBER(FIND(\"xx\",BF28)),\"xx\",\"error\"))&AR28&\"]\"),MATCH(AV28,T_FinishColour[Finish / Colour],0)),\"\"),\"\")","v":"069"},null,{"$f":"IF(AND(ISBLANK(BD28),ISBLANK(C28)),\"HIDE\",_xlfn.SWITCH(PRODUCT(C28:Z28,B28),2,\"HEADING\",1,\"SHOW\",0,\"HIDE\"))","v":"HIDE"},null,"PICK","GL",null,{"$f":"_xlfn.IFNA(SUBSTITUTE(IF(AR28=\"AU\",SUBSTITUTE(BF28,\"xxx\",AW28),SUBSTITUTE(SUBSTITUTE(BF28,\"xx\",AW28),\"x\",\"\")),\"LLL\",\"700\"),BF28)","v":"RE01-0107-069700"},null,{"$f":"\"RE01-0107-xxxLLL\"&IF(i_Finish=\"Powdercoat\",\"-PF\",\"\")","v":"RE01-0107-xxxLLL"},"Box 190 Front Cover",7,"Y","Box",{"$f":"IFERROR(IF(BI28=\"Y\",((INDEX(T_Deduc[Deduction],MATCH(BJ28,T_Deduc[Type],0),0))),\"\"),\"\")","v":66},"o_widthmm",-66,{"$f":"IFERROR(IF(BI28=\"Y\",BM28,\"\"),\"\")","v":-66},{"$f":"IFERROR(IF(BI28=\"Y\",TEXT(BM28/25.4,\"0\"&IF(ABS(BM28/25.4-ROUND(BM28/25.4,0))>1/32,\"-0/\"&CHOOSE(ROUND(MOD(BM28/25.4,1)*16,0),16,8,16,4,16,8,16,2,16,8,16,4,16,8,16),\"\")),\"\"),\"\")","v":"-2-5/8"},{"$f":"INDEX(T_UnitSelection[Units],MATCH(i_Units,T_UnitSelection[UnitSelection],0))","v":{"$error":"#N/A"}},{"$f":"IFERROR(IF(ISBLANK(BD28),\"\",INDEX(T_NAV_AU[Unit of Measure],MATCH(BD28,T_NAV_AU[No.],0))),\"\")","v":""},"METRE",null,"HW",1,1,1,{"$f":"IFERROR(INDEX(INDIRECT(\"T_NAV_\"&i_Location&\"[\"&i_Location&\"]\"),MATCH(1,--(BD28=INDIRECT(\"T_NAV_\"&i_Location&\"[No.]\"))*--((INDIRECT(\"T_NAV_\"&i_Location&\"[\"&i_Location&\"]\"))<>\"\"),0))/IF(AND(BR28=\"METRE\",BH28<>\"\",BS28=\"\"),BH28,1),\"\")","v":""},"","","",null,null,{"$f":"IFERROR(IF(AY28=\"SHOW\",IF(AND(OR(BQ28=\"ROLL\",BQ28=\"LENGTH\"),BW28>0),ROUNDUP(BW28/CJ28/#REF!,0)*#REF!,IF(BQ28=\"METRE\",#REF!*ROUNDUP(((BW28*BM28)/1000)/#REF!,0),#REF!*ROUNDUP(BW28/#REF!,0))),\"\"),\"\")","v":""},"","",null,{"$f":"IFERROR(INDEX(INDIRECT(\"T_NAV_\"&i_Location&\"[\"&i_Location&\"]\"),MATCH(1,--(BD28=INDIRECT(\"T_NAV_\"&i_Location&\"[No.]\"))*--((INDIRECT(\"T_NAV_\"&i_Location&\"[\"&i_Location&\"]\"))<>\"\"),0)),\"\")","v":""},null,1]
[null,null,null,"Box 190",0,null,null,null,null,null,null,null,null,null,null,null,null,null,null,null,null,null,null,null,null,null,null,null,null,null,null,null,null,null,null,null,null,null,null,null,null,null,null,"AU","",0,null,"",{"$f":"IF(ISNUMBER(FIND(\"x\",BF29)),IFERROR(INDEX(INDIRECT(\"T_FinishColour[ColourCode-\"&IF(ISNUMBER(FIND(\"xxx\",BF29)),\"xxx\",IF(ISNUMBER(FIND(\"xx\",BF29)),\"xx\",\"error\"))&AR29&\"]\"),MATCH(AV29,T_FinishColour[Finish / Colour],0)),\"\"),\"\")","v":""},null,{"$f":"IF(AND(ISBLANK(BD29),ISBLANK(C29)),\"HIDE\",_xlfn.SWITCH(PRODUCT(C29:Z29,B29),2,\"HEADING\",1,\"SHOW\",0,\"HIDE\"))","v":"HIDE"},null,"PICK","GL",null,{"$f":"_xlfn.IFNA(SUBSTITUTE(IF(AR29=\"AU\",SUBSTITUTE(BF29,\"xxx\",AW29),SUBSTITUTE(SUBSTITUTE(BF29,\"xx\",AW29),\"x\",\"\")),\"LLL\",\"580\"),BF29)","v":"SB91-0516-050009"},null,"SB91-0516-050009","Foam Tape (45m Roll)",1,"Y","Box",{"$f":"IFERROR(IF(BI29=\"Y\",((INDEX(T_Deduc[Deduction],MATCH(BJ29,T_Deduc[Type],0),0))),\"\"),\"\")","v":66},"o_widthmm",-66,{"$f":"IFERROR(IF(BI29=\"Y\",BM29,\"\"),\"\")","v":-66},{"$f":"IFERROR(IF(BI29=\"Y\",TEXT(BM29/25.4,\"0\"&IF(ABS(BM29/25.4-ROUND(BM29/25.4,0))>1/32,\"-0/\"&CHOOSE(ROUND(MOD(BM29/25.4,1)*16,0),16,8,16,4,16,8,16,2,16,8,16,4,16,8,16),\"\")),\"\"),\"\")","v":"-2-5/8"},{"$f":"INDEX(T_UnitSelection[Units],MATCH(i_Units,T_UnitSelection[UnitSelection],0))","v":{"$error":"#N/A"}},{"$f":"IFERROR(IF(ISBLANK(BD29),\"\",INDEX(T_NAV_AU[Unit of Measure],MATCH(BD29,T_NAV_AU[No.],0))),\"\")","v":"METRE"},"ROLL",null,"HW",2,2,2,{"$f":"IFERROR(INDEX(INDIRECT(\"T_NAV_\"&i_Location&\"[\"&i_Location&\"]\"),MATCH(1,--(BD29=INDIRECT(\"T_NAV_\"&i_Location&\"[No.]\"))*--((INDIRECT(\"T_NAV_\"&i_Location&\"[\"&i_Location&\"]\"))<>\"\"),0))/IF(AND(BR29=\"METRE\",BH29<>\"\",BS29=\"\"),BH29,1),\"\")","v":""},"","","",null,null,{"$f":"IFERROR(IF(AY29=\"SHOW\",IF(AND(OR(BQ29=\"ROLL\",BQ29=\"LENGTH\"),BW29>0),ROUNDUP(BW29/CJ29/#REF!,0)*#REF!,IF(BQ29=\"METRE\",#REF!*ROUNDUP(((BW29*BM29)/1000)/#REF!,0),#REF!*ROUNDUP(BW29/#REF!,0))),\"\"),\"\")","v":""},"","",null,{"$f":"IFERROR(INDEX(INDIRECT(\"T_NAV_\"&i_Location&\"[\"&i_Location&\"]\"),MATCH(1,--(BD29=INDIRECT(\"T_NAV_\"&i_Location&\"[No.]\"))*--((INDIRECT(\"T_NAV_\"&i_Location&\"[\"&i_Location&\"]\"))<>\"\"),0)),\"\")","v":""},null,{"$f":"IFERROR(IF(ISBLANK(BU29),\"\",IF(OR(BQ29=\"ROLL\",BQ29=\"LENGTH\"),ROUNDDOWN((BH29*1000)/(BM29+CutTol),0),PRODUCT(#REF!,BU29))),\"\")","v":""}]
[null,null,null,"Box 190",0,null,null,null,null,null,null,null,null,null,null,null,null,null,null,null,null,null,null,null,null,null,null,null,null,null,null,null,null,null,null,null,null,null,null,null,null,null,null,"AU","",0,null,"",{"$f":"IF(ISNUMBER(FIND(\"x\",BF30)),IFERROR(INDEX(INDIRECT(\"T_FinishColour[ColourCode-\"&IF(ISNUMBER(FIND(\"xxx\",BF30)),\"xxx\",IF(ISNUMBER(FIND(\"xx\",BF30)),\"xx\",\"error\"))&AR30&\"]\"),MATCH(AV30,T_FinishColour[Finish / Colour],0)),\"\"),\"\")","v":""},null,{"$f":"IF(AND(ISBLANK(BD30),ISBLANK(C30)),\"HIDE\",_xlfn.SWITCH(PRODUCT(C30:Z30,B30),2,\"HEADING\",1,\"SHOW\",0,\"HIDE\"))","v":"HIDE"},null,"PICK","GL",null,"RE01-1105-020100",null,"RE01-1105-020100","Box 190 Universal Bracket Extrusion (100mm)",null,"N",null,{"$f":"IFERROR(IF(BI30=\"Y\",((INDEX(T_Deduc[Deduction],MATCH(BJ30,T_Deduc[Type],0),0))),\"\"),\"\")","v":""},null,"","","","Piece",{"$f":"IFERROR(IF(ISBLANK(BD30),\"\",INDEX(T_NAV_AU[Unit of Measure],MATCH(BD30,T_NAV_AU[No.],0))),\"\")","v":"PIECE"},null,null,"HW",{"$f":"IF(o_Widthmm<4000,2,2+1)","v":2},2,2,{"$f":"IFERROR(INDEX(INDIRECT(\"T_NAV_\"&i_Location&\"[\"&i_Location&\"]\"),MATCH(1,--(BD30=INDIRECT(\"T_NAV_\"&i_Location&\"[No.]\"))*--((INDIRECT(\"T_NAV_\"&i_Location&\"[\"&i_Location&\"]\"))<>\"\"),0))/IF(AND(BR30=\"METRE\",BH30<>\"\",BS30=\"\"),BH30,1),\"\")","v":""},"","","",null,null,{"$f":"IFERROR(IF(AY30=\"SHOW\",IF(AND(OR(BQ30=\"ROLL\",BQ30=\"LENGTH\"),BW30>0),ROUNDUP(BW30/CJ30/#REF!,0)*#REF!,IF(BQ30=\"METRE\",#REF!*ROUNDUP(((BW30*BM30)/1000)/#REF!,0),#REF!*ROUNDUP(BW30/#REF!,0))),\"\"),\"\")","v":""},"","",null,{"$f":"IFERROR(INDEX(INDIRECT(\"T_NAV_\"&i_Location&\"[\"&i_Location&\"]\"),MATCH(1,--(BD30=INDIRECT(\"T_NAV_\"&i_Location&\"[No.]\"))*--((INDIRECT(\"T_NAV_\"&i_Location&\"[\"&i_Location&\"]\"))<>\"\"),0)),\"\")","v":""},null,{"$f":"IFERROR(IF(ISBLANK(BU30),\"\",IF(OR(BQ30=\"ROLL\",BQ30=\"LENGTH\"),ROUNDDOWN((BH30*1000)/(BM30+CutTol),0),PRODUCT(AE20,BU30))),\"\")","v":2}]
[null,null,null,{"$f":"IF(OR(i_InstallationType=\"Box 190\",i_InstallationType=\"Zipscreen Extreme Open Bracket\",i_InstallationType=\"Open Brackets (Recess Fix)\"),i_InstallationType,\"xxx\")","v":"xxx"},0,null,null,null,null,null,null,null,null,null,null,null,null,null,null,null,null,null,null,null,null,null,null,null,null,null,null,null,null,null,{"$f":"IF(OR(i_Finish=\"Mill\",i_InstallationType=\"Box 190\"),\"Zinc Plated\",\"White\")","v":"White"},null,null,null,null,null,null,null,null,"AU","White",0,null,"White",{"$f":"IF(ISNUMBER(FIND(\"x\",BF31)),IFERROR(INDEX(INDIRECT(\"T_FinishColour[ColourCode-\"&IF(ISNUMBER(FIND(\"xxx\",BF31)),\"xxx\",IF(ISNUMBER(FIND(\"xx\",BF31)),\"xx\",\"error\"))&AR31&\"]\"),MATCH(AV31,T_FinishColour[Finish / Colour],0)),\"\"),\"\")","v":"069"},null,{"$f":"IF(AND(ISBLANK(BD31),ISBLANK(C31)),\"HIDE\",_xlfn.SWITCH(PRODUCT(C31:Z31,B31),2,\"HEADING\",1,\"SHOW\",0,\"HIDE\"))","v":"HIDE"},null,"PICK","GL",null,"RB80-1503-069110",null,"RB80-1503-xxx110","Extreme Square Motor & Idler Plates | S100",null,"N",null,{"$f":"IFERROR(IF(BI31=\"Y\",((INDEX(T_Deduc[Deduction],MATCH(BJ31,T_Deduc[Type],0),0))),\"\"),\"\")","v":""},null,"","","","Kit",{"$f":"IFERROR(IF(ISBLANK(BD31),\"\",INDEX(T_NAV_AU[Unit of Measure],MATCH(BD31,T_NAV_AU[No.],0))),\"\")","v":"KIT"},null,null,"HW",1,1,1,{"$f":"IFERROR(INDEX(INDIRECT(\"T_NAV_\"&i_Location&\"[\"&i_Location&\"]\"),MATCH(1,--(BD31=INDIRECT(\"T_NAV_\"&i_Location&\"[No.]\"))*--((INDIRECT(\"T_NAV_\"&i_Location&\"[\"&i_Location&\"]\"))<>\"\"),0))/IF(AND(BR31=\"METRE\",BH31<>\"\",BS31=\"\"),BH31,1),\"\")","v":""},"","","",null,null,{"$f":"IFERROR(IF(AY31=\"SHOW\",IF(AND(OR(BQ31=\"ROLL\",BQ31=\"LENGTH\"),BW31>0),ROUNDUP(BW31/CJ31/#REF!,0)*#REF!,IF(BQ31=\"METRE\",#REF!*ROUNDUP(((BW31*BM31)/1000)/#REF!,0),#REF!*ROUNDUP(BW31/#REF!,0))),\"\"),\"\")","v":""},"","",null,{"$f":"IFERROR(INDEX(INDIRECT(\"T_NAV_\"&i_Location&\"[\"&i_Location&\"]\"),MATCH(1,--(BD31=INDIRECT(\"T_NAV_\"&i_Location&\"[No.]\"))*--((INDIRECT(\"T_NAV_\"&i_Location&\"[\"&i_Location&\"]\"))<>\"\"),0)),\"\")","v":""},null,1]
[null,null,null,"Zipscreen Extreme Open Bracket",0,null,null,null,null,null,null,null,null,null,null,null,null,null,null,null,null,null,null,null,null,null,null,null,null,null,null,null,null,null,null,null,null,null,null,null,null,null,null,"AU","",0,null,"",{"$f":"IF(ISNUMBER(FIND(\"x\",BF32)),IFERROR(INDEX(INDIRECT(\"T_FinishColour[ColourCode-\"&IF(ISNUMBER(FIND(\"xxx\",BF32)),\"xxx\",IF(ISNUMBER(FIND(\"xx\",BF32)),\"xx\",\"error\"))&AR32&\"]\"),MATCH(AV32,T_FinishColour[Finish / Colour],0)),\"\"),\"\")","v":""},null,{"$f":"IF(AND(ISBLANK(BD32),ISBLANK(C32)),\"HIDE\",_xlfn.SWITCH(PRODUCT(C32:Z32,B32),2,\"HEADING\",1,\"SHOW\",0,\"HIDE\"))","v":"HIDE"},null,"PICK","GL",null,"SB03-1301-009190",null,"SB03-1301-009190","Extreme Zipscreen Open Bracket Set",null,"N",null,{"$f":"IFERROR(IF(BI32=\"Y\",((INDEX(T_Deduc[Deduction],MATCH(BJ32,T_Deduc[Type],0),0))),\"\"),\"\")","v":""},null,"","","","Pair",{"$f":"IFERROR(IF(ISBLANK(BD32),\"\",INDEX(T_NAV_AU[Unit of Measure],MATCH(BD32,T_NAV_AU[No.],0))),\"\")","v":"SET"},null,null,"HW",1,1,1,{"$f":"IFERROR(INDEX(INDIRECT(\"T_NAV_\"&i_Location&\"[\"&i_Location&\"]\"),MATCH(1,--(BD32=INDIRECT(\"T_NAV_\"&i_Location&\"[No.]\"))*--((INDIRECT(\"T_NAV_\"&i_Location&\"[\"&i_Location&\"]\"))<>\"\"),0))/IF(AND(BR32=\"METRE\",BH32<>\"\",BS32=\"\"),BH32,1),\"\")","v":""},"","","",null,null,{"$f":"IFERROR(IF(AY32=\"SHOW\",IF(AND(OR(BQ32=\"ROLL\",BQ32=\"LENGTH\"),BW32>0),ROUNDUP(BW32/CJ32/#REF!,0)*#REF!,IF(BQ32=\"METRE\",#REF!*ROUNDUP(((BW32*BM32)/1000)/#REF!,0),#REF!*ROUNDUP(BW32/#REF!,0))),\"\"),\"\")","v":""},"","",null,{"$f":"IFERROR(INDEX(INDIRECT(\"T_NAV_\"&i_Location&\"[\"&i_Location&\"]\"),MATCH(1,--(BD32=INDIRECT(\"T_NAV_\"&i_Location&\"[No.]\"))*--((INDIRECT(\"T_NAV_\"&i_Location&\"[\"&i_Location&\"]\"))<>\"\"),0)),\"\")","v":""},null,1]
[null,null,null,"Top/Face",0,null,null,null,null,"Wire Guide",{"$f":"IFERROR(IF(ISBLANK(J33),\"\",IF(FIND(J33,INDIRECT($J$16))>0,1,0)),0)","v":0},null,{"$f":"IFERROR(IF(ISBLANK(L33),\"\",IF(FIND(L33,INDIRECT($L$16))>0,1,0)),0)","v":""},null,{"$f":"IFERROR(IF(ISBLANK(N33),\"\",IF(FIND(N33,INDIRECT($N$16))>0,1,0)),0)","v":""},null,null,null,null,null,null,null,null,null,null,null,null,null,null,null,null,null,null,null,"White","Black","Mill",null,null,null,null,null,null,"AU","White",0,null,"White",{"$f":"IF(ISNUMBER(FIND(\"x\",BF33)),IFERROR(INDEX(INDIRECT(\"T_FinishColour[ColourCode-\"&IF(ISNUMBER(FIND(\"xxx\",BF33)),\"xxx\",IF(ISNUMBER(FIND(\"xx\",BF33)),\"xx\",\"error\"))&AR33&\"]\"),MATCH(AV33,T_FinishColour[Finish / Colour],0)),\"\"),\"\")","v":"069"},null,{"$f":"IF(AND(ISBLANK(BD33),ISBLANK(C33)),\"HIDE\",_xlfn.SWITCH(PRODUCT(C33:Z33,B33),2,\"HEADING\",1,\"SHOW\",0,\"HIDE\"))","v":"HIDE"},null,"PICK","GL",null,"RB80-1201-069109",null,"RB80-1201-xxx109","Top / Face Fix Open Bracket Set | S100",null,"N",null,{"$f":"IFERROR(IF(BI33=\"Y\",((INDEX(T_Deduc[Deduction],MATCH(BJ33,T_Deduc[Type],0),0))),\"\"),\"\")","v":""},null,"","","","Pair",{"$f":"IFERROR(IF(ISBLANK(BD33),\"\",INDEX(T_NAV_AU[Unit of Measure],MATCH(BD33,T_NAV_AU[No.],0))),\"\")","v":"SET"},null,null,"HW",1,1,1,{"$f":"IFERROR(INDEX(INDIRECT(\"T_NAV_\"&i_Location&\"[\"&i_Location&\"]\"),MATCH(1,--(BD33=INDIRECT(\"T_NAV_\"&i_Location&\"[No.]\"))*--((INDIRECT(\"T_NAV_\"&i_Location&\"[\"&i_Location&\"]\"))<>\"\"),0))/IF(AND(BR33=\"METRE\",BH33<>\"\",BS33=\"\"),BH33,1),\"\")","v":""},"","","",null,null,{"$f":"IFERROR(IF(AY33=\"SHOW\",IF(AND(OR(BQ33=\"ROLL\",BQ33=\"LENGTH\"),BW33>0),ROUNDUP(BW33/CJ33/#REF!,0)*#REF!,IF(BQ33=\"METRE\",#REF!*ROUNDUP(((BW33*BM33)/1000)/#REF!,0),#REF!*ROUNDUP(BW33/#REF!,0))),\"\"),\"\")","v":""},"","",null,{"$f":"IFERROR(INDEX(INDIRECT(\"T_NAV_\"&i_Location&\"[\"&i_Location&\"]\"),MATCH(1,--(BD33=INDIRECT(\"T_NAV_\"&i_Location&\"[No.]\"))*--((INDIRECT(\"T_NAV_\"&i_Location&\"[\"&i_Location&\"]\"))<>\"\"),0)),\"\")","v":""},null,1]
[null,null,null,"Top/Face",0,null,null,null,null,"Wire Guide",{"$f":"IFERROR(IF(ISBLANK(J34),\"\",IF(FIND(J34,INDIRECT($J$16))>0,1,0)),0)","v":0},null,{"$f":"IFERROR(IF(ISBLANK(L34),\"\",IF(FIND(L34,INDIRECT($L$16))>0,1,0)),0)","v":""},null,{"$f":"IFERROR(IF(ISBLANK(N34),\"\",IF(FIND(N34,INDIRECT($N$16))>0,1,0)),0)","v":""},null,null,null,null,null,null,null,null,null,null,null,null,null,null,null,null,null,null,null,"White","Black",null,null,null,null,null,null,null,"AU","White",0,null,"White",{"$f":"IF(ISNUMBER(FIND(\"x\",BF34)),IFERROR(INDEX(INDIRECT(\"T_FinishColour[ColourCode-\"&IF(ISNUMBER(FIND(\"xxx\",BF34)),\"xxx\",IF(ISNUMBER(FIND(\"xx\",BF34)),\"xx\",\"error\"))&AR34&\"]\"),MATCH(AV34,T_FinishColour[Finish / Colour],0)),\"\"),\"\")","v":"069"},null,{"$f":"IF(AND(ISBLANK(BD34),ISBLANK(C34)),\"HIDE\",_xlfn.SWITCH(PRODUCT(C34:Z34,B34),2,\"HEADING\",1,\"SHOW\",0,\"HIDE\"))","v":"HIDE"},null,"PICK","GL",null,"RB80-0476-069100",null,"RB80-0476-xxx100","Extreme Wire Guide Bracket Adaptor Kit Set | Motor",null,"N",null,{"$f":"IFERROR(IF(BI34=\"Y\",((INDEX(T_Deduc[Deduction],MATCH(BJ34,T_Deduc[Type],0),0))),\"\"),\"\")","v":""},null,"","","","Set",{"$f":"IFERROR(IF(ISBLANK(BD34),\"\",INDEX(T_NAV_AU[Unit of Measure],MATCH(BD34,T_NAV_AU[No.],0))),\"\")","v":"KIT"},null,null,"HW",1,1,1,{"$f":"IFERROR(INDEX(INDIRECT(\"T_NAV_\"&i_Location&\"[\"&i_Location&\"]\"),MATCH(1,--(BD34=INDIRECT(\"T_NAV_\"&i_Location&\"[No.]\"))*--((INDIRECT(\"T_NAV_\"&i_Location&\"[\"&i_Location&\"]\"))<>\"\"),0))/IF(AND(BR34=\"METRE\",BH34<>\"\",BS34=\"\"),BH34,1),\"\")","v":""},"","","",null,null,{"$f":"IFERROR(IF(AY34=\"SHOW\",IF(AND(OR(BQ34=\"ROLL\",BQ34=\"LENGTH\"),BW34>0),ROUNDUP(BW34/CJ34/#REF!,0)*#REF!,IF(BQ34=\"METRE\",#REF!*ROUNDUP(((BW34*BM34)/1000)/#REF!,0),#REF!*ROUNDUP(BW34/#REF!,0))),\"\"),\"\")","v":""},"","",null,{"$f":"IFERROR(INDEX(INDIRECT(\"T_NAV_\"&i_Location&\"[\"&i_Location&\"]\"),MATCH(1,--(BD34=INDIRECT(\"T_NAV_\"&i_Location&\"[No.]\"))*--((INDIRECT(\"T_NAV_\"&i_Location&\"[\"&i_Location&\"]\"))<>\"\"),0)),\"\")","v":""},null,1]
[null,null,null,"Recess",0,null,null,null,null,"Wire Guide",{"$f":"IFERROR(IF(ISBLANK(J35),\"\",IF(FIND(J35,INDIRECT($J$16))>0,1,0)),0)","v":0},null,{"$f":"IFERROR(IF(ISBLANK(L35),\"\",IF(FIND(L35,INDIRECT($L$16))>0,1,0)),0)","v":""},null,{"$f":"IFERROR(IF(ISBLANK(N35),\"\",IF(FIND(N35,INDIRECT($N$16))>0,1,0)),0)","v":""},null,null,null,null,null,null,null,null,null,null,null,null,null,null,null,null,null,null,null,"White","Black",null,null,null,null,null,null,null,"AU","White",0,null,"White",{"$f":"IF(ISNUMBER(FIND(\"x\",BF35)),IFERROR(INDEX(INDIRECT(\"T_FinishColour[ColourCode-\"&IF(ISNUMBER(FIND(\"xxx\",BF35)),\"xxx\",IF(ISNUMBER(FIND(\"xx\",BF35)),\"xx\",\"error\"))&AR35&\"]\"),MATCH(AV35,T_FinishColour[Finish / Colour],0)),\"\"),\"\")","v":"069"},null,{"$f":"IF(AND(ISBLANK(BD35),ISBLANK(C35)),\"HIDE\",_xlfn.SWITCH(PRODUCT(C35:Z35,B35),2,\"HEADING\",1,\"SHOW\",0,\"HIDE\"))","v":"HIDE"},null,"PICK","GL",null,"RB80-0478-069100",null,"RB80-0478-xxx100","Extreme Wire Guide Recess Fix Bracket Kit Set | Motor",null,"N",null,{"$f":"IFERROR(IF(BI35=\"Y\",((INDEX(T_Deduc[Deduction],MATCH(BJ35,T_Deduc[Type],0),0))),\"\"),\"\")","v":""},null,"","","","Pair",{"$f":"IFERROR(IF(ISBLANK(BD35),\"\",INDEX(T_NAV_AU[Unit of Measure],MATCH(BD35,T_NAV_AU[No.],0))),\"\")","v":"KIT"},null,null,"HW",1,1,1,{"$f":"IFERROR(INDEX(INDIRECT(\"T_NAV_\"&i_Location&\"[\"&i_Location&\"]\"),MATCH(1,--(BD35=INDIRECT(\"T_NAV_\"&i_Location&\"[No.]\"))*--((INDIRECT(\"T_NAV_\"&i_Location&\"[\"&i_Location&\"]\"))<>\"\"),0))/IF(AND(BR35=\"METRE\",BH35<>\"\",BS35=\"\"),BH35,1),\"\")","v":""},"","","",null,null,{"$f":"IFERROR(IF(AY35=\"SHOW\",IF(AND(OR(BQ35=\"ROLL\",BQ35=\"LENGTH\"),BW35>0),ROUNDUP(BW35/CJ35/#REF!,0)*#REF!,IF(BQ35=\"METRE\",#REF!*ROUNDUP(((BW35*BM35)/1000)/#REF!,0),#REF!*ROUNDUP(BW35/#REF!,0))),\"\"),\"\")","v":""},"","",null,{"$f":"IFERROR(INDEX(INDIRECT(\"T_NAV_\"&i_Location&\"[\"&i_Location&\"]\"),MATCH(1,--(BD35=INDIRECT(\"T_NAV_\"&i_Location&\"[No.]\"))*--((INDIRECT(\"T_NAV_\"&i_Location&\"[\"&i_Location&\"]\"))<>\"\"),0)),\"\")","v":""},null,1]
[null,2,{"$f":"C37","v":0},null,null,null,null,null,null,null,null,null,null,null,null,null,null,null,null,null,null,null,null,null,null,null,null,null,null,null,{"$f":"IFERROR(IF(AND(AA36=\"Y\",PRODUCT(AB36:AD36)=0),o_nScreens,IF(PRODUCT(AB36:AD36)=0,\"\",PRODUCT(AB36:AD36))),\"\")","v":""},null,null,null,null,null,null,null,null,null,null,null,null,null,"",null,null,"",{"$f":"IF(ISNUMBER(FIND(\"x\",BF36)),IFERROR(INDEX(INDIRECT(\"T_FinishColour[ColourCode-\"&IF(ISNUMBER(FIND(\"xxx\",BF36)),\"xxx\",IF(ISNUMBER(FIND(\"xx\",BF36)),\"xx\",\"error\"))&AR36&\"]\"),MATCH(AV36,T_FinishColour[Finish / Colour],0)),\"\"),\"\")","v":""},null,{"$f":"IF(AND(ISBLANK(BD36),ISBLANK(C36)),\"HIDE\",_xlfn.SWITCH(PRODUCT(C36:Z36,B36),2,\"HEADING\",1,\"SHOW\",0,\"HIDE\"))","v":"HIDE"},null,null,null,null,"",null,null,null,null,null,null,{"$f":"IFERROR(IF(BI36=\"Y\",((INDEX(T_Deduc[Deduction],MATCH(BJ36,T_Deduc[Type],0),0))),\"\"),\"\")","v":""},null,"","","",null,{"$f":"IFERROR(IF(ISBLANK(BD36),\"\",INDEX(T_NAV_AU[Unit of Measure],MATCH(BD36,T_NAV_AU[No.],0))),\"\")","v":""},null,null,null,null,"","",{"$f":"IFERROR(INDEX(INDIRECT(\"T_NAV_\"&i_Location&\"[\"&i_Location&\"]\"),MATCH(1,--(BD36=INDIRECT(\"T_NAV_\"&i_Location&\"[No.]\"))*--((INDIRECT(\"T_NAV_\"&i_Location&\"[\"&i_Location&\"]\"))<>\"\"),0))/IF(AND(BR36=\"METRE\",BH36<>\"\",BS36=\"\"),BH36,1),\"\")","v":""},"","","",null,null,{"$f":"IFERROR(IF(AY36=\"SHOW\",IF(AND(OR(BQ36=\"ROLL\",BQ36=\"LENGTH\"),BW36>0),ROUNDUP(BW36/CJ36/#REF!,0)*#REF!,IF(BQ36=\"METRE\",#REF!*ROUNDUP(((BW36*BM36)/1000)/#REF!,0),#REF!*ROUNDUP(BW36/#REF!,0))),\"\"),\"\")","v":""},"","",null,{"$f":"IFERROR(INDEX(INDIRECT(\"T_NAV_\"&i_Location&\"[\"&i_Location&\"]\"),MATCH(1,--(BD36=INDIRECT(\"T_NAV_\"&i_Location&\"[No.]\"))*--((INDIRECT(\"T_NAV_\"&i_Location&\"[\"&i_Location&\"]\"))<>\"\"),0)),\"\")","v":""},null,""]
[null,2,{"$f":"IF(COUNTIF(AY38:AY46,\"SHOW\")>0,1,0)","v":0},"i_SystemType",null,"i_wbLock",null,"i_WeightBar",null,"i_wbStrap",null,null,null,null,null,null,null,null,null,null,null,null,null,null,null,null,null,null,null,null,{"$f":"IFERROR(IF(AND(AA37=\"Y\",PRODUCT(AB37:AD37)=0),o_nScreens,IF(PRODUCT(AB37:AD37)=0,\"\",PRODUCT(AB37:AD37))),\"\")","v":""},null,null,null,null,null,null,null,null,null,null,null,null,null,"",null,null,"",{"$f":"IF(ISNUMBER(FIND(\"x\",BF37)),IFERROR(INDEX(INDIRECT(\"T_FinishColour[ColourCode-\"&IF(ISNUMBER(FIND(\"xxx\",BF37)),\"xxx\",IF(ISNUMBER(FIND(\"xx\",BF37)),\"xx\",\"error\"))&AR37&\"]\"),MATCH(AV37,T_FinishColour[Finish / Colour],0)),\"\"),\"\")","v":""},null,{"$f":"IF(AND(ISBLANK(BD37),ISBLANK(C37)),\"HIDE\",_xlfn.SWITCH(PRODUCT(C37:Z37,B37),2,\"HEADING\",1,\"SHOW\",0,\"HIDE\"))","v":"HIDE"},null,null,null,null,"STRAIGHT DROP",null,"STRAIGHT DROP",null,null,null,null,{"$f":"IFERROR(IF(BI37=\"Y\",((INDEX(T_Deduc[Deduction],MATCH(BJ37,T_Deduc[Type],0),0))),\"\"),\"\")","v":""},null,"","","",null,{"$f":"IFERROR(IF(ISBLANK(BD37),\"\",INDEX(T_NAV_AU[Unit of Measure],MATCH(BD37,T_NAV_AU[No.],0))),\"\")","v":""},null,null,null,null,null,null,null,"","","",null,null,{"$f":"IFERROR(IF(AY37=\"SHOW\",IF(AND(OR(BQ37=\"ROLL\",BQ37=\"LENGTH\"),BW37>0),ROUNDUP(BW37/CJ37/#REF!,0)*#REF!,IF(BQ37=\"METRE\",#REF!*ROUNDUP(((BW37*BM37)/1000)/#REF!,0),#REF!*ROUNDUP(BW37/#REF!,0))),\"\"),\"\")","v":""},"","",null,{"$f":"IFERROR(INDEX(INDIRECT(\"T_NAV_\"&i_Location&\"[\"&i_Location&\"]\"),MATCH(1,--(BD37=INDIRECT(\"T_NAV_\"&i_Location&\"[No.]\"))*--((INDIRECT(\"T_NAV_\"&i_Location&\"[\"&i_Location&\"]\"))<>\"\"),0)),\"\")","v":""},null,""]
[null,null,null,"Straight Drop",{"$f":"IFERROR(IF(ISBLANK(D38),\"\",IF(FIND(D38,INDIRECT($D$37))>0,1,0)),0)","v":0},"Lock",{"$f":"IFERROR(IF(ISBLANK(F38),\"\",IF(ISERROR(FIND(F38,INDIRECT($F$37))>0),1,0)),0)","v":1},"F56",{"$f":"IFERROR(IF(ISBLANK(H38),\"\",IF(FIND(H38,INDIRECT($H$37))>0,1,0)),0)","v":0},null,{"$f":"IFERROR(IF(ISBLANK(J38),\"\",IF(FIND(J38,INDIRECT($J$37))>0,1,0)),0)","v":""},null,null,null,{"$f":"IFERROR(IF(ISBLANK(N38),\"\",IF(FIND(N38,INDIRECT($N$37))>0,1,0)),0)","v":""},null,{"$f":"IFERROR(IF(ISBLANK(P38),\"\",IF(FIND(P38,INDIRECT($P$37))>0,1,0)),0)","v":""},null,null,null,null,null,null,null,null,null,null,null,null,null,{"$f":"IFERROR(IF(AND(AA38=\"Y\",PRODUCT(AB38:AD38)=0),o_nScreens,IF(PRODUCT(AB38:AD38)=0,\"\",PRODUCT(AB38:AD38))),\"\")","v":""},null,null,null,null,null,null,null,null,null,null,null,null,"AU","",{"$f":"i_Finish","v":0},null,"",{"$f":"IF(ISNUMBER(FIND(\"x\",BF38)),IFERROR(INDEX(INDIRECT(\"T_FinishColour[ColourCode-\"&IF(ISNUMBER(FIND(\"xxx\",BF38)),\"xxx\",IF(ISNUMBER(FIND(\"xx\",BF38)),\"xx\",\"error\"))&AR38&\"]\"),MATCH(AV38,T_FinishColour[Finish / Colour],0)),\"\"),\"\")","v":""},null,{"$f":"IF(AND(ISBLANK(BD38),ISBLANK(C38)),\"HIDE\",_xlfn.SWITCH(PRODUCT(C38:Z38,B38),2,\"HEADING\",1,\"SHOW\",0,\"HIDE\"))","v":"HIDE"},null,"PICK","GL",null,{"$f":"_xlfn.IFNA(SUBSTITUTE(IF(AR38=\"AU\",SUBSTITUTE(BF38,\"xxx\",AW38),SUBSTITUTE(SUBSTITUTE(BF38,\"xx\",AW38),\"x\",\"\")),\"LLL\",BH38*100),BF38)","v":"RE91-1102-050025"},null,"RE91-1102-050025","25mm Strap Down Loop - Plastic | F56",null,{"$f":"IF(ISBLANK(BP38),\"\",IF(OR(BP38=L_Units),\"Y\",\"N\"))","v":"N"},null,{"$f":"IFERROR(IF(BI38=\"Y\",((INDEX(T_Deduc[Deduction],MATCH(BJ38,T_Deduc[Type],0),0))),\"\"),\"\")","v":""},null,"","","","Piece",{"$f":"IFERROR(IF(ISBLANK(BD38),\"\",INDEX(T_NAV_AU[Unit of Measure],MATCH(BD38,T_NAV_AU[No.],0))),\"\")","v":"PIECE"},null,null,"HW",2,{"$f":"IF(ISBLANK(BU38),\"\",PRODUCT(AE38,BU38))","v":2},{"$f":"IF(ISBLANK(BU38),\"\",PRODUCT(AE38,BU38,i_systemQTY))","v":2},{"$f":"IFERROR(INDEX(INDIRECT(\"T_NAV_\"&i_Location&\"[\"&i_Location&\"]\"),MATCH(1,--(BD38=INDIRECT(\"T_NAV_\"&i_Location&\"[No.]\"))*--((INDIRECT(\"T_NAV_\"&i_Location&\"[\"&i_Location&\"]\"))<>\"\"),0))/IF(AND(BR38=\"METRE\",BH38<>\"\",BS38=\"\"),BH38,1),\"\")","v":""},"","","",null,null,{"$f":"IFERROR(IF(AY38=\"SHOW\",IF(AND(OR(BQ38=\"ROLL\",BQ38=\"LENGTH\"),BW38>0),ROUNDUP(BW38/CJ38/#REF!,0)*#REF!,IF(BQ38=\"METRE\",#REF!*ROUNDUP(((BW38*BM38)/1000)/#REF!,0),#REF!*ROUNDUP(BW38/#REF!,0))),\"\"),\"\")","v":""},"","",null,{"$f":"IFERROR(INDEX(INDIRECT(\"T_NAV_\"&i_Location&\"[\"&i_Location&\"]\"),MATCH(1,--(BD38=INDIRECT(\"T_NAV_\"&i_Location&\"[No.]\"))*--((INDIRECT(\"T_NAV_\"&i_Location&\"[\"&i_Location&\"]\"))<>\"\"),0)),\"\")","v":""},null,2]
[null,null,null,"Wire Guide",0,null,{"$f":"IFERROR(IF(ISBLANK(F39),\"\",IF(FIND(F39,INDIRECT($F$37))>0,1,0)),0)","v":""},"F56",0,"Clip",0,null,null,null,"",null,"",null,null,null,null,null,null,null,null,null,null,null,null,null,{"$f":"IFERROR(IF(AND(AA39=\"Y\",PRODUCT(AB39:AD39)=0),o_nScreens,IF(PRODUCT(AB39:AD39)=0,\"\",PRODUCT(AB39:AD39))),\"\")","v":""},null,null,null,null,null,null,null,null,null,null,null,null,"AU","",{"$f":"i_Finish","v":0},null,"",{"$f":"IF(ISNUMBER(FIND(\"x\",BF39)),IFERROR(INDEX(INDIRECT(\"T_FinishColour[ColourCode-\"&IF(ISNUMBER(FIND(\"xxx\",BF39)),\"xxx\",IF(ISNUMBER(FIND(\"xx\",BF39)),\"xx\",\"error\"))&AR39&\"]\"),MATCH(AV39,T_FinishColour[Finish / Colour],0)),\"\"),\"\")","v":""},null,{"$f":"IF(AND(ISBLANK(BD39),ISBLANK(C39)),\"HIDE\",_xlfn.SWITCH(PRODUCT(C39:Z39,B39),2,\"HEADING\",1,\"SHOW\",0,\"HIDE\"))","v":"HIDE"},null,"PICK","GL",null,{"$f":"_xlfn.IFNA(SUBSTITUTE(IF(AR39=\"AU\",SUBSTITUTE(BF39,\"xxx\",AW39),SUBSTITUTE(SUBSTITUTE(BF39,\"xx\",AW39),\"x\",\"\")),\"LLL\",BH39*100),BF39)","v":"RE91-1102-050025"},null,"RE91-1102-050025","25mm Strap Down Loop - Plastic | F56",null,{"$f":"IF(ISBLANK(BP39),\"\",IF(OR(BP39=L_Units),\"Y\",\"N\"))","v":"N"},null,{"$f":"IFERROR(IF(BI39=\"Y\",((INDEX(T_Deduc[Deduction],MATCH(BJ39,T_Deduc[Type],0),0))),\"\"),\"\")","v":""},null,"",{"$f":"IFERROR(IF(BI39=\"Y\",BM39,\"\"),\"\")","v":""},{"$f":"IFERROR(IF(BI39=\"Y\",TEXT(BM39/25.4,\"0\"&IF(ABS(BM39/25.4-ROUND(BM39/25.4,0))>1/32,\"-0/\"&CHOOSE(ROUND(MOD(BM39/25.4,1)*16,0),16,8,16,4,16,8,16,2,16,8,16,4,16,8,16),\"\")),\"\"),\"\")","v":""},"Piece",{"$f":"IFERROR(IF(ISBLANK(BD39),\"\",INDEX(T_NAV_AU[Unit of Measure],MATCH(BD39,T_NAV_AU[No.],0))),\"\")","v":"PIECE"},null,null,"HW",2,2,2,{"$f":"IFERROR(INDEX(INDIRECT(\"T_NAV_\"&i_Location&\"[\"&i_Location&\"]\"),MATCH(1,--(BD39=INDIRECT(\"T_NAV_\"&i_Location&\"[No.]\"))*--((INDIRECT(\"T_NAV_\"&i_Location&\"[\"&i_Location&\"]\"))<>\"\"),0))/IF(AND(BR39=\"METRE\",BH39<>\"\",BS39=\"\"),BH39,1),\"\")","v":""},"","","",null,null,{"$f":"IFERROR(IF(AY39=\"SHOW\",IF(AND(OR(BQ39=\"ROLL\",BQ39=\"LENGTH\"),BW39>0),ROUNDUP(BW39/CJ39/#REF!,0)*#REF!,IF(BQ39=\"METRE\",#REF!*ROUNDUP(((BW39*BM39)/1000)/#REF!,0),#REF!*ROUNDUP(BW39/#REF!,0))),\"\"),\"\")","v":""},"","",null,{"$f":"IFERROR(INDEX(INDIRECT(\"T_NAV_\"&i_Location&\"[\"&i_Location&\"]\"),MATCH(1,--(BD39=INDIRECT(\"T_NAV_\"&i_Location&\"[No.]\"))*--((INDIRECT(\"T_NAV_\"&i_Location&\"[\"&i_Location&\"]\"))<>\"\"),0)),\"\")","v":""},null,2]
[null,null,null,"Wire Guide",0,null,{"$f":"IFERROR(IF(ISBLANK(F40),\"\",IF(FIND(F40,INDIRECT($F$37))>0,1,0)),0)","v":""},"F56",0,"Strap",0,null,null,null,"",null,"",null,null,null,null,null,null,null,null,null,null,null,null,null,{"$f":"IFERROR(IF(AND(AA40=\"Y\",PRODUCT(AB40:AD40)=0),o_nScreens,IF(PRODUCT(AB40:AD40)=0,\"\",PRODUCT(AB40:AD40))),\"\")","v":""},null,null,null,null,null,null,null,null,null,null,null,null,"AU","",{"$f":"i_Finish","v":0},null,"",{"$f":"IF(ISNUMBER(FIND(\"x\",BF40)),IFERROR(INDEX(INDIRECT(\"T_FinishColour[ColourCode-\"&IF(ISNUMBER(FIND(\"xxx\",BF40)),\"xxx\",IF(ISNUMBER(FIND(\"xx\",BF40)),\"xx\",\"error\"))&AR40&\"]\"),MATCH(AV40,T_FinishColour[Finish / Colour],0)),\"\"),\"\")","v":""},null,{"$f":"IF(AND(ISBLANK(BD40),ISBLANK(C40)),\"HIDE\",_xlfn.SWITCH(PRODUCT(C40:Z40,B40),2,\"HEADING\",1,\"SHOW\",0,\"HIDE\"))","v":"HIDE"},null,"PICK","GL",null,{"$f":"_xlfn.IFNA(SUBSTITUTE(IF(AR40=\"AU\",SUBSTITUTE(BF40,\"xxx\",AW40),SUBSTITUTE(SUBSTITUTE(BF40,\"xx\",AW40),\"x\",\"\")),\"LLL\",BH40*100),BF40)","v":"RE91-1102-050025"},null,"RE91-1102-050025","25mm Strap Down Loop - Plastic | F56",null,{"$f":"IF(ISBLANK(BP40),\"\",IF(OR(BP40=L_Units),\"Y\",\"N\"))","v":"N"},null,{"$f":"IFERROR(IF(BI40=\"Y\",((INDEX(T_Deduc[Deduction],MATCH(BJ40,T_Deduc[Type],0),0))),\"\"),\"\")","v":""},null,"",{"$f":"IFERROR(IF(BI40=\"Y\",BM40,\"\"),\"\")","v":""},{"$f":"IFERROR(IF(BI40=\"Y\",TEXT(BM40/25.4,\"0\"&IF(ABS(BM40/25.4-ROUND(BM40/25.4,0))>1/32,\"-0/\"&CHOOSE(ROUND(MOD(BM40/25.4,1)*16,0),16,8,16,4,16,8,16,2,16,8,16,4,16,8,16),\"\")),\"\"),\"\")","v":""},"Piece",{"$f":"IFERROR(IF(ISBLANK(BD40),\"\",INDEX(T_NAV_AU[Unit of Measure],MATCH(BD40,T_NAV_AU[No.],0))),\"\")","v":"PIECE"},null,null,"HW",2,2,2,{"$f":"IFERROR(INDEX(INDIRECT(\"T_NAV_\"&i_Location&\"[\"&i_Location&\"]\"),MATCH(1,--(BD40=INDIRECT(\"T_NAV_\"&i_Location&\"[No.]\"))*--((INDIRECT(\"T_NAV_\"&i_Location&\"[\"&i_Location&\"]\"))<>\"\"),0))/IF(AND(BR40=\"METRE\",BH40<>\"\",BS40=\"\"),BH40,1),\"\")","v":""},"","","",null,null,{"$f":"IFERROR(IF(AY40=\"SHOW\",IF(AND(OR(BQ40=\"ROLL\",BQ40=\"LENGTH\"),BW40>0),ROUNDUP(BW40/CJ40/#REF!,0)*#REF!,IF(BQ40=\"METRE\",#REF!*ROUNDUP(((BW40*BM40)/1000)/#REF!,0),#REF!*ROUNDUP(BW40/#REF!,0))),\"\"),\"\")","v":""},"","",null,{"$f":"IFERROR(INDEX(INDIRECT(\"T_NAV_\"&i_Location&\"[\"&i_Location&\"]\"),MATCH(1,--(BD40=INDIRECT(\"T_NAV_\"&i_Location&\"[No.]\"))*--((INDIRECT(\"T_NAV_\"&i_Location&\"[\"&i_Location&\"]\"))<>\"\"),0)),\"\")","v":""},null,2]
[null,null,null,"Straight Drop",0,"Lock",{"$f":"IFERROR(IF(ISBLANK(F41),\"\",IF(ISERROR(FIND(F41,INDIRECT($F$37))>0),1,0)),0)","v":1},"F72",0,null,"",null,null,null,"",null,"",null,null,null,null,null,null,null,null,null,null,null,null,null,{"$f":"IFERROR(IF(AND(AA41=\"Y\",PRODUCT(AB41:AD41)=0),o_nScreens,IF(PRODUCT(AB41:AD41)=0,\"\",PRODUCT(AB41:AD41))),\"\")","v":""},null,null,null,null,null,null,null,null,null,null,null,null,"AU","",{"$f":"i_Finish","v":0},null,"",{"$f":"IF(ISNUMBER(FIND(\"x\",BF41)),IFERROR(INDEX(INDIRECT(\"T_FinishColour[ColourCode-\"&IF(ISNUMBER(FIND(\"xxx\",BF41)),\"xxx\",IF(ISNUMBER(FIND(\"xx\",BF41)),\"xx\",\"error\"))&AR41&\"]\"),MATCH(AV41,T_FinishColour[Finish / Colour],0)),\"\"),\"\")","v":""},null,{"$f":"IF(AND(ISBLANK(BD41),ISBLANK(C41)),\"HIDE\",_xlfn.SWITCH(PRODUCT(C41:Z41,B41),2,\"HEADING\",1,\"SHOW\",0,\"HIDE\"))","v":"HIDE"},null,"PICK","GL",null,{"$f":"_xlfn.IFNA(SUBSTITUTE(IF(AR41=\"AU\",SUBSTITUTE(BF41,\"xxx\",AW41),SUBSTITUTE(SUBSTITUTE(BF41,\"xx\",AW41),\"x\",\"\")),\"LLL\",\"580\"),BF41)","v":"RE91-1111-013025"},null,"RE91-1111-013025","25mm Footman Loop kit w/ screws - S/S | F72",null,{"$f":"IF(ISBLANK(BP41),\"\",IF(OR(BP41=L_Units),\"Y\",\"N\"))","v":"N"},null,{"$f":"IFERROR(IF(BI41=\"Y\",((INDEX(T_Deduc[Deduction],MATCH(BJ41,T_Deduc[Type],0),0))),\"\"),\"\")","v":""},null,"",{"$f":"IFERROR(IF(BI41=\"Y\",BM41,\"\"),\"\")","v":""},{"$f":"IFERROR(IF(BI41=\"Y\",TEXT(BM41/25.4,\"0\"&IF(ABS(BM41/25.4-ROUND(BM41/25.4,0))>1/32,\"-0/\"&CHOOSE(ROUND(MOD(BM41/25.4,1)*16,0),16,8,16,4,16,8,16,2,16,8,16,4,16,8,16),\"\")),\"\"),\"\")","v":""},"Piece",{"$f":"IFERROR(IF(ISBLANK(BD41),\"\",INDEX(T_NAV_AU[Unit of Measure],MATCH(BD41,T_NAV_AU[No.],0))),\"\")","v":"KIT"},null,null,"HW",2,2,2,{"$f":"IFERROR(INDEX(INDIRECT(\"T_NAV_\"&i_Location&\"[\"&i_Location&\"]\"),MATCH(1,--(BD41=INDIRECT(\"T_NAV_\"&i_Location&\"[No.]\"))*--((INDIRECT(\"T_NAV_\"&i_Location&\"[\"&i_Location&\"]\"))<>\"\"),0))/IF(AND(BR41=\"METRE\",BH41<>\"\",BS41=\"\"),BH41,1),\"\")","v":""},"","","",null,null,{"$f":"IFERROR(IF(AY41=\"SHOW\",IF(AND(OR(BQ41=\"ROLL\",BQ41=\"LENGTH\"),BW41>0),ROUNDUP(BW41/CJ41/#REF!,0)*#REF!,IF(BQ41=\"METRE\",#REF!*ROUNDUP(((BW41*BM41)/1000)/#REF!,0),#REF!*ROUNDUP(BW41/#REF!,0))),\"\"),\"\")","v":""},"","",null,{"$f":"IFERROR(INDEX(INDIRECT(\"T_NAV_\"&i_Location&\"[\"&i_Location&\"]\"),MATCH(1,--(BD41=INDIRECT(\"T_NAV_\"&i_Location&\"[No.]\"))*--((INDIRECT(\"T_NAV_\"&i_Location&\"[\"&i_Location&\"]\"))<>\"\"),0)),\"\")","v":""},null,2]
[null,null,null,null,"","Saddle",{"$f":"IFERROR(IF(ISBLANK(F42),\"\",IF(FIND(F42,INDIRECT($F$37))>0,1,0)),0)","v":0},null,"",null,"",null,null,null,"",null,"",null,null,null,null,null,null,null,null,null,null,null,null,null,{"$f":"IFERROR(IF(AND(AA42=\"Y\",PRODUCT(AB42:AD42)=0),o_nScreens,IF(PRODUCT(AB42:AD42)=0,\"\",PRODUCT(AB42:AD42))),\"\")","v":""},null,null,null,null,null,null,null,null,null,null,null,null,"AU","",{"$f":"i_Finish","v":0},null,"",{"$f":"IF(ISNUMBER(FIND(\"x\",BF42)),IFERROR(INDEX(INDIRECT(\"T_FinishColour[ColourCode-\"&IF(ISNUMBER(FIND(\"xxx\",BF42)),\"xxx\",IF(ISNUMBER(FIND(\"xx\",BF42)),\"xx\",\"error\"))&AR42&\"]\"),MATCH(AV42,T_FinishColour[Finish / Colour],0)),\"\"),\"\")","v":""},null,{"$f":"IF(AND(ISBLANK(BD42),ISBLANK(C42)),\"HIDE\",_xlfn.SWITCH(PRODUCT(C42:Z42,B42),2,\"HEADING\",1,\"SHOW\",0,\"HIDE\"))","v":"HIDE"},null,"PICK","GL",null,{"$f":"_xlfn.IFNA(SUBSTITUTE(IF(AR42=\"AU\",SUBSTITUTE(BF42,\"xxx\",AW42),SUBSTITUTE(SUBSTITUTE(BF42,\"xx\",AW42),\"x\",\"\")),\"LLL\",\"580\"),BF42)","v":"RE91-1104-013030"},null,"RE91-1104-013030","Strap Down Pad Eye Saddle – 30mm",null,{"$f":"IF(ISBLANK(BP42),\"\",IF(OR(BP42=L_Units),\"Y\",\"N\"))","v":"N"},null,{"$f":"IFERROR(IF(BI42=\"Y\",((INDEX(T_Deduc[Deduction],MATCH(BJ42,T_Deduc[Type],0),0))),\"\"),\"\")","v":""},null,"","","","Piece",{"$f":"IFERROR(IF(ISBLANK(BD42),\"\",INDEX(T_NAV_AU[Unit of Measure],MATCH(BD42,T_NAV_AU[No.],0))),\"\")","v":"PIECE"},null,null,"HW",2,2,2,{"$f":"IFERROR(INDEX(INDIRECT(\"T_NAV_\"&i_Location&\"[\"&i_Location&\"]\"),MATCH(1,--(BD42=INDIRECT(\"T_NAV_\"&i_Location&\"[No.]\"))*--((INDIRECT(\"T_NAV_\"&i_Location&\"[\"&i_Location&\"]\"))<>\"\"),0))/IF(AND(BR42=\"METRE\",BH42<>\"\",BS42=\"\"),BH42,1),\"\")","v":""},"","","",null,null,{"$f":"IFERROR(IF(AY42=\"SHOW\",IF(AND(OR(BQ42=\"ROLL\",BQ42=\"LENGTH\"),BW42>0),ROUNDUP(BW42/CJ42/#REF!,0)*#REF!,IF(BQ42=\"METRE\",#REF!*ROUNDUP(((BW42*BM42)/1000)/#REF!,0),#REF!*ROUNDUP(BW42/#REF!,0))),\"\"),\"\")","v":""},"","",null,{"$f":"IFERROR(INDEX(INDIRECT(\"T_NAV_\"&i_Location&\"[\"&i_Location&\"]\"),MATCH(1,--(BD42=INDIRECT(\"T_NAV_\"&i_Location&\"[No.]\"))*--((INDIRECT(\"T_NAV_\"&i_Location&\"[\"&i_Location&\"]\"))<>\"\"),0)),\"\")","v":""},null,2]
[null,null,null,null,"","Saddle",{"$f":"IFERROR(IF(ISBLANK(F43),\"\",IF(FIND(F43,INDIRECT($F$37))>0,1,0)),0)","v":0},null,"",null,"",null,null,null,"",null,"",null,null,null,null,null,null,null,null,null,null,null,null,null,{"$f":"IFERROR(IF(AND(AA43=\"Y\",PRODUCT(AB43:AD43)=0),o_nScreens,IF(PRODUCT(AB43:AD43)=0,\"\",PRODUCT(AB43:AD43))),\"\")","v":""},null,null,null,null,null,null,null,null,null,null,null,null,"AU","",null,null,"",{"$f":"IF(ISNUMBER(FIND(\"x\",BF43)),IFERROR(INDEX(INDIRECT(\"T_FinishColour[ColourCode-\"&IF(ISNUMBER(FIND(\"xxx\",BF43)),\"xxx\",IF(ISNUMBER(FIND(\"xx\",BF43)),\"xx\",\"error\"))&AR43&\"]\"),MATCH(AV43,T_FinishColour[Finish / Colour],0)),\"\"),\"\")","v":""},null,{"$f":"IF(AND(ISBLANK(BD43),ISBLANK(C43)),\"HIDE\",_xlfn.SWITCH(PRODUCT(C43:Z43,B43),2,\"HEADING\",1,\"SHOW\",0,\"HIDE\"))","v":"HIDE"},null,"PICK","GL",null,{"$f":"_xlfn.IFNA(SUBSTITUTE(IF(AR43=\"AU\",SUBSTITUTE(BF43,\"xxx\",AW43),SUBSTITUTE(SUBSTITUTE(BF43,\"xx\",AW43),\"x\",\"\")),\"LLL\",\"580\"),BF43)","v":"RE91-1103-009050"},null,"RE91-1103-009050","Strap Down Spring Clip – 50mm",null,{"$f":"IF(ISBLANK(BP43),\"\",IF(OR(BP43=L_Units),\"Y\",\"N\"))","v":"N"},null,{"$f":"IFERROR(IF(BI43=\"Y\",((INDEX(T_Deduc[Deduction],MATCH(BJ43,T_Deduc[Type],0),0))),\"\"),\"\")","v":""},null,"","","","Piece",{"$f":"IFERROR(IF(ISBLANK(BD43),\"\",INDEX(T_NAV_AU[Unit of Measure],MATCH(BD43,T_NAV_AU[No.],0))),\"\")","v":"PIECE"},null,null,"HW",2,2,2,{"$f":"IFERROR(INDEX(INDIRECT(\"T_NAV_\"&i_Location&\"[\"&i_Location&\"]\"),MATCH(1,--(BD43=INDIRECT(\"T_NAV_\"&i_Location&\"[No.]\"))*--((INDIRECT(\"T_NAV_\"&i_Location&\"[\"&i_Location&\"]\"))<>\"\"),0))/IF(AND(BR43=\"METRE\",BH43<>\"\",BS43=\"\"),BH43,1),\"\")","v":""},"","","",null,null,{"$f":"IFERROR(IF(AY43=\"SHOW\",IF(AND(OR(BQ43=\"ROLL\",BQ43=\"LENGTH\"),BW43>0),ROUNDUP(BW43/CJ43/#REF!,0)*#REF!,IF(BQ43=\"METRE\",#REF!*ROUNDUP(((BW43*BM43)/1000)/#REF!,0),#REF!*ROUNDUP(BW43/#REF!,0))),\"\"),\"\")","v":""},"","",null,{"$f":"IFERROR(INDEX(INDIRECT(\"T_NAV_\"&i_Location&\"[\"&i_Location&\"]\"),MATCH(1,--(BD43=INDIRECT(\"T_NAV_\"&i_Location&\"[No.]\"))*--((INDIRECT(\"T_NAV_\"&i_Location&\"[\"&i_Location&\"]\"))<>\"\"),0)),\"\")","v":""},null,2]
[null,null,null,null,"","Footman Loop",{"$f":"IFERROR(IF(ISBLANK(F44),\"\",IF(FIND(F44,INDIRECT($F$37))>0,1,0)),0)","v":0},null,null,null,null,null,null,null,"",null,"",null,null,null,null,null,null,null,null,null,null,null,null,null,{"$f":"IFERROR(IF(AND(AA44=\"Y\",PRODUCT(AB44:AD44)=0),o_nScreens,IF(PRODUCT(AB44:AD44)=0,\"\",PRODUCT(AB44:AD44))),\"\")","v":""},null,null,null,null,null,null,null,null,null,null,null,null,"AU","",{"$f":"i_Finish","v":0},null,"",{"$f":"IF(ISNUMBER(FIND(\"x\",BF44)),IFERROR(INDEX(INDIRECT(\"T_FinishColour[ColourCode-\"&IF(ISNUMBER(FIND(\"xxx\",BF44)),\"xxx\",IF(ISNUMBER(FIND(\"xx\",BF44)),\"xx\",\"error\"))&AR44&\"]\"),MATCH(AV44,T_FinishColour[Finish / Colour],0)),\"\"),\"\")","v":""},null,{"$f":"IF(AND(ISBLANK(BD44),ISBLANK(C44)),\"HIDE\",_xlfn.SWITCH(PRODUCT(C44:Z44,B44),2,\"HEADING\",1,\"SHOW\",0,\"HIDE\"))","v":"HIDE"},null,"PICK","GL",null,{"$f":"_xlfn.IFNA(SUBSTITUTE(IF(AR44=\"AU\",SUBSTITUTE(BF44,\"xxx\",AW44),SUBSTITUTE(SUBSTITUTE(BF44,\"xx\",AW44),\"x\",\"\")),\"LLL\",\"580\"),BF44)","v":"RE91-1101-013025"},null,"RE91-1101-013025","25mm Footman Loop - S/S",null,{"$f":"IF(ISBLANK(BP44),\"\",IF(OR(BP44=L_Units),\"Y\",\"N\"))","v":"N"},null,{"$f":"IFERROR(IF(BI44=\"Y\",((INDEX(T_Deduc[Deduction],MATCH(BJ44,T_Deduc[Type],0),0))),\"\"),\"\")","v":""},null,"","","","Piece",{"$f":"IFERROR(IF(ISBLANK(BD44),\"\",INDEX(T_NAV_AU[Unit of Measure],MATCH(BD44,T_NAV_AU[No.],0))),\"\")","v":"PIECE"},null,null,"HW",2,2,2,{"$f":"IFERROR(INDEX(INDIRECT(\"T_NAV_\"&i_Location&\"[\"&i_Location&\"]\"),MATCH(1,--(BD44=INDIRECT(\"T_NAV_\"&i_Location&\"[No.]\"))*--((INDIRECT(\"T_NAV_\"&i_Location&\"[\"&i_Location&\"]\"))<>\"\"),0))/IF(AND(BR44=\"METRE\",BH44<>\"\",BS44=\"\"),BH44,1),\"\")","v":""},"","","",null,null,{"$f":"IFERROR(IF(AY44=\"SHOW\",IF(AND(OR(BQ44=\"ROLL\",BQ44=\"LENGTH\"),BW44>0),ROUNDUP(BW44/CJ44/#REF!,0)*#REF!,IF(BQ44=\"METRE\",#REF!*ROUNDUP(((BW44*BM44)/1000)/#REF!,0),#REF!*ROUNDUP(BW44/#REF!,0))),\"\"),\"\")","v":""},"","",null,{"$f":"IFERROR(INDEX(INDIRECT(\"T_NAV_\"&i_Location&\"[\"&i_Location&\"]\"),MATCH(1,--(BD44=INDIRECT(\"T_NAV_\"&i_Location&\"[No.]\"))*--((INDIRECT(\"T_NAV_\"&i_Location&\"[\"&i_Location&\"]\"))<>\"\"),0)),\"\")","v":""},null,2]
[null,null,null,null,"","Flush",{"$f":"IFERROR(IF(ISBLANK(F45),\"\",IF(FIND(F45,INDIRECT($F$37))>0,1,0)),0)","v":0},null,null,null,{"$f":"IFERROR(IF(ISBLANK(J45),\"\",IF(FIND(J45,INDIRECT($J$37))>0,1,0)),0)","v":""},null,{"$f":"IFERROR(IF(ISBLANK(L45),\"\",IF(FIND(L45,INDIRECT($L$37))>0,1,0)),0)","v":""},null,"",null,"",null,null,null,null,null,null,null,null,null,null,null,null,null,{"$f":"IFERROR(IF(AND(AA45=\"Y\",PRODUCT(AB45:AD45)=0),o_nScreens,IF(PRODUCT(AB45:AD45)=0,\"\",PRODUCT(AB45:AD45))),\"\")","v":""},null,null,null,null,null,null,null,null,null,null,null,null,"AU","",{"$f":"i_Finish","v":0},null,"",{"$f":"IF(ISNUMBER(FIND(\"x\",BF45)),IFERROR(INDEX(INDIRECT(\"T_FinishColour[ColourCode-\"&IF(ISNUMBER(FIND(\"xxx\",BF45)),\"xxx\",IF(ISNUMBER(FIND(\"xx\",BF45)),\"xx\",\"error\"))&AR45&\"]\"),MATCH(AV45,T_FinishColour[Finish / Colour],0)),\"\"),\"\")","v":""},null,{"$f":"IF(AND(ISBLANK(BD45),ISBLANK(C45)),\"HIDE\",_xlfn.SWITCH(PRODUCT(C45:Z45,B45),2,\"HEADING\",1,\"SHOW\",0,\"HIDE\"))","v":"HIDE"},null,"PICK","AU",null,"RE91-1105-009000",null,"RE91-1105-009000","Flush Mount Strap Down Loop",null,{"$f":"IF(ISBLANK(BP45),\"\",IF(OR(BP45=L_Units),\"Y\",\"N\"))","v":"N"},null,{"$f":"IFERROR(IF(BI45=\"Y\",((INDEX(T_Deduc[Deduction],MATCH(BJ45,T_Deduc[Type],0),0))),\"\"),\"\")","v":""},null,"",{"$f":"IFERROR(IF(BI45=\"Y\",BM45,\"\"),\"\")","v":""},{"$f":"IFERROR(IF(BI45=\"Y\",TEXT(BM45/25.4,\"0\"&IF(ABS(BM45/25.4-ROUND(BM45/25.4,0))>1/32,\"-0/\"&CHOOSE(ROUND(MOD(BM45/25.4,1)*16,0),16,8,16,4,16,8,16,2,16,8,16,4,16,8,16),\"\")),\"\"),\"\")","v":""},"Piece",{"$f":"IFERROR(IF(ISBLANK(BD45),\"\",INDEX(T_NAV_AU[Unit of Measure],MATCH(BD45,T_NAV_AU[No.],0))),\"\")","v":"PIECE"},null,null,"HW",2,2,2,{"$f":"IFERROR(INDEX(INDIRECT(\"T_NAV_\"&i_Location&\"[\"&i_Location&\"]\"),MATCH(1,--(BD45=INDIRECT(\"T_NAV_\"&i_Location&\"[No.]\"))*--((INDIRECT(\"T_NAV_\"&i_Location&\"[\"&i_Location&\"]\"))<>\"\"),0))/IF(AND(BR45=\"METRE\",BH45<>\"\",BS45=\"\"),BH45,1),\"\")","v":""},"","","",null,null,{"$f":"IFERROR(IF(AY45=\"SHOW\",IF(AND(OR(BQ45=\"ROLL\",BQ45=\"LENGTH\"),BW45>0),ROUNDUP(BW45/CJ45/#REF!,0)*#REF!,IF(BQ45=\"METRE\",#REF!*ROUNDUP(((BW45*BM45)/1000)/#REF!,0),#REF!*ROUNDUP(BW45/#REF!,0))),\"\"),\"\")","v":""},"","",null,{"$f":"IFERROR(INDEX(INDIRECT(\"T_NAV_\"&i_Location&\"[\"&i_Location&\"]\"),MATCH(1,--(BD45=INDIRECT(\"T_NAV_\"&i_Location&\"[No.]\"))*--((INDIRECT(\"T_NAV_\"&i_Location&\"[\"&i_Location&\"]\"))<>\"\"),0)),\"\")","v":""},null,2]
[null,null,null,null,"",null,{"$f":"IFERROR(IF(ISBLANK(F46),\"\",IF(FIND(F46,INDIRECT($F$37))>0,1,0)),0)","v":""},null,{"$f":"IFERROR(IF(ISBLANK(H46),\"\",IF(FIND(H46,INDIRECT($H$37))>0,1,0)),0)","v":""},"Strap",{"$f":"IFERROR(IF(ISBLANK(J46),\"\",IF(FIND(J46,INDIRECT($J$37))>0,1,0)),0)","v":0},null,{"$f":"IFERROR(IF(ISBLANK(L46),\"\",IF(FIND(L46,INDIRECT($L$37))>0,1,0)),0)","v":""},null,"",null,"",null,null,null,null,null,null,null,null,null,null,null,null,null,{"$f":"IFERROR(IF(AND(AA46=\"Y\",PRODUCT(AB46:AD46)=0),o_nScreens,IF(PRODUCT(AB46:AD46)=0,\"\",PRODUCT(AB46:AD46))),\"\")","v":""},null,null,null,null,null,null,null,null,null,null,null,null,"AU","",{"$f":"i_Finish","v":0},null,"",{"$f":"IF(ISNUMBER(FIND(\"x\",BF46)),IFERROR(INDEX(INDIRECT(\"T_FinishColour[ColourCode-\"&IF(ISNUMBER(FIND(\"xxx\",BF46)),\"xxx\",IF(ISNUMBER(FIND(\"xx\",BF46)),\"xx\",\"error\"))&AR46&\"]\"),MATCH(AV46,T_FinishColour[Finish / Colour],0)),\"\"),\"\")","v":""},null,{"$f":"IF(AND(ISBLANK(BD46),ISBLANK(C46)),\"HIDE\",_xlfn.SWITCH(PRODUCT(C46:Z46,B46),2,\"HEADING\",1,\"SHOW\",0,\"HIDE\"))","v":"HIDE"},null,"PICK","GL",null,{"$f":"_xlfn.IFNA(SUBSTITUTE(IF(AR46=\"AU\",SUBSTITUTE(BF46,\"xxx\",AW46),SUBSTITUTE(SUBSTITUTE(BF46,\"xx\",AW46),\"x\",\"\")),\"LLL\",\"580\"),BF46)","v":"RE91-0100-025025"},null,"RE91-0100-025025","25mm Cam Buckle & Strap Assembly",null,{"$f":"IF(ISBLANK(BP46),\"\",IF(OR(BP46=L_Units),\"Y\",\"N\"))","v":"N"},null,{"$f":"IFERROR(IF(BI46=\"Y\",((INDEX(T_Deduc[Deduction],MATCH(BJ46,T_Deduc[Type],0),0))),\"\"),\"\")","v":""},null,"","","","Piece",{"$f":"IFERROR(IF(ISBLANK(BD46),\"\",INDEX(T_NAV_AU[Unit of Measure],MATCH(BD46,T_NAV_AU[No.],0))),\"\")","v":"PIECE"},null,null,"HW",2,2,2,{"$f":"IFERROR(INDEX(INDIRECT(\"T_NAV_\"&i_Location&\"[\"&i_Location&\"]\"),MATCH(1,--(BD46=INDIRECT(\"T_NAV_\"&i_Location&\"[No.]\"))*--((INDIRECT(\"T_NAV_\"&i_Location&\"[\"&i_Location&\"]\"))<>\"\"),0))/IF(AND(BR46=\"METRE\",BH46<>\"\",BS46=\"\"),BH46,1),\"\")","v":""},"","","",null,null,{"$f":"IFERROR(IF(AY46=\"SHOW\",IF(AND(OR(BQ46=\"ROLL\",BQ46=\"LENGTH\"),BW46>0),ROUNDUP(BW46/CJ46/#REF!,0)*#REF!,IF(BQ46=\"METRE\",#REF!*ROUNDUP(((BW46*BM46)/1000)/#REF!,0),#REF!*ROUNDUP(BW46/#REF!,0))),\"\"),\"\")","v":""},"","",null,{"$f":"IFERROR(INDEX(INDIRECT(\"T_NAV_\"&i_Location&\"[\"&i_Location&\"]\"),MATCH(1,--(BD46=INDIRECT(\"T_NAV_\"&i_Location&\"[No.]\"))*--((INDIRECT(\"T_NAV_\"&i_Location&\"[\"&i_Location&\"]\"))<>\"\"),0)),\"\")","v":""},null,2]
[null,2,{"$f":"C48","v":0},null,null,null,null,null,null,null,null,null,null,null,null,null,null,null,null,null,null,null,null,null,null,null,null,null,null,null,{"$f":"IFERROR(IF(AND(AA47=\"Y\",PRODUCT(AB47:AD47)=0),o_nScreens,IF(PRODUCT(AB47:AD47)=0,\"\",PRODUCT(AB47:AD47))),\"\")","v":""},null,null,null,null,null,null,null,null,null,null,null,null,null,"",null,null,"",{"$f":"IF(ISNUMBER(FIND(\"x\",BF47)),IFERROR(INDEX(INDIRECT(\"T_FinishColour[ColourCode-\"&IF(ISNUMBER(FIND(\"xxx\",BF47)),\"xxx\",IF(ISNUMBER(FIND(\"xx\",BF47)),\"xx\",\"error\"))&AR47&\"]\"),MATCH(AV47,T_FinishColour[Finish / Colour],0)),\"\"),\"\")","v":""},null,{"$f":"IF(AND(ISBLANK(BD47),ISBLANK(C47)),\"HIDE\",_xlfn.SWITCH(PRODUCT(C47:Z47,B47),2,\"HEADING\",1,\"SHOW\",0,\"HIDE\"))","v":"HIDE"},null,null,null,null,"",null,null,null,null,{"$f":"IF(ISBLANK(BP47),\"\",IF(OR(BP47=L_Units),\"Y\",\"N\"))","v":""},null,{"$f":"IFERROR(IF(BI47=\"Y\",((INDEX(T_Deduc[Deduction],MATCH(BJ47,T_Deduc[Type],0),0))),\"\"),\"\")","v":""},null,"","","",null,{"$f":"IFERROR(IF(ISBLANK(BD47),\"\",INDEX(T_NAV_AU[Unit of Measure],MATCH(BD47,T_NAV_AU[No.],0))),\"\")","v":""},null,null,null,null,"","",{"$f":"IFERROR(INDEX(INDIRECT(\"T_NAV_\"&i_Location&\"[\"&i_Location&\"]\"),MATCH(1,--(BD47=INDIRECT(\"T_NAV_\"&i_Location&\"[No.]\"))*--((INDIRECT(\"T_NAV_\"&i_Location&\"[\"&i_Location&\"]\"))<>\"\"),0))/IF(AND(BR47=\"METRE\",BH47<>\"\",BS47=\"\"),BH47,1),\"\")","v":""},"","","",null,null,{"$f":"IFERROR(IF(AY47=\"SHOW\",IF(AND(OR(BQ47=\"ROLL\",BQ47=\"LENGTH\"),BW47>0),ROUNDUP(BW47/CJ47/#REF!,0)*#REF!,IF(BQ47=\"METRE\",#REF!*ROUNDUP(((BW47*BM47)/1000)/#REF!,0),#REF!*ROUNDUP(BW47/#REF!,0))),\"\"),\"\")","v":""},"","",null,{"$f":"IFERROR(INDEX(INDIRECT(\"T_NAV_\"&i_Location&\"[\"&i_Location&\"]\"),MATCH(1,--(BD47=INDIRECT(\"T_NAV_\"&i_Location&\"[No.]\"))*--((INDIRECT(\"T_NAV_\"&i_Location&\"[\"&i_Location&\"]\"))<>\"\"),0)),\"\")","v":""},null,""]
[null,2,{"$f":"IF(COUNTIF(AY49:AY58,\"SHOW\")>0,1,0)","v":0},"i_SystemType",null,null,null,null,null,"i_InstallationType",null,"i_WGBTOption",null,null,null,"i_IdlerType",null,null,null,null,null,null,null,null,null,null,null,null,null,null,{"$f":"IFERROR(IF(AND(AA48=\"Y\",PRODUCT(AB48:AD48)=0),o_nScreens,IF(PRODUCT(AB48:AD48)=0,\"\",PRODUCT(AB48:AD48))),\"\")","v":""},null,null,null,null,null,null,null,null,null,null,null,null,null,"",null,null,"",{"$f":"IF(ISNUMBER(FIND(\"x\",BF48)),IFERROR(INDEX(INDIRECT(\"T_FinishColour[ColourCode-\"&IF(ISNUMBER(FIND(\"xxx\",BF48)),\"xxx\",IF(ISNUMBER(FIND(\"xx\",BF48)),\"xx\",\"error\"))&AR48&\"]\"),MATCH(AV48,T_FinishColour[Finish / Colour],0)),\"\"),\"\")","v":""},null,{"$f":"IF(AND(ISBLANK(BD48),ISBLANK(C48)),\"HIDE\",_xlfn.SWITCH(PRODUCT(C48:Z48,B48),2,\"HEADING\",1,\"SHOW\",0,\"HIDE\"))","v":"HIDE"},null,null,null,null,"WIRE GUIDE",null,"WIRE GUIDE",null,null,null,null,{"$f":"IFERROR(IF(BI48=\"Y\",((INDEX(T_Deduc[Deduction],MATCH(BJ48,T_Deduc[Type],0),0))),\"\"),\"\")","v":""},null,{"$f":"IFERROR(IF(BI48=\"Y\",INDIRECT(BL48)-BK48,\"\"),\"\")","v":""},"","",null,{"$f":"IFERROR(IF(ISBLANK(BD48),\"\",INDEX(T_NAV_AU[Unit of Measure],MATCH(BD48,T_NAV_AU[No.],0))),\"\")","v":""},null,null,null,null,null,null,null,"","",{"$f":"IFERROR(IF(BY48<>\"\",BY48-BZ48,\"\"),\"\")","v":""},null,null,{"$f":"IFERROR(IF(AY48=\"SHOW\",IF(AND(OR(BQ48=\"ROLL\",BQ48=\"LENGTH\"),BW48>0),ROUNDUP(BW48/CJ48/#REF!,0)*#REF!,IF(BQ48=\"METRE\",#REF!*ROUNDUP(((BW48*BM48)/1000)/#REF!,0),#REF!*ROUNDUP(BW48/#REF!,0))),\"\"),\"\")","v":""},"","",null,{"$f":"IFERROR(INDEX(INDIRECT(\"T_NAV_\"&i_Location&\"[\"&i_Location&\"]\"),MATCH(1,--(BD48=INDIRECT(\"T_NAV_\"&i_Location&\"[No.]\"))*--((INDIRECT(\"T_NAV_\"&i_Location&\"[\"&i_Location&\"]\"))<>\"\"),0)),\"\")","v":""},null,""]
[null,null,null,"Wire Guide",{"$f":"IFERROR(IF(ISBLANK(D49),\"\",IF(FIND(D49,INDIRECT($D$48))>0,1,0)),0)","v":0},null,{"$f":"IFERROR(IF(ISBLANK(F49),\"\",IF(FIND(F49,INDIRECT($F$48))>0,1,0)),0)","v":""},null,{"$f":"IFERROR(IF(ISBLANK(H49),\"\",IF(FIND(H49,INDIRECT($H$48))>0,1,0)),0)","v":""},null,{"$f":"IFERROR(IF(ISBLANK(J49),\"\",IF(FIND(J49,INDIRECT($J$48))>0,1,0)),0)","v":""},null,{"$f":"IFERROR(IF(ISBLANK(L49),\"\",IF(FIND(L49,INDIRECT($L$48))>0,1,0)),0)","v":""},null,{"$f":"IFERROR(IF(ISBLANK(N49),\"\",IF(FIND(N49,INDIRECT($N$48))>0,1,0)),0)","v":""},"45mm",{"$f":"IFERROR(IF(ISBLANK(P49),\"\",IF(FIND(P49,INDIRECT($P$48))>0,1,0)),0)","v":0},null,null,null,null,null,null,null,null,null,null,null,null,null,{"$f":"IFERROR(IF(AND(AA49=\"Y\",PRODUCT(AB49:AD49)=0),o_nScreens,IF(PRODUCT(AB49:AD49)=0,\"\",PRODUCT(AB49:AD49))),\"\")","v":""},null,null,null,null,null,null,null,null,null,null,null,null,"AU","",{"$f":"i_Finish","v":0},null,"",{"$f":"IF(ISNUMBER(FIND(\"x\",BF49)),IFERROR(INDEX(INDIRECT(\"T_FinishColour[ColourCode-\"&IF(ISNUMBER(FIND(\"xxx\",BF49)),\"xxx\",IF(ISNUMBER(FIND(\"xx\",BF49)),\"xx\",\"error\"))&AR49&\"]\"),MATCH(AV49,T_FinishColour[Finish / Colour],0)),\"\"),\"\")","v":""},null,{"$f":"IF(AND(ISBLANK(BD49),ISBLANK(C49)),\"HIDE\",_xlfn.SWITCH(PRODUCT(C49:Z49,B49),2,\"HEADING\",1,\"SHOW\",0,\"HIDE\"))","v":"HIDE"},null,"PICK","GL",null,"RE24-4004-010032",null,"RE24-4004-010032","Wire Guide Top Saddle Terminal Kit w/ Spring",null,{"$f":"IF(ISBLANK(BP49),\"\",IF(OR(BP49=L_Units),\"Y\",\"N\"))","v":"N"},null,{"$f":"IFERROR(IF(BI49=\"Y\",((INDEX(T_Deduc[Deduction],MATCH(BJ49,T_Deduc[Type],0),0))),\"\"),\"\")","v":""},null,"","","","Set",{"$f":"IFERROR(IF(ISBLANK(BD49),\"\",INDEX(T_NAV_AU[Unit of Measure],MATCH(BD49,T_NAV_AU[No.],0))),\"\")","v":"SET"},null,null,"HW",2,{"$f":"IF(ISBLANK(BU49),\"\",PRODUCT(AE49,BU49))","v":2},{"$f":"IF(ISBLANK(BU49),\"\",PRODUCT(AE49,BU49,i_systemQTY))","v":2},{"$f":"IFERROR(INDEX(INDIRECT(\"T_NAV_\"&i_Location&\"[\"&i_Location&\"]\"),MATCH(1,--(BD49=INDIRECT(\"T_NAV_\"&i_Location&\"[No.]\"))*--((INDIRECT(\"T_NAV_\"&i_Location&\"[\"&i_Location&\"]\"))<>\"\"),0))/IF(AND(BR49=\"METRE\",BH49<>\"\",BS49=\"\"),BH49,1),\"\")","v":""},{"$f":"IFERROR(IF(AND(AY49=\"SHOW\",BX49<>\"\"),BX49*BW49*IF(AND(BN49<>\"\",OR(BQ49=\"LENGTH\",BQ49=\"METRE\",BQ49=\"ROLL\")),(BM49/1000),1),\"\"),\"\")","v":""},"","",null,null,{"$f":"IFERROR(IF(AY49=\"SHOW\",IF(AND(OR(BQ49=\"ROLL\",BQ49=\"LENGTH\"),BW49>0),ROUNDUP(BW49/CJ49/#REF!,0)*#REF!,IF(BQ49=\"METRE\",#REF!*ROUNDUP(((BW49*BM49)/1000)/#REF!,0),#REF!*ROUNDUP(BW49/#REF!,0))),\"\"),\"\")","v":""},"",{"$f":"IFERROR(IF(AY49=\"SHOW\",CH49*CD49*(1-(INDIRECT(\"i_\"&BT49&\"discount\"))),\"\"),\"\")","v":""},null,{"$f":"IFERROR(INDEX(INDIRECT(\"T_NAV_\"&i_Location&\"[\"&i_Location&\"]\"),MATCH(1,--(BD49=INDIRECT(\"T_NAV_\"&i_Location&\"[No.]\"))*--((INDIRECT(\"T_NAV_\"&i_Location&\"[\"&i_Location&\"]\"))<>\"\"),0)),\"\")","v":""},null,{"$f":"IFERROR(IF(ISBLANK(BU49),\"\",IF(OR(BQ49=\"ROLL\",BQ49=\"LENGTH\"),ROUNDDOWN((BH49*1000)/(BM49+CutTol),0),PRODUCT(AE40,BU49))),\"\")","v":2}]
[null,null,null,"Wire Guide",0,null,{"$f":"IFERROR(IF(ISBLANK(F50),\"\",IF(FIND(F50,INDIRECT($F$48))>0,1,0)),0)","v":""},null,{"$f":"IFERROR(IF(ISBLANK(H50),\"\",IF(FIND(H50,INDIRECT($H$48))>0,1,0)),0)","v":""},null,{"$f":"IFERROR(IF(ISBLANK(J50),\"\",IF(FIND(J50,INDIRECT($J$48))>0,1,0)),0)","v":""},null,"",null,"","45mm",{"$f":"IFERROR(IF(ISBLANK(P50),\"\",IF(FIND(P50,INDIRECT($P$48))>0,1,0)),0)","v":0},null,null,null,null,null,null,null,null,null,null,null,null,null,{"$f":"IFERROR(IF(AND(AA50=\"Y\",PRODUCT(AB50:AD50)=0),o_nScreens,IF(PRODUCT(AB50:AD50)=0,\"\",PRODUCT(AB50:AD50))),\"\")","v":""},null,null,null,null,null,null,null,null,null,null,null,null,"AU","",null,null,"",{"$f":"IF(ISNUMBER(FIND(\"x\",BF50)),IFERROR(INDEX(INDIRECT(\"T_FinishColour[ColourCode-\"&IF(ISNUMBER(FIND(\"xxx\",BF50)),\"xxx\",IF(ISNUMBER(FIND(\"xx\",BF50)),\"xx\",\"error\"))&AR50&\"]\"),MATCH(AV50,T_FinishColour[Finish / Colour],0)),\"\"),\"\")","v":""},null,{"$f":"IF(AND(ISBLANK(BD50),ISBLANK(C50)),\"HIDE\",_xlfn.SWITCH(PRODUCT(C50:Z50,B50),2,\"HEADING\",1,\"SHOW\",0,\"HIDE\"))","v":"HIDE"},null,"PICK","GL",null,"RE24-2205-009000",null,"RE24-2205-009000","Bottom Wire Guide Swivel Bracket -  Universal Fix",null,{"$f":"IF(ISBLANK(BP50),\"\",IF(OR(BP50=L_Units),\"Y\",\"N\"))","v":"N"},null,{"$f":"IFERROR(IF(BI50=\"Y\",((INDEX(T_Deduc[Deduction],MATCH(BJ50,T_Deduc[Type],0),0))),\"\"),\"\")","v":""},null,"","","","Set",{"$f":"IFERROR(IF(ISBLANK(BD50),\"\",INDEX(T_NAV_AU[Unit of Measure],MATCH(BD50,T_NAV_AU[No.],0))),\"\")","v":"SET"},null,null,"HW",2,2,2,{"$f":"IFERROR(INDEX(INDIRECT(\"T_NAV_\"&i_Location&\"[\"&i_Location&\"]\"),MATCH(1,--(BD50=INDIRECT(\"T_NAV_\"&i_Location&\"[No.]\"))*--((INDIRECT(\"T_NAV_\"&i_Location&\"[\"&i_Location&\"]\"))<>\"\"),0))/IF(AND(BR50=\"METRE\",BH50<>\"\",BS50=\"\"),BH50,1),\"\")","v":""},"","","",null,null,{"$f":"IFERROR(IF(AY50=\"SHOW\",IF(AND(OR(BQ50=\"ROLL\",BQ50=\"LENGTH\"),BW50>0),ROUNDUP(BW50/CJ50/#REF!,0)*#REF!,IF(BQ50=\"METRE\",#REF!*ROUNDUP(((BW50*BM50)/1000)/#REF!,0),#REF!*ROUNDUP(BW50/#REF!,0))),\"\"),\"\")","v":""},"","",null,{"$f":"IFERROR(INDEX(INDIRECT(\"T_NAV_\"&i_Location&\"[\"&i_Location&\"]\"),MATCH(1,--(BD50=INDIRECT(\"T_NAV_\"&i_Location&\"[No.]\"))*--((INDIRECT(\"T_NAV_\"&i_Location&\"[\"&i_Location&\"]\"))<>\"\"),0)),\"\")","v":""},null,{"$f":"IFERROR(IF(ISBLANK(BU50),\"\",IF(OR(BQ50=\"ROLL\",BQ50=\"LENGTH\"),ROUNDDOWN((BH50*1000)/(BM50+CutTol),0),PRODUCT(AE41,BU50))),\"\")","v":2}]
[null,null,null,"Wire Guide",0,null,{"$f":"IFERROR(IF(ISBLANK(F51),\"\",IF(FIND(F51,INDIRECT($F$48))>0,1,0)),0)","v":""},null,{"$f":"IFERROR(IF(ISBLANK(H51),\"\",IF(FIND(H51,INDIRECT($H$48))>0,1,0)),0)","v":""},null,{"$f":"IFERROR(IF(ISBLANK(J51),\"\",IF(FIND(J51,INDIRECT($J$48))>0,1,0)),0)","v":""},null,"",null,"","45mm",0,null,null,null,null,null,null,null,null,null,null,null,null,null,{"$f":"IFERROR(IF(AND(AA51=\"Y\",PRODUCT(AB51:AD51)=0),o_nScreens,IF(PRODUCT(AB51:AD51)=0,\"\",PRODUCT(AB51:AD51))),\"\")","v":""},null,null,null,null,null,null,null,null,null,null,null,null,"AU","",{"$f":"i_Finish","v":0},null,"",{"$f":"IF(ISNUMBER(FIND(\"x\",BF51)),IFERROR(INDEX(INDIRECT(\"T_FinishColour[ColourCode-\"&IF(ISNUMBER(FIND(\"xxx\",BF51)),\"xxx\",IF(ISNUMBER(FIND(\"xx\",BF51)),\"xx\",\"error\"))&AR51&\"]\"),MATCH(AV51,T_FinishColour[Finish / Colour],0)),\"\"),\"\")","v":""},null,{"$f":"IF(AND(ISBLANK(BD51),ISBLANK(C51)),\"HIDE\",_xlfn.SWITCH(PRODUCT(C51:Z51,B51),2,\"HEADING\",1,\"SHOW\",0,\"HIDE\"))","v":"HIDE"},null,"PICK","GL",null,"RE24-1312-009420",null,"RE24-1312-009420","Swaged Dome Stud Terminal + 4.2m Wire Rope",null,{"$f":"IF(ISBLANK(BP51),\"\",IF(OR(BP51=L_Units),\"Y\",\"N\"))","v":"N"},null,{"$f":"IFERROR(IF(BI51=\"Y\",((INDEX(T_Deduc[Deduction],MATCH(BJ51,T_Deduc[Type],0),0))),\"\"),\"\")","v":""},null,"","","","Set",{"$f":"IFERROR(IF(ISBLANK(BD51),\"\",INDEX(T_NAV_AU[Unit of Measure],MATCH(BD51,T_NAV_AU[No.],0))),\"\")","v":"SET"},null,null,"HW",2,2,2,{"$f":"IFERROR(INDEX(INDIRECT(\"T_NAV_\"&i_Location&\"[\"&i_Location&\"]\"),MATCH(1,--(BD51=INDIRECT(\"T_NAV_\"&i_Location&\"[No.]\"))*--((INDIRECT(\"T_NAV_\"&i_Location&\"[\"&i_Location&\"]\"))<>\"\"),0))/IF(AND(BR51=\"METRE\",BH51<>\"\",BS51=\"\"),BH51,1),\"\")","v":""},"","","",null,null,{"$f":"IFERROR(IF(AY51=\"SHOW\",IF(AND(OR(BQ51=\"ROLL\",BQ51=\"LENGTH\"),BW51>0),ROUNDUP(BW51/CJ51/#REF!,0)*#REF!,IF(BQ51=\"METRE\",#REF!*ROUNDUP(((BW51*BM51)/1000)/#REF!,0),#REF!*ROUNDUP(BW51/#REF!,0))),\"\"),\"\")","v":""},"","",null,{"$f":"IFERROR(INDEX(INDIRECT(\"T_NAV_\"&i_Location&\"[\"&i_Location&\"]\"),MATCH(1,--(BD51=INDIRECT(\"T_NAV_\"&i_Location&\"[No.]\"))*--((INDIRECT(\"T_NAV_\"&i_Location&\"[\"&i_Location&\"]\"))<>\"\"),0)),\"\")","v":""},null,{"$f":"IFERROR(IF(ISBLANK(BU51),\"\",IF(OR(BQ51=\"ROLL\",BQ51=\"LENGTH\"),ROUNDDOWN((BH51*1000)/(BM51+CutTol),0),PRODUCT(AE43,BU51))),\"\")","v":2}]
[null,null,null,"Wire Guide",0,null,null,null,null,null,null,null,"",null,"","Extreme",{"$f":"IFERROR(IF(ISBLANK(P52),\"\",IF(FIND(P52,INDIRECT($P$48))>0,1,0)),0)","v":0},null,null,null,null,null,null,null,null,null,null,null,null,null,null,null,null,null,null,null,null,null,null,null,null,null,null,"AU",null,null,null,null,null,null,{"$f":"IF(AND(ISBLANK(BD52),ISBLANK(C52)),\"HIDE\",_xlfn.SWITCH(PRODUCT(C52:Z52,B52),2,\"HEADING\",1,\"SHOW\",0,\"HIDE\"))","v":"HIDE"},null,"PICK","GL",null,"RB91-3602-006041",null,"RB91-3602-006041","Wire Guide Tensioning Cable 4mm (7x7) PVC Coated | 50m Roll",1,"Y",null,null,"o_dropmm",0,{"$f":"IFERROR(IF(BI52=\"Y\",BM52,\"\"),\"\")","v":0},{"$f":"IFERROR(IF(BI52=\"Y\",TEXT(BM52/25.4,\"0\"&IF(ABS(BM52/25.4-ROUND(BM52/25.4,0))>1/32,\"-0/\"&CHOOSE(ROUND(MOD(BM52/25.4,1)*16,0),16,8,16,4,16,8,16,2,16,8,16,4,16,8,16),\"\")),\"\"),\"\")","v":"0"},{"$f":"INDEX(T_UnitSelection[Units],MATCH(i_Units,T_UnitSelection[UnitSelection],0))","v":{"$error":"#N/A"}},{"$f":"IFERROR(IF(ISBLANK(BD52),\"\",INDEX(T_NAV_AU[Unit of Measure],MATCH(BD52,T_NAV_AU[No.],0))),\"\")","v":"METRE"},null,null,"HW",2,2,2,{"$f":"IFERROR(INDEX(INDIRECT(\"T_NAV_\"&i_Location&\"[\"&i_Location&\"]\"),MATCH(1,--(BD52=INDIRECT(\"T_NAV_\"&i_Location&\"[No.]\"))*--((INDIRECT(\"T_NAV_\"&i_Location&\"[\"&i_Location&\"]\"))<>\"\"),0))/IF(AND(BR52=\"METRE\",BH52<>\"\",BS52=\"\"),BH52,1),\"\")","v":""},"","","",null,null,{"$f":"IFERROR(IF(AY52=\"SHOW\",IF(AND(OR(BQ52=\"ROLL\",BQ52=\"LENGTH\"),BW52>0),ROUNDUP(BW52/CJ52/#REF!,0)*#REF!,IF(BQ52=\"METRE\",#REF!*ROUNDUP(((BW52*BM52)/1000)/#REF!,0),#REF!*ROUNDUP(BW52/#REF!,0))),\"\"),\"\")","v":""},"","",null,{"$f":"IFERROR(INDEX(INDIRECT(\"T_NAV_\"&i_Location&\"[\"&i_Location&\"]\"),MATCH(1,--(BD52=INDIRECT(\"T_NAV_\"&i_Location&\"[No.]\"))*--((INDIRECT(\"T_NAV_\"&i_Location&\"[\"&i_Location&\"]\"))<>\"\"),0)),\"\")","v":""},null,2]
[null,null,null,"Wire Guide",0,null,null,null,null,"Box 190",{"$f":"IFERROR(IF(ISBLANK(J53),\"\",IF(FIND(J53,INDIRECT($J$48))>0,1,0)),0)","v":0},null,"",null,"","Extreme",0,null,null,null,null,null,null,null,null,null,null,null,null,null,null,null,null,null,null,null,null,null,null,null,null,null,null,"AU",null,null,null,null,null,null,{"$f":"IF(AND(ISBLANK(BD53),ISBLANK(C53)),\"HIDE\",_xlfn.SWITCH(PRODUCT(C53:Z53,B53),2,\"HEADING\",1,\"SHOW\",0,\"HIDE\"))","v":"HIDE"},null,"PICK","GL",null,"RB80-0481-012000",null,"RB80-0481-012000","Box 190 Wire Guide Adaptor Plate with Screws",null,"N",null,null,null,"","","","Set",{"$f":"IFERROR(IF(ISBLANK(BD53),\"\",INDEX(T_NAV_AU[Unit of Measure],MATCH(BD53,T_NAV_AU[No.],0))),\"\")","v":"SET"},null,null,"HW",2,2,2,{"$f":"IFERROR(INDEX(INDIRECT(\"T_NAV_\"&i_Location&\"[\"&i_Location&\"]\"),MATCH(1,--(BD53=INDIRECT(\"T_NAV_\"&i_Location&\"[No.]\"))*--((INDIRECT(\"T_NAV_\"&i_Location&\"[\"&i_Location&\"]\"))<>\"\"),0))/IF(AND(BR53=\"METRE\",BH53<>\"\",BS53=\"\"),BH53,1),\"\")","v":""},"","","",null,null,{"$f":"IFERROR(IF(AY53=\"SHOW\",IF(AND(OR(BQ53=\"ROLL\",BQ53=\"LENGTH\"),BW53>0),ROUNDUP(BW53/CJ53/#REF!,0)*#REF!,IF(BQ53=\"METRE\",#REF!*ROUNDUP(((BW53*BM53)/1000)/#REF!,0),#REF!*ROUNDUP(BW53/#REF!,0))),\"\"),\"\")","v":""},"","",null,{"$f":"IFERROR(INDEX(INDIRECT(\"T_NAV_\"&i_Location&\"[\"&i_Location&\"]\"),MATCH(1,--(BD53=INDIRECT(\"T_NAV_\"&i_Location&\"[No.]\"))*--((INDIRECT(\"T_NAV_\"&i_Location&\"[\"&i_Location&\"]\"))<>\"\"),0)),\"\")","v":""},null,2]
[null,null,null,"Wire Guide",0,null,null,null,null,null,"",null,"",null,"","Extreme",0,null,null,null,null,null,null,null,null,null,null,null,null,null,null,null,null,null,null,null,null,null,null,null,null,null,null,"AU",null,null,null,null,null,null,{"$f":"IF(AND(ISBLANK(BD54),ISBLANK(C54)),\"HIDE\",_xlfn.SWITCH(PRODUCT(C54:Z54,B54),2,\"HEADING\",1,\"SHOW\",0,\"HIDE\"))","v":"HIDE"},null,"PICK","GL",null,"RE24-1314-009400",null,"RE24-1314-009400","Fork Swage Terminal for 4mm S/Steel Wire",null,"N",null,null,null,"","","","Piece",{"$f":"IFERROR(IF(ISBLANK(BD54),\"\",INDEX(T_NAV_AU[Unit of Measure],MATCH(BD54,T_NAV_AU[No.],0))),\"\")","v":"PIECE"},null,null,"HW",2,2,2,{"$f":"IFERROR(INDEX(INDIRECT(\"T_NAV_\"&i_Location&\"[\"&i_Location&\"]\"),MATCH(1,--(BD54=INDIRECT(\"T_NAV_\"&i_Location&\"[No.]\"))*--((INDIRECT(\"T_NAV_\"&i_Location&\"[\"&i_Location&\"]\"))<>\"\"),0))/IF(AND(BR54=\"METRE\",BH54<>\"\",BS54=\"\"),BH54,1),\"\")","v":""},"","","",null,null,{"$f":"IFERROR(IF(AY54=\"SHOW\",IF(AND(OR(BQ54=\"ROLL\",BQ54=\"LENGTH\"),BW54>0),ROUNDUP(BW54/CJ54/#REF!,0)*#REF!,IF(BQ54=\"METRE\",#REF!*ROUNDUP(((BW54*BM54)/1000)/#REF!,0),#REF!*ROUNDUP(BW54/#REF!,0))),\"\"),\"\")","v":""},"","",null,{"$f":"IFERROR(INDEX(INDIRECT(\"T_NAV_\"&i_Location&\"[\"&i_Location&\"]\"),MATCH(1,--(BD54=INDIRECT(\"T_NAV_\"&i_Location&\"[No.]\"))*--((INDIRECT(\"T_NAV_\"&i_Location&\"[\"&i_Location&\"]\"))<>\"\"),0)),\"\")","v":""},null,2]
[null,null,null,"Wire Guide",0,null,null,null,null,null,"","Tensioning",0,null,"","Extreme",0,null,null,null,null,null,null,null,null,null,null,null,null,null,null,null,null,null,null,null,null,null,null,null,null,null,null,"AU",null,null,null,null,null,null,{"$f":"IF(AND(ISBLANK(BD55),ISBLANK(C55)),\"HIDE\",_xlfn.SWITCH(PRODUCT(C55:Z55,B55),2,\"HEADING\",1,\"SHOW\",0,\"HIDE\"))","v":"HIDE"},null,"PICK","GL",null,"RE24-2601-009040",null,"RE24-2601-009040","Tensioning Bracket & Crimp Terminal for 4mm S/Steel Wire",null,"N",null,null,null,"","","","Set",{"$f":"IFERROR(IF(ISBLANK(BD55),\"\",INDEX(T_NAV_AU[Unit of Measure],MATCH(BD55,T_NAV_AU[No.],0))),\"\")","v":"SET"},null,null,"HW",2,2,2,{"$f":"IFERROR(INDEX(INDIRECT(\"T_NAV_\"&i_Location&\"[\"&i_Location&\"]\"),MATCH(1,--(BD55=INDIRECT(\"T_NAV_\"&i_Location&\"[No.]\"))*--((INDIRECT(\"T_NAV_\"&i_Location&\"[\"&i_Location&\"]\"))<>\"\"),0))/IF(AND(BR55=\"METRE\",BH55<>\"\",BS55=\"\"),BH55,1),\"\")","v":""},"","","",null,null,{"$f":"IFERROR(IF(AY55=\"SHOW\",IF(AND(OR(BQ55=\"ROLL\",BQ55=\"LENGTH\"),BW55>0),ROUNDUP(BW55/CJ55/#REF!,0)*#REF!,IF(BQ55=\"METRE\",#REF!*ROUNDUP(((BW55*BM55)/1000)/#REF!,0),#REF!*ROUNDUP(BW55/#REF!,0))),\"\"),\"\")","v":""},"","",null,{"$f":"IFERROR(INDEX(INDIRECT(\"T_NAV_\"&i_Location&\"[\"&i_Location&\"]\"),MATCH(1,--(BD55=INDIRECT(\"T_NAV_\"&i_Location&\"[No.]\"))*--((INDIRECT(\"T_NAV_\"&i_Location&\"[\"&i_Location&\"]\"))<>\"\"),0)),\"\")","v":""},null,2]
[null,null,null,"Wire Guide",0,null,null,null,null,null,"","Stud",0,null,"","Extreme",0,null,null,null,null,null,null,null,null,null,null,null,null,null,null,null,null,null,null,null,null,null,null,null,null,null,null,"AU",null,null,null,null,null,null,{"$f":"IF(AND(ISBLANK(BD56),ISBLANK(C56)),\"HIDE\",_xlfn.SWITCH(PRODUCT(C56:Z56,B56),2,\"HEADING\",1,\"SHOW\",0,\"HIDE\"))","v":"HIDE"},null,"PICK","GL",null,"RE24-1401-009040",null,"RE24-1401-009040","Threaded Stud Terminal + Nut + Washer for 4mm S/Steel Wire",null,"N",null,null,null,"","","","Set",{"$f":"IFERROR(IF(ISBLANK(BD56),\"\",INDEX(T_NAV_AU[Unit of Measure],MATCH(BD56,T_NAV_AU[No.],0))),\"\")","v":"SET"},null,null,"HW",2,2,2,{"$f":"IFERROR(INDEX(INDIRECT(\"T_NAV_\"&i_Location&\"[\"&i_Location&\"]\"),MATCH(1,--(BD56=INDIRECT(\"T_NAV_\"&i_Location&\"[No.]\"))*--((INDIRECT(\"T_NAV_\"&i_Location&\"[\"&i_Location&\"]\"))<>\"\"),0))/IF(AND(BR56=\"METRE\",BH56<>\"\",BS56=\"\"),BH56,1),\"\")","v":""},"","","",null,null,{"$f":"IFERROR(IF(AY56=\"SHOW\",IF(AND(OR(BQ56=\"ROLL\",BQ56=\"LENGTH\"),BW56>0),ROUNDUP(BW56/CJ56/#REF!,0)*#REF!,IF(BQ56=\"METRE\",#REF!*ROUNDUP(((BW56*BM56)/1000)/#REF!,0),#REF!*ROUNDUP(BW56/#REF!,0))),\"\"),\"\")","v":""},"","",null,{"$f":"IFERROR(INDEX(INDIRECT(\"T_NAV_\"&i_Location&\"[\"&i_Location&\"]\"),MATCH(1,--(BD56=INDIRECT(\"T_NAV_\"&i_Location&\"[No.]\"))*--((INDIRECT(\"T_NAV_\"&i_Location&\"[\"&i_Location&\"]\"))<>\"\"),0)),\"\")","v":""},null,2]
[null,null,null,"Wire Guide",0,null,null,null,null,null,"","Stud",0,null,"","Extreme",0,null,null,null,null,null,null,null,null,null,null,null,null,null,null,null,null,null,null,null,null,null,null,null,null,null,null,"AU",null,null,null,null,null,null,{"$f":"IF(AND(ISBLANK(BD57),ISBLANK(C57)),\"HIDE\",_xlfn.SWITCH(PRODUCT(C57:Z57,B57),2,\"HEADING\",1,\"SHOW\",0,\"HIDE\"))","v":"HIDE"},null,"PICK","GL",null,"RE24-9101-009050",null,"RE24-9101-009050","Tension Spring",null,"N",null,null,null,"","","","Piece",{"$f":"IFERROR(IF(ISBLANK(BD57),\"\",INDEX(T_NAV_AU[Unit of Measure],MATCH(BD57,T_NAV_AU[No.],0))),\"\")","v":"PIECE"},null,null,"HW",2,2,2,{"$f":"IFERROR(INDEX(INDIRECT(\"T_NAV_\"&i_Location&\"[\"&i_Location&\"]\"),MATCH(1,--(BD57=INDIRECT(\"T_NAV_\"&i_Location&\"[No.]\"))*--((INDIRECT(\"T_NAV_\"&i_Location&\"[\"&i_Location&\"]\"))<>\"\"),0))/IF(AND(BR57=\"METRE\",BH57<>\"\",BS57=\"\"),BH57,1),\"\")","v":""},"","","",null,null,{"$f":"IFERROR(IF(AY57=\"SHOW\",IF(AND(OR(BQ57=\"ROLL\",BQ57=\"LENGTH\"),BW57>0),ROUNDUP(BW57/CJ57/#REF!,0)*#REF!,IF(BQ57=\"METRE\",#REF!*ROUNDUP(((BW57*BM57)/1000)/#REF!,0),#REF!*ROUNDUP(BW57/#REF!,0))),\"\"),\"\")","v":""},"","",null,{"$f":"IFERROR(INDEX(INDIRECT(\"T_NAV_\"&i_Location&\"[\"&i_Location&\"]\"),MATCH(1,--(BD57=INDIRECT(\"T_NAV_\"&i_Location&\"[No.]\"))*--((INDIRECT(\"T_NAV_\"&i_Location&\"[\"&i_Location&\"]\"))<>\"\"),0)),\"\")","v":""},null,{"$f":"IFERROR(IF(ISBLANK(BU57),\"\",IF(OR(BQ57=\"ROLL\",BQ57=\"LENGTH\"),ROUNDDOWN((BH57*1000)/(BM57+CutTol),0),PRODUCT(#REF!,BU57))),\"\")","v":""}]
[null,null,null,"Wire Guide",0,null,null,null,null,null,"","Stud",0,null,"","Extreme",0,null,null,null,null,null,null,null,null,null,null,null,null,null,null,null,null,null,null,null,null,null,null,null,null,null,null,"AU",null,null,null,null,null,null,{"$f":"IF(AND(ISBLANK(BD58),ISBLANK(C58)),\"HIDE\",_xlfn.SWITCH(PRODUCT(C58:Z58,B58),2,\"HEADING\",1,\"SHOW\",0,\"HIDE\"))","v":"HIDE"},null,"PICK","GL",null,"RE24-2301-009090",null,"RE24-2301-009090","Wall Mounting Bracket LH & RH Set - 90mm x 38mm",null,"N",null,null,null,"","","","Pair",{"$f":"IFERROR(IF(ISBLANK(BD58),\"\",INDEX(T_NAV_AU[Unit of Measure],MATCH(BD58,T_NAV_AU[No.],0))),\"\")","v":"PAIR"},null,null,"HW",1,1,1,{"$f":"IFERROR(INDEX(INDIRECT(\"T_NAV_\"&i_Location&\"[\"&i_Location&\"]\"),MATCH(1,--(BD58=INDIRECT(\"T_NAV_\"&i_Location&\"[No.]\"))*--((INDIRECT(\"T_NAV_\"&i_Location&\"[\"&i_Location&\"]\"))<>\"\"),0))/IF(AND(BR58=\"METRE\",BH58<>\"\",BS58=\"\"),BH58,1),\"\")","v":""},"","","",null,null,{"$f":"IFERROR(IF(AY58=\"SHOW\",IF(AND(OR(BQ58=\"ROLL\",BQ58=\"LENGTH\"),BW58>0),ROUNDUP(BW58/CJ58/#REF!,0)*#REF!,IF(BQ58=\"METRE\",#REF!*ROUNDUP(((BW58*BM58)/1000)/#REF!,0),#REF!*ROUNDUP(BW58/#REF!,0))),\"\"),\"\")","v":""},"","",null,{"$f":"IFERROR(INDEX(INDIRECT(\"T_NAV_\"&i_Location&\"[\"&i_Location&\"]\"),MATCH(1,--(BD58=INDIRECT(\"T_NAV_\"&i_Location&\"[No.]\"))*--((INDIRECT(\"T_NAV_\"&i_Location&\"[\"&i_Location&\"]\"))<>\"\"),0)),\"\")","v":""},null,{"$f":"IFERROR(IF(ISBLANK(BU58),\"\",IF(OR(BQ58=\"ROLL\",BQ58=\"LENGTH\"),ROUNDDOWN((BH58*1000)/(BM58+CutTol),0),PRODUCT(AE49,BU58))),\"\")","v":1}]
[null,2,{"$f":"C60","v":0},null,null,null,null,null,null,null,null,null,null,null,null,null,null,null,null,null,null,null,null,null,null,null,null,null,null,null,{"$f":"IFERROR(IF(AND(AA59=\"Y\",PRODUCT(AB59:AD59)=0),o_nScreens,IF(PRODUCT(AB59:AD59)=0,\"\",PRODUCT(AB59:AD59))),\"\")","v":""},null,null,null,null,null,null,null,null,null,null,null,null,null,{"$f":"IF(ISNUMBER(FIND(\"x\",BF59)),IFERROR(INDEX(AI59:AQ59,0,MATCH(AT59,AI59:AQ59,0)),IF(AI59<>\"\",AI59,i_DefaultColour)),\"\")","v":""},null,null,{"$f":"IF(ISNUMBER(FIND(\"x\",BF59)),IFERROR(INDEX(AI59:AQ59,0,MATCH(AT59,AI59:AQ59,0)),AS59),\"\")","v":""},{"$f":"IF(ISNUMBER(FIND(\"x\",BF59)),IFERROR(INDEX(INDIRECT(\"T_FinishColour[ColourCode-\"&IF(ISNUMBER(FIND(\"xxx\",BF59)),\"xxx\",IF(ISNUMBER(FIND(\"xx\",BF59)),\"xx\",\"error\"))&AR59&\"]\"),MATCH(AV59,T_FinishColour[Finish / Colour],0)),\"\"),\"\")","v":""},null,{"$f":"IF(AND(ISBLANK(BD59),ISBLANK(C59)),\"HIDE\",_xlfn.SWITCH(PRODUCT(C59:Z59,B59),2,\"HEADING\",1,\"SHOW\",0,\"HIDE\"))","v":"HIDE"},null,null,null,null,"",null,null,null,null,{"$f":"IF(ISBLANK(BP59),\"\",IF(OR(BP59=L_Units),\"Y\",\"N\"))","v":""},null,{"$f":"IFERROR(IF(BI59=\"Y\",((INDEX(T_Deduc[Deduction],MATCH(BJ59,T_Deduc[Type],0),0))),\"\"),\"\")","v":""},null,"","","",null,{"$f":"IFERROR(IF(ISBLANK(BD59),\"\",INDEX(T_NAV_AU[Unit of Measure],MATCH(BD59,T_NAV_AU[No.],0))),\"\")","v":""},null,null,null,null,"","",{"$f":"IFERROR(INDEX(INDIRECT(\"T_NAV_\"&i_Location&\"[\"&i_Location&\"]\"),MATCH(1,--(BD59=INDIRECT(\"T_NAV_\"&i_Location&\"[No.]\"))*--((INDIRECT(\"T_NAV_\"&i_Location&\"[\"&i_Location&\"]\"))<>\"\"),0))/IF(AND(BR59=\"METRE\",BH59<>\"\",BS59=\"\"),BH59,1),\"\")","v":""},"","","",null,null,{"$f":"IFERROR(IF(AY59=\"SHOW\",IF(AND(OR(BQ59=\"ROLL\",BQ59=\"LENGTH\"),BW59>0),ROUNDUP(BW59/CJ59/#REF!,0)*#REF!,IF(BQ59=\"METRE\",#REF!*ROUNDUP(((BW59*BM59)/1000)/#REF!,0),#REF!*ROUNDUP(BW59/#REF!,0))),\"\"),\"\")","v":""},"","",null,{"$f":"IFERROR(INDEX(INDIRECT(\"T_NAV_\"&i_Location&\"[\"&i_Location&\"]\"),MATCH(1,--(BD59=INDIRECT(\"T_NAV_\"&i_Location&\"[No.]\"))*--((INDIRECT(\"T_NAV_\"&i_Location&\"[\"&i_Location&\"]\"))<>\"\"),0)),\"\")","v":""},null,{"$f":"IFERROR(IF(ISBLANK(BU59),\"\",IF(OR(BQ59=\"ROLL\",BQ59=\"LENGTH\"),ROUNDDOWN((BH59*1000)/(BM59+CutTol),0),PRODUCT(AE56,BU59))),\"\")","v":""}]
[null,2,{"$f":"IF(COUNTIF(AY61:AY61,\"SHOW\")>0,1,0)","v":0},"i_SystemType",null,"i_PivotArmLength",null,null,null,null,null,null,null,null,null,null,null,null,null,null,null,null,null,null,null,null,null,null,null,null,{"$f":"IFERROR(IF(AND(AA60=\"Y\",PRODUCT(AB60:AD60)=0),o_nScreens,IF(PRODUCT(AB60:AD60)=0,\"\",PRODUCT(AB60:AD60))),\"\")","v":""},null,null,null,null,null,null,null,null,null,null,null,null,null,"",null,null,"",{"$f":"IF(ISNUMBER(FIND(\"x\",BF60)),IFERROR(INDEX(INDIRECT(\"T_FinishColour[ColourCode-\"&IF(ISNUMBER(FIND(\"xxx\",BF60)),\"xxx\",IF(ISNUMBER(FIND(\"xx\",BF60)),\"xx\",\"error\"))&AR60&\"]\"),MATCH(AV60,T_FinishColour[Finish / Colour],0)),\"\"),\"\")","v":""},null,{"$f":"IF(AND(ISBLANK(BD60),ISBLANK(C60)),\"HIDE\",_xlfn.SWITCH(PRODUCT(C60:Z60,B60),2,\"HEADING\",1,\"SHOW\",0,\"HIDE\"))","v":"HIDE"},null,null,null,null,"PIVOT ARM",null,"PIVOT ARM",null,null,null,null,{"$f":"IFERROR(IF(BI60=\"Y\",((INDEX(T_Deduc[Deduction],MATCH(BJ60,T_Deduc[Type],0),0))),\"\"),\"\")","v":""},null,"","","",null,{"$f":"IFERROR(IF(ISBLANK(BD60),\"\",INDEX(T_NAV_AU[Unit of Measure],MATCH(BD60,T_NAV_AU[No.],0))),\"\")","v":""},null,null,null,null,null,null,null,"","","",null,null,{"$f":"IFERROR(IF(AY60=\"SHOW\",IF(AND(OR(BQ60=\"ROLL\",BQ60=\"LENGTH\"),BW60>0),ROUNDUP(BW60/CJ60/#REF!,0)*#REF!,IF(BQ60=\"METRE\",#REF!*ROUNDUP(((BW60*BM60)/1000)/#REF!,0),#REF!*ROUNDUP(BW60/#REF!,0))),\"\"),\"\")","v":""},"","",null,{"$f":"IFERROR(INDEX(INDIRECT(\"T_NAV_\"&i_Location&\"[\"&i_Location&\"]\"),MATCH(1,--(BD60=INDIRECT(\"T_NAV_\"&i_Location&\"[No.]\"))*--((INDIRECT(\"T_NAV_\"&i_Location&\"[\"&i_Location&\"]\"))<>\"\"),0)),\"\")","v":""},null,{"$f":"IFERROR(IF(ISBLANK(BU60),\"\",IF(OR(BQ60=\"ROLL\",BQ60=\"LENGTH\"),ROUNDDOWN((BH60*1000)/(BM60+CutTol),0),PRODUCT(AE57,BU60))),\"\")","v":""}]
[null,null,null,"Pivot Arm",{"$f":"IFERROR(IF(ISBLANK(D61),\"\",IF(FIND(D61,INDIRECT($D$60))>0,1,0)),0)","v":0},"1.6m",{"$f":"IFERROR(IF(ISBLANK(F61),\"\",IF(FIND(F61,INDIRECT($F$60))>0,1,0)),0)","v":0},null,{"$f":"IFERROR(IF(ISBLANK(H61),\"\",IF(FIND(H61,INDIRECT($H$60))>0,1,0)),0)","v":""},null,null,null,null,null,null,null,null,null,null,null,null,null,null,null,null,null,null,null,null,null,{"$f":"IFERROR(IF(AND(AA61=\"Y\",PRODUCT(AB61:AD61)=0),o_nScreens,IF(PRODUCT(AB61:AD61)=0,\"\",PRODUCT(AB61:AD61))),\"\")","v":""},null,null,null,"White",null,null,null,null,null,null,null,null,"AU","White",{"$f":"i_Finish","v":0},null,"White",{"$f":"IF(ISNUMBER(FIND(\"x\",BF61)),IFERROR(INDEX(INDIRECT(\"T_FinishColour[ColourCode-\"&IF(ISNUMBER(FIND(\"xxx\",BF61)),\"xxx\",IF(ISNUMBER(FIND(\"xx\",BF61)),\"xx\",\"error\"))&AR61&\"]\"),MATCH(AV61,T_FinishColour[Finish / Colour],0)),\"\"),\"\")","v":"069"},null,{"$f":"IF(AND(ISBLANK(BD61),ISBLANK(C61)),\"HIDE\",_xlfn.SWITCH(PRODUCT(C61:Z61,B61),2,\"HEADING\",1,\"SHOW\",0,\"HIDE\"))","v":"HIDE"},null,"PICK","GL",null,{"$f":"_xlfn.IFNA(SUBSTITUTE(IF(AR61=\"AU\",SUBSTITUTE(BF61,\"xxx\",AW61),SUBSTITUTE(SUBSTITUTE(BF61,\"xx\",AW61),\"x\",\"\")),\"LLL\",BH61*100),BF61)","v":"AW05-0701-069160"},null,"AW05-0701-xxx160","Pivot Arms - 1.6m [5.25 ft] (2x arms)",null,{"$f":"IF(ISBLANK(BP61),\"\",IF(OR(BP61=L_Units),\"Y\",\"N\"))","v":"N"},null,{"$f":"IFERROR(IF(BI61=\"Y\",((INDEX(T_Deduc[Deduction],MATCH(BJ61,T_Deduc[Type],0),0))),\"\"),\"\")","v":""},null,"","","","Pair",{"$f":"IFERROR(IF(ISBLANK(BD61),\"\",INDEX(T_NAV_AU[Unit of Measure],MATCH(BD61,T_NAV_AU[No.],0))),\"\")","v":"PAIR"},null,null,"HW",1,{"$f":"IF(ISBLANK(BU61),\"\",PRODUCT(AE61,BU61))","v":1},{"$f":"IF(ISBLANK(BU61),\"\",PRODUCT(AE61,BU61,i_systemQTY))","v":1},{"$f":"IFERROR(INDEX(INDIRECT(\"T_NAV_\"&i_Location&\"[\"&i_Location&\"]\"),MATCH(1,--(BD61=INDIRECT(\"T_NAV_\"&i_Location&\"[No.]\"))*--((INDIRECT(\"T_NAV_\"&i_Location&\"[\"&i_Location&\"]\"))<>\"\"),0))/IF(AND(BR61=\"METRE\",BH61<>\"\",BS61=\"\"),BH61,1),\"\")","v":""},"","","",null,null,{"$f":"IFERROR(IF(AY61=\"SHOW\",IF(AND(OR(BQ61=\"ROLL\",BQ61=\"LENGTH\"),BW61>0),ROUNDUP(BW61/CJ61/#REF!,0)*#REF!,IF(BQ61=\"METRE\",#REF!*ROUNDUP(((BW61*BM61)/1000)/#REF!,0),#REF!*ROUNDUP(BW61/#REF!,0))),\"\"),\"\")","v":""},"","",null,{"$f":"IFERROR(INDEX(INDIRECT(\"T_NAV_\"&i_Location&\"[\"&i_Location&\"]\"),MATCH(1,--(BD61=INDIRECT(\"T_NAV_\"&i_Location&\"[No.]\"))*--((INDIRECT(\"T_NAV_\"&i_Location&\"[\"&i_Location&\"]\"))<>\"\"),0)),\"\")","v":""},null,{"$f":"IFERROR(IF(ISBLANK(BU61),\"\",IF(OR(BQ61=\"ROLL\",BQ61=\"LENGTH\"),ROUNDDOWN((BH61*1000)/(BM61+CutTol),0),PRODUCT(#REF!,BU61))),\"\")","v":""}]
[null,2,{"$f":"C63","v":0},null,null,null,null,null,null,null,null,null,null,null,null,null,null,null,null,null,null,null,null,null,null,null,null,null,null,null,{"$f":"IFERROR(IF(AND(AA62=\"Y\",PRODUCT(AB62:AD62)=0),o_nScreens,IF(PRODUCT(AB62:AD62)=0,\"\",PRODUCT(AB62:AD62))),\"\")","v":""},null,null,null,null,null,null,null,null,null,null,null,null,null,"",null,null,"",{"$f":"IF(ISNUMBER(FIND(\"x\",BF62)),IFERROR(INDEX(INDIRECT(\"T_FinishColour[ColourCode-\"&IF(ISNUMBER(FIND(\"xxx\",BF62)),\"xxx\",IF(ISNUMBER(FIND(\"xx\",BF62)),\"xx\",\"error\"))&AR62&\"]\"),MATCH(AV62,T_FinishColour[Finish / Colour],0)),\"\"),\"\")","v":""},null,{"$f":"IF(AND(ISBLANK(BD62),ISBLANK(C62)),\"HIDE\",_xlfn.SWITCH(PRODUCT(C62:Z62,B62),2,\"HEADING\",1,\"SHOW\",0,\"HIDE\"))","v":"HIDE"},null,null,null,null,{"$f":"_xlfn.IFNA(SUBSTITUTE(IF(AR62=\"AU\",SUBSTITUTE(BF62,\"xxx\",AW62),SUBSTITUTE(SUBSTITUTE(BF62,\"xx\",AW62),\"x\",\"\")),\"LLL\",\"580\"),BF62)","v":""},null,null,null,null,{"$f":"IF(ISBLANK(BP62),\"\",IF(OR(BP62=L_Units),\"Y\",\"N\"))","v":""},null,{"$f":"IFERROR(IF(BI62=\"Y\",((INDEX(T_Deduc[Deduction],MATCH(BJ62,T_Deduc[Type],0),0))),\"\"),\"\")","v":""},null,"","","",null,{"$f":"IFERROR(IF(ISBLANK(BD62),\"\",INDEX(T_NAV_AU[Unit of Measure],MATCH(BD62,T_NAV_AU[No.],0))),\"\")","v":""},null,null,null,null,{"$f":"IF(ISBLANK(BU62),\"\",PRODUCT(AE62,BU62))","v":""},{"$f":"IF(ISBLANK(BU62),\"\",PRODUCT(AE62,BU62,i_systemQTY))","v":""},{"$f":"IFERROR(INDEX(INDIRECT(\"T_NAV_\"&i_Location&\"[\"&i_Location&\"]\"),MATCH(1,--(BD62=INDIRECT(\"T_NAV_\"&i_Location&\"[No.]\"))*--((INDIRECT(\"T_NAV_\"&i_Location&\"[\"&i_Location&\"]\"))<>\"\"),0))/IF(AND(BR62=\"METRE\",BH62<>\"\",BS62=\"\"),BH62,1),\"\")","v":""},"","","",null,null,{"$f":"IFERROR(IF(AY62=\"SHOW\",IF(AND(OR(BQ62=\"ROLL\",BQ62=\"LENGTH\"),BW62>0),ROUNDUP(BW62/CJ62/#REF!,0)*#REF!,IF(BQ62=\"METRE\",#REF!*ROUNDUP(((BW62*BM62)/1000)/#REF!,0),#REF!*ROUNDUP(BW62/#REF!,0))),\"\"),\"\")","v":""},"","",null,{"$f":"IFERROR(INDEX(INDIRECT(\"T_NAV_\"&i_Location&\"[\"&i_Location&\"]\"),MATCH(1,--(BD62=INDIRECT(\"T_NAV_\"&i_Location&\"[No.]\"))*--((INDIRECT(\"T_NAV_\"&i_Location&\"[\"&i_Location&\"]\"))<>\"\"),0)),\"\")","v":""},null,{"$f":"IFERROR(IF(ISBLANK(BU62),\"\",IF(OR(BQ62=\"ROLL\",BQ62=\"LENGTH\"),ROUNDDOWN((BH62*1000)/(BM62+CutTol),0),PRODUCT(#REF!,BU62))),\"\")","v":""}]
[null,2,{"$f":"IF(COUNTIF(AY64:AY71,\"SHOW\")>0,1,0)","v":0},"i_SystemType",null,"i_ZipscreenSideGuideFix",null,"i_ZipscreenSideGuideType",null,"i_wbLock",null,"i_BktFixType",null,null,null,"i_Location",null,null,null,null,null,null,null,null,null,null,null,null,null,null,{"$f":"IFERROR(IF(AND(AA63=\"Y\",PRODUCT(AB63:AD63)=0),o_nScreens,IF(PRODUCT(AB63:AD63)=0,\"\",PRODUCT(AB63:AD63))),\"\")","v":""},null,null,null,null,null,null,null,null,null,null,null,null,null,"",null,null,"",{"$f":"IF(ISNUMBER(FIND(\"x\",BF63)),IFERROR(INDEX(INDIRECT(\"T_FinishColour[ColourCode-\"&IF(ISNUMBER(FIND(\"xxx\",BF63)),\"xxx\",IF(ISNUMBER(FIND(\"xx\",BF63)),\"xx\",\"error\"))&AR63&\"]\"),MATCH(AV63,T_FinishColour[Finish / Colour],0)),\"\"),\"\")","v":""},null,{"$f":"IF(AND(ISBLANK(BD63),ISBLANK(C63)),\"HIDE\",_xlfn.SWITCH(PRODUCT(C63:Z63,B63),2,\"HEADING\",1,\"SHOW\",0,\"HIDE\"))","v":"HIDE"},null,null,null,null,{"$f":"_xlfn.IFNA(SUBSTITUTE(IF(AR63=\"AU\",SUBSTITUTE(BF63,\"xxx\",AW63),SUBSTITUTE(SUBSTITUTE(BF63,\"xx\",AW63),\"x\",\"\")),\"LLL\",\"580\"),BF63)","v":"ZIPSCREEN"},null,"ZIPSCREEN",null,null,null,null,{"$f":"IFERROR(IF(BI63=\"Y\",((INDEX(T_Deduc[Deduction],MATCH(BJ63,T_Deduc[Type],0),0))),\"\"),\"\")","v":""},null,"","","",null,{"$f":"IFERROR(IF(ISBLANK(BD63),\"\",INDEX(T_NAV_AU[Unit of Measure],MATCH(BD63,T_NAV_AU[No.],0))),\"\")","v":""},null,null,null,null,null,null,null,"","","",null,null,{"$f":"IFERROR(IF(AY63=\"SHOW\",IF(AND(OR(BQ63=\"ROLL\",BQ63=\"LENGTH\"),BW63>0),ROUNDUP(BW63/CJ63/#REF!,0)*#REF!,IF(BQ63=\"METRE\",#REF!*ROUNDUP(((BW63*BM63)/1000)/#REF!,0),#REF!*ROUNDUP(BW63/#REF!,0))),\"\"),\"\")","v":""},"","",null,{"$f":"IFERROR(INDEX(INDIRECT(\"T_NAV_\"&i_Location&\"[\"&i_Location&\"]\"),MATCH(1,--(BD63=INDIRECT(\"T_NAV_\"&i_Location&\"[No.]\"))*--((INDIRECT(\"T_NAV_\"&i_Location&\"[\"&i_Location&\"]\"))<>\"\"),0)),\"\")","v":""},null,{"$f":"IFERROR(IF(ISBLANK(BU63),\"\",IF(OR(BQ63=\"ROLL\",BQ63=\"LENGTH\"),ROUNDDOWN((BH63*1000)/(BM63+CutTol),0),PRODUCT(#REF!,BU63))),\"\")","v":""}]
[null,null,null,"Zipscreen",{"$f":"IFERROR(IF(ISBLANK(D64),\"\",IF(FIND(D64,INDIRECT($D$63))>0,1,0)),0)","v":0},null,{"$f":"IFERROR(IF(ISBLANK(F64),\"\",IF(FIND(F64,INDIRECT($F$63))>0,1,0)),0)","v":""},null,{"$f":"IFERROR(IF(ISBLANK(H64),\"\",IF(FIND(H64,INDIRECT($H$63))>0,1,0)),0)","v":""},null,{"$f":"IFERROR(IF(ISBLANK(J64),\"\",IF(FIND(J64,INDIRECT($J$63))>0,1,0)),0)","v":""},null,null,null,null,null,null,null,null,null,null,null,null,null,null,null,null,null,null,null,{"$f":"IFERROR(IF(AND(AA64=\"Y\",PRODUCT(AB64:AD64)=0),o_nScreens,IF(PRODUCT(AB64:AD64)=0,\"\",PRODUCT(AB64:AD64))),\"\")","v":""},null,null,null,"White","Mill",null,null,null,null,null,null,null,"AU","White",{"$f":"i_Finish","v":0},null,"White",{"$f":"IF(ISNUMBER(FIND(\"x\",BF64)),IFERROR(INDEX(INDIRECT(\"T_FinishColour[ColourCode-\"&IF(ISNUMBER(FIND(\"xxx\",BF64)),\"xxx\",IF(ISNUMBER(FIND(\"xx\",BF64)),\"xx\",\"error\"))&AR64&\"]\"),MATCH(AV64,T_FinishColour[Finish / Colour],0)),\"\"),\"\")","v":"069"},null,{"$f":"IF(AND(ISBLANK(BD64),ISBLANK(C64)),\"HIDE\",_xlfn.SWITCH(PRODUCT(C64:Z64,B64),2,\"HEADING\",1,\"SHOW\",0,\"HIDE\"))","v":"HIDE"},null,"LENGTH","GL",null,{"$f":"_xlfn.IFNA(SUBSTITUTE(IF(AR64=\"AU\",SUBSTITUTE(BF64,\"xxx\",AW64),SUBSTITUTE(SUBSTITUTE(BF64,\"xx\",AW64),\"x\",\"\")),\"LLL\",BH64*100),BF64)","v":"SB04-0701-069550"},null,"SB04-0701-xxxLLL","Zip Inner Rail",5.5,{"$f":"IF(ISBLANK(BP64),\"\",IF(OR(BP64=L_Units),\"Y\",\"N\"))","v":{"$error":"#N/A"}},"InnerRail",{"$f":"IFERROR(IF(BI64=\"Y\",((INDEX(T_Deduc[Deduction],MATCH(BJ64,T_Deduc[Type],0),0))),\"\"),\"\")","v":""},"o_dropmm","","","",{"$f":"INDEX(T_UnitSelection[Units],MATCH(i_Units,T_UnitSelection[UnitSelection],0))","v":{"$error":"#N/A"}},{"$f":"IFERROR(IF(ISBLANK(BD64),\"\",INDEX(T_NAV_AU[Unit of Measure],MATCH(BD64,T_NAV_AU[No.],0))),\"\")","v":"LENGTH"},"METRE",null,"HW",2,{"$f":"IF(ISBLANK(BU64),\"\",PRODUCT(AE64,BU64))","v":2},{"$f":"IF(ISBLANK(BU64),\"\",PRODUCT(AE64,BU64,i_systemQTY))","v":2},{"$f":"IFERROR(INDEX(INDIRECT(\"T_NAV_\"&i_Location&\"[\"&i_Location&\"]\"),MATCH(1,--(BD64=INDIRECT(\"T_NAV_\"&i_Location&\"[No.]\"))*--((INDIRECT(\"T_NAV_\"&i_Location&\"[\"&i_Location&\"]\"))<>\"\"),0))/IF(AND(BR64=\"METRE\",BH64<>\"\",BS64=\"\"),BH64,1),\"\")","v":""},"","","",null,null,{"$f":"IFERROR(IF(AY64=\"SHOW\",IF(AND(OR(BQ64=\"ROLL\",BQ64=\"LENGTH\"),BW64>0),ROUNDUP(BW64/CJ64/#REF!,0)*#REF!,IF(BQ64=\"METRE\",#REF!*ROUNDUP(((BW64*BM64)/1000)/#REF!,0),#REF!*ROUNDUP(BW64/#REF!,0))),\"\"),\"\")","v":""},"","",null,{"$f":"IFERROR(INDEX(INDIRECT(\"T_NAV_\"&i_Location&\"[\"&i_Location&\"]\"),MATCH(1,--(BD64=INDIRECT(\"T_NAV_\"&i_Location&\"[No.]\"))*--((INDIRECT(\"T_NAV_\"&i_Location&\"[\"&i_Location&\"]\"))<>\"\"),0)),\"\")","v":""},null,{"$f":"IFERROR(IF(ISBLANK(BU64),\"\",IF(OR(BQ64=\"ROLL\",BQ64=\"LENGTH\"),ROUNDDOWN((BH64*1000)/(BM64+CutTol),0),PRODUCT(#REF!,BU64))),\"\")","v":""}]
[null,null,null,"Zipscreen",0,null,"",{"$f":"IF(i_ZipscreenSideGuideFix=\"Side Guide - Face Fix (Wall / Outside Mount)\",\"L-Fixing Rail\",\"\")","v":""},1,null,"",null,null,null,null,null,null,null,null,null,null,null,null,null,null,null,null,null,null,null,{"$f":"IFERROR(IF(AND(AA65=\"Y\",PRODUCT(AB65:AD65)=0),o_nScreens,IF(PRODUCT(AB65:AD65)=0,\"\",PRODUCT(AB65:AD65))),\"\")","v":""},null,null,null,"White","Mill",null,null,null,null,null,null,null,"AU","White",0,null,"White",{"$f":"IF(ISNUMBER(FIND(\"x\",BF65)),IFERROR(INDEX(INDIRECT(\"T_FinishColour[ColourCode-\"&IF(ISNUMBER(FIND(\"xxx\",BF65)),\"xxx\",IF(ISNUMBER(FIND(\"xx\",BF65)),\"xx\",\"error\"))&AR65&\"]\"),MATCH(AV65,T_FinishColour[Finish / Colour],0)),\"\"),\"\")","v":"069"},null,{"$f":"IF(AND(ISBLANK(BD65),ISBLANK(C65)),\"HIDE\",_xlfn.SWITCH(PRODUCT(C65:Z65,B65),2,\"HEADING\",1,\"SHOW\",0,\"HIDE\"))","v":"HIDE"},null,"PICK","GL",null,{"$f":"_xlfn.IFNA(SUBSTITUTE(IF(AR65=\"AU\",SUBSTITUTE(BF65,\"xxx\",AW65),SUBSTITUTE(SUBSTITUTE(BF65,\"xx\",AW65),\"x\",\"\")),\"LLL\",\"550\"),BF65)","v":"SB04-0702-069550"},null,{"$f":"\"SB04-0702-xxxLLL\"&IF(i_Finish=\"Powdercoat\",\"-PF\",\"\")","v":"SB04-0702-xxxLLL"},"U-Mounting Rail",5.5,{"$f":"IF(ISBLANK(BP65),\"\",IF(OR(BP65=L_Units),\"Y\",\"N\"))","v":{"$error":"#N/A"}},"FixingRail",{"$f":"IFERROR(IF(BI65=\"Y\",((INDEX(T_Deduc[Deduction],MATCH(BJ65,T_Deduc[Type],0),0))),\"\"),\"\")","v":""},"o_dropmm","","","",{"$f":"INDEX(T_UnitSelection[Units],MATCH(i_Units,T_UnitSelection[UnitSelection],0))","v":{"$error":"#N/A"}},{"$f":"IFERROR(IF(ISBLANK(BD65),\"\",INDEX(T_NAV_AU[Unit of Measure],MATCH(BD65,T_NAV_AU[No.],0))),\"\")","v":""},"METRE",null,"HW",2,2,2,{"$f":"IFERROR(INDEX(INDIRECT(\"T_NAV_\"&i_Location&\"[\"&i_Location&\"]\"),MATCH(1,--(BD65=INDIRECT(\"T_NAV_\"&i_Location&\"[No.]\"))*--((INDIRECT(\"T_NAV_\"&i_Location&\"[\"&i_Location&\"]\"))<>\"\"),0))/IF(AND(BR65=\"METRE\",BH65<>\"\",BS65=\"\"),BH65,1),\"\")","v":""},"","","",null,null,{"$f":"IFERROR(IF(AY65=\"SHOW\",IF(AND(OR(BQ65=\"ROLL\",BQ65=\"LENGTH\"),BW65>0),ROUNDUP(BW65/CJ65/#REF!,0)*#REF!,IF(BQ65=\"METRE\",#REF!*ROUNDUP(((BW65*BM65)/1000)/#REF!,0),#REF!*ROUNDUP(BW65/#REF!,0))),\"\"),\"\")","v":""},"","",null,{"$f":"IFERROR(INDEX(INDIRECT(\"T_NAV_\"&i_Location&\"[\"&i_Location&\"]\"),MATCH(1,--(BD65=INDIRECT(\"T_NAV_\"&i_Location&\"[No.]\"))*--((INDIRECT(\"T_NAV_\"&i_Location&\"[\"&i_Location&\"]\"))<>\"\"),0)),\"\")","v":""},null,{"$f":"IFERROR(IF(ISBLANK(BU65),\"\",IF(OR(BQ65=\"ROLL\",BQ65=\"LENGTH\"),ROUNDDOWN((BH65*1000)/(BM65+CutTol),0),PRODUCT(#REF!,BU65))),\"\")","v":""}]
[null,null,null,"Zipscreen",0,null,"","L-Fixing Rail (Standard)",0,null,"",null,null,null,null,null,{"$f":"IFERROR(IF(ISBLANK(P66),\"\",IF(FIND(P66,INDIRECT($P$63))>0,1,0)),0)","v":""},null,null,null,null,null,null,null,null,null,null,null,null,null,{"$f":"IFERROR(IF(AND(AA66=\"Y\",PRODUCT(AB66:AD66)=0),o_nScreens,IF(PRODUCT(AB66:AD66)=0,\"\",PRODUCT(AB66:AD66))),\"\")","v":""},null,null,null,"White","Mill",null,null,null,null,null,null,null,"AU","White",0,null,"White",{"$f":"IF(ISNUMBER(FIND(\"x\",BF66)),IFERROR(INDEX(INDIRECT(\"T_FinishColour[ColourCode-\"&IF(ISNUMBER(FIND(\"xxx\",BF66)),\"xxx\",IF(ISNUMBER(FIND(\"xx\",BF66)),\"xx\",\"error\"))&AR66&\"]\"),MATCH(AV66,T_FinishColour[Finish / Colour],0)),\"\"),\"\")","v":"069"},null,{"$f":"IF(AND(ISBLANK(BD66),ISBLANK(C66)),\"HIDE\",_xlfn.SWITCH(PRODUCT(C66:Z66,B66),2,\"HEADING\",1,\"SHOW\",0,\"HIDE\"))","v":"HIDE"},null,"LENGTH","GL",null,{"$f":"_xlfn.IFNA(SUBSTITUTE(IF(AR66=\"AU\",SUBSTITUTE(BF66,\"xxx\",AW66),SUBSTITUTE(SUBSTITUTE(BF66,\"xx\",AW66),\"x\",\"\")),\"LLL\",\"550\"),BF66)","v":"SB04-0703-069550"},null,"SB04-0703-xxxLLL","L Fixing Rail for Box 120",5.5,{"$f":"IF(ISBLANK(BP66),\"\",IF(OR(BP66=L_Units),\"Y\",\"N\"))","v":{"$error":"#N/A"}},"FixingRail",{"$f":"IFERROR(IF(BI66=\"Y\",((INDEX(T_Deduc[Deduction],MATCH(BJ66,T_Deduc[Type],0),0))),\"\"),\"\")","v":""},"o_dropmm","","","",{"$f":"INDEX(T_UnitSelection[Units],MATCH(i_Units,T_UnitSelection[UnitSelection],0))","v":{"$error":"#N/A"}},{"$f":"IFERROR(IF(ISBLANK(BD66),\"\",INDEX(T_NAV_AU[Unit of Measure],MATCH(BD66,T_NAV_AU[No.],0))),\"\")","v":"LENGTH"},"METRE",null,"HW",2,2,2,{"$f":"IFERROR(INDEX(INDIRECT(\"T_NAV_\"&i_Location&\"[\"&i_Location&\"]\"),MATCH(1,--(BD66=INDIRECT(\"T_NAV_\"&i_Location&\"[No.]\"))*--((INDIRECT(\"T_NAV_\"&i_Location&\"[\"&i_Location&\"]\"))<>\"\"),0))/IF(AND(BR66=\"METRE\",BH66<>\"\",BS66=\"\"),BH66,1),\"\")","v":""},"","","",null,null,{"$f":"IFERROR(IF(AY66=\"SHOW\",IF(AND(OR(BQ66=\"ROLL\",BQ66=\"LENGTH\"),BW66>0),ROUNDUP(BW66/CJ66/#REF!,0)*#REF!,IF(BQ66=\"METRE\",#REF!*ROUNDUP(((BW66*BM66)/1000)/#REF!,0),#REF!*ROUNDUP(BW66/#REF!,0))),\"\"),\"\")","v":""},"","",null,{"$f":"IFERROR(INDEX(INDIRECT(\"T_NAV_\"&i_Location&\"[\"&i_Location&\"]\"),MATCH(1,--(BD66=INDIRECT(\"T_NAV_\"&i_Location&\"[No.]\"))*--((INDIRECT(\"T_NAV_\"&i_Location&\"[\"&i_Location&\"]\"))<>\"\"),0)),\"\")","v":""},null,{"$f":"IFERROR(IF(ISBLANK(BU66),\"\",IF(OR(BQ66=\"ROLL\",BQ66=\"LENGTH\"),ROUNDDOWN((BH66*1000)/(BM66+CutTol),0),PRODUCT(#REF!,BU66))),\"\")","v":""}]
[null,null,null,"Zipscreen",0,null,"","Face Fix U-Rail",0,null,"",null,null,null,null,null,{"$f":"IFERROR(IF(ISBLANK(P67),\"\",IF(FIND(P67,INDIRECT($P$63))>0,1,0)),0)","v":""},null,null,null,null,null,null,null,null,null,null,null,null,null,{"$f":"IFERROR(IF(AND(AA67=\"Y\",PRODUCT(AB67:AD67)=0),o_nScreens,IF(PRODUCT(AB67:AD67)=0,\"\",PRODUCT(AB67:AD67))),\"\")","v":""},null,null,null,"White","Mill",null,null,null,null,null,null,null,"AU","Mill",{"$f":"IF(i_Location=\"AU\",i_Finish,\"Mill\")","v":"Mill"},null,"Mill",{"$f":"IF(ISNUMBER(FIND(\"x\",BF67)),IFERROR(INDEX(INDIRECT(\"T_FinishColour[ColourCode-\"&IF(ISNUMBER(FIND(\"xxx\",BF67)),\"xxx\",IF(ISNUMBER(FIND(\"xx\",BF67)),\"xx\",\"error\"))&AR67&\"]\"),MATCH(AV67,T_FinishColour[Finish / Colour],0)),\"\"),\"\")","v":"000"},null,{"$f":"IF(AND(ISBLANK(BD67),ISBLANK(C67)),\"HIDE\",_xlfn.SWITCH(PRODUCT(C67:Z67,B67),2,\"HEADING\",1,\"SHOW\",0,\"HIDE\"))","v":"HIDE"},null,"LENGTH","GL",null,{"$f":"_xlfn.IFNA(SUBSTITUTE(IF(AR67=\"AU\",SUBSTITUTE(BF67,\"xxx\",AW67),SUBSTITUTE(SUBSTITUTE(BF67,\"xx\",AW67),\"x\",\"\")),\"LLL\",\"550\"),BF67)","v":"SB04-0705-000550"},null,"SB04-0705-xxxLLL","Face Fix U-Mounting Rail",5.5,{"$f":"IF(ISBLANK(BP67),\"\",IF(OR(BP67=L_Units),\"Y\",\"N\"))","v":{"$error":"#N/A"}},"FixingRail",{"$f":"IFERROR(IF(BI67=\"Y\",((INDEX(T_Deduc[Deduction],MATCH(BJ67,T_Deduc[Type],0),0))),\"\"),\"\")","v":""},"o_dropmm","","","",{"$f":"INDEX(T_UnitSelection[Units],MATCH(i_Units,T_UnitSelection[UnitSelection],0))","v":{"$error":"#N/A"}},{"$f":"IFERROR(IF(ISBLANK(BD67),\"\",INDEX(T_NAV_AU[Unit of Measure],MATCH(BD67,T_NAV_AU[No.],0))),\"\")","v":"LENGTH"},"METRE",null,"HW",2,2,2,{"$f":"IFERROR(INDEX(INDIRECT(\"T_NAV_\"&i_Location&\"[\"&i_Location&\"]\"),MATCH(1,--(BD67=INDIRECT(\"T_NAV_\"&i_Location&\"[No.]\"))*--((INDIRECT(\"T_NAV_\"&i_Location&\"[\"&i_Location&\"]\"))<>\"\"),0))/IF(AND(BR67=\"METRE\",BH67<>\"\",BS67=\"\"),BH67,1),\"\")","v":""},"","","",null,null,{"$f":"IFERROR(IF(AY67=\"SHOW\",IF(AND(OR(BQ67=\"ROLL\",BQ67=\"LENGTH\"),BW67>0),ROUNDUP(BW67/CJ67/#REF!,0)*#REF!,IF(BQ67=\"METRE\",#REF!*ROUNDUP(((BW67*BM67)/1000)/#REF!,0),#REF!*ROUNDUP(BW67/#REF!,0))),\"\"),\"\")","v":""},"","",null,{"$f":"IFERROR(INDEX(INDIRECT(\"T_NAV_\"&i_Location&\"[\"&i_Location&\"]\"),MATCH(1,--(BD67=INDIRECT(\"T_NAV_\"&i_Location&\"[No.]\"))*--((INDIRECT(\"T_NAV_\"&i_Location&\"[\"&i_Location&\"]\"))<>\"\"),0)),\"\")","v":""},null,{"$f":"IFERROR(IF(ISBLANK(BU67),\"\",IF(OR(BQ67=\"ROLL\",BQ67=\"LENGTH\"),ROUNDDOWN((BH67*1000)/(BM67+CutTol),0),PRODUCT(AE59,BU67))),\"\")","v":""}]
[null,null,null,"Zipscreen",{"$f":"IFERROR(IF(ISBLANK(D68),\"\",IF(FIND(D68,INDIRECT($D$63))>0,1,0)),0)","v":0},null,{"$f":"IFERROR(IF(ISBLANK(F68),\"\",IF(FIND(F68,INDIRECT($F$63))>0,1,0)),0)","v":""},null,{"$f":"IFERROR(IF(ISBLANK(H68),\"\",IF(FIND(H68,INDIRECT($H$63))>0,1,0)),0)","v":""},null,{"$f":"IFERROR(IF(ISBLANK(J68),\"\",IF(FIND(J68,INDIRECT($J$63))>0,1,0)),0)","v":""},null,null,null,null,null,{"$f":"IFERROR(IF(ISBLANK(P68),\"\",IF(FIND(P68,INDIRECT($P$63))>0,1,0)),0)","v":""},null,null,null,null,null,null,null,null,null,null,null,null,null,{"$f":"IFERROR(IF(AND(AA68=\"Y\",PRODUCT(AB68:AD68)=0),o_nScreens,IF(PRODUCT(AB68:AD68)=0,\"\",PRODUCT(AB68:AD68))),\"\")","v":""},null,null,null,null,null,null,null,null,null,null,null,null,"AU","",0,null,"",{"$f":"IF(ISNUMBER(FIND(\"x\",BF68)),IFERROR(INDEX(INDIRECT(\"T_FinishColour[ColourCode-\"&IF(ISNUMBER(FIND(\"xxx\",BF68)),\"xxx\",IF(ISNUMBER(FIND(\"xx\",BF68)),\"xx\",\"error\"))&AR68&\"]\"),MATCH(AV68,T_FinishColour[Finish / Colour],0)),\"\"),\"\")","v":""},null,{"$f":"IF(AND(ISBLANK(BD68),ISBLANK(C68)),\"HIDE\",_xlfn.SWITCH(PRODUCT(C68:Z68,B68),2,\"HEADING\",1,\"SHOW\",0,\"HIDE\"))","v":"HIDE"},null,"PICK","GL",null,{"$f":"_xlfn.IFNA(SUBSTITUTE(IF(AR68=\"AU\",SUBSTITUTE(BF68,\"xxx\",AW68),SUBSTITUTE(SUBSTITUTE(BF68,\"xx\",AW68),\"x\",\"\")),\"LLL\",\"580\"),BF68)","v":"SB05-1412-050001"},null,"SB05-1412-050001","Funnel w/ Integrated Top Stop + Screw\t",null,{"$f":"IF(ISBLANK(BP68),\"\",IF(OR(BP68=L_Units),\"Y\",\"N\"))","v":"N"},null,{"$f":"IFERROR(IF(BI68=\"Y\",((INDEX(T_Deduc[Deduction],MATCH(BJ68,T_Deduc[Type],0),0))),\"\"),\"\")","v":""},null,{"$f":"IFERROR(IF(BI68=\"Y\",INDIRECT(BL68)-BK68,\"\"),\"\")","v":""},{"$f":"IFERROR(IF(BI68=\"Y\",BM68,\"\"),\"\")","v":""},{"$f":"IFERROR(IF(BI68=\"Y\",TEXT(BM68/25.4,\"0\"&IF(ABS(BM68/25.4-ROUND(BM68/25.4,0))>1/32,\"-0/\"&CHOOSE(ROUND(MOD(BM68/25.4,1)*16,0),16,8,16,4,16,8,16,2,16,8,16,4,16,8,16),\"\")),\"\"),\"\")","v":""},"Set",{"$f":"IFERROR(IF(ISBLANK(BD68),\"\",INDEX(T_NAV_AU[Unit of Measure],MATCH(BD68,T_NAV_AU[No.],0))),\"\")","v":"SET"},null,null,"HW",2,2,2,{"$f":"IFERROR(INDEX(INDIRECT(\"T_NAV_\"&i_Location&\"[\"&i_Location&\"]\"),MATCH(1,--(BD68=INDIRECT(\"T_NAV_\"&i_Location&\"[No.]\"))*--((INDIRECT(\"T_NAV_\"&i_Location&\"[\"&i_Location&\"]\"))<>\"\"),0))/IF(AND(BR68=\"METRE\",BH68<>\"\",BS68=\"\"),BH68,1),\"\")","v":""},"",{"$f":"IF(BY68<>\"\",(INDIRECT(\"i_\"&BT68&\"discount\"))*BY68,\"\")","v":""},{"$f":"IFERROR(IF(BY68<>\"\",BY68-BZ68,\"\"),\"\")","v":""},null,null,{"$f":"IFERROR(IF(AY68=\"SHOW\",IF(AND(OR(BQ68=\"ROLL\",BQ68=\"LENGTH\"),BW68>0),ROUNDUP(BW68/CJ68/#REF!,0)*#REF!,IF(BQ68=\"METRE\",#REF!*ROUNDUP(((BW68*BM68)/1000)/#REF!,0),#REF!*ROUNDUP(BW68/#REF!,0))),\"\"),\"\")","v":""},{"$f":"IF(CD68<>\"\",CD68&\"x \"&BQ68&IF(CD68>1,\"S\",\"\"),\"\")","v":""},"",null,{"$f":"IFERROR(INDEX(INDIRECT(\"T_NAV_\"&i_Location&\"[\"&i_Location&\"]\"),MATCH(1,--(BD68=INDIRECT(\"T_NAV_\"&i_Location&\"[No.]\"))*--((INDIRECT(\"T_NAV_\"&i_Location&\"[\"&i_Location&\"]\"))<>\"\"),0)),\"\")","v":""},null,{"$f":"IFERROR(IF(ISBLANK(BU68),\"\",IF(OR(BQ68=\"ROLL\",BQ68=\"LENGTH\"),ROUNDDOWN((BH68*1000)/(BM68+CutTol),0),PRODUCT(#REF!,BU68))),\"\")","v":""}]
[null,null,null,"Zipscreen",0,null,"",null,"",{"$f":"IF(i_wbLock<>\"\",IF(i_wbLock=\"Ultra-Lock Zipscreen\",\"xxx\",i_wbLock),\"\")","v":""},1,null,null,null,null,null,null,null,null,null,null,null,null,null,null,null,null,null,null,null,{"$f":"IFERROR(IF(AND(AA69=\"Y\",PRODUCT(AB69:AD69)=0),o_nScreens,IF(PRODUCT(AB69:AD69)=0,\"\",PRODUCT(AB69:AD69))),\"\")","v":""},null,null,null,null,null,null,null,null,null,null,null,null,"AU","",0,null,"",{"$f":"IF(ISNUMBER(FIND(\"x\",BF69)),IFERROR(INDEX(INDIRECT(\"T_FinishColour[ColourCode-\"&IF(ISNUMBER(FIND(\"xxx\",BF69)),\"xxx\",IF(ISNUMBER(FIND(\"xx\",BF69)),\"xx\",\"error\"))&AR69&\"]\"),MATCH(AV69,T_FinishColour[Finish / Colour],0)),\"\"),\"\")","v":""},null,{"$f":"IF(AND(ISBLANK(BD69),ISBLANK(C69)),\"HIDE\",_xlfn.SWITCH(PRODUCT(C69:Z69,B69),2,\"HEADING\",1,\"SHOW\",0,\"HIDE\"))","v":"HIDE"},null,"PICK","GL",null,{"$f":"_xlfn.IFNA(SUBSTITUTE(IF(AR69=\"AU\",SUBSTITUTE(BF69,\"xxx\",AW69),SUBSTITUTE(SUBSTITUTE(BF69,\"xx\",AW69),\"x\",\"\")),\"LLL\",\"580\"),BF69)","v":"SB05-1511-050001"},null,"SB05-1511-050001","Inner Rail Bottom Cap Set",null,{"$f":"IF(ISBLANK(BP69),\"\",IF(OR(BP69=L_Units),\"Y\",\"N\"))","v":"N"},null,{"$f":"IFERROR(IF(BI69=\"Y\",((INDEX(T_Deduc[Deduction],MATCH(BJ69,T_Deduc[Type],0),0))),\"\"),\"\")","v":""},null,{"$f":"IFERROR(IF(BI69=\"Y\",INDIRECT(BL69)-BK69,\"\"),\"\")","v":""},"","","Set",{"$f":"IFERROR(IF(ISBLANK(BD69),\"\",INDEX(T_NAV_AU[Unit of Measure],MATCH(BD69,T_NAV_AU[No.],0))),\"\")","v":"SET"},null,null,"HW",2,2,2,{"$f":"IFERROR(INDEX(INDIRECT(\"T_NAV_\"&i_Location&\"[\"&i_Location&\"]\"),MATCH(1,--(BD69=INDIRECT(\"T_NAV_\"&i_Location&\"[No.]\"))*--((INDIRECT(\"T_NAV_\"&i_Location&\"[\"&i_Location&\"]\"))<>\"\"),0))/IF(AND(BR69=\"METRE\",BH69<>\"\",BS69=\"\"),BH69,1),\"\")","v":""},"",{"$f":"IF(BY69<>\"\",(INDIRECT(\"i_\"&BT69&\"discount\"))*BY69,\"\")","v":""},{"$f":"IFERROR(IF(BY69<>\"\",BY69-BZ69,\"\"),\"\")","v":""},null,null,{"$f":"IFERROR(IF(AY69=\"SHOW\",IF(AND(OR(BQ69=\"ROLL\",BQ69=\"LENGTH\"),BW69>0),ROUNDUP(BW69/CJ69/#REF!,0)*#REF!,IF(BQ69=\"METRE\",#REF!*ROUNDUP(((BW69*BM69)/1000)/#REF!,0),#REF!*ROUNDUP(BW69/#REF!,0))),\"\"),\"\")","v":""},{"$f":"IF(CD69<>\"\",CD69&\"x \"&BQ69&IF(CD69>1,\"S\",\"\"),\"\")","v":""},"",null,{"$f":"IFERROR(INDEX(INDIRECT(\"T_NAV_\"&i_Location&\"[\"&i_Location&\"]\"),MATCH(1,--(BD69=INDIRECT(\"T_NAV_\"&i_Location&\"[No.]\"))*--((INDIRECT(\"T_NAV_\"&i_Location&\"[\"&i_Location&\"]\"))<>\"\"),0)),\"\")","v":""},null,{"$f":"IFERROR(IF(ISBLANK(BU69),\"\",IF(OR(BQ69=\"ROLL\",BQ69=\"LENGTH\"),ROUNDDOWN((BH69*1000)/(BM69+CutTol),0),PRODUCT(#REF!,BU69))),\"\")","v":""}]
[null,null,null,"Zipscreen",{"$f":"IFERROR(IF(ISBLANK(D70),\"\",IF(FIND(D70,INDIRECT($D$63))>0,1,0)),0)","v":0},null,{"$f":"IFERROR(IF(ISBLANK(F70),\"\",IF(FIND(F70,INDIRECT($F$63))>0,1,0)),0)","v":""},null,{"$f":"IFERROR(IF(ISBLANK(H70),\"\",IF(FIND(H70,INDIRECT($H$63))>0,1,0)),0)","v":""},null,{"$f":"IFERROR(IF(ISBLANK(J70),\"\",IF(FIND(J70,INDIRECT($J$63))>0,1,0)),0)","v":""},null,null,null,null,null,{"$f":"IFERROR(IF(ISBLANK(P70),\"\",IF(FIND(P70,INDIRECT($P$63))>0,1,0)),0)","v":""},null,null,null,null,null,null,null,null,null,null,{"$f":"(ROUNDUP(metric_drop/500,0)+1)","v":1},null,null,{"$f":"IFERROR(IF(AND(AA70=\"Y\",PRODUCT(AB70:AD70)=0),o_nScreens,IF(PRODUCT(AB70:AD70)=0,\"\",PRODUCT(AB70:AD70))),\"\")","v":1},"500 MAX",null,null,"Black",null,null,null,null,null,null,null,null,"AU","Black",null,null,"Black",{"$f":"IF(ISNUMBER(FIND(\"x\",BF70)),IFERROR(INDEX(INDIRECT(\"T_FinishColour[ColourCode-\"&IF(ISNUMBER(FIND(\"xxx\",BF70)),\"xxx\",IF(ISNUMBER(FIND(\"xx\",BF70)),\"xx\",\"error\"))&AR70&\"]\"),MATCH(AV70,T_FinishColour[Finish / Colour],0)),\"\"),\"\")","v":"050"},null,{"$f":"IF(AND(ISBLANK(BD70),ISBLANK(C70)),\"HIDE\",_xlfn.SWITCH(PRODUCT(C70:Z70,B70),2,\"HEADING\",1,\"SHOW\",0,\"HIDE\"))","v":"HIDE"},null,"PICK","GL",null,{"$f":"_xlfn.IFNA(SUBSTITUTE(IF(AR70=\"AU\",SUBSTITUTE(BF70,\"xxx\",AW70),SUBSTITUTE(SUBSTITUTE(BF70,\"xx\",AW70),\"x\",\"\")),\"LLL\",\"580\"),BF70)","v":"HD82-1923-050013"},null,"HD82-1923-xxx013","Self-Drilling 8Gx1/2\" Pan, C4 Galv, Painted",null,{"$f":"IF(ISBLANK(BP70),\"\",IF(OR(BP70=L_Units),\"Y\",\"N\"))","v":"N"},null,{"$f":"IFERROR(IF(BI70=\"Y\",((INDEX(T_Deduc[Deduction],MATCH(BJ70,T_Deduc[Type],0),0))),\"\"),\"\")","v":""},null,{"$f":"IFERROR(IF(BI70=\"Y\",INDIRECT(BL70)-BK70,\"\"),\"\")","v":""},{"$f":"IFERROR(IF(BI70=\"Y\",BM70,\"\"),\"\")","v":""},{"$f":"IFERROR(IF(BI70=\"Y\",TEXT(BM70/25.4,\"0\"&IF(ABS(BM70/25.4-ROUND(BM70/25.4,0))>1/32,\"-0/\"&CHOOSE(ROUND(MOD(BM70/25.4,1)*16,0),16,8,16,4,16,8,16,2,16,8,16,4,16,8,16),\"\")),\"\"),\"\")","v":""},"Piece",{"$f":"IFERROR(IF(ISBLANK(BD70),\"\",INDEX(T_NAV_AU[Unit of Measure],MATCH(BD70,T_NAV_AU[No.],0))),\"\")","v":"PIECE"},null,null,"HW",2,2,2,{"$f":"IFERROR(INDEX(INDIRECT(\"T_NAV_\"&i_Location&\"[\"&i_Location&\"]\"),MATCH(1,--(BD70=INDIRECT(\"T_NAV_\"&i_Location&\"[No.]\"))*--((INDIRECT(\"T_NAV_\"&i_Location&\"[\"&i_Location&\"]\"))<>\"\"),0))/IF(AND(BR70=\"METRE\",BH70<>\"\",BS70=\"\"),BH70,1),\"\")","v":""},"",{"$f":"IF(BY70<>\"\",(INDIRECT(\"i_\"&BT70&\"discount\"))*BY70,\"\")","v":""},{"$f":"IFERROR(IF(BY70<>\"\",BY70-BZ70,\"\"),\"\")","v":""},null,null,{"$f":"IFERROR(IF(AY70=\"SHOW\",IF(AND(OR(BQ70=\"ROLL\",BQ70=\"LENGTH\"),BW70>0),ROUNDUP(BW70/CJ70/#REF!,0)*#REF!,IF(BQ70=\"METRE\",#REF!*ROUNDUP(((BW70*BM70)/1000)/#REF!,0),#REF!*ROUNDUP(BW70/#REF!,0))),\"\"),\"\")","v":""},{"$f":"IF(CD70<>\"\",CD70&\"x \"&BQ70&IF(CD70>1,\"S\",\"\"),\"\")","v":""},"",null,{"$f":"IFERROR(INDEX(INDIRECT(\"T_NAV_\"&i_Location&\"[\"&i_Location&\"]\"),MATCH(1,--(BD70=INDIRECT(\"T_NAV_\"&i_Location&\"[No.]\"))*--((INDIRECT(\"T_NAV_\"&i_Location&\"[\"&i_Location&\"]\"))<>\"\"),0)),\"\")","v":""},null,{"$f":"IFERROR(IF(ISBLANK(BU70),\"\",IF(OR(BQ70=\"ROLL\",BQ70=\"LENGTH\"),ROUNDDOWN((BH70*1000)/(BM70+CutTol),0),PRODUCT(AE61,BU70))),\"\")","v":2}]
[null,null,"",null,"","Face Fix",0,"L-Fixing Rail (Offset)",0,null,"",null,{"$f":"IFERROR(IF(ISBLANK(L71),\"\",IF(FIND(L71,INDIRECT($L$63))>0,1,0)),0)","v":""},null,null,null,null,null,null,null,null,null,null,null,null,null,null,null,null,null,null,null,null,null,"White","Black","Mill",null,null,null,null,null,null,"AU","White",0,null,"White",{"$f":"IF(ISNUMBER(FIND(\"x\",BF71)),IFERROR(INDEX(INDIRECT(\"T_FinishColour[ColourCode-\"&IF(ISNUMBER(FIND(\"xxx\",BF71)),\"xxx\",IF(ISNUMBER(FIND(\"xx\",BF71)),\"xx\",\"error\"))&AR71&\"]\"),MATCH(AV71,T_FinishColour[Finish / Colour],0)),\"\"),\"\")","v":"069"},null,{"$f":"IF(AND(ISBLANK(BD71),ISBLANK(C71)),\"HIDE\",_xlfn.SWITCH(PRODUCT(C71:Z71,B71),2,\"HEADING\",1,\"SHOW\",0,\"HIDE\"))","v":"HIDE"},null,"PICK","GL",null,{"$f":"_xlfn.IFNA(SUBSTITUTE(IF(AR71=\"AU\",SUBSTITUTE(BF71,\"xxx\",AW71),SUBSTITUTE(SUBSTITUTE(BF71,\"xx\",AW71),\"x\",\"\")),\"LLL\",\"550\"),BF71)","v":"SB04-0708-069550"},null,{"$f":"\"SB04-0708-xxxLLL\"&IF(i_Finish=\"Powdercoat\",\"-PF\",\"\")","v":"SB04-0708-xxxLLL"},"L Fixing Rail for Box 190",5.5,"Y","FixingRailExtreme",{"$f":"IFERROR(IF(BI71=\"Y\",((INDEX(T_Deduc[Deduction],MATCH(BJ71,T_Deduc[Type],0),0))),\"\"),\"\")","v":0},"o_dropmm",0,{"$f":"IFERROR(IF(BI71=\"Y\",BM71,\"\"),\"\")","v":0},{"$f":"IFERROR(IF(BI71=\"Y\",TEXT(BM71/25.4,\"0\"&IF(ABS(BM71/25.4-ROUND(BM71/25.4,0))>1/32,\"-0/\"&CHOOSE(ROUND(MOD(BM71/25.4,1)*16,0),16,8,16,4,16,8,16,2,16,8,16,4,16,8,16),\"\")),\"\"),\"\")","v":"0"},{"$f":"INDEX(T_UnitSelection[Units],MATCH(i_Units,T_UnitSelection[UnitSelection],0))","v":{"$error":"#N/A"}},{"$f":"IFERROR(IF(ISBLANK(BD71),\"\",INDEX(T_NAV_AU[Unit of Measure],MATCH(BD71,T_NAV_AU[No.],0))),\"\")","v":""},"METRE",null,"HW",2,2,2,{"$f":"IFERROR(INDEX(INDIRECT(\"T_NAV_\"&i_Location&\"[\"&i_Location&\"]\"),MATCH(1,--(BD71=INDIRECT(\"T_NAV_\"&i_Location&\"[No.]\"))*--((INDIRECT(\"T_NAV_\"&i_Location&\"[\"&i_Location&\"]\"))<>\"\"),0))/IF(AND(BR71=\"METRE\",BH71<>\"\",BS71=\"\"),BH71,1),\"\")","v":""},"","","",null,null,{"$f":"IFERROR(IF(AY71=\"SHOW\",IF(AND(OR(BQ71=\"ROLL\",BQ71=\"LENGTH\"),BW71>0),ROUNDUP(BW71/CJ71/#REF!,0)*#REF!,IF(BQ71=\"METRE\",#REF!*ROUNDUP(((BW71*BM71)/1000)/#REF!,0),#REF!*ROUNDUP(BW71/#REF!,0))),\"\"),\"\")","v":""},"","",null,{"$f":"IFERROR(INDEX(INDIRECT(\"T_NAV_\"&i_Location&\"[\"&i_Location&\"]\"),MATCH(1,--(BD71=INDIRECT(\"T_NAV_\"&i_Location&\"[No.]\"))*--((INDIRECT(\"T_NAV_\"&i_Location&\"[\"&i_Location&\"]\"))<>\"\"),0)),\"\")","v":""},null,{"$f":"IFERROR(IF(ISBLANK(BU71),\"\",IF(OR(BQ71=\"ROLL\",BQ71=\"LENGTH\"),ROUNDDOWN((BH71*1000)/(BM71+CutTol),0),PRODUCT(#REF!,BU71))),\"\")","v":""}]
[null,2,{"$f":"C73","v":0},null,null,null,null,null,null,null,null,null,null,null,null,null,null,null,null,null,null,null,null,null,null,null,null,null,null,null,{"$f":"IFERROR(IF(AND(AA72=\"Y\",PRODUCT(AB72:AD72)=0),o_nScreens,IF(PRODUCT(AB72:AD72)=0,\"\",PRODUCT(AB72:AD72))),\"\")","v":""},null,null,null,null,null,null,null,null,null,null,null,null,null,"",null,null,"",{"$f":"IF(ISNUMBER(FIND(\"x\",BF72)),IFERROR(INDEX(INDIRECT(\"T_FinishColour[ColourCode-\"&IF(ISNUMBER(FIND(\"xxx\",BF72)),\"xxx\",IF(ISNUMBER(FIND(\"xx\",BF72)),\"xx\",\"error\"))&AR72&\"]\"),MATCH(AV72,T_FinishColour[Finish / Colour],0)),\"\"),\"\")","v":""},null,{"$f":"IF(AND(ISBLANK(BD72),ISBLANK(C72)),\"HIDE\",_xlfn.SWITCH(PRODUCT(C72:Z72,B72),2,\"HEADING\",1,\"SHOW\",0,\"HIDE\"))","v":"HIDE"},null,null,null,null,{"$f":"_xlfn.IFNA(SUBSTITUTE(IF(AR72=\"AU\",SUBSTITUTE(BF72,\"xxx\",AW72),SUBSTITUTE(SUBSTITUTE(BF72,\"xx\",AW72),\"x\",\"\")),\"LLL\",\"580\"),BF72)","v":""},null,null,null,null,{"$f":"IF(ISBLANK(BP72),\"\",IF(OR(BP72=L_Units),\"Y\",\"N\"))","v":""},null,{"$f":"IFERROR(IF(BI72=\"Y\",((INDEX(T_Deduc[Deduction],MATCH(BJ72,T_Deduc[Type],0),0))),\"\"),\"\")","v":""},null,"","","",null,{"$f":"IFERROR(IF(ISBLANK(BD72),\"\",INDEX(T_NAV_AU[Unit of Measure],MATCH(BD72,T_NAV_AU[No.],0))),\"\")","v":""},null,null,null,null,"","",{"$f":"IFERROR(INDEX(INDIRECT(\"T_NAV_\"&i_Location&\"[\"&i_Location&\"]\"),MATCH(1,--(BD72=INDIRECT(\"T_NAV_\"&i_Location&\"[No.]\"))*--((INDIRECT(\"T_NAV_\"&i_Location&\"[\"&i_Location&\"]\"))<>\"\"),0))/IF(AND(BR72=\"METRE\",BH72<>\"\",BS72=\"\"),BH72,1),\"\")","v":""},"","","",null,null,{"$f":"IFERROR(IF(AY72=\"SHOW\",IF(AND(OR(BQ72=\"ROLL\",BQ72=\"LENGTH\"),BW72>0),ROUNDUP(BW72/CJ72/#REF!,0)*#REF!,IF(BQ72=\"METRE\",#REF!*ROUNDUP(((BW72*BM72)/1000)/#REF!,0),#REF!*ROUNDUP(BW72/#REF!,0))),\"\"),\"\")","v":""},"","",null,{"$f":"IFERROR(INDEX(INDIRECT(\"T_NAV_\"&i_Location&\"[\"&i_Location&\"]\"),MATCH(1,--(BD72=INDIRECT(\"T_NAV_\"&i_Location&\"[No.]\"))*--((INDIRECT(\"T_NAV_\"&i_Location&\"[\"&i_Location&\"]\"))<>\"\"),0)),\"\")","v":""},null,{"$f":"IFERROR(IF(ISBLANK(BU72),\"\",IF(OR(BQ72=\"ROLL\",BQ72=\"LENGTH\"),ROUNDDOWN((BH72*1000)/(BM72+CutTol),0),PRODUCT(AE62,BU72))),\"\")","v":""}]
[null,2,{"$f":"IF(COUNTIF(AY74:AY80,\"SHOW\")>0,1,0)","v":0},null,null,"i_Booster",null,"i_Tube",null,"i_SystemType",null,"i_InstallationType",null,"i_pullStick",null,null,null,null,null,null,null,null,null,null,null,null,null,null,null,null,{"$f":"IFERROR(IF(AND(AA73=\"Y\",PRODUCT(AB73:AD73)=0),o_nScreens,IF(PRODUCT(AB73:AD73)=0,\"\",PRODUCT(AB73:AD73))),\"\")","v":""},null,null,null,null,null,null,null,null,null,null,null,null,null,"",null,null,"",{"$f":"IF(ISNUMBER(FIND(\"x\",BF73)),IFERROR(INDEX(INDIRECT(\"T_FinishColour[ColourCode-\"&IF(ISNUMBER(FIND(\"xxx\",BF73)),\"xxx\",IF(ISNUMBER(FIND(\"xx\",BF73)),\"xx\",\"error\"))&AR73&\"]\"),MATCH(AV73,T_FinishColour[Finish / Colour],0)),\"\"),\"\")","v":""},null,{"$f":"IF(AND(ISBLANK(BD73),ISBLANK(C73)),\"HIDE\",_xlfn.SWITCH(PRODUCT(C73:Z73,B73),2,\"HEADING\",1,\"SHOW\",0,\"HIDE\"))","v":"HIDE"},null,null,null,null,"SPRING CONTROL",null,"SPRING CONTROL",null,null,null,null,{"$f":"IFERROR(IF(BI73=\"Y\",((INDEX(T_Deduc[Deduction],MATCH(BJ73,T_Deduc[Type],0),0))),\"\"),\"\")","v":""},null,"","","",null,{"$f":"IFERROR(IF(ISBLANK(BD73),\"\",INDEX(T_NAV_AU[Unit of Measure],MATCH(BD73,T_NAV_AU[No.],0))),\"\")","v":""},null,null,null,null,null,null,null,"","","",null,null,{"$f":"IFERROR(IF(AY73=\"SHOW\",IF(AND(OR(BQ73=\"ROLL\",BQ73=\"LENGTH\"),BW73>0),ROUNDUP(BW73/CJ73/#REF!,0)*#REF!,IF(BQ73=\"METRE\",#REF!*ROUNDUP(((BW73*BM73)/1000)/#REF!,0),#REF!*ROUNDUP(BW73/#REF!,0))),\"\"),\"\")","v":""},"","",null,{"$f":"IFERROR(INDEX(INDIRECT(\"T_NAV_\"&i_Location&\"[\"&i_Location&\"]\"),MATCH(1,--(BD73=INDIRECT(\"T_NAV_\"&i_Location&\"[No.]\"))*--((INDIRECT(\"T_NAV_\"&i_Location&\"[\"&i_Location&\"]\"))<>\"\"),0)),\"\")","v":""},null,""]
[null,null,null,null,{"$f":"IFERROR(IF(ISBLANK(D74),\"\",IF(FIND(D74,INDIRECT($D$73))>0,1,0)),0)","v":""},"Compact",{"$f":"IFERROR(IF(ISBLANK(F74),\"\",IF(FIND(F74,INDIRECT($F$73))>0,1,0)),0)","v":0},null,{"$f":"IFERROR(IF(ISBLANK(H74),\"\",IF(FIND(H74,INDIRECT($H$73))>0,1,0)),0)","v":""},null,{"$f":"IFERROR(IF(ISBLANK(J74),\"\",IF(FIND(J74,INDIRECT($J$73))>0,1,0)),0)","v":""},null,{"$f":"IFERROR(IF(ISBLANK(L74),\"\",IF(FIND(L74,INDIRECT($L$73))>0,1,0)),0)","v":""},null,{"$f":"IFERROR(IF(ISBLANK(N74),\"\",IF(FIND(N74,INDIRECT($N$73))>0,1,0)),0)","v":""},null,null,null,null,null,null,null,null,null,null,null,null,null,null,null,{"$f":"IFERROR(IF(AND(AA74=\"Y\",PRODUCT(AB74:AD74)=0),o_nScreens,IF(PRODUCT(AB74:AD74)=0,\"\",PRODUCT(AB74:AD74))),\"\")","v":""},null,null,null,null,null,null,null,null,null,null,null,null,"AU","",{"$f":"i_Finish","v":0},null,"",{"$f":"IF(ISNUMBER(FIND(\"x\",BF74)),IFERROR(INDEX(INDIRECT(\"T_FinishColour[ColourCode-\"&IF(ISNUMBER(FIND(\"xxx\",BF74)),\"xxx\",IF(ISNUMBER(FIND(\"xx\",BF74)),\"xx\",\"error\"))&AR74&\"]\"),MATCH(AV74,T_FinishColour[Finish / Colour],0)),\"\"),\"\")","v":""},null,{"$f":"IF(AND(ISBLANK(BD74),ISBLANK(C74)),\"HIDE\",_xlfn.SWITCH(PRODUCT(C74:Z74,B74),2,\"HEADING\",1,\"SHOW\",0,\"HIDE\"))","v":"HIDE"},null,"PICK","GL",null,"RE01-0421-050001",null,"RE01-0421-050001","External Booster V2 | COMPACT",null,{"$f":"IF(ISBLANK(BP74),\"\",IF(OR(BP74=L_Units),\"Y\",\"N\"))","v":"N"},null,{"$f":"IFERROR(IF(BI74=\"Y\",((INDEX(T_Deduc[Deduction],MATCH(BJ74,T_Deduc[Type],0),0))),\"\"),\"\")","v":""},null,"",{"$f":"IFERROR(IF(BI74=\"Y\",BM74,\"\"),\"\")","v":""},{"$f":"IFERROR(IF(BI74=\"Y\",TEXT(BM74/25.4,\"0\"&IF(ABS(BM74/25.4-ROUND(BM74/25.4,0))>1/32,\"-0/\"&CHOOSE(ROUND(MOD(BM74/25.4,1)*16,0),16,8,16,4,16,8,16,2,16,8,16,4,16,8,16),\"\")),\"\"),\"\")","v":""},"Piece",{"$f":"IFERROR(IF(ISBLANK(BD74),\"\",INDEX(T_NAV_AU[Unit of Measure],MATCH(BD74,T_NAV_AU[No.],0))),\"\")","v":"PIECE"},null,null,"HW",1,{"$f":"IF(ISBLANK(BU74),\"\",PRODUCT(AE74,BU74))","v":1},{"$f":"IF(ISBLANK(BU74),\"\",PRODUCT(AE74,BU74,i_systemQTY))","v":1},{"$f":"IFERROR(INDEX(INDIRECT(\"T_NAV_\"&i_Location&\"[\"&i_Location&\"]\"),MATCH(1,--(BD74=INDIRECT(\"T_NAV_\"&i_Location&\"[No.]\"))*--((INDIRECT(\"T_NAV_\"&i_Location&\"[\"&i_Location&\"]\"))<>\"\"),0))/IF(AND(BR74=\"METRE\",BH74<>\"\",BS74=\"\"),BH74,1),\"\")","v":""},"","","",null,null,{"$f":"IFERROR(IF(AY74=\"SHOW\",IF(AND(OR(BQ74=\"ROLL\",BQ74=\"LENGTH\"),BW74>0),ROUNDUP(BW74/CJ74/#REF!,0)*#REF!,IF(BQ74=\"METRE\",#REF!*ROUNDUP(((BW74*BM74)/1000)/#REF!,0),#REF!*ROUNDUP(BW74/#REF!,0))),\"\"),\"\")","v":""},"","",null,{"$f":"IFERROR(INDEX(INDIRECT(\"T_NAV_\"&i_Location&\"[\"&i_Location&\"]\"),MATCH(1,--(BD74=INDIRECT(\"T_NAV_\"&i_Location&\"[No.]\"))*--((INDIRECT(\"T_NAV_\"&i_Location&\"[\"&i_Location&\"]\"))<>\"\"),0)),\"\")","v":""},null,1]
[null,null,"",null,{"$f":"IFERROR(IF(ISBLANK(D75),\"\",IF(FIND(D75,INDIRECT($D$73))>0,1,0)),0)","v":""},"Light",0,null,"",null,"",null,"",null,{"$f":"IFERROR(IF(ISBLANK(N75),\"\",IF(FIND(N75,INDIRECT($N$73))>0,1,0)),0)","v":""},null,null,null,null,null,null,null,null,null,null,null,null,null,null,null,{"$f":"IFERROR(IF(AND(AA75=\"Y\",PRODUCT(AB75:AD75)=0),o_nScreens,IF(PRODUCT(AB75:AD75)=0,\"\",PRODUCT(AB75:AD75))),\"\")","v":""},null,null,null,null,null,null,null,null,null,null,null,null,"AU","",0,null,"",{"$f":"IF(ISNUMBER(FIND(\"x\",BF75)),IFERROR(INDEX(INDIRECT(\"T_FinishColour[ColourCode-\"&IF(ISNUMBER(FIND(\"xxx\",BF75)),\"xxx\",IF(ISNUMBER(FIND(\"xx\",BF75)),\"xx\",\"error\"))&AR75&\"]\"),MATCH(AV75,T_FinishColour[Finish / Colour],0)),\"\"),\"\")","v":""},null,{"$f":"IF(AND(ISBLANK(BD75),ISBLANK(C75)),\"HIDE\",_xlfn.SWITCH(PRODUCT(C75:Z75,B75),2,\"HEADING\",1,\"SHOW\",0,\"HIDE\"))","v":"HIDE"},null,"PICK","GL",null,"RE01-0421-050002",null,"RE01-0421-050002","External Booster V2 | LIGHT",null,{"$f":"IF(ISBLANK(BP75),\"\",IF(OR(BP75=L_Units),\"Y\",\"N\"))","v":"N"},null,{"$f":"IFERROR(IF(BI75=\"Y\",((INDEX(T_Deduc[Deduction],MATCH(BJ75,T_Deduc[Type],0),0))),\"\"),\"\")","v":""},null,"","","","Piece",{"$f":"IFERROR(IF(ISBLANK(BD75),\"\",INDEX(T_NAV_AU[Unit of Measure],MATCH(BD75,T_NAV_AU[No.],0))),\"\")","v":"PIECE"},null,null,"HW",1,1,1,{"$f":"IFERROR(INDEX(INDIRECT(\"T_NAV_\"&i_Location&\"[\"&i_Location&\"]\"),MATCH(1,--(BD75=INDIRECT(\"T_NAV_\"&i_Location&\"[No.]\"))*--((INDIRECT(\"T_NAV_\"&i_Location&\"[\"&i_Location&\"]\"))<>\"\"),0))/IF(AND(BR75=\"METRE\",BH75<>\"\",BS75=\"\"),BH75,1),\"\")","v":""},"","","",null,null,{"$f":"IFERROR(IF(AY75=\"SHOW\",IF(AND(OR(BQ75=\"ROLL\",BQ75=\"LENGTH\"),BW75>0),ROUNDUP(BW75/CJ75/#REF!,0)*#REF!,IF(BQ75=\"METRE\",#REF!*ROUNDUP(((BW75*BM75)/1000)/#REF!,0),#REF!*ROUNDUP(BW75/#REF!,0))),\"\"),\"\")","v":""},"","",null,{"$f":"IFERROR(INDEX(INDIRECT(\"T_NAV_\"&i_Location&\"[\"&i_Location&\"]\"),MATCH(1,--(BD75=INDIRECT(\"T_NAV_\"&i_Location&\"[No.]\"))*--((INDIRECT(\"T_NAV_\"&i_Location&\"[\"&i_Location&\"]\"))<>\"\"),0)),\"\")","v":""},null,1]
[null,null,"",null,{"$f":"IFERROR(IF(ISBLANK(D76),\"\",IF(FIND(D76,INDIRECT($D$73))>0,1,0)),0)","v":""},"Standard",0,null,"",null,"",null,"",null,"",null,null,null,null,null,null,null,null,null,null,null,null,null,null,null,{"$f":"IFERROR(IF(AND(AA76=\"Y\",PRODUCT(AB76:AD76)=0),o_nScreens,IF(PRODUCT(AB76:AD76)=0,\"\",PRODUCT(AB76:AD76))),\"\")","v":""},null,null,null,null,null,null,null,null,null,null,null,null,"AU","",0,null,"",{"$f":"IF(ISNUMBER(FIND(\"x\",BF76)),IFERROR(INDEX(INDIRECT(\"T_FinishColour[ColourCode-\"&IF(ISNUMBER(FIND(\"xxx\",BF76)),\"xxx\",IF(ISNUMBER(FIND(\"xx\",BF76)),\"xx\",\"error\"))&AR76&\"]\"),MATCH(AV76,T_FinishColour[Finish / Colour],0)),\"\"),\"\")","v":""},null,{"$f":"IF(AND(ISBLANK(BD76),ISBLANK(C76)),\"HIDE\",_xlfn.SWITCH(PRODUCT(C76:Z76,B76),2,\"HEADING\",1,\"SHOW\",0,\"HIDE\"))","v":"HIDE"},null,"PICK","GL",null,"RE01-0421-050003",null,"RE01-0421-050003","External Booster V2 | STANDARD",null,{"$f":"IF(ISBLANK(BP76),\"\",IF(OR(BP76=L_Units),\"Y\",\"N\"))","v":"N"},null,{"$f":"IFERROR(IF(BI76=\"Y\",((INDEX(T_Deduc[Deduction],MATCH(BJ76,T_Deduc[Type],0),0))),\"\"),\"\")","v":""},null,"","","","Piece",{"$f":"IFERROR(IF(ISBLANK(BD76),\"\",INDEX(T_NAV_AU[Unit of Measure],MATCH(BD76,T_NAV_AU[No.],0))),\"\")","v":"PIECE"},null,null,"HW",1,1,1,{"$f":"IFERROR(INDEX(INDIRECT(\"T_NAV_\"&i_Location&\"[\"&i_Location&\"]\"),MATCH(1,--(BD76=INDIRECT(\"T_NAV_\"&i_Location&\"[No.]\"))*--((INDIRECT(\"T_NAV_\"&i_Location&\"[\"&i_Location&\"]\"))<>\"\"),0))/IF(AND(BR76=\"METRE\",BH76<>\"\",BS76=\"\"),BH76,1),\"\")","v":""},"","","",null,null,{"$f":"IFERROR(IF(AY76=\"SHOW\",IF(AND(OR(BQ76=\"ROLL\",BQ76=\"LENGTH\"),BW76>0),ROUNDUP(BW76/CJ76/#REF!,0)*#REF!,IF(BQ76=\"METRE\",#REF!*ROUNDUP(((BW76*BM76)/1000)/#REF!,0),#REF!*ROUNDUP(BW76/#REF!,0))),\"\"),\"\")","v":""},"","",null,{"$f":"IFERROR(INDEX(INDIRECT(\"T_NAV_\"&i_Location&\"[\"&i_Location&\"]\"),MATCH(1,--(BD76=INDIRECT(\"T_NAV_\"&i_Location&\"[No.]\"))*--((INDIRECT(\"T_NAV_\"&i_Location&\"[\"&i_Location&\"]\"))<>\"\"),0)),\"\")","v":""},null,1]
[null,null,"",null,{"$f":"IFERROR(IF(ISBLANK(D77),\"\",IF(FIND(D77,INDIRECT($D$73))>0,1,0)),0)","v":""},"Heavy",{"$f":"IFERROR(IF(ISBLANK(F77),\"\",IF(F77=INDIRECT($F$73),1,0)),0)","v":0},null,"",null,"",null,"",null,"",null,null,null,null,null,null,null,null,null,null,null,null,null,null,null,{"$f":"IFERROR(IF(AND(AA77=\"Y\",PRODUCT(AB77:AD77)=0),o_nScreens,IF(PRODUCT(AB77:AD77)=0,\"\",PRODUCT(AB77:AD77))),\"\")","v":""},null,null,null,null,null,null,null,null,null,null,null,null,"AU","",0,null,"",{"$f":"IF(ISNUMBER(FIND(\"x\",BF77)),IFERROR(INDEX(INDIRECT(\"T_FinishColour[ColourCode-\"&IF(ISNUMBER(FIND(\"xxx\",BF77)),\"xxx\",IF(ISNUMBER(FIND(\"xx\",BF77)),\"xx\",\"error\"))&AR77&\"]\"),MATCH(AV77,T_FinishColour[Finish / Colour],0)),\"\"),\"\")","v":""},null,{"$f":"IF(AND(ISBLANK(BD77),ISBLANK(C77)),\"HIDE\",_xlfn.SWITCH(PRODUCT(C77:Z77,B77),2,\"HEADING\",1,\"SHOW\",0,\"HIDE\"))","v":"HIDE"},null,"PICK","GL",null,"RE01-0421-050004",null,"RE01-0421-050004","External Booster V2 | HEAVY DUTY",null,{"$f":"IF(ISBLANK(BP77),\"\",IF(OR(BP77=L_Units),\"Y\",\"N\"))","v":"N"},null,{"$f":"IFERROR(IF(BI77=\"Y\",((INDEX(T_Deduc[Deduction],MATCH(BJ77,T_Deduc[Type],0),0))),\"\"),\"\")","v":""},null,"","","","Piece",{"$f":"IFERROR(IF(ISBLANK(BD77),\"\",INDEX(T_NAV_AU[Unit of Measure],MATCH(BD77,T_NAV_AU[No.],0))),\"\")","v":"PIECE"},null,null,"HW",1,1,1,{"$f":"IFERROR(INDEX(INDIRECT(\"T_NAV_\"&i_Location&\"[\"&i_Location&\"]\"),MATCH(1,--(BD77=INDIRECT(\"T_NAV_\"&i_Location&\"[No.]\"))*--((INDIRECT(\"T_NAV_\"&i_Location&\"[\"&i_Location&\"]\"))<>\"\"),0))/IF(AND(BR77=\"METRE\",BH77<>\"\",BS77=\"\"),BH77,1),\"\")","v":""},"","","",null,null,{"$f":"IFERROR(IF(AY77=\"SHOW\",IF(AND(OR(BQ77=\"ROLL\",BQ77=\"LENGTH\"),BW77>0),ROUNDUP(BW77/CJ77/#REF!,0)*#REF!,IF(BQ77=\"METRE\",#REF!*ROUNDUP(((BW77*BM77)/1000)/#REF!,0),#REF!*ROUNDUP(BW77/#REF!,0))),\"\"),\"\")","v":""},"","",null,{"$f":"IFERROR(INDEX(INDIRECT(\"T_NAV_\"&i_Location&\"[\"&i_Location&\"]\"),MATCH(1,--(BD77=INDIRECT(\"T_NAV_\"&i_Location&\"[No.]\"))*--((INDIRECT(\"T_NAV_\"&i_Location&\"[\"&i_Location&\"]\"))<>\"\"),0)),\"\")","v":""},null,1]
[null,null,"","",null,"Extra Heavy",0,null,"",null,"",null,"",null,"",null,null,null,null,null,null,null,null,null,null,null,null,null,null,null,{"$f":"IFERROR(IF(AND(AA78=\"Y\",PRODUCT(AB78:AD78)=0),o_nScreens,IF(PRODUCT(AB78:AD78)=0,\"\",PRODUCT(AB78:AD78))),\"\")","v":""},null,null,null,null,null,null,null,null,null,null,null,null,"AU","",0,null,"",{"$f":"IF(ISNUMBER(FIND(\"x\",BF78)),IFERROR(INDEX(INDIRECT(\"T_FinishColour[ColourCode-\"&IF(ISNUMBER(FIND(\"xxx\",BF78)),\"xxx\",IF(ISNUMBER(FIND(\"xx\",BF78)),\"xx\",\"error\"))&AR78&\"]\"),MATCH(AV78,T_FinishColour[Finish / Colour],0)),\"\"),\"\")","v":""},null,{"$f":"IF(AND(ISBLANK(BD78),ISBLANK(C78)),\"HIDE\",_xlfn.SWITCH(PRODUCT(C78:Z78,B78),2,\"HEADING\",1,\"SHOW\",0,\"HIDE\"))","v":"HIDE"},null,"PICK","GL",null,"RE01-0421-050005",null,"RE01-0421-050005","External Booster V2 | EXTRA HEAVY DUTY",null,{"$f":"IF(ISBLANK(BP78),\"\",IF(OR(BP78=L_Units),\"Y\",\"N\"))","v":"N"},null,{"$f":"IFERROR(IF(BI78=\"Y\",((INDEX(T_Deduc[Deduction],MATCH(BJ78,T_Deduc[Type],0),0))),\"\"),\"\")","v":""},null,"","","","Piece",{"$f":"IFERROR(IF(ISBLANK(BD78),\"\",INDEX(T_NAV_AU[Unit of Measure],MATCH(BD78,T_NAV_AU[No.],0))),\"\")","v":"PIECE"},null,null,"HW",1,1,1,{"$f":"IFERROR(INDEX(INDIRECT(\"T_NAV_\"&i_Location&\"[\"&i_Location&\"]\"),MATCH(1,--(BD78=INDIRECT(\"T_NAV_\"&i_Location&\"[No.]\"))*--((INDIRECT(\"T_NAV_\"&i_Location&\"[\"&i_Location&\"]\"))<>\"\"),0))/IF(AND(BR78=\"METRE\",BH78<>\"\",BS78=\"\"),BH78,1),\"\")","v":""},"","","",null,null,{"$f":"IFERROR(IF(AY78=\"SHOW\",IF(AND(OR(BQ78=\"ROLL\",BQ78=\"LENGTH\"),BW78>0),ROUNDUP(BW78/CJ78/#REF!,0)*#REF!,IF(BQ78=\"METRE\",#REF!*ROUNDUP(((BW78*BM78)/1000)/#REF!,0),#REF!*ROUNDUP(BW78/#REF!,0))),\"\"),\"\")","v":""},"","",null,{"$f":"IFERROR(INDEX(INDIRECT(\"T_NAV_\"&i_Location&\"[\"&i_Location&\"]\"),MATCH(1,--(BD78=INDIRECT(\"T_NAV_\"&i_Location&\"[No.]\"))*--((INDIRECT(\"T_NAV_\"&i_Location&\"[\"&i_Location&\"]\"))<>\"\"),0)),\"\")","v":""},null,{"$f":"IFERROR(IF(ISBLANK(BU78),\"\",IF(OR(BQ78=\"ROLL\",BQ78=\"LENGTH\"),ROUNDDOWN((BH78*1000)/(BM78+CutTol),0),PRODUCT(#REF!,BU78))),\"\")","v":""}]
[null,null,null,null,null,"Ultra Heavy",0,null,"",null,"",null,"",null,"",null,null,null,null,null,null,null,null,null,null,null,null,null,null,null,{"$f":"IFERROR(IF(AND(AA79=\"Y\",PRODUCT(AB79:AD79)=0),o_nScreens,IF(PRODUCT(AB79:AD79)=0,\"\",PRODUCT(AB79:AD79))),\"\")","v":""},null,null,null,null,null,null,null,null,null,null,null,null,"AU","",0,null,"",{"$f":"IF(ISNUMBER(FIND(\"x\",BF79)),IFERROR(INDEX(INDIRECT(\"T_FinishColour[ColourCode-\"&IF(ISNUMBER(FIND(\"xxx\",BF79)),\"xxx\",IF(ISNUMBER(FIND(\"xx\",BF79)),\"xx\",\"error\"))&AR79&\"]\"),MATCH(AV79,T_FinishColour[Finish / Colour],0)),\"\"),\"\")","v":""},null,{"$f":"IF(AND(ISBLANK(BD79),ISBLANK(C79)),\"HIDE\",_xlfn.SWITCH(PRODUCT(C79:Z79,B79),2,\"HEADING\",1,\"SHOW\",0,\"HIDE\"))","v":"HIDE"},null,"PICK","GL",null,"RE01-0421-050006",null,"RE01-0421-050006","External Booster V2 | ULTRA HEAVY DUTY",null,{"$f":"IF(ISBLANK(BP79),\"\",IF(OR(BP79=L_Units),\"Y\",\"N\"))","v":"N"},null,{"$f":"IFERROR(IF(BI79=\"Y\",((INDEX(T_Deduc[Deduction],MATCH(BJ79,T_Deduc[Type],0),0))),\"\"),\"\")","v":""},null,"","","","Piece",{"$f":"IFERROR(IF(ISBLANK(BD79),\"\",INDEX(T_NAV_AU[Unit of Measure],MATCH(BD79,T_NAV_AU[No.],0))),\"\")","v":"PIECE"},null,null,"HW",1,1,1,{"$f":"IFERROR(INDEX(INDIRECT(\"T_NAV_\"&i_Location&\"[\"&i_Location&\"]\"),MATCH(1,--(BD79=INDIRECT(\"T_NAV_\"&i_Location&\"[No.]\"))*--((INDIRECT(\"T_NAV_\"&i_Location&\"[\"&i_Location&\"]\"))<>\"\"),0))/IF(AND(BR79=\"METRE\",BH79<>\"\",BS79=\"\"),BH79,1),\"\")","v":""},"","","",null,null,{"$f":"IFERROR(IF(AY79=\"SHOW\",IF(AND(OR(BQ79=\"ROLL\",BQ79=\"LENGTH\"),BW79>0),ROUNDUP(BW79/CJ79/#REF!,0)*#REF!,IF(BQ79=\"METRE\",#REF!*ROUNDUP(((BW79*BM79)/1000)/#REF!,0),#REF!*ROUNDUP(BW79/#REF!,0))),\"\"),\"\")","v":""},"","",null,{"$f":"IFERROR(INDEX(INDIRECT(\"T_NAV_\"&i_Location&\"[\"&i_Location&\"]\"),MATCH(1,--(BD79=INDIRECT(\"T_NAV_\"&i_Location&\"[No.]\"))*--((INDIRECT(\"T_NAV_\"&i_Location&\"[\"&i_Location&\"]\"))<>\"\"),0)),\"\")","v":""},null,{"$f":"IFERROR(IF(ISBLANK(BU79),\"\",IF(OR(BQ79=\"ROLL\",BQ79=\"LENGTH\"),ROUNDDOWN((BH79*1000)/(BM79+CutTol),0),PRODUCT(AE69,BU79))),\"\")","v":1}]
[null,null,null,null,{"$f":"IFERROR(IF(ISBLANK(D80),\"\",IF(FIND(D80,INDIRECT($D$73))>0,1,0)),0)","v":""},null,{"$f":"IFERROR(IF(ISBLANK(F80),\"\",IF(FIND(F80,INDIRECT($F$73))>0,1,0)),0)","v":""},null,{"$f":"IFERROR(IF(ISBLANK(H80),\"\",IF(FIND(H80,INDIRECT($H$73))>0,1,0)),0)","v":""},null,{"$f":"IFERROR(IF(ISBLANK(J80),\"\",IF(FIND(J80,INDIRECT($J$73))>0,1,0)),0)","v":""},null,{"$f":"IFERROR(IF(ISBLANK(L80),\"\",IF(FIND(L80,INDIRECT($L$73))>0,1,0)),0)","v":""},"Yes",0,null,null,null,null,null,null,null,null,null,null,null,null,null,null,null,{"$f":"IFERROR(IF(AND(AA80=\"Y\",PRODUCT(AB80:AD80)=0),o_nScreens,IF(PRODUCT(AB80:AD80)=0,\"\",PRODUCT(AB80:AD80))),\"\")","v":""},null,null,null,null,null,null,null,null,null,null,null,null,"AU","",{"$f":"i_Finish","v":0},null,"",{"$f":"IF(ISNUMBER(FIND(\"x\",BF80)),IFERROR(INDEX(INDIRECT(\"T_FinishColour[ColourCode-\"&IF(ISNUMBER(FIND(\"xxx\",BF80)),\"xxx\",IF(ISNUMBER(FIND(\"xx\",BF80)),\"xx\",\"error\"))&AR80&\"]\"),MATCH(AV80,T_FinishColour[Finish / Colour],0)),\"\"),\"\")","v":""},null,{"$f":"IF(AND(ISBLANK(BD80),ISBLANK(C80)),\"HIDE\",_xlfn.SWITCH(PRODUCT(C80:Z80,B80),2,\"HEADING\",1,\"SHOW\",0,\"HIDE\"))","v":"HIDE"},null,"PICK","AU",null,"RE01-0420-050000",null,"RE01-0420-050000","External Pull Stick | Adjustable w/ Wall Clip\t",null,{"$f":"IF(ISBLANK(BP80),\"\",IF(OR(BP80=L_Units),\"Y\",\"N\"))","v":"N"},null,{"$f":"IFERROR(IF(BI80=\"Y\",((INDEX(T_Deduc[Deduction],MATCH(BJ80,T_Deduc[Type],0),0))),\"\"),\"\")","v":""},null,{"$f":"IFERROR(IF(BI80=\"Y\",INDIRECT(BL80)-BK80,\"\"),\"\")","v":""},{"$f":"IFERROR(IF(BI80=\"Y\",BM80,\"\"),\"\")","v":""},{"$f":"IFERROR(IF(BI80=\"Y\",TEXT(BM80/25.4,\"0\"&IF(ABS(BM80/25.4-ROUND(BM80/25.4,0))>1/32,\"-0/\"&CHOOSE(ROUND(MOD(BM80/25.4,1)*16,0),16,8,16,4,16,8,16,2,16,8,16,4,16,8,16),\"\")),\"\"),\"\")","v":""},"Set",{"$f":"IFERROR(IF(ISBLANK(BD80),\"\",INDEX(T_NAV_AU[Unit of Measure],MATCH(BD80,T_NAV_AU[No.],0))),\"\")","v":"KIT"},null,null,"HW",1,1,1,{"$f":"IFERROR(INDEX(INDIRECT(\"T_NAV_\"&i_Location&\"[\"&i_Location&\"]\"),MATCH(1,--(BD80=INDIRECT(\"T_NAV_\"&i_Location&\"[No.]\"))*--((INDIRECT(\"T_NAV_\"&i_Location&\"[\"&i_Location&\"]\"))<>\"\"),0))/IF(AND(BR80=\"METRE\",BH80<>\"\",BS80=\"\"),BH80,1),\"\")","v":""},"",{"$f":"IF(BY80<>\"\",(INDIRECT(\"i_\"&BT80&\"discount\"))*BY80,\"\")","v":""},{"$f":"IFERROR(IF(BY80<>\"\",BY80-BZ80,\"\"),\"\")","v":""},null,null,{"$f":"IFERROR(IF(AY80=\"SHOW\",IF(AND(OR(BQ80=\"ROLL\",BQ80=\"LENGTH\"),BW80>0),ROUNDUP(BW80/CJ80/#REF!,0)*#REF!,IF(BQ80=\"METRE\",#REF!*ROUNDUP(((BW80*BM80)/1000)/#REF!,0),#REF!*ROUNDUP(BW80/#REF!,0))),\"\"),\"\")","v":""},{"$f":"IF(CD80<>\"\",CD80&\"x \"&BQ80&IF(CD80>1,\"S\",\"\"),\"\")","v":""},"",null,{"$f":"IFERROR(INDEX(INDIRECT(\"T_NAV_\"&i_Location&\"[\"&i_Location&\"]\"),MATCH(1,--(BD80=INDIRECT(\"T_NAV_\"&i_Location&\"[No.]\"))*--((INDIRECT(\"T_NAV_\"&i_Location&\"[\"&i_Location&\"]\"))<>\"\"),0)),\"\")","v":""},null,{"$f":"IFERROR(IF(ISBLANK(BU80),\"\",IF(OR(BQ80=\"ROLL\",BQ80=\"LENGTH\"),ROUNDDOWN((BH80*1000)/(BM80+CutTol),0),PRODUCT(AE74,BU80))),\"\")","v":1}]
[null,2,{"$f":"C82","v":0},null,null,null,null,null,null,null,null,null,null,null,null,null,null,null,null,null,null,null,null,null,null,null,null,null,null,null,{"$f":"IFERROR(IF(AND(AA81=\"Y\",PRODUCT(AB81:AD81)=0),o_nScreens,IF(PRODUCT(AB81:AD81)=0,\"\",PRODUCT(AB81:AD81))),\"\")","v":""},null,null,null,null,null,null,null,null,null,null,null,null,null,"",null,null,"",{"$f":"IF(ISNUMBER(FIND(\"x\",BF81)),IFERROR(INDEX(INDIRECT(\"T_FinishColour[ColourCode-\"&IF(ISNUMBER(FIND(\"xxx\",BF81)),\"xxx\",IF(ISNUMBER(FIND(\"xx\",BF81)),\"xx\",\"error\"))&AR81&\"]\"),MATCH(AV81,T_FinishColour[Finish / Colour],0)),\"\"),\"\")","v":""},null,{"$f":"IF(AND(ISBLANK(BD81),ISBLANK(C81)),\"HIDE\",_xlfn.SWITCH(PRODUCT(C81:Z81,B81),2,\"HEADING\",1,\"SHOW\",0,\"HIDE\"))","v":"HIDE"},null,null,null,null,"",null,null,null,null,null,null,{"$f":"IFERROR(IF(BI81=\"Y\",((INDEX(T_Deduc[Deduction],MATCH(BJ81,T_Deduc[Type],0),0))),\"\"),\"\")","v":""},null,"","","",null,{"$f":"IFERROR(IF(ISBLANK(BD81),\"\",INDEX(T_NAV_AU[Unit of Measure],MATCH(BD81,T_NAV_AU[No.],0))),\"\")","v":""},null,null,null,null,"","",{"$f":"IFERROR(INDEX(INDIRECT(\"T_NAV_\"&i_Location&\"[\"&i_Location&\"]\"),MATCH(1,--(BD81=INDIRECT(\"T_NAV_\"&i_Location&\"[No.]\"))*--((INDIRECT(\"T_NAV_\"&i_Location&\"[\"&i_Location&\"]\"))<>\"\"),0))/IF(AND(BR81=\"METRE\",BH81<>\"\",BS81=\"\"),BH81,1),\"\")","v":""},{"$f":"IFERROR(IF(AND(AY81=\"SHOW\",BX81<>\"\"),BX81*BW81*IF(AND(BN81<>\"\",OR(BQ81=\"LENGTH\",BQ81=\"METRE\",BQ81=\"ROLL\")),(BM81/1000),1),\"\"),\"\")","v":""},"","",null,null,{"$f":"IFERROR(IF(AY81=\"SHOW\",IF(AND(OR(BQ81=\"ROLL\",BQ81=\"LENGTH\"),BW81>0),ROUNDUP(BW81/CJ81/#REF!,0)*#REF!,IF(BQ81=\"METRE\",#REF!*ROUNDUP(((BW81*BM81)/1000)/#REF!,0),#REF!*ROUNDUP(BW81/#REF!,0))),\"\"),\"\")","v":""},"",{"$f":"IFERROR(IF(AY81=\"SHOW\",CH81*CD81*(1-(INDIRECT(\"i_\"&BT81&\"discount\"))),\"\"),\"\")","v":""},null,{"$f":"IFERROR(INDEX(INDIRECT(\"T_NAV_\"&i_Location&\"[\"&i_Location&\"]\"),MATCH(1,--(BD81=INDIRECT(\"T_NAV_\"&i_Location&\"[No.]\"))*--((INDIRECT(\"T_NAV_\"&i_Location&\"[\"&i_Location&\"]\"))<>\"\"),0)),\"\")","v":""},null,{"$f":"IFERROR(IF(ISBLANK(BU81),\"\",IF(OR(BQ81=\"ROLL\",BQ81=\"LENGTH\"),ROUNDDOWN((BH81*1000)/(BM81+CutTol),0),PRODUCT(AE75,BU81))),\"\")","v":""}]
[null,2,{"$f":"IF(COUNTIF(AY83:AY90,\"SHOW\")>0,1,0)","v":0},"",null,"i_ControlType",null,"i_GearArm",null,"i_GearRatio",null,"i_InstallationType",null,"i_BktFixType",null,"i_GearHandleClip",null,null,null,null,null,null,null,null,null,null,null,null,null,null,{"$f":"IFERROR(IF(AND(AA82=\"Y\",PRODUCT(AB82:AD82)=0),o_nScreens,IF(PRODUCT(AB82:AD82)=0,\"\",PRODUCT(AB82:AD82))),\"\")","v":""},null,null,null,null,null,null,null,null,null,null,null,null,null,"",null,null,"",{"$f":"IF(ISNUMBER(FIND(\"x\",BF82)),IFERROR(INDEX(INDIRECT(\"T_FinishColour[ColourCode-\"&IF(ISNUMBER(FIND(\"xxx\",BF82)),\"xxx\",IF(ISNUMBER(FIND(\"xx\",BF82)),\"xx\",\"error\"))&AR82&\"]\"),MATCH(AV82,T_FinishColour[Finish / Colour],0)),\"\"),\"\")","v":""},null,{"$f":"IF(AND(ISBLANK(BD82),ISBLANK(C82)),\"HIDE\",_xlfn.SWITCH(PRODUCT(C82:Z82,B82),2,\"HEADING\",1,\"SHOW\",0,\"HIDE\"))","v":"HIDE"},null,null,null,null,"GEAR CONTROL",null,"GEAR CONTROL",null,null,null,null,{"$f":"IFERROR(IF(BI82=\"Y\",((INDEX(T_Deduc[Deduction],MATCH(BJ82,T_Deduc[Type],0),0))),\"\"),\"\")","v":""},null,"","","",null,{"$f":"IFERROR(IF(ISBLANK(BD82),\"\",INDEX(T_NAV_AU[Unit of Measure],MATCH(BD82,T_NAV_AU[No.],0))),\"\")","v":""},null,null,null,null,null,null,null,"","","",null,null,{"$f":"IFERROR(IF(AY82=\"SHOW\",IF(AND(OR(BQ82=\"ROLL\",BQ82=\"LENGTH\"),BW82>0),ROUNDUP(BW82/CJ82/#REF!,0)*#REF!,IF(BQ82=\"METRE\",#REF!*ROUNDUP(((BW82*BM82)/1000)/#REF!,0),#REF!*ROUNDUP(BW82/#REF!,0))),\"\"),\"\")","v":""},"","",null,{"$f":"IFERROR(INDEX(INDIRECT(\"T_NAV_\"&i_Location&\"[\"&i_Location&\"]\"),MATCH(1,--(BD82=INDIRECT(\"T_NAV_\"&i_Location&\"[No.]\"))*--((INDIRECT(\"T_NAV_\"&i_Location&\"[\"&i_Location&\"]\"))<>\"\"),0)),\"\")","v":""},null,{"$f":"IFERROR(IF(ISBLANK(BU82),\"\",IF(OR(BQ82=\"ROLL\",BQ82=\"LENGTH\"),ROUNDDOWN((BH82*1000)/(BM82+CutTol),0),PRODUCT(AE76,BU82))),\"\")","v":""}]
[null,null,null,null,{"$f":"IFERROR(IF(ISBLANK(D83),\"\",IF(FIND(D83,INDIRECT($D$82))>0,1,0)),0)","v":""},"Gear",{"$f":"IFERROR(IF(ISBLANK(F83),\"\",IF(FIND(F83,INDIRECT($F$82))>0,1,0)),0)","v":0},null,{"$f":"IFERROR(IF(ISBLANK(H83),\"\",IF(FIND(H83,INDIRECT($H$82))>0,1,0)),0)","v":""},"5:1",{"$f":"IFERROR(IF(ISBLANK(J83),\"\",IF(FIND(J83,INDIRECT($J$82))>0,1,0)),0)","v":0},null,{"$f":"IFERROR(IF(ISBLANK(L83),\"\",IF(FIND(L83,INDIRECT($L$82))>0,1,0)),0)","v":""},null,{"$f":"IFERROR(IF(ISBLANK(N83),\"\",IF(FIND(N83,INDIRECT($N$82))>0,1,0)),0)","v":""},null,null,null,null,null,null,null,null,null,null,null,null,null,null,null,{"$f":"IFERROR(IF(AND(AA83=\"Y\",PRODUCT(AB83:AD83)=0),o_nScreens,IF(PRODUCT(AB83:AD83)=0,\"\",PRODUCT(AB83:AD83))),\"\")","v":""},null,null,null,"Black",null,"mill",null,null,null,null,null,null,"AU","Black",{"$f":"i_Finish","v":0},null,"Black",{"$f":"IF(ISNUMBER(FIND(\"x\",BF83)),IFERROR(INDEX(INDIRECT(\"T_FinishColour[ColourCode-\"&IF(ISNUMBER(FIND(\"xxx\",BF83)),\"xxx\",IF(ISNUMBER(FIND(\"xx\",BF83)),\"xx\",\"error\"))&AR83&\"]\"),MATCH(AV83,T_FinishColour[Finish / Colour],0)),\"\"),\"\")","v":"050"},null,{"$f":"IF(AND(ISBLANK(BD83),ISBLANK(C83)),\"HIDE\",_xlfn.SWITCH(PRODUCT(C83:Z83,B83),2,\"HEADING\",1,\"SHOW\",0,\"HIDE\"))","v":"HIDE"},null,{"$f":"IF(BQ83=\"LENGTH\",\"LENGTH\",\"PICK\")","v":"PICK"},"GL",null,"RE01-0513-050003",null,"RE01-0513-xxx003","Gear 5:1 (7.5Nm) w/ Screws",null,{"$f":"IF(ISBLANK(BP83),\"\",IF(OR(BP83=L_Units),\"Y\",\"N\"))","v":"N"},null,{"$f":"IFERROR(IF(BI83=\"Y\",((INDEX(T_Deduc[Deduction],MATCH(BJ83,T_Deduc[Type],0),0))),\"\"),\"\")","v":""},null,"","","","Set",{"$f":"IFERROR(IF(ISBLANK(BD83),\"\",INDEX(T_NAV_AU[Unit of Measure],MATCH(BD83,T_NAV_AU[No.],0))),\"\")","v":"SET"},null,null,"HW",1,{"$f":"IF(ISBLANK(BU83),\"\",PRODUCT(AE83,BU83))","v":1},{"$f":"IF(ISBLANK(BU83),\"\",PRODUCT(AE83,BU83,i_systemQTY))","v":1},{"$f":"IFERROR(INDEX(INDIRECT(\"T_NAV_\"&i_Location&\"[\"&i_Location&\"]\"),MATCH(1,--(BD83=INDIRECT(\"T_NAV_\"&i_Location&\"[No.]\"))*--((INDIRECT(\"T_NAV_\"&i_Location&\"[\"&i_Location&\"]\"))<>\"\"),0))/IF(AND(BR83=\"METRE\",BH83<>\"\",BS83=\"\"),BH83,1),\"\")","v":""},"","","",null,null,{"$f":"IFERROR(IF(AY83=\"SHOW\",IF(AND(OR(BQ83=\"ROLL\",BQ83=\"LENGTH\"),BW83>0),ROUNDUP(BW83/CJ83/#REF!,0)*#REF!,IF(BQ83=\"METRE\",#REF!*ROUNDUP(((BW83*BM83)/1000)/#REF!,0),#REF!*ROUNDUP(BW83/#REF!,0))),\"\"),\"\")","v":""},"","",null,{"$f":"IFERROR(INDEX(INDIRECT(\"T_NAV_\"&i_Location&\"[\"&i_Location&\"]\"),MATCH(1,--(BD83=INDIRECT(\"T_NAV_\"&i_Location&\"[No.]\"))*--((INDIRECT(\"T_NAV_\"&i_Location&\"[\"&i_Location&\"]\"))<>\"\"),0)),\"\")","v":""},null,{"$f":"IFERROR(IF(ISBLANK(BU83),\"\",IF(OR(BQ83=\"ROLL\",BQ83=\"LENGTH\"),ROUNDDOWN((BH83*1000)/(BM83+CutTol),0),PRODUCT(AE77,BU83))),\"\")","v":1}]
[null,null,"",null,{"$f":"IFERROR(IF(ISBLANK(D84),\"\",IF(FIND(D84,INDIRECT($D$82))>0,1,0)),0)","v":""},"Gear",0,null,"","8:1",0,null,"",null,"",null,null,null,null,null,null,null,null,null,null,null,null,null,null,null,{"$f":"IFERROR(IF(AND(AA84=\"Y\",PRODUCT(AB84:AD84)=0),o_nScreens,IF(PRODUCT(AB84:AD84)=0,\"\",PRODUCT(AB84:AD84))),\"\")","v":""},null,null,null,"Black",null,"mill",null,null,null,null,null,null,"AU","Black",0,null,"Black",{"$f":"IF(ISNUMBER(FIND(\"x\",BF84)),IFERROR(INDEX(INDIRECT(\"T_FinishColour[ColourCode-\"&IF(ISNUMBER(FIND(\"xxx\",BF84)),\"xxx\",IF(ISNUMBER(FIND(\"xx\",BF84)),\"xx\",\"error\"))&AR84&\"]\"),MATCH(AV84,T_FinishColour[Finish / Colour],0)),\"\"),\"\")","v":"050"},null,{"$f":"IF(AND(ISBLANK(BD84),ISBLANK(C84)),\"HIDE\",_xlfn.SWITCH(PRODUCT(C84:Z84,B84),2,\"HEADING\",1,\"SHOW\",0,\"HIDE\"))","v":"HIDE"},null,"PICK","GL",null,"RE01-0517-050003",null,"RE01-0517-xxx003","Gear 8:1 (20Nm) w/ Screws",null,{"$f":"IF(ISBLANK(BP84),\"\",IF(OR(BP84=L_Units),\"Y\",\"N\"))","v":"N"},null,{"$f":"IFERROR(IF(BI84=\"Y\",((INDEX(T_Deduc[Deduction],MATCH(BJ84,T_Deduc[Type],0),0))),\"\"),\"\")","v":""},null,"","","","Set",{"$f":"IFERROR(IF(ISBLANK(BD84),\"\",INDEX(T_NAV_AU[Unit of Measure],MATCH(BD84,T_NAV_AU[No.],0))),\"\")","v":"SET"},null,null,"HW",1,1,1,{"$f":"IFERROR(INDEX(INDIRECT(\"T_NAV_\"&i_Location&\"[\"&i_Location&\"]\"),MATCH(1,--(BD84=INDIRECT(\"T_NAV_\"&i_Location&\"[No.]\"))*--((INDIRECT(\"T_NAV_\"&i_Location&\"[\"&i_Location&\"]\"))<>\"\"),0))/IF(AND(BR84=\"METRE\",BH84<>\"\",BS84=\"\"),BH84,1),\"\")","v":""},"","","",null,null,{"$f":"IFERROR(IF(AY84=\"SHOW\",IF(AND(OR(BQ84=\"ROLL\",BQ84=\"LENGTH\"),BW84>0),ROUNDUP(BW84/CJ84/#REF!,0)*#REF!,IF(BQ84=\"METRE\",#REF!*ROUNDUP(((BW84*BM84)/1000)/#REF!,0),#REF!*ROUNDUP(BW84/#REF!,0))),\"\"),\"\")","v":""},"","",null,{"$f":"IFERROR(INDEX(INDIRECT(\"T_NAV_\"&i_Location&\"[\"&i_Location&\"]\"),MATCH(1,--(BD84=INDIRECT(\"T_NAV_\"&i_Location&\"[No.]\"))*--((INDIRECT(\"T_NAV_\"&i_Location&\"[\"&i_Location&\"]\"))<>\"\"),0)),\"\")","v":""},null,{"$f":"IFERROR(IF(ISBLANK(BU84),\"\",IF(OR(BQ84=\"ROLL\",BQ84=\"LENGTH\"),ROUNDDOWN((BH84*1000)/(BM84+CutTol),0),PRODUCT(AE78,BU84))),\"\")","v":1}]
[null,null,"",null,{"$f":"IFERROR(IF(ISBLANK(D85),\"\",IF(FIND(D85,INDIRECT($D$82))>0,1,0)),0)","v":""},"Gear",{"$f":"IFERROR(IF(ISBLANK(F85),\"\",IF(FIND(F85,INDIRECT($F$82))>0,1,0)),0)","v":0},null,{"$f":"IFERROR(IF(ISBLANK(H85),\"\",IF(FIND(H85,INDIRECT($H$82))>0,1,0)),0)","v":""},null,{"$f":"IFERROR(IF(ISBLANK(J85),\"\",IF(FIND(J85,INDIRECT($J$82))>0,1,0)),0)","v":""},null,{"$f":"IFERROR(IF(ISBLANK(L85),\"\",IF(FIND(L85,INDIRECT($L$82))>0,1,0)),0)","v":""},null,{"$f":"IFERROR(IF(ISBLANK(N85),\"\",IF(FIND(N85,INDIRECT($N$82))>0,1,0)),0)","v":""},null,null,null,null,null,null,null,null,null,null,null,null,null,null,null,{"$f":"IFERROR(IF(AND(AA85=\"Y\",PRODUCT(AB85:AD85)=0),o_nScreens,IF(PRODUCT(AB85:AD85)=0,\"\",PRODUCT(AB85:AD85))),\"\")","v":""},null,null,null,null,null,null,null,null,null,null,null,null,"AU","",0,null,"",{"$f":"IF(ISNUMBER(FIND(\"x\",BF85)),IFERROR(INDEX(INDIRECT(\"T_FinishColour[ColourCode-\"&IF(ISNUMBER(FIND(\"xxx\",BF85)),\"xxx\",IF(ISNUMBER(FIND(\"xx\",BF85)),\"xx\",\"error\"))&AR85&\"]\"),MATCH(AV85,T_FinishColour[Finish / Colour],0)),\"\"),\"\")","v":""},null,{"$f":"IF(AND(ISBLANK(BD85),ISBLANK(C85)),\"HIDE\",_xlfn.SWITCH(PRODUCT(C85:Z85,B85),2,\"HEADING\",1,\"SHOW\",0,\"HIDE\"))","v":"HIDE"},null,"PICK","GL",null,"RE01-0510-020000",null,"RE01-0510-020000","RE01 Crank | Universal Joint",null,{"$f":"IF(ISBLANK(BP85),\"\",IF(OR(BP85=L_Units),\"Y\",\"N\"))","v":"N"},null,{"$f":"IFERROR(IF(BI85=\"Y\",((INDEX(T_Deduc[Deduction],MATCH(BJ85,T_Deduc[Type],0),0))),\"\"),\"\")","v":""},null,{"$f":"IFERROR(IF(BI85=\"Y\",INDIRECT(BL85)-BK85,\"\"),\"\")","v":""},{"$f":"IFERROR(IF(BI85=\"Y\",BM85,\"\"),\"\")","v":""},{"$f":"IFERROR(IF(BI85=\"Y\",TEXT(BM85/25.4,\"0\"&IF(ABS(BM85/25.4-ROUND(BM85/25.4,0))>1/32,\"-0/\"&CHOOSE(ROUND(MOD(BM85/25.4,1)*16,0),16,8,16,4,16,8,16,2,16,8,16,4,16,8,16),\"\")),\"\"),\"\")","v":""},"Piece",{"$f":"IFERROR(IF(ISBLANK(BD85),\"\",INDEX(T_NAV_AU[Unit of Measure],MATCH(BD85,T_NAV_AU[No.],0))),\"\")","v":"PIECE"},null,null,"HW",1,1,1,{"$f":"IFERROR(INDEX(INDIRECT(\"T_NAV_\"&i_Location&\"[\"&i_Location&\"]\"),MATCH(1,--(BD85=INDIRECT(\"T_NAV_\"&i_Location&\"[No.]\"))*--((INDIRECT(\"T_NAV_\"&i_Location&\"[\"&i_Location&\"]\"))<>\"\"),0))/IF(AND(BR85=\"METRE\",BH85<>\"\",BS85=\"\"),BH85,1),\"\")","v":""},"",{"$f":"IF(BY85<>\"\",(INDIRECT(\"i_\"&BT85&\"discount\"))*BY85,\"\")","v":""},{"$f":"IFERROR(IF(BY85<>\"\",BY85-BZ85,\"\"),\"\")","v":""},null,null,{"$f":"IFERROR(IF(AY85=\"SHOW\",IF(AND(OR(BQ85=\"ROLL\",BQ85=\"LENGTH\"),BW85>0),ROUNDUP(BW85/CJ85/#REF!,0)*#REF!,IF(BQ85=\"METRE\",#REF!*ROUNDUP(((BW85*BM85)/1000)/#REF!,0),#REF!*ROUNDUP(BW85/#REF!,0))),\"\"),\"\")","v":""},{"$f":"IF(CD85<>\"\",CD85&\"x \"&BQ85&IF(CD85>1,\"S\",\"\"),\"\")","v":""},"",null,{"$f":"IFERROR(INDEX(INDIRECT(\"T_NAV_\"&i_Location&\"[\"&i_Location&\"]\"),MATCH(1,--(BD85=INDIRECT(\"T_NAV_\"&i_Location&\"[No.]\"))*--((INDIRECT(\"T_NAV_\"&i_Location&\"[\"&i_Location&\"]\"))<>\"\"),0)),\"\")","v":""},null,{"$f":"IFERROR(IF(ISBLANK(BU85),\"\",IF(OR(BQ85=\"ROLL\",BQ85=\"LENGTH\"),ROUNDDOWN((BH85*1000)/(BM85+CutTol),0),PRODUCT(AE78,BU85))),\"\")","v":1}]
[null,null,null,null,{"$f":"IFERROR(IF(ISBLANK(D86),\"\",IF(FIND(D86,INDIRECT($D$82))>0,1,0)),0)","v":""},"Gear",0,null,{"$f":"IFERROR(IF(ISBLANK(H86),\"\",IF(FIND(H86,INDIRECT($H$82))>0,1,0)),0)","v":""},null,"",null,"",null,"",null,null,null,null,null,null,null,null,null,null,null,null,null,null,null,{"$f":"IFERROR(IF(AND(AA86=\"Y\",PRODUCT(AB86:AD86)=0),o_nScreens,IF(PRODUCT(AB86:AD86)=0,\"\",PRODUCT(AB86:AD86))),\"\")","v":""},null,null,null,null,null,null,null,null,null,null,null,null,"AU","",0,null,"",{"$f":"IF(ISNUMBER(FIND(\"x\",BF86)),IFERROR(INDEX(INDIRECT(\"T_FinishColour[ColourCode-\"&IF(ISNUMBER(FIND(\"xxx\",BF86)),\"xxx\",IF(ISNUMBER(FIND(\"xx\",BF86)),\"xx\",\"error\"))&AR86&\"]\"),MATCH(AV86,T_FinishColour[Finish / Colour],0)),\"\"),\"\")","v":""},null,{"$f":"IF(AND(ISBLANK(BD86),ISBLANK(C86)),\"HIDE\",_xlfn.SWITCH(PRODUCT(C86:Z86,B86),2,\"HEADING\",1,\"SHOW\",0,\"HIDE\"))","v":"HIDE"},null,"PICK","GL",null,"RE01-0502-050045",null,"RE01-0502-050045","Crank Adaptor | 45mm",null,{"$f":"IF(ISBLANK(BP86),\"\",IF(OR(BP86=L_Units),\"Y\",\"N\"))","v":"N"},null,{"$f":"IFERROR(IF(BI86=\"Y\",((INDEX(T_Deduc[Deduction],MATCH(BJ86,T_Deduc[Type],0),0))),\"\"),\"\")","v":""},null,"","","","Piece",{"$f":"IFERROR(IF(ISBLANK(BD86),\"\",INDEX(T_NAV_AU[Unit of Measure],MATCH(BD86,T_NAV_AU[No.],0))),\"\")","v":"PIECE"},null,null,"HW",1,1,1,{"$f":"IFERROR(INDEX(INDIRECT(\"T_NAV_\"&i_Location&\"[\"&i_Location&\"]\"),MATCH(1,--(BD86=INDIRECT(\"T_NAV_\"&i_Location&\"[No.]\"))*--((INDIRECT(\"T_NAV_\"&i_Location&\"[\"&i_Location&\"]\"))<>\"\"),0))/IF(AND(BR86=\"METRE\",BH86<>\"\",BS86=\"\"),BH86,1),\"\")","v":""},"","","",null,null,{"$f":"IFERROR(IF(AY86=\"SHOW\",IF(AND(OR(BQ86=\"ROLL\",BQ86=\"LENGTH\"),BW86>0),ROUNDUP(BW86/CJ86/#REF!,0)*#REF!,IF(BQ86=\"METRE\",#REF!*ROUNDUP(((BW86*BM86)/1000)/#REF!,0),#REF!*ROUNDUP(BW86/#REF!,0))),\"\"),\"\")","v":""},"","",null,{"$f":"IFERROR(INDEX(INDIRECT(\"T_NAV_\"&i_Location&\"[\"&i_Location&\"]\"),MATCH(1,--(BD86=INDIRECT(\"T_NAV_\"&i_Location&\"[No.]\"))*--((INDIRECT(\"T_NAV_\"&i_Location&\"[\"&i_Location&\"]\"))<>\"\"),0)),\"\")","v":""},null,{"$f":"IFERROR(IF(ISBLANK(BU86),\"\",IF(OR(BQ86=\"ROLL\",BQ86=\"LENGTH\"),ROUNDDOWN((BH86*1000)/(BM86+CutTol),0),PRODUCT(AE79,BU86))),\"\")","v":1}]
[null,null,null,null,null,null,"",null,{"$f":"IFERROR(IF(ISBLANK(H87),\"\",IF(FIND(H87,INDIRECT($H$82))>0,1,0)),0)","v":""},null,"",null,"",null,"","Yes",{"$f":"IFERROR(IF(ISBLANK(P87),\"\",IF(FIND(P87,INDIRECT($P$82))>0,1,0)),0)","v":0},null,null,null,null,null,null,null,null,null,null,null,null,null,{"$f":"IFERROR(IF(AND(AA87=\"Y\",PRODUCT(AB87:AD87)=0),o_nScreens,IF(PRODUCT(AB87:AD87)=0,\"\",PRODUCT(AB87:AD87))),\"\")","v":""},null,null,null,{"$f":"IFERROR(IF(FIND(\"Black\",i_GearHandleClip)>1,\"Black\"),\"Grey\")","v":"Grey"},null,null,null,null,null,null,null,null,"AU",{"$f":"IFERROR(INDEX(AI87:AQ87,0,MATCH(AT87,AI87:AQ87,0)),IF(AI87<>\"\",AI87,i_DefaultColour))","v":"Grey"},0,null,{"$f":"IFERROR(INDEX(AI87:AQ87,0,MATCH(AT87,AI87:AQ87,0)),AS87)","v":"Grey"},{"$f":"IFERROR(INDEX(T_FinishColour[ColourCode-xxxAU],MATCH(AV87,T_FinishColour[Finish / Colour],0)),\"\")","v":"340"},null,{"$f":"IF(AND(ISBLANK(BD87),ISBLANK(C87)),\"HIDE\",_xlfn.SWITCH(PRODUCT(C87:Z87,B87),2,\"HEADING\",1,\"SHOW\",0,\"HIDE\"))","v":"HIDE"},null,"PICK","GL",null,"RB05-9102-340000",null,{"$f":"SUBSTITUTE(\"RB05-9102-xxx000\",\"xxx\",AW87)","v":"RB05-9102-340000"},"Gear/Crank Operation Arm Support",null,{"$f":"IF(ISBLANK(BP87),\"\",IF(OR(BP87=L_Units),\"Y\",\"N\"))","v":"N"},null,{"$f":"IFERROR(IF(BI87=\"Y\",((INDEX(T_Deduc[Deduction],MATCH(BJ87,T_Deduc[Type],0),0))),\"\"),\"\")","v":""},null,"","","","Piece",{"$f":"IFERROR(IF(ISBLANK(BD87),\"\",INDEX(T_NAV_AU[Unit of Measure],MATCH(BD87,T_NAV_AU[No.],0))),\"\")","v":"PIECE"},null,null,"HW",1,1,1,{"$f":"IFERROR(INDEX(INDIRECT(\"T_NAV_\"&i_Location&\"[\"&i_Location&\"]\"),MATCH(1,--(BD87=INDIRECT(\"T_NAV_\"&i_Location&\"[No.]\"))*--((INDIRECT(\"T_NAV_\"&i_Location&\"[\"&i_Location&\"]\"))<>\"\"),0))/IF(AND(BR87=\"METRE\",BH87<>\"\",BS87=\"\"),BH87,1),\"\")","v":""},"","","",null,null,{"$f":"IFERROR(IF(AY87=\"SHOW\",IF(AND(OR(BQ87=\"ROLL\",BQ87=\"LENGTH\"),BW87>0),ROUNDUP(BW87/CJ87/#REF!,0)*#REF!,IF(BQ87=\"METRE\",#REF!*ROUNDUP(((BW87*BM87)/1000)/#REF!,0),#REF!*ROUNDUP(BW87/#REF!,0))),\"\"),\"\")","v":""},"","",null,{"$f":"IFERROR(INDEX(INDIRECT(\"T_NAV_\"&i_Location&\"[\"&i_Location&\"]\"),MATCH(1,--(BD87=INDIRECT(\"T_NAV_\"&i_Location&\"[No.]\"))*--((INDIRECT(\"T_NAV_\"&i_Location&\"[\"&i_Location&\"]\"))<>\"\"),0)),\"\")","v":""},null,{"$f":"IFERROR(IF(ISBLANK(BU87),\"\",IF(OR(BQ87=\"ROLL\",BQ87=\"LENGTH\"),ROUNDDOWN((BH87*1000)/(BM87+CutTol),0),PRODUCT(#REF!,BU87))),\"\")","v":""}]
[null,null,"",null,{"$f":"IFERROR(IF(ISBLANK(D88),\"\",IF(FIND(D88,INDIRECT($D$82))>0,1,0)),0)","v":""},null,"","1m (40\")",0,null,"",null,"",null,"",null,null,null,null,null,null,null,null,null,null,null,null,null,null,null,{"$f":"IFERROR(IF(AND(AA88=\"Y\",PRODUCT(AB88:AD88)=0),o_nScreens,IF(PRODUCT(AB88:AD88)=0,\"\",PRODUCT(AB88:AD88))),\"\")","v":""},null,null,null,{"$f":"IFERROR(IF(FIND(\"Black\",i_GearArm)>1,\"Black\"),\"Grey\")","v":"Grey"},null,null,null,null,null,null,null,null,"AU",{"$f":"IFERROR(INDEX(AI88:AQ88,0,MATCH(AT88,AI88:AQ88,0)),IF(AI88<>\"\",AI88,i_DefaultColour))","v":"Grey"},0,null,{"$f":"IFERROR(INDEX(AI88:AQ88,0,MATCH(AT88,AI88:AQ88,0)),AS88)","v":"Grey"},{"$f":"IFERROR(INDEX(T_FinishColour[ColourCode-xxxAU],MATCH(AV88,T_FinishColour[Finish / Colour],0)),\"\")","v":"340"},null,{"$f":"IF(AND(ISBLANK(BD88),ISBLANK(C88)),\"HIDE\",_xlfn.SWITCH(PRODUCT(C88:Z88,B88),2,\"HEADING\",1,\"SHOW\",0,\"HIDE\"))","v":"HIDE"},null,"PICK","GL",null,"RB05-9101-340100",null,{"$f":"SUBSTITUTE(\"RB05-9101-xxx100\",\"xxx\",AW88)","v":"RB05-9101-340100"},"Gear/Crank Operation Control Arm - 100cm",null,{"$f":"IF(ISBLANK(BP88),\"\",IF(OR(BP88=L_Units),\"Y\",\"N\"))","v":"N"},null,{"$f":"IFERROR(IF(BI88=\"Y\",((INDEX(T_Deduc[Deduction],MATCH(BJ88,T_Deduc[Type],0),0))),\"\"),\"\")","v":""},null,"","","","Piece",{"$f":"IFERROR(IF(ISBLANK(BD88),\"\",INDEX(T_NAV_AU[Unit of Measure],MATCH(BD88,T_NAV_AU[No.],0))),\"\")","v":"PIECE"},null,null,"HW",1,1,1,{"$f":"IFERROR(INDEX(INDIRECT(\"T_NAV_\"&i_Location&\"[\"&i_Location&\"]\"),MATCH(1,--(BD88=INDIRECT(\"T_NAV_\"&i_Location&\"[No.]\"))*--((INDIRECT(\"T_NAV_\"&i_Location&\"[\"&i_Location&\"]\"))<>\"\"),0))/IF(AND(BR88=\"METRE\",BH88<>\"\",BS88=\"\"),BH88,1),\"\")","v":""},"","","",null,null,{"$f":"IFERROR(IF(AY88=\"SHOW\",IF(AND(OR(BQ88=\"ROLL\",BQ88=\"LENGTH\"),BW88>0),ROUNDUP(BW88/CJ88/#REF!,0)*#REF!,IF(BQ88=\"METRE\",#REF!*ROUNDUP(((BW88*BM88)/1000)/#REF!,0),#REF!*ROUNDUP(BW88/#REF!,0))),\"\"),\"\")","v":""},"","",null,{"$f":"IFERROR(INDEX(INDIRECT(\"T_NAV_\"&i_Location&\"[\"&i_Location&\"]\"),MATCH(1,--(BD88=INDIRECT(\"T_NAV_\"&i_Location&\"[No.]\"))*--((INDIRECT(\"T_NAV_\"&i_Location&\"[\"&i_Location&\"]\"))<>\"\"),0)),\"\")","v":""},null,{"$f":"IFERROR(IF(ISBLANK(BU88),\"\",IF(OR(BQ88=\"ROLL\",BQ88=\"LENGTH\"),ROUNDDOWN((BH88*1000)/(BM88+CutTol),0),PRODUCT(#REF!,BU88))),\"\")","v":""}]
[null,null,"",null,{"$f":"IFERROR(IF(ISBLANK(D89),\"\",IF(FIND(D89,INDIRECT($D$82))>0,1,0)),0)","v":""},null,"","1.5m (60\")",0,null,"",null,"",null,"",null,null,null,null,null,null,null,null,null,null,null,null,null,null,null,{"$f":"IFERROR(IF(AND(AA89=\"Y\",PRODUCT(AB89:AD89)=0),o_nScreens,IF(PRODUCT(AB89:AD89)=0,\"\",PRODUCT(AB89:AD89))),\"\")","v":""},null,null,null,{"$f":"IFERROR(IF(FIND(\"Black\",i_GearArm)>1,\"Black\"),\"Grey\")","v":"Grey"},null,null,null,null,null,null,null,null,"AU",{"$f":"IFERROR(INDEX(AI89:AQ89,0,MATCH(AT89,AI89:AQ89,0)),IF(AI89<>\"\",AI89,i_DefaultColour))","v":"Grey"},0,null,"Grey",{"$f":"IFERROR(INDEX(T_FinishColour[ColourCode-xxxAU],MATCH(AV89,T_FinishColour[Finish / Colour],0)),\"\")","v":"340"},null,{"$f":"IF(AND(ISBLANK(BD89),ISBLANK(C89)),\"HIDE\",_xlfn.SWITCH(PRODUCT(C89:Z89,B89),2,\"HEADING\",1,\"SHOW\",0,\"HIDE\"))","v":"HIDE"},null,"PICK","GL",null,"RB05-9101-340150",null,{"$f":"SUBSTITUTE(\"RB05-9101-xxx150\",\"xxx\",AW89)","v":"RB05-9101-340150"},"Gear/Crank Operation Control Arm - 150cm",null,{"$f":"IF(ISBLANK(BP89),\"\",IF(OR(BP89=L_Units),\"Y\",\"N\"))","v":"N"},null,{"$f":"IFERROR(IF(BI89=\"Y\",((INDEX(T_Deduc[Deduction],MATCH(BJ89,T_Deduc[Type],0),0))),\"\"),\"\")","v":""},null,"","","","Piece",{"$f":"IFERROR(IF(ISBLANK(BD89),\"\",INDEX(T_NAV_AU[Unit of Measure],MATCH(BD89,T_NAV_AU[No.],0))),\"\")","v":"PIECE"},null,null,"HW",1,1,1,{"$f":"IFERROR(INDEX(INDIRECT(\"T_NAV_\"&i_Location&\"[\"&i_Location&\"]\"),MATCH(1,--(BD89=INDIRECT(\"T_NAV_\"&i_Location&\"[No.]\"))*--((INDIRECT(\"T_NAV_\"&i_Location&\"[\"&i_Location&\"]\"))<>\"\"),0))/IF(AND(BR89=\"METRE\",BH89<>\"\",BS89=\"\"),BH89,1),\"\")","v":""},"","","",null,null,{"$f":"IFERROR(IF(AY89=\"SHOW\",IF(AND(OR(BQ89=\"ROLL\",BQ89=\"LENGTH\"),BW89>0),ROUNDUP(BW89/CJ89/#REF!,0)*#REF!,IF(BQ89=\"METRE\",#REF!*ROUNDUP(((BW89*BM89)/1000)/#REF!,0),#REF!*ROUNDUP(BW89/#REF!,0))),\"\"),\"\")","v":""},"","",null,{"$f":"IFERROR(INDEX(INDIRECT(\"T_NAV_\"&i_Location&\"[\"&i_Location&\"]\"),MATCH(1,--(BD89=INDIRECT(\"T_NAV_\"&i_Location&\"[No.]\"))*--((INDIRECT(\"T_NAV_\"&i_Location&\"[\"&i_Location&\"]\"))<>\"\"),0)),\"\")","v":""},null,{"$f":"IFERROR(IF(ISBLANK(BU89),\"\",IF(OR(BQ89=\"ROLL\",BQ89=\"LENGTH\"),ROUNDDOWN((BH89*1000)/(BM89+CutTol),0),PRODUCT(#REF!,BU89))),\"\")","v":""}]
[null,null,"",null,{"$f":"IFERROR(IF(ISBLANK(D90),\"\",IF(FIND(D90,INDIRECT($D$82))>0,1,0)),0)","v":""},null,"","2m (80\")",0,null,"",null,"",null,"",null,null,null,null,null,null,null,null,null,null,null,null,null,null,null,{"$f":"IFERROR(IF(AND(AA90=\"Y\",PRODUCT(AB90:AD90)=0),o_nScreens,IF(PRODUCT(AB90:AD90)=0,\"\",PRODUCT(AB90:AD90))),\"\")","v":""},null,null,null,{"$f":"IFERROR(IF(FIND(\"Black\",i_GearArm)>1,\"Black\"),\"Grey\")","v":"Grey"},null,null,null,null,null,null,null,null,"AU",{"$f":"IFERROR(INDEX(AI90:AQ90,0,MATCH(AT90,AI90:AQ90,0)),IF(AI90<>\"\",AI90,i_DefaultColour))","v":"Grey"},0,null,"Grey",{"$f":"IFERROR(INDEX(T_FinishColour[ColourCode-xxxAU],MATCH(AV90,T_FinishColour[Finish / Colour],0)),\"\")","v":"340"},null,{"$f":"IF(AND(ISBLANK(BD90),ISBLANK(C90)),\"HIDE\",_xlfn.SWITCH(PRODUCT(C90:Z90,B90),2,\"HEADING\",1,\"SHOW\",0,\"HIDE\"))","v":"HIDE"},null,"PICK","GL",null,"RB05-9101-340200",null,{"$f":"SUBSTITUTE(\"RB05-9101-xxx200\",\"xxx\",AW90)","v":"RB05-9101-340200"},"Gear/Crank Operation Control Arm - 200cm",null,{"$f":"IF(ISBLANK(BP90),\"\",IF(OR(BP90=L_Units),\"Y\",\"N\"))","v":"N"},null,{"$f":"IFERROR(IF(BI90=\"Y\",((INDEX(T_Deduc[Deduction],MATCH(BJ90,T_Deduc[Type],0),0))),\"\"),\"\")","v":""},null,"","","","Piece",{"$f":"IFERROR(IF(ISBLANK(BD90),\"\",INDEX(T_NAV_AU[Unit of Measure],MATCH(BD90,T_NAV_AU[No.],0))),\"\")","v":"PIECE"},null,null,"HW",1,1,1,{"$f":"IFERROR(INDEX(INDIRECT(\"T_NAV_\"&i_Location&\"[\"&i_Location&\"]\"),MATCH(1,--(BD90=INDIRECT(\"T_NAV_\"&i_Location&\"[No.]\"))*--((INDIRECT(\"T_NAV_\"&i_Location&\"[\"&i_Location&\"]\"))<>\"\"),0))/IF(AND(BR90=\"METRE\",BH90<>\"\",BS90=\"\"),BH90,1),\"\")","v":""},"","","",null,null,{"$f":"IFERROR(IF(AY90=\"SHOW\",IF(AND(OR(BQ90=\"ROLL\",BQ90=\"LENGTH\"),BW90>0),ROUNDUP(BW90/CJ90/#REF!,0)*#REF!,IF(BQ90=\"METRE\",#REF!*ROUNDUP(((BW90*BM90)/1000)/#REF!,0),#REF!*ROUNDUP(BW90/#REF!,0))),\"\"),\"\")","v":""},"","",null,{"$f":"IFERROR(INDEX(INDIRECT(\"T_NAV_\"&i_Location&\"[\"&i_Location&\"]\"),MATCH(1,--(BD90=INDIRECT(\"T_NAV_\"&i_Location&\"[No.]\"))*--((INDIRECT(\"T_NAV_\"&i_Location&\"[\"&i_Location&\"]\"))<>\"\"),0)),\"\")","v":""},null,{"$f":"IFERROR(IF(ISBLANK(BU90),\"\",IF(OR(BQ90=\"ROLL\",BQ90=\"LENGTH\"),ROUNDDOWN((BH90*1000)/(BM90+CutTol),0),PRODUCT(#REF!,BU90))),\"\")","v":""}]
[null,2,{"$f":"C92","v":0},"",null,null,null,null,null,null,null,null,null,null,null,null,null,null,null,null,null,null,null,null,null,null,null,null,null,null,{"$f":"IFERROR(IF(AND(AA91=\"Y\",PRODUCT(AB91:AD91)=0),o_nScreens,IF(PRODUCT(AB91:AD91)=0,\"\",PRODUCT(AB91:AD91))),\"\")","v":""},null,null,null,null,null,null,null,null,null,null,null,null,null,{"$f":"IF(ISNUMBER(FIND(\"x\",BF91)),IFERROR(INDEX(AI91:AQ91,0,MATCH(AT91,AI91:AQ91,0)),IF(AI91<>\"\",AI91,i_DefaultColour)),\"\")","v":""},null,null,{"$f":"IF(ISNUMBER(FIND(\"x\",BF91)),IFERROR(INDEX(AI91:AQ91,0,MATCH(AT91,AI91:AQ91,0)),AS91),\"\")","v":""},{"$f":"IF(ISNUMBER(FIND(\"x\",BF91)),IFERROR(INDEX(INDIRECT(\"T_FinishColour[ColourCode-\"&IF(ISNUMBER(FIND(\"xxx\",BF91)),\"xxx\",IF(ISNUMBER(FIND(\"xx\",BF91)),\"xx\",\"error\"))&AR91&\"]\"),MATCH(AV91,T_FinishColour[Finish / Colour],0)),\"\"),\"\")","v":""},null,{"$f":"IF(AND(ISBLANK(BD91),ISBLANK(C91)),\"HIDE\",_xlfn.SWITCH(PRODUCT(C91:Z91,B91),2,\"HEADING\",1,\"SHOW\",0,\"HIDE\"))","v":"HIDE"},null,null,null,null,"",null,null,null,null,null,null,{"$f":"IFERROR(IF(BI91=\"Y\",((INDEX(T_Deduc[Deduction],MATCH(BJ91,T_Deduc[Type],0),0))),\"\"),\"\")","v":""},null,"","","",null,{"$f":"IFERROR(IF(ISBLANK(BD91),\"\",INDEX(T_NAV_AU[Unit of Measure],MATCH(BD91,T_NAV_AU[No.],0))),\"\")","v":""},null,null,null,null,"","",{"$f":"IFERROR(INDEX(INDIRECT(\"T_NAV_\"&i_Location&\"[\"&i_Location&\"]\"),MATCH(1,--(BD91=INDIRECT(\"T_NAV_\"&i_Location&\"[No.]\"))*--((INDIRECT(\"T_NAV_\"&i_Location&\"[\"&i_Location&\"]\"))<>\"\"),0))/IF(AND(BR91=\"METRE\",BH91<>\"\",BS91=\"\"),BH91,1),\"\")","v":""},"","","",null,null,{"$f":"IFERROR(IF(AY91=\"SHOW\",IF(AND(OR(BQ91=\"ROLL\",BQ91=\"LENGTH\"),BW91>0),ROUNDUP(BW91/CJ91/#REF!,0)*#REF!,IF(BQ91=\"METRE\",#REF!*ROUNDUP(((BW91*BM91)/1000)/#REF!,0),#REF!*ROUNDUP(BW91/#REF!,0))),\"\"),\"\")","v":""},"","",null,{"$f":"IFERROR(INDEX(INDIRECT(\"T_NAV_\"&i_Location&\"[\"&i_Location&\"]\"),MATCH(1,--(BD91=INDIRECT(\"T_NAV_\"&i_Location&\"[No.]\"))*--((INDIRECT(\"T_NAV_\"&i_Location&\"[\"&i_Location&\"]\"))<>\"\"),0)),\"\")","v":""},null,{"$f":"IFERROR(IF(ISBLANK(BU91),\"\",IF(OR(BQ91=\"ROLL\",BQ91=\"LENGTH\"),ROUNDDOWN((BH91*1000)/(BM91+CutTol),0),PRODUCT(AE81,BU91))),\"\")","v":""}]
[null,2,{"$f":"IF(COUNTIF(AY93:AY122,\"SHOW\")>0,1,0)","v":0},"i_InstallationType",null,"i_Motor",null,"i_Tube",null,"i_Remote",null,"I_Location",null,"i_ControlType",null,"i_Sensor",null,"i_SystemType",null,"i_IdlerType",null,null,null,null,null,null,null,null,null,null,{"$f":"IFERROR(IF(AND(AA92=\"Y\",PRODUCT(AB92:AD92)=0),o_nScreens,IF(PRODUCT(AB92:AD92)=0,\"\",PRODUCT(AB92:AD92))),\"\")","v":""},null,null,null,null,null,null,null,null,null,null,null,null,null,{"$f":"IF(ISNUMBER(FIND(\"x\",BF92)),IFERROR(INDEX(AI92:AQ92,0,MATCH(AT92,AI92:AQ92,0)),IF(AI92<>\"\",AI92,i_DefaultColour)),\"\")","v":""},null,null,{"$f":"IF(ISNUMBER(FIND(\"x\",BF92)),IFERROR(INDEX(AI92:AQ92,0,MATCH(AT92,AI92:AQ92,0)),AS92),\"\")","v":""},{"$f":"IF(ISNUMBER(FIND(\"x\",BF92)),IFERROR(INDEX(INDIRECT(\"T_FinishColour[ColourCode-\"&IF(ISNUMBER(FIND(\"xxx\",BF92)),\"xxx\",IF(ISNUMBER(FIND(\"xx\",BF92)),\"xx\",\"error\"))&AR92&\"]\"),MATCH(AV92,T_FinishColour[Finish / Colour],0)),\"\"),\"\")","v":""},null,{"$f":"IF(AND(ISBLANK(BD92),ISBLANK(C92)),\"HIDE\",_xlfn.SWITCH(PRODUCT(C92:Z92,B92),2,\"HEADING\",1,\"SHOW\",0,\"HIDE\"))","v":"HIDE"},null,null,null,null,"MOTOR CONTROL",null,"MOTOR CONTROL",null,null,null,null,{"$f":"IFERROR(IF(BI92=\"Y\",((INDEX(T_Deduc[Deduction],MATCH(BJ92,T_Deduc[Type],0),0))),\"\"),\"\")","v":""},null,"","","",null,{"$f":"IFERROR(IF(ISBLANK(BD92),\"\",INDEX(T_NAV_AU[Unit of Measure],MATCH(BD92,T_NAV_AU[No.],0))),\"\")","v":""},null,null,null,null,null,null,null,"","","",null,null,{"$f":"IFERROR(IF(AY92=\"SHOW\",IF(AND(OR(BQ92=\"ROLL\",BQ92=\"LENGTH\"),BW92>0),ROUNDUP(BW92/CJ92/#REF!,0)*#REF!,IF(BQ92=\"METRE\",#REF!*ROUNDUP(((BW92*BM92)/1000)/#REF!,0),#REF!*ROUNDUP(BW92/#REF!,0))),\"\"),\"\")","v":""},"","",null,{"$f":"IFERROR(INDEX(INDIRECT(\"T_NAV_\"&i_Location&\"[\"&i_Location&\"]\"),MATCH(1,--(BD92=INDIRECT(\"T_NAV_\"&i_Location&\"[No.]\"))*--((INDIRECT(\"T_NAV_\"&i_Location&\"[\"&i_Location&\"]\"))<>\"\"),0)),\"\")","v":""},null,{"$f":"IFERROR(IF(ISBLANK(BU92),\"\",IF(OR(BQ92=\"ROLL\",BQ92=\"LENGTH\"),ROUNDDOWN((BH92*1000)/(BM92+CutTol),0),PRODUCT(AE82,BU92))),\"\")","v":""}]
[null,null,"",null,{"$f":"IFERROR(IF(ISBLANK(D93),\"\",IF(FIND(D93,INDIRECT($D$92))>0,1,0)),0)","v":""},"AUTOMATE | FT Motor | 15Nm | Short Conn.",{"$f":"IFERROR(IF(ISBLANK(F93),\"\",IF(FIND(F93,INDIRECT($F$92))>0,1,0)),0)","v":0},null,{"$f":"IFERROR(IF(ISBLANK(H93),\"\",IF(FIND(H93,INDIRECT($H$92))>0,1,0)),0)","v":""},null,{"$f":"IFERROR(IF(ISBLANK(J93),\"\",IF(FIND(J93,INDIRECT($J$92))>0,1,0)),0)","v":""},"AU",{"$f":"IFERROR(IF(ISBLANK(L93),\"\",IF(FIND(L93,INDIRECT($L$92))>0,1,0)),0)","v":0},null,{"$f":"IFERROR(IF(ISBLANK(N93),\"\",IF(FIND(N93,INDIRECT($N$92))>0,1,0)),0)","v":""},null,{"$f":"IFERROR(IF(ISBLANK(P93),\"\",IF(FIND(P93,INDIRECT($P$92))>0,1,0)),0)","v":""},null,null,null,null,null,null,null,null,null,null,null,null,null,{"$f":"IFERROR(IF(AND(AA93=\"Y\",PRODUCT(AB93:AD93)=0),o_nScreens,IF(PRODUCT(AB93:AD93)=0,\"\",PRODUCT(AB93:AD93))),\"\")","v":""},null,null,null,null,null,null,null,null,null,null,null,null,"AU",{"$f":"IF(ISNUMBER(FIND(\"x\",BF93)),IFERROR(INDEX(AI93:AQ93,0,MATCH(AT93,AI93:AQ93,0)),IF(AI93<>\"\",AI93,i_DefaultColour)),\"\")","v":""},{"$f":"i_Finish","v":0},null,{"$f":"IF(ISNUMBER(FIND(\"x\",BF93)),IFERROR(INDEX(AI93:AQ93,0,MATCH(AT93,AI93:AQ93,0)),AS93),\"\")","v":""},{"$f":"IF(ISNUMBER(FIND(\"x\",BF93)),IFERROR(INDEX(INDIRECT(\"T_FinishColour[ColourCode-\"&IF(ISNUMBER(FIND(\"xxx\",BF93)),\"xxx\",IF(ISNUMBER(FIND(\"xx\",BF93)),\"xx\",\"error\"))&AR93&\"]\"),MATCH(AV93,T_FinishColour[Finish / Colour],0)),\"\"),\"\")","v":""},null,{"$f":"IF(AND(ISBLANK(BD93),ISBLANK(C93)),\"HIDE\",_xlfn.SWITCH(PRODUCT(C93:Z93,B93),2,\"HEADING\",1,\"SHOW\",0,\"HIDE\"))","v":"HIDE"},null,"PICK","AU",null,"MT01-1145-050001",null,"MT01-1145-050001","AUTOMATE | FT Motor | [Ø45/15Nm/15rpm] | Short Conn.",null,{"$f":"IF(ISBLANK(BP93),\"\",IF(OR(BP93=L_Units),\"Y\",\"N\"))","v":"N"},null,{"$f":"IFERROR(IF(BI93=\"Y\",((INDEX(T_Deduc[Deduction],MATCH(BJ93,T_Deduc[Type],0),0))),\"\"),\"\")","v":""},null,"","","","Set",{"$f":"IFERROR(IF(ISBLANK(BD93),\"\",INDEX(T_NAV_AU[Unit of Measure],MATCH(BD93,T_NAV_AU[No.],0))),\"\")","v":"PIECE"},null,null,"AM",1,{"$f":"IF(ISBLANK(BU93),\"\",PRODUCT(AE93,BU93))","v":1},{"$f":"IF(ISBLANK(BU93),\"\",PRODUCT(AE93,BU93,i_systemQTY))","v":1},{"$f":"IFERROR(INDEX(INDIRECT(\"T_NAV_\"&i_Location&\"[\"&i_Location&\"]\"),MATCH(1,--(BD93=INDIRECT(\"T_NAV_\"&i_Location&\"[No.]\"))*--((INDIRECT(\"T_NAV_\"&i_Location&\"[\"&i_Location&\"]\"))<>\"\"),0))/IF(AND(BR93=\"METRE\",BH93<>\"\",BS93=\"\"),BH93,1),\"\")","v":""},"","","",null,null,{"$f":"IFERROR(IF(AY93=\"SHOW\",IF(AND(OR(BQ93=\"ROLL\",BQ93=\"LENGTH\"),BW93>0),ROUNDUP(BW93/CJ93/#REF!,0)*#REF!,IF(BQ93=\"METRE\",#REF!*ROUNDUP(((BW93*BM93)/1000)/#REF!,0),#REF!*ROUNDUP(BW93/#REF!,0))),\"\"),\"\")","v":""},"","",null,{"$f":"IFERROR(INDEX(INDIRECT(\"T_NAV_\"&i_Location&\"[\"&i_Location&\"]\"),MATCH(1,--(BD93=INDIRECT(\"T_NAV_\"&i_Location&\"[No.]\"))*--((INDIRECT(\"T_NAV_\"&i_Location&\"[\"&i_Location&\"]\"))<>\"\"),0)),\"\")","v":""},null,{"$f":"IFERROR(IF(ISBLANK(BU93),\"\",IF(OR(BQ93=\"ROLL\",BQ93=\"LENGTH\"),ROUNDDOWN((BH93*1000)/(BM93+CutTol),0),PRODUCT(AE83,BU93))),\"\")","v":1}]
[null,null,"",null,null,"AUTOMATE | FT Motor | 15Nm | Long Conn.",0,null,null,null,null,"AU",0,null,null,null,null,null,null,null,null,null,null,null,null,null,null,null,null,null,null,null,null,null,null,null,null,null,null,null,null,null,null,null,null,null,null,null,null,null,{"$f":"IF(AND(ISBLANK(BD94),ISBLANK(C94)),\"HIDE\",_xlfn.SWITCH(PRODUCT(C94:Z94,B94),2,\"HEADING\",1,\"SHOW\",0,\"HIDE\"))","v":"HIDE"},null,"PICK","AU",null,"MT01-1145-050012",null,"MT01-1145-050012","AUTOMATE | FT Motor | [Ø45/15Nm/15rpm] | Long Conn.",null,{"$f":"IF(ISBLANK(BP94),\"\",IF(OR(BP94=L_Units),\"Y\",\"N\"))","v":"N"},null,{"$f":"IFERROR(IF(BI94=\"Y\",((INDEX(T_Deduc[Deduction],MATCH(BJ94,T_Deduc[Type],0),0))),\"\"),\"\")","v":""},null,{"$f":"IFERROR(IF(BI94=\"Y\",INDIRECT(BL94)-BK94,\"\"),\"\")","v":""},{"$f":"IFERROR(IF(BI94=\"Y\",BM94,\"\"),\"\")","v":""},{"$f":"IFERROR(IF(BI94=\"Y\",TEXT(BM94/25.4,\"0\"&IF(ABS(BM94/25.4-ROUND(BM94/25.4,0))>1/32,\"-0/\"&CHOOSE(ROUND(MOD(BM94/25.4,1)*16,0),16,8,16,4,16,8,16,2,16,8,16,4,16,8,16),\"\")),\"\"),\"\")","v":""},"Set",{"$f":"IFERROR(IF(ISBLANK(BD94),\"\",INDEX(T_NAV_AU[Unit of Measure],MATCH(BD94,T_NAV_AU[No.],0))),\"\")","v":"PIECE"},null,null,"AM",1,1,1,{"$f":"IFERROR(INDEX(INDIRECT(\"T_NAV_\"&i_Location&\"[\"&i_Location&\"]\"),MATCH(1,--(BD94=INDIRECT(\"T_NAV_\"&i_Location&\"[No.]\"))*--((INDIRECT(\"T_NAV_\"&i_Location&\"[\"&i_Location&\"]\"))<>\"\"),0))/IF(AND(BR94=\"METRE\",BH94<>\"\",BS94=\"\"),BH94,1),\"\")","v":""},"",{"$f":"IF(BY94<>\"\",(INDIRECT(\"i_\"&BT94&\"discount\"))*BY94,\"\")","v":""},{"$f":"IFERROR(IF(BY94<>\"\",BY94-BZ94,\"\"),\"\")","v":""},null,null,{"$f":"IFERROR(IF(AY94=\"SHOW\",IF(AND(OR(BQ94=\"ROLL\",BQ94=\"LENGTH\"),BW94>0),ROUNDUP(BW94/CJ94/#REF!,0)*#REF!,IF(BQ94=\"METRE\",#REF!*ROUNDUP(((BW94*BM94)/1000)/#REF!,0),#REF!*ROUNDUP(BW94/#REF!,0))),\"\"),\"\")","v":""},{"$f":"IF(CD94<>\"\",CD94&\"x \"&BQ94&IF(CD94>1,\"S\",\"\"),\"\")","v":""},"",null,{"$f":"IFERROR(INDEX(INDIRECT(\"T_NAV_\"&i_Location&\"[\"&i_Location&\"]\"),MATCH(1,--(BD94=INDIRECT(\"T_NAV_\"&i_Location&\"[No.]\"))*--((INDIRECT(\"T_NAV_\"&i_Location&\"[\"&i_Location&\"]\"))<>\"\"),0)),\"\")","v":""},null,{"$f":"IFERROR(IF(ISBLANK(BU94),\"\",IF(OR(BQ94=\"ROLL\",BQ94=\"LENGTH\"),ROUNDDOWN((BH94*1000)/(BM94+CutTol),0),PRODUCT(AE84,BU94))),\"\")","v":1}]
[null,null,"",null,{"$f":"IFERROR(IF(ISBLANK(D95),\"\",IF(FIND(D95,INDIRECT($D$92))>0,1,0)),0)","v":""},"AUTOMATE | FT",0,null,{"$f":"IFERROR(IF(ISBLANK(H95),\"\",IF(FIND(H95,INDIRECT($H$92))>0,1,0)),0)","v":""},null,{"$f":"IFERROR(IF(ISBLANK(J95),\"\",IF(FIND(J95,INDIRECT($J$92))>0,1,0)),0)","v":""},"US",0,null,{"$f":"IFERROR(IF(ISBLANK(N95),\"\",IF(FIND(N95,INDIRECT($N$92))>0,1,0)),0)","v":""},null,{"$f":"IFERROR(IF(ISBLANK(P95),\"\",IF(FIND(P95,INDIRECT($P$92))>0,1,0)),0)","v":""},null,null,null,null,null,null,null,null,null,null,null,null,null,{"$f":"IFERROR(IF(AND(AA95=\"Y\",PRODUCT(AB95:AD95)=0),o_nScreens,IF(PRODUCT(AB95:AD95)=0,\"\",PRODUCT(AB95:AD95))),\"\")","v":""},null,null,null,null,null,null,null,null,null,null,null,null,"AU",{"$f":"IF(ISNUMBER(FIND(\"x\",BF95)),IFERROR(INDEX(AI95:AQ95,0,MATCH(AT95,AI95:AQ95,0)),IF(AI95<>\"\",AI95,i_DefaultColour)),\"\")","v":""},0,null,{"$f":"IF(ISNUMBER(FIND(\"x\",BF95)),IFERROR(INDEX(AI95:AQ95,0,MATCH(AT95,AI95:AQ95,0)),AS95),\"\")","v":""},{"$f":"IF(ISNUMBER(FIND(\"x\",BF95)),IFERROR(INDEX(INDIRECT(\"T_FinishColour[ColourCode-\"&IF(ISNUMBER(FIND(\"xxx\",BF95)),\"xxx\",IF(ISNUMBER(FIND(\"xx\",BF95)),\"xx\",\"error\"))&AR95&\"]\"),MATCH(AV95,T_FinishColour[Finish / Colour],0)),\"\"),\"\")","v":""},null,{"$f":"IF(AND(ISBLANK(BD95),ISBLANK(C95)),\"HIDE\",_xlfn.SWITCH(PRODUCT(C95:Z95,B95),2,\"HEADING\",1,\"SHOW\",0,\"HIDE\"))","v":"HIDE"},null,"PICK","US",null,"MT01-1145-069003",null,"MT01-1145-069003","AUTOMATE | FT SLIM Motor | [Ø45/15Nm/32rpm]",null,{"$f":"IF(ISBLANK(BP95),\"\",IF(OR(BP95=L_Units),\"Y\",\"N\"))","v":"N"},null,{"$f":"IFERROR(IF(BI95=\"Y\",((INDEX(T_Deduc[Deduction],MATCH(BJ95,T_Deduc[Type],0),0))),\"\"),\"\")","v":""},null,"","","","Piece","PIECE",null,null,"AM",1,1,1,{"$f":"IFERROR(INDEX(INDIRECT(\"T_NAV_\"&i_Location&\"[\"&i_Location&\"]\"),MATCH(1,--(BD95=INDIRECT(\"T_NAV_\"&i_Location&\"[No.]\"))*--((INDIRECT(\"T_NAV_\"&i_Location&\"[\"&i_Location&\"]\"))<>\"\"),0))/IF(AND(BR95=\"METRE\",BH95<>\"\",BS95=\"\"),BH95,1),\"\")","v":""},"","","",null,null,{"$f":"IFERROR(IF(AY95=\"SHOW\",IF(AND(OR(BQ95=\"ROLL\",BQ95=\"LENGTH\"),BW95>0),ROUNDUP(BW95/CJ95/#REF!,0)*#REF!,IF(BQ95=\"METRE\",#REF!*ROUNDUP(((BW95*BM95)/1000)/#REF!,0),#REF!*ROUNDUP(BW95/#REF!,0))),\"\"),\"\")","v":""},"","",null,{"$f":"IFERROR(INDEX(INDIRECT(\"T_NAV_\"&i_Location&\"[\"&i_Location&\"]\"),MATCH(1,--(BD95=INDIRECT(\"T_NAV_\"&i_Location&\"[No.]\"))*--((INDIRECT(\"T_NAV_\"&i_Location&\"[\"&i_Location&\"]\"))<>\"\"),0)),\"\")","v":""},null,{"$f":"IFERROR(IF(ISBLANK(BU95),\"\",IF(OR(BQ95=\"ROLL\",BQ95=\"LENGTH\"),ROUNDDOWN((BH95*1000)/(BM95+CutTol),0),PRODUCT(AE84,BU95))),\"\")","v":1}]
[null,null,"",null,"","AUTOMATE | DCFT Motor + Battery |15Nm",0,null,"",null,"","AU",0,null,"",null,"",null,null,null,null,null,null,null,null,null,null,null,null,null,{"$f":"IFERROR(IF(AND(AA96=\"Y\",PRODUCT(AB96:AD96)=0),o_nScreens,IF(PRODUCT(AB96:AD96)=0,\"\",PRODUCT(AB96:AD96))),\"\")","v":""},null,null,null,null,null,null,null,null,null,null,null,null,"AU","",0,null,"",{"$f":"IF(ISNUMBER(FIND(\"x\",BF96)),IFERROR(INDEX(INDIRECT(\"T_FinishColour[ColourCode-\"&IF(ISNUMBER(FIND(\"xxx\",BF96)),\"xxx\",IF(ISNUMBER(FIND(\"xx\",BF96)),\"xx\",\"error\"))&AR96&\"]\"),MATCH(AV96,T_FinishColour[Finish / Colour],0)),\"\"),\"\")","v":""},null,{"$f":"IF(AND(ISBLANK(BD96),ISBLANK(C96)),\"HIDE\",_xlfn.SWITCH(PRODUCT(C96:Z96,B96),2,\"HEADING\",1,\"SHOW\",0,\"HIDE\"))","v":"HIDE"},null,"PICK","AU",null,"MT01-1245-069001",null,"MT01-1245-069001","AUTOMATE | DCFT 15Nm ARC Motor [Ø45/12V/10rpm]",null,{"$f":"IF(ISBLANK(BP96),\"\",IF(OR(BP96=L_Units),\"Y\",\"N\"))","v":"N"},null,{"$f":"IFERROR(IF(BI96=\"Y\",((INDEX(T_Deduc[Deduction],MATCH(BJ96,T_Deduc[Type],0),0))),\"\"),\"\")","v":""},null,"","","","Piece","PIECE",null,null,"AM",1,1,1,{"$f":"IFERROR(INDEX(INDIRECT(\"T_NAV_\"&i_Location&\"[\"&i_Location&\"]\"),MATCH(1,--(BD96=INDIRECT(\"T_NAV_\"&i_Location&\"[No.]\"))*--((INDIRECT(\"T_NAV_\"&i_Location&\"[\"&i_Location&\"]\"))<>\"\"),0))/IF(AND(BR96=\"METRE\",BH96<>\"\",BS96=\"\"),BH96,1),\"\")","v":""},"","","",null,null,{"$f":"IFERROR(IF(AY96=\"SHOW\",IF(AND(OR(BQ96=\"ROLL\",BQ96=\"LENGTH\"),BW96>0),ROUNDUP(BW96/CJ96/#REF!,0)*#REF!,IF(BQ96=\"METRE\",#REF!*ROUNDUP(((BW96*BM96)/1000)/#REF!,0),#REF!*ROUNDUP(BW96/#REF!,0))),\"\"),\"\")","v":""},"","",null,{"$f":"IFERROR(INDEX(INDIRECT(\"T_NAV_\"&i_Location&\"[\"&i_Location&\"]\"),MATCH(1,--(BD96=INDIRECT(\"T_NAV_\"&i_Location&\"[No.]\"))*--((INDIRECT(\"T_NAV_\"&i_Location&\"[\"&i_Location&\"]\"))<>\"\"),0)),\"\")","v":""},null,{"$f":"IFERROR(IF(ISBLANK(BU96),\"\",IF(OR(BQ96=\"ROLL\",BQ96=\"LENGTH\"),ROUNDDOWN((BH96*1000)/(BM96+CutTol),0),PRODUCT(AE83,BU96))),\"\")","v":1}]
[null,null,"",null,"","AUTOMATE | DCFT Motor + Battery |15Nm",0,null,"",null,"","AU",0,null,"",null,"",null,null,null,null,null,null,null,null,null,null,null,null,null,{"$f":"IFERROR(IF(AND(AA97=\"Y\",PRODUCT(AB97:AD97)=0),o_nScreens,IF(PRODUCT(AB97:AD97)=0,\"\",PRODUCT(AB97:AD97))),\"\")","v":""},null,null,null,null,null,null,null,null,null,null,null,null,"AU","",0,null,"",{"$f":"IF(ISNUMBER(FIND(\"x\",BF97)),IFERROR(INDEX(INDIRECT(\"T_FinishColour[ColourCode-\"&IF(ISNUMBER(FIND(\"xxx\",BF97)),\"xxx\",IF(ISNUMBER(FIND(\"xx\",BF97)),\"xx\",\"error\"))&AR97&\"]\"),MATCH(AV97,T_FinishColour[Finish / Colour],0)),\"\"),\"\")","v":""},null,{"$f":"IF(AND(ISBLANK(BD97),ISBLANK(C97)),\"HIDE\",_xlfn.SWITCH(PRODUCT(C97:Z97,B97),2,\"HEADING\",1,\"SHOW\",0,\"HIDE\"))","v":"HIDE"},null,"PICK","AU",null,"MT03-0305-050011",null,"MT03-0305-050011","AUTOMATE | 5.2Ah EXTERNAL BATTERY PACK",null,{"$f":"IF(ISBLANK(BP97),\"\",IF(OR(BP97=L_Units),\"Y\",\"N\"))","v":"N"},null,{"$f":"IFERROR(IF(BI97=\"Y\",((INDEX(T_Deduc[Deduction],MATCH(BJ97,T_Deduc[Type],0),0))),\"\"),\"\")","v":""},null,"","","","Piece","PIECE",null,null,"AM",1,1,1,{"$f":"IFERROR(INDEX(INDIRECT(\"T_NAV_\"&i_Location&\"[\"&i_Location&\"]\"),MATCH(1,--(BD97=INDIRECT(\"T_NAV_\"&i_Location&\"[No.]\"))*--((INDIRECT(\"T_NAV_\"&i_Location&\"[\"&i_Location&\"]\"))<>\"\"),0))/IF(AND(BR97=\"METRE\",BH97<>\"\",BS97=\"\"),BH97,1),\"\")","v":""},"","","",null,null,{"$f":"IFERROR(IF(AY97=\"SHOW\",IF(AND(OR(BQ97=\"ROLL\",BQ97=\"LENGTH\"),BW97>0),ROUNDUP(BW97/CJ97/#REF!,0)*#REF!,IF(BQ97=\"METRE\",#REF!*ROUNDUP(((BW97*BM97)/1000)/#REF!,0),#REF!*ROUNDUP(BW97/#REF!,0))),\"\"),\"\")","v":""},"","",null,{"$f":"IFERROR(INDEX(INDIRECT(\"T_NAV_\"&i_Location&\"[\"&i_Location&\"]\"),MATCH(1,--(BD97=INDIRECT(\"T_NAV_\"&i_Location&\"[No.]\"))*--((INDIRECT(\"T_NAV_\"&i_Location&\"[\"&i_Location&\"]\"))<>\"\"),0)),\"\")","v":""},null,{"$f":"IFERROR(IF(ISBLANK(BU97),\"\",IF(OR(BQ97=\"ROLL\",BQ97=\"LENGTH\"),ROUNDDOWN((BH97*1000)/(BM97+CutTol),0),PRODUCT(AE84,BU97))),\"\")","v":1}]
[null,null,"",null,{"$f":"IFERROR(IF(ISBLANK(D98),\"\",IF(FIND(D98,INDIRECT($D$92))>0,1,0)),0)","v":""},"AUTOMATE | DCFT Motor + Battery |15Nm",{"$f":"IFERROR(IF(ISBLANK(F98),\"\",IF(FIND(F98,INDIRECT($F$92))>0,1,0)),0)","v":0},null,{"$f":"IFERROR(IF(ISBLANK(H98),\"\",IF(FIND(H98,INDIRECT($H$92))>0,1,0)),0)","v":""},null,{"$f":"IFERROR(IF(ISBLANK(J98),\"\",IF(FIND(J98,INDIRECT($J$92))>0,1,0)),0)","v":""},"AU",{"$f":"IFERROR(IF(ISBLANK(L98),\"\",IF(FIND(L98,INDIRECT($L$92))>0,1,0)),0)","v":0},null,{"$f":"IFERROR(IF(ISBLANK(N98),\"\",IF(FIND(N98,INDIRECT($N$92))>0,1,0)),0)","v":""},null,{"$f":"IFERROR(IF(ISBLANK(P98),\"\",IF(FIND(P98,INDIRECT($P$92))>0,1,0)),0)","v":""},null,null,null,null,null,null,null,null,null,null,null,null,null,{"$f":"IFERROR(IF(AND(AA98=\"Y\",PRODUCT(AB98:AD98)=0),o_nScreens,IF(PRODUCT(AB98:AD98)=0,\"\",PRODUCT(AB98:AD98))),\"\")","v":""},null,null,null,null,null,null,null,null,null,null,null,null,"AU","",0,null,"",{"$f":"IF(ISNUMBER(FIND(\"x\",BF98)),IFERROR(INDEX(INDIRECT(\"T_FinishColour[ColourCode-\"&IF(ISNUMBER(FIND(\"xxx\",BF98)),\"xxx\",IF(ISNUMBER(FIND(\"xx\",BF98)),\"xx\",\"error\"))&AR98&\"]\"),MATCH(AV98,T_FinishColour[Finish / Colour],0)),\"\"),\"\")","v":""},null,{"$f":"IF(AND(ISBLANK(BD98),ISBLANK(C98)),\"HIDE\",_xlfn.SWITCH(PRODUCT(C98:Z98,B98),2,\"HEADING\",1,\"SHOW\",0,\"HIDE\"))","v":"HIDE"},null,"PICK","AU",null,"MT03-0301-050017",null,"MT03-0301-050017","AUTOMATE | Battery Charger for External Battery Pack",null,{"$f":"IF(ISBLANK(BP98),\"\",IF(OR(BP98=L_Units),\"Y\",\"N\"))","v":"N"},null,{"$f":"IFERROR(IF(BI98=\"Y\",((INDEX(T_Deduc[Deduction],MATCH(BJ98,T_Deduc[Type],0),0))),\"\"),\"\")","v":""},null,{"$f":"IFERROR(IF(BI98=\"Y\",INDIRECT(BL98)-BK98,\"\"),\"\")","v":""},{"$f":"IFERROR(IF(BI98=\"Y\",BM98,\"\"),\"\")","v":""},{"$f":"IFERROR(IF(BI98=\"Y\",TEXT(BM98/25.4,\"0\"&IF(ABS(BM98/25.4-ROUND(BM98/25.4,0))>1/32,\"-0/\"&CHOOSE(ROUND(MOD(BM98/25.4,1)*16,0),16,8,16,4,16,8,16,2,16,8,16,4,16,8,16),\"\")),\"\"),\"\")","v":""},"Piece","PIECE",null,null,"AM",1,1,1,{"$f":"IFERROR(INDEX(INDIRECT(\"T_NAV_\"&i_Location&\"[\"&i_Location&\"]\"),MATCH(1,--(BD98=INDIRECT(\"T_NAV_\"&i_Location&\"[No.]\"))*--((INDIRECT(\"T_NAV_\"&i_Location&\"[\"&i_Location&\"]\"))<>\"\"),0))/IF(AND(BR98=\"METRE\",BH98<>\"\",BS98=\"\"),BH98,1),\"\")","v":""},"",{"$f":"IF(BY98<>\"\",(INDIRECT(\"i_\"&BT98&\"discount\"))*BY98,\"\")","v":""},{"$f":"IFERROR(IF(BY98<>\"\",BY98-BZ98,\"\"),\"\")","v":""},null,null,{"$f":"IFERROR(IF(AY98=\"SHOW\",IF(AND(OR(BQ98=\"ROLL\",BQ98=\"LENGTH\"),BW98>0),ROUNDUP(BW98/CJ98/#REF!,0)*#REF!,IF(BQ98=\"METRE\",#REF!*ROUNDUP(((BW98*BM98)/1000)/#REF!,0),#REF!*ROUNDUP(BW98/#REF!,0))),\"\"),\"\")","v":""},{"$f":"IF(CD98<>\"\",CD98&\"x \"&BQ98&IF(CD98>1,\"S\",\"\"),\"\")","v":""},"",null,{"$f":"IFERROR(INDEX(INDIRECT(\"T_NAV_\"&i_Location&\"[\"&i_Location&\"]\"),MATCH(1,--(BD98=INDIRECT(\"T_NAV_\"&i_Location&\"[No.]\"))*--((INDIRECT(\"T_NAV_\"&i_Location&\"[\"&i_Location&\"]\"))<>\"\"),0)),\"\")","v":""},null,{"$f":"IFERROR(IF(ISBLANK(BU98),\"\",IF(OR(BQ98=\"ROLL\",BQ98=\"LENGTH\"),ROUNDDOWN((BH98*1000)/(BM98+CutTol),0),PRODUCT(AE85,BU98))),\"\")","v":1}]
[null,null,null,null,{"$f":"IFERROR(IF(ISBLANK(D99),\"\",IF(FIND(D99,INDIRECT($D$92))>0,1,0)),0)","v":""},null,{"$f":"IFERROR(IF(ISBLANK(F99),\"\",IF(FIND(F99,INDIRECT($F$92))>0,1,0)),0)","v":""},null,{"$f":"IFERROR(IF(ISBLANK(H99),\"\",IF(FIND(H99,INDIRECT($H$92))>0,1,0)),0)","v":""},"One Ch. | Black",{"$f":"IFERROR(IF(ISBLANK(J99),\"\",IF(FIND(J99,INDIRECT($J$92))>0,1,0)),0)","v":0},null,{"$f":"IFERROR(IF(ISBLANK(L99),\"\",IF(FIND(L99,INDIRECT($L$92))>0,1,0)),0)","v":""},null,{"$f":"IFERROR(IF(ISBLANK(N99),\"\",IF(FIND(N99,INDIRECT($N$92))>0,1,0)),0)","v":""},null,{"$f":"IFERROR(IF(ISBLANK(P99),\"\",IF(FIND(P99,INDIRECT($P$92))>0,1,0)),0)","v":""},null,null,null,null,null,null,null,null,null,null,null,null,null,{"$f":"IFERROR(IF(AND(AA99=\"Y\",PRODUCT(AB99:AD99)=0),o_nScreens,IF(PRODUCT(AB99:AD99)=0,\"\",PRODUCT(AB99:AD99))),\"\")","v":""},null,null,null,null,null,null,null,null,null,null,null,null,"AU","",0,null,"",{"$f":"IF(ISNUMBER(FIND(\"x\",BF99)),IFERROR(INDEX(INDIRECT(\"T_FinishColour[ColourCode-\"&IF(ISNUMBER(FIND(\"xxx\",BF99)),\"xxx\",IF(ISNUMBER(FIND(\"xx\",BF99)),\"xx\",\"error\"))&AR99&\"]\"),MATCH(AV99,T_FinishColour[Finish / Colour],0)),\"\"),\"\")","v":""},null,{"$f":"IF(AND(ISBLANK(BD99),ISBLANK(C99)),\"HIDE\",_xlfn.SWITCH(PRODUCT(C99:Z99,B99),2,\"HEADING\",1,\"SHOW\",0,\"HIDE\"))","v":"HIDE"},null,"PICK","AU",null,"MT02-0101-050010",null,"MT02-0101-050010","AUTOMATE | PUSH 1 Channel Remote | Black",null,{"$f":"IF(ISBLANK(BP99),\"\",IF(OR(BP99=L_Units),\"Y\",\"N\"))","v":"N"},null,{"$f":"IFERROR(IF(BI99=\"Y\",((INDEX(T_Deduc[Deduction],MATCH(BJ99,T_Deduc[Type],0),0))),\"\"),\"\")","v":""},null,{"$f":"IFERROR(IF(BI99=\"Y\",INDIRECT(BL99)-BK99,\"\"),\"\")","v":""},{"$f":"IFERROR(IF(BI99=\"Y\",BM99,\"\"),\"\")","v":""},{"$f":"IFERROR(IF(BI99=\"Y\",TEXT(BM99/25.4,\"0\"&IF(ABS(BM99/25.4-ROUND(BM99/25.4,0))>1/32,\"-0/\"&CHOOSE(ROUND(MOD(BM99/25.4,1)*16,0),16,8,16,4,16,8,16,2,16,8,16,4,16,8,16),\"\")),\"\"),\"\")","v":""},"Piece",{"$f":"IFERROR(IF(ISBLANK(BD99),\"\",INDEX(T_NAV_AU[Unit of Measure],MATCH(BD99,T_NAV_AU[No.],0))),\"\")","v":"PIECE"},null,null,"AM",1,1,1,{"$f":"IFERROR(INDEX(INDIRECT(\"T_NAV_\"&i_Location&\"[\"&i_Location&\"]\"),MATCH(1,--(BD99=INDIRECT(\"T_NAV_\"&i_Location&\"[No.]\"))*--((INDIRECT(\"T_NAV_\"&i_Location&\"[\"&i_Location&\"]\"))<>\"\"),0))/IF(AND(BR99=\"METRE\",BH99<>\"\",BS99=\"\"),BH99,1),\"\")","v":""},"",{"$f":"IF(BY99<>\"\",(INDIRECT(\"i_\"&BT99&\"discount\"))*BY99,\"\")","v":""},{"$f":"IFERROR(IF(BY99<>\"\",BY99-BZ99,\"\"),\"\")","v":""},null,null,{"$f":"IFERROR(IF(AY99=\"SHOW\",IF(AND(OR(BQ99=\"ROLL\",BQ99=\"LENGTH\"),BW99>0),ROUNDUP(BW99/CJ99/#REF!,0)*#REF!,IF(BQ99=\"METRE\",#REF!*ROUNDUP(((BW99*BM99)/1000)/#REF!,0),#REF!*ROUNDUP(BW99/#REF!,0))),\"\"),\"\")","v":""},{"$f":"IF(CD99<>\"\",CD99&\"x \"&BQ99&IF(CD99>1,\"S\",\"\"),\"\")","v":""},"",null,{"$f":"IFERROR(INDEX(INDIRECT(\"T_NAV_\"&i_Location&\"[\"&i_Location&\"]\"),MATCH(1,--(BD99=INDIRECT(\"T_NAV_\"&i_Location&\"[No.]\"))*--((INDIRECT(\"T_NAV_\"&i_Location&\"[\"&i_Location&\"]\"))<>\"\"),0)),\"\")","v":""},null,{"$f":"IFERROR(IF(ISBLANK(BU99),\"\",IF(OR(BQ99=\"ROLL\",BQ99=\"LENGTH\"),ROUNDDOWN((BH99*1000)/(BM99+CutTol),0),PRODUCT(AE83,BU99))),\"\")","v":1}]
[null,null,null,null,"",null,"",null,"","One Ch. | White",0,null,"",null,"",null,"",null,null,null,null,null,null,null,null,null,null,null,null,null,{"$f":"IFERROR(IF(AND(AA100=\"Y\",PRODUCT(AB100:AD100)=0),o_nScreens,IF(PRODUCT(AB100:AD100)=0,\"\",PRODUCT(AB100:AD100))),\"\")","v":""},null,null,null,null,null,null,null,null,null,null,null,null,"AU","",0,null,"",{"$f":"IF(ISNUMBER(FIND(\"x\",BF100)),IFERROR(INDEX(INDIRECT(\"T_FinishColour[ColourCode-\"&IF(ISNUMBER(FIND(\"xxx\",BF100)),\"xxx\",IF(ISNUMBER(FIND(\"xx\",BF100)),\"xx\",\"error\"))&AR100&\"]\"),MATCH(AV100,T_FinishColour[Finish / Colour],0)),\"\"),\"\")","v":""},null,{"$f":"IF(AND(ISBLANK(BD100),ISBLANK(C100)),\"HIDE\",_xlfn.SWITCH(PRODUCT(C100:Z100,B100),2,\"HEADING\",1,\"SHOW\",0,\"HIDE\"))","v":"HIDE"},null,"PICK","AU",null,"MT02-0101-067010",null,"MT02-0101-067010","AUTOMATE | PUSH 1 Channel Remote | White",null,{"$f":"IF(ISBLANK(BP100),\"\",IF(OR(BP100=L_Units),\"Y\",\"N\"))","v":"N"},null,{"$f":"IFERROR(IF(BI100=\"Y\",((INDEX(T_Deduc[Deduction],MATCH(BJ100,T_Deduc[Type],0),0))),\"\"),\"\")","v":""},null,"","","","Piece",{"$f":"IFERROR(IF(ISBLANK(BD100),\"\",INDEX(T_NAV_AU[Unit of Measure],MATCH(BD100,T_NAV_AU[No.],0))),\"\")","v":"PIECE"},null,null,"AM",1,1,1,{"$f":"IFERROR(INDEX(INDIRECT(\"T_NAV_\"&i_Location&\"[\"&i_Location&\"]\"),MATCH(1,--(BD100=INDIRECT(\"T_NAV_\"&i_Location&\"[No.]\"))*--((INDIRECT(\"T_NAV_\"&i_Location&\"[\"&i_Location&\"]\"))<>\"\"),0))/IF(AND(BR100=\"METRE\",BH100<>\"\",BS100=\"\"),BH100,1),\"\")","v":""},"","","",null,null,{"$f":"IFERROR(IF(AY100=\"SHOW\",IF(AND(OR(BQ100=\"ROLL\",BQ100=\"LENGTH\"),BW100>0),ROUNDUP(BW100/CJ100/#REF!,0)*#REF!,IF(BQ100=\"METRE\",#REF!*ROUNDUP(((BW100*BM100)/1000)/#REF!,0),#REF!*ROUNDUP(BW100/#REF!,0))),\"\"),\"\")","v":""},"","",null,{"$f":"IFERROR(INDEX(INDIRECT(\"T_NAV_\"&i_Location&\"[\"&i_Location&\"]\"),MATCH(1,--(BD100=INDIRECT(\"T_NAV_\"&i_Location&\"[No.]\"))*--((INDIRECT(\"T_NAV_\"&i_Location&\"[\"&i_Location&\"]\"))<>\"\"),0)),\"\")","v":""},null,{"$f":"IFERROR(IF(ISBLANK(BU100),\"\",IF(OR(BQ100=\"ROLL\",BQ100=\"LENGTH\"),ROUNDDOWN((BH100*1000)/(BM100+CutTol),0),PRODUCT(#REF!,BU100))),\"\")","v":""}]
[null,null,null,null,"",null,"",null,"","Five Ch. | Black",0,null,"",null,"",null,"",null,null,null,null,null,null,null,null,null,null,null,null,null,{"$f":"IFERROR(IF(AND(AA101=\"Y\",PRODUCT(AB101:AD101)=0),o_nScreens,IF(PRODUCT(AB101:AD101)=0,\"\",PRODUCT(AB101:AD101))),\"\")","v":""},null,null,null,null,null,null,null,null,null,null,null,null,"AU","",0,null,"",{"$f":"IF(ISNUMBER(FIND(\"x\",BF101)),IFERROR(INDEX(INDIRECT(\"T_FinishColour[ColourCode-\"&IF(ISNUMBER(FIND(\"xxx\",BF101)),\"xxx\",IF(ISNUMBER(FIND(\"xx\",BF101)),\"xx\",\"error\"))&AR101&\"]\"),MATCH(AV101,T_FinishColour[Finish / Colour],0)),\"\"),\"\")","v":""},null,{"$f":"IF(AND(ISBLANK(BD101),ISBLANK(C101)),\"HIDE\",_xlfn.SWITCH(PRODUCT(C101:Z101,B101),2,\"HEADING\",1,\"SHOW\",0,\"HIDE\"))","v":"HIDE"},null,"PICK","GL",null,"MT02-0101-050004",null,"MT02-0101-050004","AUTOMATE | PUSH 5 Channel Remote | Black",null,{"$f":"IF(ISBLANK(BP101),\"\",IF(OR(BP101=L_Units),\"Y\",\"N\"))","v":"N"},null,{"$f":"IFERROR(IF(BI101=\"Y\",((INDEX(T_Deduc[Deduction],MATCH(BJ101,T_Deduc[Type],0),0))),\"\"),\"\")","v":""},null,"","","","Piece",{"$f":"IFERROR(IF(ISBLANK(BD101),\"\",INDEX(T_NAV_AU[Unit of Measure],MATCH(BD101,T_NAV_AU[No.],0))),\"\")","v":"PIECE"},null,null,"AM",1,1,1,{"$f":"IFERROR(INDEX(INDIRECT(\"T_NAV_\"&i_Location&\"[\"&i_Location&\"]\"),MATCH(1,--(BD101=INDIRECT(\"T_NAV_\"&i_Location&\"[No.]\"))*--((INDIRECT(\"T_NAV_\"&i_Location&\"[\"&i_Location&\"]\"))<>\"\"),0))/IF(AND(BR101=\"METRE\",BH101<>\"\",BS101=\"\"),BH101,1),\"\")","v":""},"","","",null,null,{"$f":"IFERROR(IF(AY101=\"SHOW\",IF(AND(OR(BQ101=\"ROLL\",BQ101=\"LENGTH\"),BW101>0),ROUNDUP(BW101/CJ101/#REF!,0)*#REF!,IF(BQ101=\"METRE\",#REF!*ROUNDUP(((BW101*BM101)/1000)/#REF!,0),#REF!*ROUNDUP(BW101/#REF!,0))),\"\"),\"\")","v":""},"","",null,{"$f":"IFERROR(INDEX(INDIRECT(\"T_NAV_\"&i_Location&\"[\"&i_Location&\"]\"),MATCH(1,--(BD101=INDIRECT(\"T_NAV_\"&i_Location&\"[No.]\"))*--((INDIRECT(\"T_NAV_\"&i_Location&\"[\"&i_Location&\"]\"))<>\"\"),0)),\"\")","v":""},null,{"$f":"IFERROR(IF(ISBLANK(BU101),\"\",IF(OR(BQ101=\"ROLL\",BQ101=\"LENGTH\"),ROUNDDOWN((BH101*1000)/(BM101+CutTol),0),PRODUCT(AE86,BU101))),\"\")","v":1}]
[null,null,null,null,"",null,{"$f":"IFERROR(IF(ISBLANK(F102),\"\",IF(FIND(F102,INDIRECT($F$92))>0,1,0)),0)","v":""},null,"","Five Ch. | White",0,null,{"$f":"IFERROR(IF(ISBLANK(L102),\"\",IF(FIND(L102,INDIRECT($L$92))>0,1,0)),0)","v":""},null,"",null,"",null,null,null,null,null,null,null,null,null,null,null,null,null,{"$f":"IFERROR(IF(AND(AA102=\"Y\",PRODUCT(AB102:AD102)=0),o_nScreens,IF(PRODUCT(AB102:AD102)=0,\"\",PRODUCT(AB102:AD102))),\"\")","v":""},null,null,null,null,null,null,null,null,null,null,null,null,"AU","",0,null,"",{"$f":"IF(ISNUMBER(FIND(\"x\",BF102)),IFERROR(INDEX(INDIRECT(\"T_FinishColour[ColourCode-\"&IF(ISNUMBER(FIND(\"xxx\",BF102)),\"xxx\",IF(ISNUMBER(FIND(\"xx\",BF102)),\"xx\",\"error\"))&AR102&\"]\"),MATCH(AV102,T_FinishColour[Finish / Colour],0)),\"\"),\"\")","v":""},null,{"$f":"IF(AND(ISBLANK(BD102),ISBLANK(C102)),\"HIDE\",_xlfn.SWITCH(PRODUCT(C102:Z102,B102),2,\"HEADING\",1,\"SHOW\",0,\"HIDE\"))","v":"HIDE"},null,"PICK","GL",null,"MT02-0101-067004",null,"MT02-0101-067004","AUTOMATE | PUSH 5 Channel Remote | White",null,{"$f":"IF(ISBLANK(BP102),\"\",IF(OR(BP102=L_Units),\"Y\",\"N\"))","v":"N"},null,{"$f":"IFERROR(IF(BI102=\"Y\",((INDEX(T_Deduc[Deduction],MATCH(BJ102,T_Deduc[Type],0),0))),\"\"),\"\")","v":""},null,{"$f":"IFERROR(IF(BI102=\"Y\",INDIRECT(BL102)-BK102,\"\"),\"\")","v":""},{"$f":"IFERROR(IF(BI102=\"Y\",BM102,\"\"),\"\")","v":""},{"$f":"IFERROR(IF(BI102=\"Y\",TEXT(BM102/25.4,\"0\"&IF(ABS(BM102/25.4-ROUND(BM102/25.4,0))>1/32,\"-0/\"&CHOOSE(ROUND(MOD(BM102/25.4,1)*16,0),16,8,16,4,16,8,16,2,16,8,16,4,16,8,16),\"\")),\"\"),\"\")","v":""},"Piece",{"$f":"IFERROR(IF(ISBLANK(BD102),\"\",INDEX(T_NAV_AU[Unit of Measure],MATCH(BD102,T_NAV_AU[No.],0))),\"\")","v":"PIECE"},null,null,"AM",1,1,1,{"$f":"IFERROR(INDEX(INDIRECT(\"T_NAV_\"&i_Location&\"[\"&i_Location&\"]\"),MATCH(1,--(BD102=INDIRECT(\"T_NAV_\"&i_Location&\"[No.]\"))*--((INDIRECT(\"T_NAV_\"&i_Location&\"[\"&i_Location&\"]\"))<>\"\"),0))/IF(AND(BR102=\"METRE\",BH102<>\"\",BS102=\"\"),BH102,1),\"\")","v":""},"",{"$f":"IF(BY102<>\"\",(INDIRECT(\"i_\"&BT102&\"discount\"))*BY102,\"\")","v":""},{"$f":"IFERROR(IF(BY102<>\"\",BY102-BZ102,\"\"),\"\")","v":""},null,null,{"$f":"IFERROR(IF(AY102=\"SHOW\",IF(AND(OR(BQ102=\"ROLL\",BQ102=\"LENGTH\"),BW102>0),ROUNDUP(BW102/CJ102/#REF!,0)*#REF!,IF(BQ102=\"METRE\",#REF!*ROUNDUP(((BW102*BM102)/1000)/#REF!,0),#REF!*ROUNDUP(BW102/#REF!,0))),\"\"),\"\")","v":""},{"$f":"IF(CD102<>\"\",CD102&\"x \"&BQ102&IF(CD102>1,\"S\",\"\"),\"\")","v":""},"",null,{"$f":"IFERROR(INDEX(INDIRECT(\"T_NAV_\"&i_Location&\"[\"&i_Location&\"]\"),MATCH(1,--(BD102=INDIRECT(\"T_NAV_\"&i_Location&\"[No.]\"))*--((INDIRECT(\"T_NAV_\"&i_Location&\"[\"&i_Location&\"]\"))<>\"\"),0)),\"\")","v":""},null,{"$f":"IFERROR(IF(ISBLANK(BU102),\"\",IF(OR(BQ102=\"ROLL\",BQ102=\"LENGTH\"),ROUNDDOWN((BH102*1000)/(BM102+CutTol),0),PRODUCT(#REF!,BU102))),\"\")","v":""}]
[null,null,null,null,"",null,{"$f":"IFERROR(IF(ISBLANK(F103),\"\",IF(FIND(F103,INDIRECT($F$92))>0,1,0)),0)","v":""},null,"","Fifteen Ch. | Black",0,null,{"$f":"IFERROR(IF(ISBLANK(L103),\"\",IF(FIND(L103,INDIRECT($L$92))>0,1,0)),0)","v":""},null,"",null,"",null,null,null,null,null,null,null,null,null,null,null,null,null,{"$f":"IFERROR(IF(AND(AA103=\"Y\",PRODUCT(AB103:AD103)=0),o_nScreens,IF(PRODUCT(AB103:AD103)=0,\"\",PRODUCT(AB103:AD103))),\"\")","v":""},null,null,null,null,null,null,null,null,null,null,null,null,"AU","",0,null,"",{"$f":"IF(ISNUMBER(FIND(\"x\",BF103)),IFERROR(INDEX(INDIRECT(\"T_FinishColour[ColourCode-\"&IF(ISNUMBER(FIND(\"xxx\",BF103)),\"xxx\",IF(ISNUMBER(FIND(\"xx\",BF103)),\"xx\",\"error\"))&AR103&\"]\"),MATCH(AV103,T_FinishColour[Finish / Colour],0)),\"\"),\"\")","v":""},null,{"$f":"IF(AND(ISBLANK(BD103),ISBLANK(C103)),\"HIDE\",_xlfn.SWITCH(PRODUCT(C103:Z103,B103),2,\"HEADING\",1,\"SHOW\",0,\"HIDE\"))","v":"HIDE"},null,"PICK","GL",null,"MT02-0101-050008",null,"MT02-0101-050008","AUTOMATE | PUSH 15 Channel Remote | Black",null,{"$f":"IF(ISBLANK(BP103),\"\",IF(OR(BP103=L_Units),\"Y\",\"N\"))","v":"N"},null,{"$f":"IFERROR(IF(BI103=\"Y\",((INDEX(T_Deduc[Deduction],MATCH(BJ103,T_Deduc[Type],0),0))),\"\"),\"\")","v":""},null,{"$f":"IFERROR(IF(BI103=\"Y\",INDIRECT(BL103)-BK103,\"\"),\"\")","v":""},{"$f":"IFERROR(IF(BI103=\"Y\",BM103,\"\"),\"\")","v":""},{"$f":"IFERROR(IF(BI103=\"Y\",TEXT(BM103/25.4,\"0\"&IF(ABS(BM103/25.4-ROUND(BM103/25.4,0))>1/32,\"-0/\"&CHOOSE(ROUND(MOD(BM103/25.4,1)*16,0),16,8,16,4,16,8,16,2,16,8,16,4,16,8,16),\"\")),\"\"),\"\")","v":""},"Piece",{"$f":"IFERROR(IF(ISBLANK(BD103),\"\",INDEX(T_NAV_AU[Unit of Measure],MATCH(BD103,T_NAV_AU[No.],0))),\"\")","v":"PIECE"},null,null,"AM",1,1,1,{"$f":"IFERROR(INDEX(INDIRECT(\"T_NAV_\"&i_Location&\"[\"&i_Location&\"]\"),MATCH(1,--(BD103=INDIRECT(\"T_NAV_\"&i_Location&\"[No.]\"))*--((INDIRECT(\"T_NAV_\"&i_Location&\"[\"&i_Location&\"]\"))<>\"\"),0))/IF(AND(BR103=\"METRE\",BH103<>\"\",BS103=\"\"),BH103,1),\"\")","v":""},"",{"$f":"IF(BY103<>\"\",(INDIRECT(\"i_\"&BT103&\"discount\"))*BY103,\"\")","v":""},{"$f":"IFERROR(IF(BY103<>\"\",BY103-BZ103,\"\"),\"\")","v":""},null,null,{"$f":"IFERROR(IF(AY103=\"SHOW\",IF(AND(OR(BQ103=\"ROLL\",BQ103=\"LENGTH\"),BW103>0),ROUNDUP(BW103/CJ103/#REF!,0)*#REF!,IF(BQ103=\"METRE\",#REF!*ROUNDUP(((BW103*BM103)/1000)/#REF!,0),#REF!*ROUNDUP(BW103/#REF!,0))),\"\"),\"\")","v":""},{"$f":"IF(CD103<>\"\",CD103&\"x \"&BQ103&IF(CD103>1,\"S\",\"\"),\"\")","v":""},"",null,{"$f":"IFERROR(INDEX(INDIRECT(\"T_NAV_\"&i_Location&\"[\"&i_Location&\"]\"),MATCH(1,--(BD103=INDIRECT(\"T_NAV_\"&i_Location&\"[No.]\"))*--((INDIRECT(\"T_NAV_\"&i_Location&\"[\"&i_Location&\"]\"))<>\"\"),0)),\"\")","v":""},null,{"$f":"IFERROR(IF(ISBLANK(BU103),\"\",IF(OR(BQ103=\"ROLL\",BQ103=\"LENGTH\"),ROUNDDOWN((BH103*1000)/(BM103+CutTol),0),PRODUCT(AE87,BU103))),\"\")","v":1}]
[null,null,null,null,"",null,{"$f":"IFERROR(IF(ISBLANK(F104),\"\",IF(FIND(F104,INDIRECT($F$92))>0,1,0)),0)","v":""},null,"","Fifteen Ch. | White",0,null,{"$f":"IFERROR(IF(ISBLANK(L104),\"\",IF(FIND(L104,INDIRECT($L$92))>0,1,0)),0)","v":""},null,"",null,"",null,null,null,null,null,null,null,null,null,null,null,null,null,{"$f":"IFERROR(IF(AND(AA104=\"Y\",PRODUCT(AB104:AD104)=0),o_nScreens,IF(PRODUCT(AB104:AD104)=0,\"\",PRODUCT(AB104:AD104))),\"\")","v":""},null,null,null,null,null,null,null,null,null,null,null,null,"AU","",0,null,"",{"$f":"IF(ISNUMBER(FIND(\"x\",BF104)),IFERROR(INDEX(INDIRECT(\"T_FinishColour[ColourCode-\"&IF(ISNUMBER(FIND(\"xxx\",BF104)),\"xxx\",IF(ISNUMBER(FIND(\"xx\",BF104)),\"xx\",\"error\"))&AR104&\"]\"),MATCH(AV104,T_FinishColour[Finish / Colour],0)),\"\"),\"\")","v":""},null,{"$f":"IF(AND(ISBLANK(BD104),ISBLANK(C104)),\"HIDE\",_xlfn.SWITCH(PRODUCT(C104:Z104,B104),2,\"HEADING\",1,\"SHOW\",0,\"HIDE\"))","v":"HIDE"},null,"PICK","GL",null,{"$f":"_xlfn.IFNA(SUBSTITUTE(IF(AR104=\"AU\",SUBSTITUTE(BF104,\"xxx\",AW104),SUBSTITUTE(SUBSTITUTE(BF104,\"xx\",AW104),\"x\",\"\")),\"LLL\",\"580\"),BF104)","v":"MT02-0101-067008"},null,"MT02-0101-067008","AUTOMATE | PUSH 15 Channel Remote | White",null,{"$f":"IF(ISBLANK(BP104),\"\",IF(OR(BP104=L_Units),\"Y\",\"N\"))","v":"N"},null,{"$f":"IFERROR(IF(BI104=\"Y\",((INDEX(T_Deduc[Deduction],MATCH(BJ104,T_Deduc[Type],0),0))),\"\"),\"\")","v":""},null,{"$f":"IFERROR(IF(BI104=\"Y\",INDIRECT(BL104)-BK104,\"\"),\"\")","v":""},{"$f":"IFERROR(IF(BI104=\"Y\",BM104,\"\"),\"\")","v":""},{"$f":"IFERROR(IF(BI104=\"Y\",TEXT(BM104/25.4,\"0\"&IF(ABS(BM104/25.4-ROUND(BM104/25.4,0))>1/32,\"-0/\"&CHOOSE(ROUND(MOD(BM104/25.4,1)*16,0),16,8,16,4,16,8,16,2,16,8,16,4,16,8,16),\"\")),\"\"),\"\")","v":""},"Piece",{"$f":"IFERROR(IF(ISBLANK(BD104),\"\",INDEX(T_NAV_AU[Unit of Measure],MATCH(BD104,T_NAV_AU[No.],0))),\"\")","v":"PIECE"},null,null,"AM",1,1,1,{"$f":"IFERROR(INDEX(INDIRECT(\"T_NAV_\"&i_Location&\"[\"&i_Location&\"]\"),MATCH(1,--(BD104=INDIRECT(\"T_NAV_\"&i_Location&\"[No.]\"))*--((INDIRECT(\"T_NAV_\"&i_Location&\"[\"&i_Location&\"]\"))<>\"\"),0))/IF(AND(BR104=\"METRE\",BH104<>\"\",BS104=\"\"),BH104,1),\"\")","v":""},"",{"$f":"IF(BY104<>\"\",(INDIRECT(\"i_\"&BT104&\"discount\"))*BY104,\"\")","v":""},{"$f":"IFERROR(IF(BY104<>\"\",BY104-BZ104,\"\"),\"\")","v":""},null,null,{"$f":"IFERROR(IF(AY104=\"SHOW\",IF(AND(OR(BQ104=\"ROLL\",BQ104=\"LENGTH\"),BW104>0),ROUNDUP(BW104/CJ104/#REF!,0)*#REF!,IF(BQ104=\"METRE\",#REF!*ROUNDUP(((BW104*BM104)/1000)/#REF!,0),#REF!*ROUNDUP(BW104/#REF!,0))),\"\"),\"\")","v":""},{"$f":"IF(CD104<>\"\",CD104&\"x \"&BQ104&IF(CD104>1,\"S\",\"\"),\"\")","v":""},"",null,{"$f":"IFERROR(INDEX(INDIRECT(\"T_NAV_\"&i_Location&\"[\"&i_Location&\"]\"),MATCH(1,--(BD104=INDIRECT(\"T_NAV_\"&i_Location&\"[No.]\"))*--((INDIRECT(\"T_NAV_\"&i_Location&\"[\"&i_Location&\"]\"))<>\"\"),0)),\"\")","v":""},null,{"$f":"IFERROR(IF(ISBLANK(BU104),\"\",IF(OR(BQ104=\"ROLL\",BQ104=\"LENGTH\"),ROUNDDOWN((BH104*1000)/(BM104+CutTol),0),PRODUCT(AE88,BU104))),\"\")","v":1}]
[null,null,null,null,"",null,"",null,"",null,"",null,"",null,"","Solar",0,null,null,null,null,null,null,null,null,null,null,null,null,null,{"$f":"IFERROR(IF(AND(AA105=\"Y\",PRODUCT(AB105:AD105)=0),o_nScreens,IF(PRODUCT(AB105:AD105)=0,\"\",PRODUCT(AB105:AD105))),\"\")","v":""},null,null,null,null,null,null,null,null,null,null,null,null,"AU","",null,null,"",{"$f":"IF(ISNUMBER(FIND(\"x\",BF105)),IFERROR(INDEX(INDIRECT(\"T_FinishColour[ColourCode-\"&IF(ISNUMBER(FIND(\"xxx\",BF105)),\"xxx\",IF(ISNUMBER(FIND(\"xx\",BF105)),\"xx\",\"error\"))&AR105&\"]\"),MATCH(AV105,T_FinishColour[Finish / Colour],0)),\"\"),\"\")","v":""},null,{"$f":"IF(AND(ISBLANK(BD105),ISBLANK(C105)),\"HIDE\",_xlfn.SWITCH(PRODUCT(C105:Z105,B105),2,\"HEADING\",1,\"SHOW\",0,\"HIDE\"))","v":"HIDE"},null,"PICK","GL",null,"MT02-0301-072001",null,"MT02-0301-072001","AUTOMATE | Solar Sun & Wind Sensor",null,{"$f":"IF(ISBLANK(BP105),\"\",IF(OR(BP105=L_Units),\"Y\",\"N\"))","v":"N"},null,{"$f":"IFERROR(IF(BI105=\"Y\",((INDEX(T_Deduc[Deduction],MATCH(BJ105,T_Deduc[Type],0),0))),\"\"),\"\")","v":""},null,"","","","Piece",{"$f":"IFERROR(IF(ISBLANK(BD105),\"\",INDEX(T_NAV_AU[Unit of Measure],MATCH(BD105,T_NAV_AU[No.],0))),\"\")","v":"PIECE"},null,null,"AM",1,1,1,{"$f":"IFERROR(INDEX(INDIRECT(\"T_NAV_\"&i_Location&\"[\"&i_Location&\"]\"),MATCH(1,--(BD105=INDIRECT(\"T_NAV_\"&i_Location&\"[No.]\"))*--((INDIRECT(\"T_NAV_\"&i_Location&\"[\"&i_Location&\"]\"))<>\"\"),0))/IF(AND(BR105=\"METRE\",BH105<>\"\",BS105=\"\"),BH105,1),\"\")","v":""},"","","",null,null,{"$f":"IFERROR(IF(AY105=\"SHOW\",IF(AND(OR(BQ105=\"ROLL\",BQ105=\"LENGTH\"),BW105>0),ROUNDUP(BW105/CJ105/#REF!,0)*#REF!,IF(BQ105=\"METRE\",#REF!*ROUNDUP(((BW105*BM105)/1000)/#REF!,0),#REF!*ROUNDUP(BW105/#REF!,0))),\"\"),\"\")","v":""},"","",null,{"$f":"IFERROR(INDEX(INDIRECT(\"T_NAV_\"&i_Location&\"[\"&i_Location&\"]\"),MATCH(1,--(BD105=INDIRECT(\"T_NAV_\"&i_Location&\"[No.]\"))*--((INDIRECT(\"T_NAV_\"&i_Location&\"[\"&i_Location&\"]\"))<>\"\"),0)),\"\")","v":""},null,{"$f":"IFERROR(IF(ISBLANK(BU105),\"\",IF(OR(BQ105=\"ROLL\",BQ105=\"LENGTH\"),ROUNDDOWN((BH105*1000)/(BM105+CutTol),0),PRODUCT(#REF!,BU105))),\"\")","v":""}]
[null,null,null,null,{"$f":"IFERROR(IF(ISBLANK(D106),\"\",IF(FIND(D106,INDIRECT($D$92))>0,1,0)),0)","v":""},null,{"$f":"IFERROR(IF(ISBLANK(F106),\"\",IF(FIND(F106,INDIRECT($F$92))>0,1,0)),0)","v":""},null,{"$f":"IFERROR(IF(ISBLANK(H106),\"\",IF(FIND(H106,INDIRECT($H$92))>0,1,0)),0)","v":""},null,{"$f":"IFERROR(IF(ISBLANK(J106),\"\",IF(FIND(J106,INDIRECT($J$92))>0,1,0)),0)","v":""},null,"",null,{"$f":"IFERROR(IF(ISBLANK(N106),\"\",IF(FIND(N106,INDIRECT($N$92))>0,1,0)),0)","v":""},"240V",{"$f":"IFERROR(IF(ISBLANK(P106),\"\",IF(FIND(P106,INDIRECT($P$92))>0,1,0)),0)","v":0},null,null,null,null,null,null,null,null,null,null,null,null,null,{"$f":"IFERROR(IF(AND(AA106=\"Y\",PRODUCT(AB106:AD106)=0),o_nScreens,IF(PRODUCT(AB106:AD106)=0,\"\",PRODUCT(AB106:AD106))),\"\")","v":""},null,null,null,null,null,null,null,null,null,null,null,null,"AU","",null,null,"",{"$f":"IF(ISNUMBER(FIND(\"x\",BF106)),IFERROR(INDEX(INDIRECT(\"T_FinishColour[ColourCode-\"&IF(ISNUMBER(FIND(\"xxx\",BF106)),\"xxx\",IF(ISNUMBER(FIND(\"xx\",BF106)),\"xx\",\"error\"))&AR106&\"]\"),MATCH(AV106,T_FinishColour[Finish / Colour],0)),\"\"),\"\")","v":""},null,{"$f":"IF(AND(ISBLANK(BD106),ISBLANK(C106)),\"HIDE\",_xlfn.SWITCH(PRODUCT(C106:Z106,B106),2,\"HEADING\",1,\"SHOW\",0,\"HIDE\"))","v":"HIDE"},null,"PICK","AU",null,"MT02-0301-072003",null,"MT02-0301-072003","AUTOMATE | 240V Sun & Wind Sensor",null,{"$f":"IF(ISBLANK(BP106),\"\",IF(OR(BP106=L_Units),\"Y\",\"N\"))","v":"N"},null,{"$f":"IFERROR(IF(BI106=\"Y\",((INDEX(T_Deduc[Deduction],MATCH(BJ106,T_Deduc[Type],0),0))),\"\"),\"\")","v":""},null,{"$f":"IFERROR(IF(BI106=\"Y\",INDIRECT(BL106)-BK106,\"\"),\"\")","v":""},{"$f":"IFERROR(IF(BI106=\"Y\",BM106,\"\"),\"\")","v":""},{"$f":"IFERROR(IF(BI106=\"Y\",TEXT(BM106/25.4,\"0\"&IF(ABS(BM106/25.4-ROUND(BM106/25.4,0))>1/32,\"-0/\"&CHOOSE(ROUND(MOD(BM106/25.4,1)*16,0),16,8,16,4,16,8,16,2,16,8,16,4,16,8,16),\"\")),\"\"),\"\")","v":""},"Piece",{"$f":"IFERROR(IF(ISBLANK(BD106),\"\",INDEX(T_NAV_AU[Unit of Measure],MATCH(BD106,T_NAV_AU[No.],0))),\"\")","v":"PIECE"},null,null,"AM",1,1,1,{"$f":"IFERROR(INDEX(INDIRECT(\"T_NAV_\"&i_Location&\"[\"&i_Location&\"]\"),MATCH(1,--(BD106=INDIRECT(\"T_NAV_\"&i_Location&\"[No.]\"))*--((INDIRECT(\"T_NAV_\"&i_Location&\"[\"&i_Location&\"]\"))<>\"\"),0))/IF(AND(BR106=\"METRE\",BH106<>\"\",BS106=\"\"),BH106,1),\"\")","v":""},"",{"$f":"IF(BY106<>\"\",(INDIRECT(\"i_\"&BT106&\"discount\"))*BY106,\"\")","v":""},{"$f":"IFERROR(IF(BY106<>\"\",BY106-BZ106,\"\"),\"\")","v":""},null,null,{"$f":"IFERROR(IF(AY106=\"SHOW\",IF(AND(OR(BQ106=\"ROLL\",BQ106=\"LENGTH\"),BW106>0),ROUNDUP(BW106/CJ106/#REF!,0)*#REF!,IF(BQ106=\"METRE\",#REF!*ROUNDUP(((BW106*BM106)/1000)/#REF!,0),#REF!*ROUNDUP(BW106/#REF!,0))),\"\"),\"\")","v":""},{"$f":"IF(CD106<>\"\",CD106&\"x \"&BQ106&IF(CD106>1,\"S\",\"\"),\"\")","v":""},"",null,{"$f":"IFERROR(INDEX(INDIRECT(\"T_NAV_\"&i_Location&\"[\"&i_Location&\"]\"),MATCH(1,--(BD106=INDIRECT(\"T_NAV_\"&i_Location&\"[No.]\"))*--((INDIRECT(\"T_NAV_\"&i_Location&\"[\"&i_Location&\"]\"))<>\"\"),0)),\"\")","v":""},null,{"$f":"IFERROR(IF(ISBLANK(BU106),\"\",IF(OR(BQ106=\"ROLL\",BQ106=\"LENGTH\"),ROUNDDOWN((BH106*1000)/(BM106+CutTol),0),PRODUCT(AE87,BU106))),\"\")","v":1}]
[null,null,null,null,{"$f":"IFERROR(IF(ISBLANK(D107),\"\",IF(FIND(D107,INDIRECT($D$92))>0,1,0)),0)","v":""},"AUTOMATE | FT",{"$f":"IFERROR(IF(ISBLANK(F107),\"\",IF(FIND(F107,INDIRECT($F$92))>0,1,0)),0)","v":0},"78 ",{"$f":"IFERROR(IF(ISBLANK(H107),\"\",IF(FIND(H107,INDIRECT($H$92))>0,1,0)),0)","v":0},null,{"$f":"IFERROR(IF(ISBLANK(J107),\"\",IF(FIND(J107,INDIRECT($J$92))>0,1,0)),0)","v":""},"AU",0,null,{"$f":"IFERROR(IF(ISBLANK(N107),\"\",IF(FIND(N107,INDIRECT($N$92))>0,1,0)),0)","v":""},null,{"$f":"IFERROR(IF(ISBLANK(P107),\"\",IF(FIND(P107,INDIRECT($P$92))>0,1,0)),0)","v":""},"Zipscreen",{"$f":"IFERROR(IF(ISBLANK(R107),\"\",IF(FIND(R107,INDIRECT($R$92))>0,1,0)),0)","v":0},null,null,null,null,null,null,null,null,null,null,null,{"$f":"IFERROR(IF(AND(AA107=\"Y\",PRODUCT(AB107:AD107)=0),o_nScreens,IF(PRODUCT(AB107:AD107)=0,\"\",PRODUCT(AB107:AD107))),\"\")","v":""},null,null,null,null,null,null,null,null,null,null,null,null,"AU","",0,null,"",{"$f":"IF(ISNUMBER(FIND(\"x\",BF107)),IFERROR(INDEX(INDIRECT(\"T_FinishColour[ColourCode-\"&IF(ISNUMBER(FIND(\"xxx\",BF107)),\"xxx\",IF(ISNUMBER(FIND(\"xx\",BF107)),\"xx\",\"error\"))&AR107&\"]\"),MATCH(AV107,T_FinishColour[Finish / Colour],0)),\"\"),\"\")","v":""},null,{"$f":"IF(AND(ISBLANK(BD107),ISBLANK(C107)),\"HIDE\",_xlfn.SWITCH(PRODUCT(C107:Z107,B107),2,\"HEADING\",1,\"SHOW\",0,\"HIDE\"))","v":"HIDE"},null,"PICK","GL",null,"RE01-0680-050508",null,"RE01-0680-050508","AUTOMATE | Drive Wheel - 78mm | Impact Detection",null,{"$f":"IF(ISBLANK(BP107),\"\",IF(OR(BP107=L_Units),\"Y\",\"N\"))","v":"N"},null,{"$f":"IFERROR(IF(BI107=\"Y\",((INDEX(T_Deduc[Deduction],MATCH(BJ107,T_Deduc[Type],0),0))),\"\"),\"\")","v":""},null,{"$f":"IFERROR(IF(BI107=\"Y\",INDIRECT(BL107)-BK107,\"\"),\"\")","v":""},"","","Piece",{"$f":"IFERROR(IF(ISBLANK(BD107),\"\",INDEX(T_NAV_AU[Unit of Measure],MATCH(BD107,T_NAV_AU[No.],0))),\"\")","v":"PIECE"},null,null,"AM",1,1,1,{"$f":"IFERROR(INDEX(INDIRECT(\"T_NAV_\"&i_Location&\"[\"&i_Location&\"]\"),MATCH(1,--(BD107=INDIRECT(\"T_NAV_\"&i_Location&\"[No.]\"))*--((INDIRECT(\"T_NAV_\"&i_Location&\"[\"&i_Location&\"]\"))<>\"\"),0))/IF(AND(BR107=\"METRE\",BH107<>\"\",BS107=\"\"),BH107,1),\"\")","v":""},"","",{"$f":"IFERROR(IF(BY107<>\"\",BY107-BZ107,\"\"),\"\")","v":""},null,null,{"$f":"IFERROR(IF(AY107=\"SHOW\",IF(AND(OR(BQ107=\"ROLL\",BQ107=\"LENGTH\"),BW107>0),ROUNDUP(BW107/CJ107/#REF!,0)*#REF!,IF(BQ107=\"METRE\",#REF!*ROUNDUP(((BW107*BM107)/1000)/#REF!,0),#REF!*ROUNDUP(BW107/#REF!,0))),\"\"),\"\")","v":""},"","",null,{"$f":"IFERROR(INDEX(INDIRECT(\"T_NAV_\"&i_Location&\"[\"&i_Location&\"]\"),MATCH(1,--(BD107=INDIRECT(\"T_NAV_\"&i_Location&\"[No.]\"))*--((INDIRECT(\"T_NAV_\"&i_Location&\"[\"&i_Location&\"]\"))<>\"\"),0)),\"\")","v":""},null,{"$f":"IFERROR(IF(ISBLANK(BU107),\"\",IF(OR(BQ107=\"ROLL\",BQ107=\"LENGTH\"),ROUNDDOWN((BH107*1000)/(BM107+CutTol),0),PRODUCT(AE90,BU107))),\"\")","v":1}]
[null,null,null,null,"","AUTOMATE | FT",0,"78 ",0,null,"",null,"",null,"",null,"","!Zipscreen",{"$f":"IFERROR(IF(ISBLANK(R108),\"\",IF(FIND(MID(R108,2,10),INDIRECT($R$92))>0,0,1)),1)","v":1},null,null,null,null,null,null,null,null,null,null,null,{"$f":"IFERROR(IF(AND(AA108=\"Y\",PRODUCT(AB108:AD108)=0),o_nScreens,IF(PRODUCT(AB108:AD108)=0,\"\",PRODUCT(AB108:AD108))),\"\")","v":""},null,null,null,null,null,null,null,null,null,null,null,null,"AU","",0,null,"",{"$f":"IF(ISNUMBER(FIND(\"x\",BF108)),IFERROR(INDEX(INDIRECT(\"T_FinishColour[ColourCode-\"&IF(ISNUMBER(FIND(\"xxx\",BF108)),\"xxx\",IF(ISNUMBER(FIND(\"xx\",BF108)),\"xx\",\"error\"))&AR108&\"]\"),MATCH(AV108,T_FinishColour[Finish / Colour],0)),\"\"),\"\")","v":""},null,{"$f":"IF(AND(ISBLANK(BD108),ISBLANK(C108)),\"HIDE\",_xlfn.SWITCH(PRODUCT(C108:Z108,B108),2,\"HEADING\",1,\"SHOW\",0,\"HIDE\"))","v":"HIDE"},null,"PICK","GL",null,"MT03-0106-050006",null,"MT03-0106-050006","AUTOMATE | Drive Wheel - 78mm | STD",null,{"$f":"IF(ISBLANK(BP108),\"\",IF(OR(BP108=L_Units),\"Y\",\"N\"))","v":"N"},null,{"$f":"IFERROR(IF(BI108=\"Y\",((INDEX(T_Deduc[Deduction],MATCH(BJ108,T_Deduc[Type],0),0))),\"\"),\"\")","v":""},null,"",{"$f":"IFERROR(IF(BI108=\"Y\",BM108,\"\"),\"\")","v":""},{"$f":"IFERROR(IF(BI108=\"Y\",TEXT(BM108/25.4,\"0\"&IF(ABS(BM108/25.4-ROUND(BM108/25.4,0))>1/32,\"-0/\"&CHOOSE(ROUND(MOD(BM108/25.4,1)*16,0),16,8,16,4,16,8,16,2,16,8,16,4,16,8,16),\"\")),\"\"),\"\")","v":""},"Piece",{"$f":"IFERROR(IF(ISBLANK(BD108),\"\",INDEX(T_NAV_AU[Unit of Measure],MATCH(BD108,T_NAV_AU[No.],0))),\"\")","v":"PIECE"},null,null,"AM",1,1,1,{"$f":"IFERROR(INDEX(INDIRECT(\"T_NAV_\"&i_Location&\"[\"&i_Location&\"]\"),MATCH(1,--(BD108=INDIRECT(\"T_NAV_\"&i_Location&\"[No.]\"))*--((INDIRECT(\"T_NAV_\"&i_Location&\"[\"&i_Location&\"]\"))<>\"\"),0))/IF(AND(BR108=\"METRE\",BH108<>\"\",BS108=\"\"),BH108,1),\"\")","v":""},"","","",null,null,{"$f":"IFERROR(IF(AY108=\"SHOW\",IF(AND(OR(BQ108=\"ROLL\",BQ108=\"LENGTH\"),BW108>0),ROUNDUP(BW108/CJ108/#REF!,0)*#REF!,IF(BQ108=\"METRE\",#REF!*ROUNDUP(((BW108*BM108)/1000)/#REF!,0),#REF!*ROUNDUP(BW108/#REF!,0))),\"\"),\"\")","v":""},"","",null,{"$f":"IFERROR(INDEX(INDIRECT(\"T_NAV_\"&i_Location&\"[\"&i_Location&\"]\"),MATCH(1,--(BD108=INDIRECT(\"T_NAV_\"&i_Location&\"[No.]\"))*--((INDIRECT(\"T_NAV_\"&i_Location&\"[\"&i_Location&\"]\"))<>\"\"),0)),\"\")","v":""},null,{"$f":"IFERROR(IF(ISBLANK(BU108),\"\",IF(OR(BQ108=\"ROLL\",BQ108=\"LENGTH\"),ROUNDDOWN((BH108*1000)/(BM108+CutTol),0),PRODUCT(AE91,BU108))),\"\")","v":1}]
[null,null,null,null,{"$f":"IFERROR(IF(ISBLANK(D109),\"\",IF(FIND(D109,INDIRECT($D$92))>0,1,0)),0)","v":""},"AUTOMATE | DCFT",{"$f":"IFERROR(IF(ISBLANK(F109),\"\",IF(FIND(F109,INDIRECT($F$92))>0,1,0)),0)","v":0},"78 ",{"$f":"IFERROR(IF(ISBLANK(H109),\"\",IF(FIND(H109,INDIRECT($H$92))>0,1,0)),0)","v":0},null,{"$f":"IFERROR(IF(ISBLANK(J109),\"\",IF(FIND(J109,INDIRECT($J$92))>0,1,0)),0)","v":""},"AU",0,null,{"$f":"IFERROR(IF(ISBLANK(N109),\"\",IF(FIND(N109,INDIRECT($N$92))>0,1,0)),0)","v":""},null,{"$f":"IFERROR(IF(ISBLANK(P109),\"\",IF(FIND(P109,INDIRECT($P$92))>0,1,0)),0)","v":""},null,null,null,null,null,null,null,null,null,null,null,null,null,{"$f":"IFERROR(IF(AND(AA109=\"Y\",PRODUCT(AB109:AD109)=0),o_nScreens,IF(PRODUCT(AB109:AD109)=0,\"\",PRODUCT(AB109:AD109))),\"\")","v":""},null,null,null,null,null,null,null,null,null,null,null,null,"AU","",0,null,"",{"$f":"IF(ISNUMBER(FIND(\"x\",BF109)),IFERROR(INDEX(INDIRECT(\"T_FinishColour[ColourCode-\"&IF(ISNUMBER(FIND(\"xxx\",BF109)),\"xxx\",IF(ISNUMBER(FIND(\"xx\",BF109)),\"xx\",\"error\"))&AR109&\"]\"),MATCH(AV109,T_FinishColour[Finish / Colour],0)),\"\"),\"\")","v":""},null,{"$f":"IF(AND(ISBLANK(BD109),ISBLANK(C109)),\"HIDE\",_xlfn.SWITCH(PRODUCT(C109:Z109,B109),2,\"HEADING\",1,\"SHOW\",0,\"HIDE\"))","v":"HIDE"},null,"PICK","GL",null,"MT03-0106-050006",null,"MT03-0106-050006","AUTOMATE | Drive Wheel - 78mm | STD",null,{"$f":"IF(ISBLANK(BP109),\"\",IF(OR(BP109=L_Units),\"Y\",\"N\"))","v":"N"},null,{"$f":"IFERROR(IF(BI109=\"Y\",((INDEX(T_Deduc[Deduction],MATCH(BJ109,T_Deduc[Type],0),0))),\"\"),\"\")","v":""},null,{"$f":"IFERROR(IF(BI109=\"Y\",INDIRECT(BL109)-BK109,\"\"),\"\")","v":""},{"$f":"IFERROR(IF(BI109=\"Y\",BM109,\"\"),\"\")","v":""},{"$f":"IFERROR(IF(BI109=\"Y\",TEXT(BM109/25.4,\"0\"&IF(ABS(BM109/25.4-ROUND(BM109/25.4,0))>1/32,\"-0/\"&CHOOSE(ROUND(MOD(BM109/25.4,1)*16,0),16,8,16,4,16,8,16,2,16,8,16,4,16,8,16),\"\")),\"\"),\"\")","v":""},"Piece",{"$f":"IFERROR(IF(ISBLANK(BD109),\"\",INDEX(T_NAV_AU[Unit of Measure],MATCH(BD109,T_NAV_AU[No.],0))),\"\")","v":"PIECE"},null,null,"AM",1,1,1,{"$f":"IFERROR(INDEX(INDIRECT(\"T_NAV_\"&i_Location&\"[\"&i_Location&\"]\"),MATCH(1,--(BD109=INDIRECT(\"T_NAV_\"&i_Location&\"[No.]\"))*--((INDIRECT(\"T_NAV_\"&i_Location&\"[\"&i_Location&\"]\"))<>\"\"),0))/IF(AND(BR109=\"METRE\",BH109<>\"\",BS109=\"\"),BH109,1),\"\")","v":""},"",{"$f":"IF(BY109<>\"\",(INDIRECT(\"i_\"&BT109&\"discount\"))*BY109,\"\")","v":""},{"$f":"IFERROR(IF(BY109<>\"\",BY109-BZ109,\"\"),\"\")","v":""},null,null,{"$f":"IFERROR(IF(AY109=\"SHOW\",IF(AND(OR(BQ109=\"ROLL\",BQ109=\"LENGTH\"),BW109>0),ROUNDUP(BW109/CJ109/#REF!,0)*#REF!,IF(BQ109=\"METRE\",#REF!*ROUNDUP(((BW109*BM109)/1000)/#REF!,0),#REF!*ROUNDUP(BW109/#REF!,0))),\"\"),\"\")","v":""},{"$f":"IF(CD109<>\"\",CD109&\"x \"&BQ109&IF(CD109>1,\"S\",\"\"),\"\")","v":""},"",null,{"$f":"IFERROR(INDEX(INDIRECT(\"T_NAV_\"&i_Location&\"[\"&i_Location&\"]\"),MATCH(1,--(BD109=INDIRECT(\"T_NAV_\"&i_Location&\"[No.]\"))*--((INDIRECT(\"T_NAV_\"&i_Location&\"[\"&i_Location&\"]\"))<>\"\"),0)),\"\")","v":""},null,{"$f":"IFERROR(IF(ISBLANK(BU109),\"\",IF(OR(BQ109=\"ROLL\",BQ109=\"LENGTH\"),ROUNDDOWN((BH109*1000)/(BM109+CutTol),0),PRODUCT(AE92,BU109))),\"\")","v":1}]
[null,null,null,null,"","AUTOMATE",0,"78 ",0,null,"","US",{"$f":"IFERROR(IF(ISBLANK(L110),\"\",IF(FIND(L110,INDIRECT($L$92))>0,1,0)),0)","v":0},null,"",null,"","Zipscreen",{"$f":"IFERROR(IF(ISBLANK(R110),\"\",IF(FIND(R110,INDIRECT($R$92))>0,1,0)),0)","v":0},null,null,null,null,null,null,null,null,null,null,null,{"$f":"IFERROR(IF(AND(AA110=\"Y\",PRODUCT(AB110:AD110)=0),o_nScreens,IF(PRODUCT(AB110:AD110)=0,\"\",PRODUCT(AB110:AD110))),\"\")","v":""},null,null,null,null,null,null,null,null,null,null,null,null,"AU","",0,null,"",{"$f":"IF(ISNUMBER(FIND(\"x\",BF110)),IFERROR(INDEX(INDIRECT(\"T_FinishColour[ColourCode-\"&IF(ISNUMBER(FIND(\"xxx\",BF110)),\"xxx\",IF(ISNUMBER(FIND(\"xx\",BF110)),\"xx\",\"error\"))&AR110&\"]\"),MATCH(AV110,T_FinishColour[Finish / Colour],0)),\"\"),\"\")","v":""},null,{"$f":"IF(AND(ISBLANK(BD110),ISBLANK(C110)),\"HIDE\",_xlfn.SWITCH(PRODUCT(C110:Z110,B110),2,\"HEADING\",1,\"SHOW\",0,\"HIDE\"))","v":"HIDE"},null,"PICK","GL",null,"RE01-0680-050518",null,"RE01-0680-050518","AUTOMATE | Drive Wheel - 78mm | Impact Detection",null,{"$f":"IF(ISBLANK(BP110),\"\",IF(OR(BP110=L_Units),\"Y\",\"N\"))","v":"N"},null,{"$f":"IFERROR(IF(BI110=\"Y\",((INDEX(T_Deduc[Deduction],MATCH(BJ110,T_Deduc[Type],0),0))),\"\"),\"\")","v":""},null,"","","","Set",{"$f":"IFERROR(IF(ISBLANK(BD110),\"\",INDEX(T_NAV_AU[Unit of Measure],MATCH(BD110,T_NAV_AU[No.],0))),\"\")","v":""},null,null,"AM",1,1,1,{"$f":"IFERROR(INDEX(INDIRECT(\"T_NAV_\"&i_Location&\"[\"&i_Location&\"]\"),MATCH(1,--(BD110=INDIRECT(\"T_NAV_\"&i_Location&\"[No.]\"))*--((INDIRECT(\"T_NAV_\"&i_Location&\"[\"&i_Location&\"]\"))<>\"\"),0))/IF(AND(BR110=\"METRE\",BH110<>\"\",BS110=\"\"),BH110,1),\"\")","v":""},"","","",null,null,{"$f":"IFERROR(IF(AY110=\"SHOW\",IF(AND(OR(BQ110=\"ROLL\",BQ110=\"LENGTH\"),BW110>0),ROUNDUP(BW110/CJ110/#REF!,0)*#REF!,IF(BQ110=\"METRE\",#REF!*ROUNDUP(((BW110*BM110)/1000)/#REF!,0),#REF!*ROUNDUP(BW110/#REF!,0))),\"\"),\"\")","v":""},"","",null,{"$f":"IFERROR(INDEX(INDIRECT(\"T_NAV_\"&i_Location&\"[\"&i_Location&\"]\"),MATCH(1,--(BD110=INDIRECT(\"T_NAV_\"&i_Location&\"[No.]\"))*--((INDIRECT(\"T_NAV_\"&i_Location&\"[\"&i_Location&\"]\"))<>\"\"),0)),\"\")","v":""},null,{"$f":"IFERROR(IF(ISBLANK(BU110),\"\",IF(OR(BQ110=\"ROLL\",BQ110=\"LENGTH\"),ROUNDDOWN((BH110*1000)/(BM110+CutTol),0),PRODUCT(AE92,BU110))),\"\")","v":1}]
[null,null,null,null,"","AUTOMATE | FT Motor",0,null,"",null,"","US",0,null,"",null,"",null,null,null,null,null,null,null,null,null,null,null,null,null,{"$f":"IFERROR(IF(AND(AA111=\"Y\",PRODUCT(AB111:AD111)=0),o_nScreens,IF(PRODUCT(AB111:AD111)=0,\"\",PRODUCT(AB111:AD111))),\"\")","v":""},null,null,null,null,null,null,null,null,null,null,null,null,"AU","",null,null,"",{"$f":"IF(ISNUMBER(FIND(\"x\",BF111)),IFERROR(INDEX(INDIRECT(\"T_FinishColour[ColourCode-\"&IF(ISNUMBER(FIND(\"xxx\",BF111)),\"xxx\",IF(ISNUMBER(FIND(\"xx\",BF111)),\"xx\",\"error\"))&AR111&\"]\"),MATCH(AV111,T_FinishColour[Finish / Colour],0)),\"\"),\"\")","v":""},null,{"$f":"IF(AND(ISBLANK(BD111),ISBLANK(C111)),\"HIDE\",_xlfn.SWITCH(PRODUCT(C111:Z111,B111),2,\"HEADING\",1,\"SHOW\",0,\"HIDE\"))","v":"HIDE"},null,"PICK","US",null,"RE01-0601-025000",null,"RE01-0601-025000","AUTOMATE | Veue 45mm Motor Bracket Adaptor + Screws",null,{"$f":"IF(ISBLANK(BP111),\"\",IF(OR(BP111=L_Units),\"Y\",\"N\"))","v":"N"},null,{"$f":"IFERROR(IF(BI111=\"Y\",((INDEX(T_Deduc[Deduction],MATCH(BJ111,T_Deduc[Type],0),0))),\"\"),\"\")","v":""},null,"","","","Set",{"$f":"IFERROR(IF(ISBLANK(BD111),\"\",INDEX(T_NAV_AU[Unit of Measure],MATCH(BD111,T_NAV_AU[No.],0))),\"\")","v":"SET"},null,null,"AM",1,1,1,{"$f":"IFERROR(INDEX(INDIRECT(\"T_NAV_\"&i_Location&\"[\"&i_Location&\"]\"),MATCH(1,--(BD111=INDIRECT(\"T_NAV_\"&i_Location&\"[No.]\"))*--((INDIRECT(\"T_NAV_\"&i_Location&\"[\"&i_Location&\"]\"))<>\"\"),0))/IF(AND(BR111=\"METRE\",BH111<>\"\",BS111=\"\"),BH111,1),\"\")","v":""},"","","",null,null,{"$f":"IFERROR(IF(AY111=\"SHOW\",IF(AND(OR(BQ111=\"ROLL\",BQ111=\"LENGTH\"),BW111>0),ROUNDUP(BW111/CJ111/#REF!,0)*#REF!,IF(BQ111=\"METRE\",#REF!*ROUNDUP(((BW111*BM111)/1000)/#REF!,0),#REF!*ROUNDUP(BW111/#REF!,0))),\"\"),\"\")","v":""},"","",null,{"$f":"IFERROR(INDEX(INDIRECT(\"T_NAV_\"&i_Location&\"[\"&i_Location&\"]\"),MATCH(1,--(BD111=INDIRECT(\"T_NAV_\"&i_Location&\"[No.]\"))*--((INDIRECT(\"T_NAV_\"&i_Location&\"[\"&i_Location&\"]\"))<>\"\"),0)),\"\")","v":""},null,{"$f":"IFERROR(IF(ISBLANK(BU111),\"\",IF(OR(BQ111=\"ROLL\",BQ111=\"LENGTH\"),ROUNDDOWN((BH111*1000)/(BM111+CutTol),0),PRODUCT(AE95,BU111))),\"\")","v":1}]
[null,null,null,null,"","AUTOMATE | FT Motor",0,null,"",null,"","US",0,null,"",null,"",null,null,null,null,null,null,null,null,null,null,null,null,null,{"$f":"IFERROR(IF(AND(AA112=\"Y\",PRODUCT(AB112:AD112)=0),o_nScreens,IF(PRODUCT(AB112:AD112)=0,\"\",PRODUCT(AB112:AD112))),\"\")","v":""},null,null,null,null,null,null,null,null,null,null,null,null,"AU","",{"$f":"i_Finish","v":0},null,"",{"$f":"IF(ISNUMBER(FIND(\"x\",BF112)),IFERROR(INDEX(INDIRECT(\"T_FinishColour[ColourCode-\"&IF(ISNUMBER(FIND(\"xxx\",BF112)),\"xxx\",IF(ISNUMBER(FIND(\"xx\",BF112)),\"xx\",\"error\"))&AR112&\"]\"),MATCH(AV112,T_FinishColour[Finish / Colour],0)),\"\"),\"\")","v":""},null,{"$f":"IF(AND(ISBLANK(BD112),ISBLANK(C112)),\"HIDE\",_xlfn.SWITCH(PRODUCT(C112:Z112,B112),2,\"HEADING\",1,\"SHOW\",0,\"HIDE\"))","v":"HIDE"},null,"PICK","US",null,"RE01-0603-025000",null,"RE01-0603-025000","AUTOMATE | Veue 45mm SLIM Motor 10mm Square Shaft + Screws",null,{"$f":"IF(ISBLANK(BP112),\"\",IF(OR(BP112=L_Units),\"Y\",\"N\"))","v":"N"},null,{"$f":"IFERROR(IF(BI112=\"Y\",((INDEX(T_Deduc[Deduction],MATCH(BJ112,T_Deduc[Type],0),0))),\"\"),\"\")","v":""},null,"","","","Set",{"$f":"IFERROR(IF(ISBLANK(BD112),\"\",INDEX(T_NAV_AU[Unit of Measure],MATCH(BD112,T_NAV_AU[No.],0))),\"\")","v":"SET"},null,null,"AM",1,1,1,{"$f":"IFERROR(INDEX(INDIRECT(\"T_NAV_\"&i_Location&\"[\"&i_Location&\"]\"),MATCH(1,--(BD112=INDIRECT(\"T_NAV_\"&i_Location&\"[No.]\"))*--((INDIRECT(\"T_NAV_\"&i_Location&\"[\"&i_Location&\"]\"))<>\"\"),0))/IF(AND(BR112=\"METRE\",BH112<>\"\",BS112=\"\"),BH112,1),\"\")","v":""},"","","",null,null,{"$f":"IFERROR(IF(AY112=\"SHOW\",IF(AND(OR(BQ112=\"ROLL\",BQ112=\"LENGTH\"),BW112>0),ROUNDUP(BW112/CJ112/#REF!,0)*#REF!,IF(BQ112=\"METRE\",#REF!*ROUNDUP(((BW112*BM112)/1000)/#REF!,0),#REF!*ROUNDUP(BW112/#REF!,0))),\"\"),\"\")","v":""},"","",null,{"$f":"IFERROR(INDEX(INDIRECT(\"T_NAV_\"&i_Location&\"[\"&i_Location&\"]\"),MATCH(1,--(BD112=INDIRECT(\"T_NAV_\"&i_Location&\"[No.]\"))*--((INDIRECT(\"T_NAV_\"&i_Location&\"[\"&i_Location&\"]\"))<>\"\"),0)),\"\")","v":""},null,{"$f":"IFERROR(IF(ISBLANK(BU112),\"\",IF(OR(BQ112=\"ROLL\",BQ112=\"LENGTH\"),ROUNDDOWN((BH112*1000)/(BM112+CutTol),0),PRODUCT(AE101,BU112))),\"\")","v":1}]
[null,null,null,null,"","AUTOMATE",0,null,"",null,"","US",0,null,"",null,"",null,null,null,null,null,null,null,null,null,null,null,null,null,{"$f":"IFERROR(IF(AND(AA113=\"Y\",PRODUCT(AB113:AD113)=0),o_nScreens,IF(PRODUCT(AB113:AD113)=0,\"\",PRODUCT(AB113:AD113))),\"\")","v":""},null,null,null,null,null,null,null,null,null,null,null,null,"AU","",null,null,"",{"$f":"IF(ISNUMBER(FIND(\"x\",BF113)),IFERROR(INDEX(INDIRECT(\"T_FinishColour[ColourCode-\"&IF(ISNUMBER(FIND(\"xxx\",BF113)),\"xxx\",IF(ISNUMBER(FIND(\"xx\",BF113)),\"xx\",\"error\"))&AR113&\"]\"),MATCH(AV113,T_FinishColour[Finish / Colour],0)),\"\"),\"\")","v":""},null,{"$f":"IF(AND(ISBLANK(BD113),ISBLANK(C113)),\"HIDE\",_xlfn.SWITCH(PRODUCT(C113:Z113,B113),2,\"HEADING\",1,\"SHOW\",0,\"HIDE\"))","v":"HIDE"},null,"PICK","US",null,"MTCLIP-35-45",null,"MTCLIP-35-45","Motor Drive Clip for 35/45mm Motors",null,{"$f":"IF(ISBLANK(BP113),\"\",IF(OR(BP113=L_Units),\"Y\",\"N\"))","v":"N"},null,{"$f":"IFERROR(IF(BI113=\"Y\",((INDEX(T_Deduc[Deduction],MATCH(BJ113,T_Deduc[Type],0),0))),\"\"),\"\")","v":""},null,"","","","Piece",{"$f":"IFERROR(IF(ISBLANK(BD113),\"\",INDEX(T_NAV_AU[Unit of Measure],MATCH(BD113,T_NAV_AU[No.],0))),\"\")","v":""},null,null,"AM",1,1,1,{"$f":"IFERROR(INDEX(INDIRECT(\"T_NAV_\"&i_Location&\"[\"&i_Location&\"]\"),MATCH(1,--(BD113=INDIRECT(\"T_NAV_\"&i_Location&\"[No.]\"))*--((INDIRECT(\"T_NAV_\"&i_Location&\"[\"&i_Location&\"]\"))<>\"\"),0))/IF(AND(BR113=\"METRE\",BH113<>\"\",BS113=\"\"),BH113,1),\"\")","v":""},{"$f":"IFERROR(IF(AND(AY113=\"SHOW\",BX113<>\"\"),BX113*BW113*IF(AND(BN113<>\"\",OR(BQ113=\"LENGTH\",BQ113=\"METRE\",BQ113=\"ROLL\")),(BM113/1000),1),\"\"),\"\")","v":""},"","",null,null,{"$f":"IFERROR(IF(AY113=\"SHOW\",IF(AND(OR(BQ113=\"ROLL\",BQ113=\"LENGTH\"),BW113>0),ROUNDUP(BW113/CJ113/#REF!,0)*#REF!,IF(BQ113=\"METRE\",#REF!*ROUNDUP(((BW113*BM113)/1000)/#REF!,0),#REF!*ROUNDUP(BW113/#REF!,0))),\"\"),\"\")","v":""},"",{"$f":"IFERROR(IF(AY113=\"SHOW\",CH113*CD113*(1-(INDIRECT(\"i_\"&BT113&\"discount\"))),\"\"),\"\")","v":""},null,{"$f":"IFERROR(INDEX(INDIRECT(\"T_NAV_\"&i_Location&\"[\"&i_Location&\"]\"),MATCH(1,--(BD113=INDIRECT(\"T_NAV_\"&i_Location&\"[No.]\"))*--((INDIRECT(\"T_NAV_\"&i_Location&\"[\"&i_Location&\"]\"))<>\"\"),0)),\"\")","v":""},null,{"$f":"IFERROR(IF(ISBLANK(BU113),\"\",IF(OR(BQ113=\"ROLL\",BQ113=\"LENGTH\"),ROUNDDOWN((BH113*1000)/(BM113+CutTol),0),PRODUCT(#REF!,BU113))),\"\")","v":""}]
[null,null,null,null,null,"AX30",0,null,"",null,null,"AU",0,null,null,null,null,null,{"$f":"IFERROR(IF(ISBLANK(R114),\"\",IF(FIND(R114,INDIRECT($R$92))>0,1,0)),0)","v":""},null,null,null,null,null,null,null,null,null,null,null,null,null,null,null,null,null,null,null,null,null,null,null,null,null,null,null,null,null,null,null,{"$f":"IF(AND(ISBLANK(BD114),ISBLANK(C114)),\"HIDE\",_xlfn.SWITCH(PRODUCT(C114:Z114,B114),2,\"HEADING\",1,\"SHOW\",0,\"HIDE\"))","v":"HIDE"},null,"PICK","AU",null,"MT01-1145-069013",null,"MT01-1145-069013","AUTOMATE | AX30 Extreme Motor [Ø45/30Nm/15rpm]",null,"N",null,null,null,"",{"$f":"IFERROR(IF(BI114=\"Y\",BM114,\"\"),\"\")","v":""},{"$f":"IFERROR(IF(BI114=\"Y\",TEXT(BM114/25.4,\"0\"&IF(ABS(BM114/25.4-ROUND(BM114/25.4,0))>1/32,\"-0/\"&CHOOSE(ROUND(MOD(BM114/25.4,1)*16,0),16,8,16,4,16,8,16,2,16,8,16,4,16,8,16),\"\")),\"\"),\"\")","v":""},"Set",{"$f":"IFERROR(IF(ISBLANK(BD114),\"\",INDEX(T_NAV_AU[Unit of Measure],MATCH(BD114,T_NAV_AU[No.],0))),\"\")","v":"PIECE"},null,null,"AM",1,1,1,{"$f":"IFERROR(INDEX(INDIRECT(\"T_NAV_\"&i_Location&\"[\"&i_Location&\"]\"),MATCH(1,--(BD114=INDIRECT(\"T_NAV_\"&i_Location&\"[No.]\"))*--((INDIRECT(\"T_NAV_\"&i_Location&\"[\"&i_Location&\"]\"))<>\"\"),0))/IF(AND(BR114=\"METRE\",BH114<>\"\",BS114=\"\"),BH114,1),\"\")","v":""},"","","",null,null,{"$f":"IFERROR(IF(AY114=\"SHOW\",IF(AND(OR(BQ114=\"ROLL\",BQ114=\"LENGTH\"),BW114>0),ROUNDUP(BW114/CJ114/#REF!,0)*#REF!,IF(BQ114=\"METRE\",#REF!*ROUNDUP(((BW114*BM114)/1000)/#REF!,0),#REF!*ROUNDUP(BW114/#REF!,0))),\"\"),\"\")","v":""},"","",null,{"$f":"IFERROR(INDEX(INDIRECT(\"T_NAV_\"&i_Location&\"[\"&i_Location&\"]\"),MATCH(1,--(BD114=INDIRECT(\"T_NAV_\"&i_Location&\"[No.]\"))*--((INDIRECT(\"T_NAV_\"&i_Location&\"[\"&i_Location&\"]\"))<>\"\"),0)),\"\")","v":""},null,{"$f":"IFERROR(IF(ISBLANK(BU114),\"\",IF(OR(BQ114=\"ROLL\",BQ114=\"LENGTH\"),ROUNDDOWN((BH114*1000)/(BM114+CutTol),0),PRODUCT(#REF!,BU114))),\"\")","v":""}]
[null,null,null,null,null,"AX30",0,null,"",null,null,"US",0,null,null,null,null,null,"",null,null,null,null,null,null,null,null,null,null,null,null,null,null,null,null,null,null,null,null,null,null,null,null,null,null,null,null,null,null,null,{"$f":"IF(AND(ISBLANK(BD115),ISBLANK(C115)),\"HIDE\",_xlfn.SWITCH(PRODUCT(C115:Z115,B115),2,\"HEADING\",1,\"SHOW\",0,\"HIDE\"))","v":"HIDE"},null,"PICK","US",null,"MT01-1145-069018",null,"MT01-1145-069018","AUTOMATE | AX30 Extreme Motor Long Conn. [Ø45/30Nm/13rpm]",null,"N",null,null,null,"",{"$f":"IFERROR(IF(BI115=\"Y\",BM115,\"\"),\"\")","v":""},{"$f":"IFERROR(IF(BI115=\"Y\",TEXT(BM115/25.4,\"0\"&IF(ABS(BM115/25.4-ROUND(BM115/25.4,0))>1/32,\"-0/\"&CHOOSE(ROUND(MOD(BM115/25.4,1)*16,0),16,8,16,4,16,8,16,2,16,8,16,4,16,8,16),\"\")),\"\"),\"\")","v":""},"Set","PIECE",null,null,"AM",1,1,1,{"$f":"IFERROR(INDEX(INDIRECT(\"T_NAV_\"&i_Location&\"[\"&i_Location&\"]\"),MATCH(1,--(BD115=INDIRECT(\"T_NAV_\"&i_Location&\"[No.]\"))*--((INDIRECT(\"T_NAV_\"&i_Location&\"[\"&i_Location&\"]\"))<>\"\"),0))/IF(AND(BR115=\"METRE\",BH115<>\"\",BS115=\"\"),BH115,1),\"\")","v":""},"","","",null,null,{"$f":"IFERROR(IF(AY115=\"SHOW\",IF(AND(OR(BQ115=\"ROLL\",BQ115=\"LENGTH\"),BW115>0),ROUNDUP(BW115/CJ115/#REF!,0)*#REF!,IF(BQ115=\"METRE\",#REF!*ROUNDUP(((BW115*BM115)/1000)/#REF!,0),#REF!*ROUNDUP(BW115/#REF!,0))),\"\"),\"\")","v":""},"","",null,{"$f":"IFERROR(INDEX(INDIRECT(\"T_NAV_\"&i_Location&\"[\"&i_Location&\"]\"),MATCH(1,--(BD115=INDIRECT(\"T_NAV_\"&i_Location&\"[No.]\"))*--((INDIRECT(\"T_NAV_\"&i_Location&\"[\"&i_Location&\"]\"))<>\"\"),0)),\"\")","v":""},null,{"$f":"IFERROR(IF(ISBLANK(BU115),\"\",IF(OR(BQ115=\"ROLL\",BQ115=\"LENGTH\"),ROUNDDOWN((BH115*1000)/(BM115+CutTol),0),PRODUCT(#REF!,BU115))),\"\")","v":""}]
[null,null,null,null,null,"AX50",0,null,"",null,null,"AU",0,null,null,null,null,null,"",null,null,null,null,null,null,null,null,null,null,null,null,null,null,null,null,null,null,null,null,null,null,null,null,null,null,null,null,null,null,null,{"$f":"IF(AND(ISBLANK(BD116),ISBLANK(C116)),\"HIDE\",_xlfn.SWITCH(PRODUCT(C116:Z116,B116),2,\"HEADING\",1,\"SHOW\",0,\"HIDE\"))","v":"HIDE"},null,"PICK","AU",null,"MT01-1145-069015",null,"MT01-1145-069015","AUTOMATE | AX50 Extreme Motor [Ø45/50Nm/12rpm]",null,"N",null,null,null,"",{"$f":"IFERROR(IF(BI116=\"Y\",BM116,\"\"),\"\")","v":""},{"$f":"IFERROR(IF(BI116=\"Y\",TEXT(BM116/25.4,\"0\"&IF(ABS(BM116/25.4-ROUND(BM116/25.4,0))>1/32,\"-0/\"&CHOOSE(ROUND(MOD(BM116/25.4,1)*16,0),16,8,16,4,16,8,16,2,16,8,16,4,16,8,16),\"\")),\"\"),\"\")","v":""},"Set",{"$f":"IFERROR(IF(ISBLANK(BD116),\"\",INDEX(T_NAV_AU[Unit of Measure],MATCH(BD116,T_NAV_AU[No.],0))),\"\")","v":"PIECE"},null,null,"AM",1,1,1,{"$f":"IFERROR(INDEX(INDIRECT(\"T_NAV_\"&i_Location&\"[\"&i_Location&\"]\"),MATCH(1,--(BD116=INDIRECT(\"T_NAV_\"&i_Location&\"[No.]\"))*--((INDIRECT(\"T_NAV_\"&i_Location&\"[\"&i_Location&\"]\"))<>\"\"),0))/IF(AND(BR116=\"METRE\",BH116<>\"\",BS116=\"\"),BH116,1),\"\")","v":""},"","","",null,null,{"$f":"IFERROR(IF(AY116=\"SHOW\",IF(AND(OR(BQ116=\"ROLL\",BQ116=\"LENGTH\"),BW116>0),ROUNDUP(BW116/CJ116/#REF!,0)*#REF!,IF(BQ116=\"METRE\",#REF!*ROUNDUP(((BW116*BM116)/1000)/#REF!,0),#REF!*ROUNDUP(BW116/#REF!,0))),\"\"),\"\")","v":""},"","",null,{"$f":"IFERROR(INDEX(INDIRECT(\"T_NAV_\"&i_Location&\"[\"&i_Location&\"]\"),MATCH(1,--(BD116=INDIRECT(\"T_NAV_\"&i_Location&\"[No.]\"))*--((INDIRECT(\"T_NAV_\"&i_Location&\"[\"&i_Location&\"]\"))<>\"\"),0)),\"\")","v":""},null,{"$f":"IFERROR(IF(ISBLANK(BU116),\"\",IF(OR(BQ116=\"ROLL\",BQ116=\"LENGTH\"),ROUNDDOWN((BH116*1000)/(BM116+CutTol),0),PRODUCT(#REF!,BU116))),\"\")","v":""}]
[null,null,null,null,null,"AX50",0,null,"",null,null,"US",0,null,null,null,null,null,"",null,null,null,null,null,null,null,null,null,null,null,null,null,null,null,null,null,null,null,null,null,null,null,null,null,null,null,null,null,null,null,{"$f":"IF(AND(ISBLANK(BD117),ISBLANK(C117)),\"HIDE\",_xlfn.SWITCH(PRODUCT(C117:Z117,B117),2,\"HEADING\",1,\"SHOW\",0,\"HIDE\"))","v":"HIDE"},null,"PICK","US",null,"MT01-1145-069017",null,"MT01-1145-069017","AUTOMATE | AX50 Extreme Motor Long Conn. [Ø45/50Nm/13rpm]",null,"N",null,null,null,"",{"$f":"IFERROR(IF(BI117=\"Y\",BM117,\"\"),\"\")","v":""},{"$f":"IFERROR(IF(BI117=\"Y\",TEXT(BM117/25.4,\"0\"&IF(ABS(BM117/25.4-ROUND(BM117/25.4,0))>1/32,\"-0/\"&CHOOSE(ROUND(MOD(BM117/25.4,1)*16,0),16,8,16,4,16,8,16,2,16,8,16,4,16,8,16),\"\")),\"\"),\"\")","v":""},"Set","PIECE",null,null,"AM",1,1,1,{"$f":"IFERROR(INDEX(INDIRECT(\"T_NAV_\"&i_Location&\"[\"&i_Location&\"]\"),MATCH(1,--(BD117=INDIRECT(\"T_NAV_\"&i_Location&\"[No.]\"))*--((INDIRECT(\"T_NAV_\"&i_Location&\"[\"&i_Location&\"]\"))<>\"\"),0))/IF(AND(BR117=\"METRE\",BH117<>\"\",BS117=\"\"),BH117,1),\"\")","v":""},"","","",null,null,{"$f":"IFERROR(IF(AY117=\"SHOW\",IF(AND(OR(BQ117=\"ROLL\",BQ117=\"LENGTH\"),BW117>0),ROUNDUP(BW117/CJ117/#REF!,0)*#REF!,IF(BQ117=\"METRE\",#REF!*ROUNDUP(((BW117*BM117)/1000)/#REF!,0),#REF!*ROUNDUP(BW117/#REF!,0))),\"\"),\"\")","v":""},"","",null,{"$f":"IFERROR(INDEX(INDIRECT(\"T_NAV_\"&i_Location&\"[\"&i_Location&\"]\"),MATCH(1,--(BD117=INDIRECT(\"T_NAV_\"&i_Location&\"[No.]\"))*--((INDIRECT(\"T_NAV_\"&i_Location&\"[\"&i_Location&\"]\"))<>\"\"),0)),\"\")","v":""},null,{"$f":"IFERROR(IF(ISBLANK(BU117),\"\",IF(OR(BQ117=\"ROLL\",BQ117=\"LENGTH\"),ROUNDDOWN((BH117*1000)/(BM117+CutTol),0),PRODUCT(#REF!,BU117))),\"\")","v":""}]
[null,null,null,null,null,"AX",0,null,"",null,null,null,"",null,null,null,null,null,"",null,null,null,null,null,null,null,null,null,null,null,null,null,null,null,null,null,null,null,null,null,null,null,null,null,null,null,null,null,null,null,{"$f":"IF(AND(ISBLANK(BD118),ISBLANK(C118)),\"HIDE\",_xlfn.SWITCH(PRODUCT(C118:Z118,B118),2,\"HEADING\",1,\"SHOW\",0,\"HIDE\"))","v":"HIDE"},null,"PICK","GL",null,"MT03-0198-025008",null,"MT03-0198-025008","AUTOMATE | Motor Drive Adaptor Kit w/ Clip",null,"N",null,null,null,"",{"$f":"IFERROR(IF(BI118=\"Y\",BM118,\"\"),\"\")","v":""},{"$f":"IFERROR(IF(BI118=\"Y\",TEXT(BM118/25.4,\"0\"&IF(ABS(BM118/25.4-ROUND(BM118/25.4,0))>1/32,\"-0/\"&CHOOSE(ROUND(MOD(BM118/25.4,1)*16,0),16,8,16,4,16,8,16,2,16,8,16,4,16,8,16),\"\")),\"\"),\"\")","v":""},"Set",{"$f":"IFERROR(IF(ISBLANK(BD118),\"\",INDEX(T_NAV_AU[Unit of Measure],MATCH(BD118,T_NAV_AU[No.],0))),\"\")","v":"SET"},null,null,"AM",1,1,1,{"$f":"IFERROR(INDEX(INDIRECT(\"T_NAV_\"&i_Location&\"[\"&i_Location&\"]\"),MATCH(1,--(BD118=INDIRECT(\"T_NAV_\"&i_Location&\"[No.]\"))*--((INDIRECT(\"T_NAV_\"&i_Location&\"[\"&i_Location&\"]\"))<>\"\"),0))/IF(AND(BR118=\"METRE\",BH118<>\"\",BS118=\"\"),BH118,1),\"\")","v":""},"","","",null,null,{"$f":"IFERROR(IF(AY118=\"SHOW\",IF(AND(OR(BQ118=\"ROLL\",BQ118=\"LENGTH\"),BW118>0),ROUNDUP(BW118/CJ118/#REF!,0)*#REF!,IF(BQ118=\"METRE\",#REF!*ROUNDUP(((BW118*BM118)/1000)/#REF!,0),#REF!*ROUNDUP(BW118/#REF!,0))),\"\"),\"\")","v":""},"","",null,{"$f":"IFERROR(INDEX(INDIRECT(\"T_NAV_\"&i_Location&\"[\"&i_Location&\"]\"),MATCH(1,--(BD118=INDIRECT(\"T_NAV_\"&i_Location&\"[No.]\"))*--((INDIRECT(\"T_NAV_\"&i_Location&\"[\"&i_Location&\"]\"))<>\"\"),0)),\"\")","v":""},null,{"$f":"IFERROR(IF(ISBLANK(BU118),\"\",IF(OR(BQ118=\"ROLL\",BQ118=\"LENGTH\"),ROUNDDOWN((BH118*1000)/(BM118+CutTol),0),PRODUCT(AE113,BU118))),\"\")","v":1}]
[null,null,null,null,null,null,null,null,null,null,null,null,"","Motor",{"$f":"IFERROR(IF(ISBLANK(N119),\"\",IF(FIND(N119,INDIRECT($N$92))>0,1,0)),0)","v":0},null,null,null,"","Extreme",{"$f":"IFERROR(IF(ISBLANK(T119),\"\",IF(FIND(T119,INDIRECT($T$92))>0,1,0)),0)","v":0},null,null,null,null,null,null,null,null,null,null,null,null,null,null,null,null,null,null,null,null,null,null,null,null,null,null,null,null,null,{"$f":"IF(AND(ISBLANK(BD119),ISBLANK(C119)),\"HIDE\",_xlfn.SWITCH(PRODUCT(C119:Z119,B119),2,\"HEADING\",1,\"SHOW\",0,\"HIDE\"))","v":"HIDE"},null,"PICK","GL",null,"RB80-0301-073100",null,"RB80-0301-073100","Extreme Universal Drive Wheel | S100",null,"N",null,null,null,"","","","Piece",{"$f":"IFERROR(IF(ISBLANK(BD119),\"\",INDEX(T_NAV_AU[Unit of Measure],MATCH(BD119,T_NAV_AU[No.],0))),\"\")","v":"PIECE"},null,null,"HW",1,1,1,{"$f":"IFERROR(INDEX(INDIRECT(\"T_NAV_\"&i_Location&\"[\"&i_Location&\"]\"),MATCH(1,--(BD119=INDIRECT(\"T_NAV_\"&i_Location&\"[No.]\"))*--((INDIRECT(\"T_NAV_\"&i_Location&\"[\"&i_Location&\"]\"))<>\"\"),0))/IF(AND(BR119=\"METRE\",BH119<>\"\",BS119=\"\"),BH119,1),\"\")","v":""},"","","",null,null,{"$f":"IFERROR(IF(AY119=\"SHOW\",IF(AND(OR(BQ119=\"ROLL\",BQ119=\"LENGTH\"),BW119>0),ROUNDUP(BW119/CJ119/#REF!,0)*#REF!,IF(BQ119=\"METRE\",#REF!*ROUNDUP(((BW119*BM119)/1000)/#REF!,0),#REF!*ROUNDUP(BW119/#REF!,0))),\"\"),\"\")","v":""},"","",null,{"$f":"IFERROR(INDEX(INDIRECT(\"T_NAV_\"&i_Location&\"[\"&i_Location&\"]\"),MATCH(1,--(BD119=INDIRECT(\"T_NAV_\"&i_Location&\"[No.]\"))*--((INDIRECT(\"T_NAV_\"&i_Location&\"[\"&i_Location&\"]\"))<>\"\"),0)),\"\")","v":""},null,{"$f":"IFERROR(IF(ISBLANK(BU119),\"\",IF(OR(BQ119=\"ROLL\",BQ119=\"LENGTH\"),ROUNDDOWN((BH119*1000)/(BM119+CutTol),0),PRODUCT(#REF!,BU119))),\"\")","v":""}]
[null,null,null,null,null,null,null,null,null,null,null,null,"","Motor",0,null,null,null,"","Extreme",0,null,null,null,null,null,null,null,null,null,null,null,null,null,null,null,null,null,null,null,null,null,null,null,null,null,null,null,null,null,{"$f":"IF(AND(ISBLANK(BD120),ISBLANK(C120)),\"HIDE\",_xlfn.SWITCH(PRODUCT(C120:Z120,B120),2,\"HEADING\",1,\"SHOW\",0,\"HIDE\"))","v":"HIDE"},null,"PICK","GL",null,"RB80-0701-073100",null,"RB80-0701-073100","Extreme Universal Motor Crown | S100",null,"N",null,null,null,"","","","Piece",{"$f":"IFERROR(IF(ISBLANK(BD120),\"\",INDEX(T_NAV_AU[Unit of Measure],MATCH(BD120,T_NAV_AU[No.],0))),\"\")","v":"PIECE"},null,null,"HW",1,1,1,{"$f":"IFERROR(INDEX(INDIRECT(\"T_NAV_\"&i_Location&\"[\"&i_Location&\"]\"),MATCH(1,--(BD120=INDIRECT(\"T_NAV_\"&i_Location&\"[No.]\"))*--((INDIRECT(\"T_NAV_\"&i_Location&\"[\"&i_Location&\"]\"))<>\"\"),0))/IF(AND(BR120=\"METRE\",BH120<>\"\",BS120=\"\"),BH120,1),\"\")","v":""},"","","",null,null,{"$f":"IFERROR(IF(AY120=\"SHOW\",IF(AND(OR(BQ120=\"ROLL\",BQ120=\"LENGTH\"),BW120>0),ROUNDUP(BW120/CJ120/#REF!,0)*#REF!,IF(BQ120=\"METRE\",#REF!*ROUNDUP(((BW120*BM120)/1000)/#REF!,0),#REF!*ROUNDUP(BW120/#REF!,0))),\"\"),\"\")","v":""},"","",null,{"$f":"IFERROR(INDEX(INDIRECT(\"T_NAV_\"&i_Location&\"[\"&i_Location&\"]\"),MATCH(1,--(BD120=INDIRECT(\"T_NAV_\"&i_Location&\"[No.]\"))*--((INDIRECT(\"T_NAV_\"&i_Location&\"[\"&i_Location&\"]\"))<>\"\"),0)),\"\")","v":""},null,{"$f":"IFERROR(IF(ISBLANK(BU120),\"\",IF(OR(BQ120=\"ROLL\",BQ120=\"LENGTH\"),ROUNDDOWN((BH120*1000)/(BM120+CutTol),0),PRODUCT(#REF!,BU120))),\"\")","v":""}]
[null,null,null,"!Open Brackets (Top/Face Fix)",{"$f":"IFERROR(IF(ISBLANK(D121),\"\",IF(FIND(MID(D121,2,50),INDIRECT($D$92))>0,0,1)),1)","v":1},null,null,null,null,null,null,null,"","Motor",{"$f":"IFERROR(IF(ISBLANK(N121),\"\",IF(FIND(N121,INDIRECT($N$92))>0,1,0)),0)","v":0},null,null,"Wire Guide",0,"Extreme",{"$f":"IFERROR(IF(ISBLANK(T121),\"\",IF(FIND(T121,INDIRECT($T$92))>0,1,0)),0)","v":0},null,null,null,null,null,null,null,null,null,null,null,null,null,null,null,null,null,null,null,null,null,null,null,null,null,null,null,null,null,{"$f":"IF(AND(ISBLANK(BD121),ISBLANK(C121)),\"HIDE\",_xlfn.SWITCH(PRODUCT(C121:Z121,B121),2,\"HEADING\",1,\"SHOW\",0,\"HIDE\"))","v":"HIDE"},null,"PICK","GL",null,"RB80-0411-025050",null,"RB80-0411-025050","ZAMAK Adaptor Spacer",null,"N",null,null,null,"","","","Piece",{"$f":"IFERROR(IF(ISBLANK(BD121),\"\",INDEX(T_NAV_AU[Unit of Measure],MATCH(BD121,T_NAV_AU[No.],0))),\"\")","v":"PIECE"},null,null,"HW",1,1,1,{"$f":"IFERROR(INDEX(INDIRECT(\"T_NAV_\"&i_Location&\"[\"&i_Location&\"]\"),MATCH(1,--(BD121=INDIRECT(\"T_NAV_\"&i_Location&\"[No.]\"))*--((INDIRECT(\"T_NAV_\"&i_Location&\"[\"&i_Location&\"]\"))<>\"\"),0))/IF(AND(BR121=\"METRE\",BH121<>\"\",BS121=\"\"),BH121,1),\"\")","v":""},"","","",null,null,{"$f":"IFERROR(IF(AY121=\"SHOW\",IF(AND(OR(BQ121=\"ROLL\",BQ121=\"LENGTH\"),BW121>0),ROUNDUP(BW121/CJ121/#REF!,0)*#REF!,IF(BQ121=\"METRE\",#REF!*ROUNDUP(((BW121*BM121)/1000)/#REF!,0),#REF!*ROUNDUP(BW121/#REF!,0))),\"\"),\"\")","v":""},"","",null,{"$f":"IFERROR(INDEX(INDIRECT(\"T_NAV_\"&i_Location&\"[\"&i_Location&\"]\"),MATCH(1,--(BD121=INDIRECT(\"T_NAV_\"&i_Location&\"[No.]\"))*--((INDIRECT(\"T_NAV_\"&i_Location&\"[\"&i_Location&\"]\"))<>\"\"),0)),\"\")","v":""},null,{"$f":"IFERROR(IF(ISBLANK(BU121),\"\",IF(OR(BQ121=\"ROLL\",BQ121=\"LENGTH\"),ROUNDDOWN((BH121*1000)/(BM121+CutTol),0),PRODUCT(#REF!,BU121))),\"\")","v":""},null,null,null,"only for box 190, recess fix. "]
[null,null,null,null,null,null,null,null,null,null,null,null,"","Motor",{"$f":"IFERROR(IF(ISBLANK(N122),\"\",IF(FIND(N122,INDIRECT($N$92))>0,1,0)),0)","v":0},null,null,null,"","Extreme",{"$f":"IFERROR(IF(ISBLANK(T122),\"\",IF(FIND(T122,INDIRECT($T$92))>0,1,0)),0)","v":0},null,null,null,null,null,null,null,null,null,null,null,null,null,null,null,null,null,null,null,null,null,null,null,null,null,null,null,null,null,{"$f":"IF(AND(ISBLANK(BD122),ISBLANK(C122)),\"HIDE\",_xlfn.SWITCH(PRODUCT(C122:Z122,B122),2,\"HEADING\",1,\"SHOW\",0,\"HIDE\"))","v":"HIDE"},null,"PICK","GL",null,"RB56-0762-014050",null,"RB56-0762-014050","ZAMAK Adaptor with Lock Ring & Screws",null,"N",null,null,null,"","","","Kit",{"$f":"IFERROR(IF(ISBLANK(BD122),\"\",INDEX(T_NAV_AU[Unit of Measure],MATCH(BD122,T_NAV_AU[No.],0))),\"\")","v":"SET"},null,null,"HW",1,1,1,{"$f":"IFERROR(INDEX(INDIRECT(\"T_NAV_\"&i_Location&\"[\"&i_Location&\"]\"),MATCH(1,--(BD122=INDIRECT(\"T_NAV_\"&i_Location&\"[No.]\"))*--((INDIRECT(\"T_NAV_\"&i_Location&\"[\"&i_Location&\"]\"))<>\"\"),0))/IF(AND(BR122=\"METRE\",BH122<>\"\",BS122=\"\"),BH122,1),\"\")","v":""},"","","",null,null,{"$f":"IFERROR(IF(AY122=\"SHOW\",IF(AND(OR(BQ122=\"ROLL\",BQ122=\"LENGTH\"),BW122>0),ROUNDUP(BW122/CJ122/#REF!,0)*#REF!,IF(BQ122=\"METRE\",#REF!*ROUNDUP(((BW122*BM122)/1000)/#REF!,0),#REF!*ROUNDUP(BW122/#REF!,0))),\"\"),\"\")","v":""},"","",null,{"$f":"IFERROR(INDEX(INDIRECT(\"T_NAV_\"&i_Location&\"[\"&i_Location&\"]\"),MATCH(1,--(BD122=INDIRECT(\"T_NAV_\"&i_Location&\"[No.]\"))*--((INDIRECT(\"T_NAV_\"&i_Location&\"[\"&i_Location&\"]\"))<>\"\"),0)),\"\")","v":""},null,{"$f":"IFERROR(IF(ISBLANK(BU122),\"\",IF(OR(BQ122=\"ROLL\",BQ122=\"LENGTH\"),ROUNDDOWN((BH122*1000)/(BM122+CutTol),0),PRODUCT(AE114,BU122))),\"\")","v":1}]
[null,2,{"$f":"C124","v":0},null,null,null,null,null,null,null,null,null,null,null,null,null,null,null,null,null,null,null,null,null,null,null,null,null,null,null,{"$f":"IFERROR(IF(AND(AA123=\"Y\",PRODUCT(AB123:AD123)=0),o_nScreens,IF(PRODUCT(AB123:AD123)=0,\"\",PRODUCT(AB123:AD123))),\"\")","v":""},null,null,null,null,null,null,null,null,null,null,null,null,null,{"$f":"IF(ISNUMBER(FIND(\"x\",BF123)),IFERROR(INDEX(AI123:AQ123,0,MATCH(AT123,AI123:AQ123,0)),IF(AI123<>\"\",AI123,i_DefaultColour)),\"\")","v":""},null,null,{"$f":"IF(ISNUMBER(FIND(\"x\",BF123)),IFERROR(INDEX(AI123:AQ123,0,MATCH(AT123,AI123:AQ123,0)),AS123),\"\")","v":""},{"$f":"IF(ISNUMBER(FIND(\"x\",BF123)),IFERROR(INDEX(INDIRECT(\"T_FinishColour[ColourCode-\"&IF(ISNUMBER(FIND(\"xxx\",BF123)),\"xxx\",IF(ISNUMBER(FIND(\"xx\",BF123)),\"xx\",\"error\"))&AR123&\"]\"),MATCH(AV123,T_FinishColour[Finish / Colour],0)),\"\"),\"\")","v":""},null,{"$f":"IF(AND(ISBLANK(BD123),ISBLANK(C123)),\"HIDE\",_xlfn.SWITCH(PRODUCT(C123:Z123,B123),2,\"HEADING\",1,\"SHOW\",0,\"HIDE\"))","v":"HIDE"},null,null,null,null,"",null,null,null,null,null,null,{"$f":"IFERROR(IF(BI123=\"Y\",((INDEX(T_Deduc[Deduction],MATCH(BJ123,T_Deduc[Type],0),0))),\"\"),\"\")","v":""},null,"","","",null,{"$f":"IFERROR(IF(ISBLANK(BD123),\"\",INDEX(T_NAV_AU[Unit of Measure],MATCH(BD123,T_NAV_AU[No.],0))),\"\")","v":""},null,null,null,null,"","",{"$f":"IFERROR(INDEX(INDIRECT(\"T_NAV_\"&i_Location&\"[\"&i_Location&\"]\"),MATCH(1,--(BD123=INDIRECT(\"T_NAV_\"&i_Location&\"[No.]\"))*--((INDIRECT(\"T_NAV_\"&i_Location&\"[\"&i_Location&\"]\"))<>\"\"),0))/IF(AND(BR123=\"METRE\",BH123<>\"\",BS123=\"\"),BH123,1),\"\")","v":""},"","","",null,null,{"$f":"IFERROR(IF(AY123=\"SHOW\",IF(AND(OR(BQ123=\"ROLL\",BQ123=\"LENGTH\"),BW123>0),ROUNDUP(BW123/CJ123/#REF!,0)*#REF!,IF(BQ123=\"METRE\",#REF!*ROUNDUP(((BW123*BM123)/1000)/#REF!,0),#REF!*ROUNDUP(BW123/#REF!,0))),\"\"),\"\")","v":""},"","",null,{"$f":"IFERROR(INDEX(INDIRECT(\"T_NAV_\"&i_Location&\"[\"&i_Location&\"]\"),MATCH(1,--(BD123=INDIRECT(\"T_NAV_\"&i_Location&\"[No.]\"))*--((INDIRECT(\"T_NAV_\"&i_Location&\"[\"&i_Location&\"]\"))<>\"\"),0)),\"\")","v":""},null,{"$f":"IFERROR(IF(ISBLANK(BU123),\"\",IF(OR(BQ123=\"ROLL\",BQ123=\"LENGTH\"),ROUNDDOWN((BH123*1000)/(BM123+CutTol),0),PRODUCT(#REF!,BU123))),\"\")","v":""}]
[null,2,{"$f":"IF(COUNTIF(AY125:AY127,\"SHOW\")>0,1,0)","v":0},"i_Tube",null,"i_IdlerType",null,"i_SystemType",null,null,null,null,null,null,null,null,null,null,null,null,null,null,null,null,null,null,null,null,null,null,{"$f":"IFERROR(IF(AND(AA124=\"Y\",PRODUCT(AB124:AD124)=0),o_nScreens,IF(PRODUCT(AB124:AD124)=0,\"\",PRODUCT(AB124:AD124))),\"\")","v":""},null,null,null,null,null,null,null,null,null,null,null,null,null,{"$f":"IF(ISNUMBER(FIND(\"x\",BF124)),IFERROR(INDEX(AI124:AQ124,0,MATCH(AT124,AI124:AQ124,0)),IF(AI124<>\"\",AI124,i_DefaultColour)),\"\")","v":""},null,null,{"$f":"IF(ISNUMBER(FIND(\"x\",BF124)),IFERROR(INDEX(AI124:AQ124,0,MATCH(AT124,AI124:AQ124,0)),AS124),\"\")","v":""},{"$f":"IF(ISNUMBER(FIND(\"x\",BF124)),IFERROR(INDEX(INDIRECT(\"T_FinishColour[ColourCode-\"&IF(ISNUMBER(FIND(\"xxx\",BF124)),\"xxx\",IF(ISNUMBER(FIND(\"xx\",BF124)),\"xx\",\"error\"))&AR124&\"]\"),MATCH(AV124,T_FinishColour[Finish / Colour],0)),\"\"),\"\")","v":""},null,{"$f":"IF(AND(ISBLANK(BD124),ISBLANK(C124)),\"HIDE\",_xlfn.SWITCH(PRODUCT(C124:Z124,B124),2,\"HEADING\",1,\"SHOW\",0,\"HIDE\"))","v":"HIDE"},null,null,null,null,"IDLER",null,"IDLER",null,null,null,null,{"$f":"IFERROR(IF(BI124=\"Y\",((INDEX(T_Deduc[Deduction],MATCH(BJ124,T_Deduc[Type],0),0))),\"\"),\"\")","v":""},null,{"$f":"IFERROR(IF(BI124=\"Y\",INDIRECT(BL124)-BK124,\"\"),\"\")","v":""},"","",null,{"$f":"IFERROR(IF(ISBLANK(BD124),\"\",INDEX(T_NAV_AU[Unit of Measure],MATCH(BD124,T_NAV_AU[No.],0))),\"\")","v":""},null,null,null,null,null,null,null,"",{"$f":"IF(BY124<>\"\",(INDIRECT(\"i_\"&BT124&\"discount\"))*BY124,\"\")","v":""},{"$f":"IFERROR(IF(BY124<>\"\",BY124-BZ124,\"\"),\"\")","v":""},null,null,{"$f":"IFERROR(IF(AY124=\"SHOW\",IF(AND(OR(BQ124=\"ROLL\",BQ124=\"LENGTH\"),BW124>0),ROUNDUP(BW124/CJ124/#REF!,0)*#REF!,IF(BQ124=\"METRE\",#REF!*ROUNDUP(((BW124*BM124)/1000)/#REF!,0),#REF!*ROUNDUP(BW124/#REF!,0))),\"\"),\"\")","v":""},{"$f":"IF(CD124<>\"\",CD124&\"x \"&BQ124&IF(CD124>1,\"S\",\"\"),\"\")","v":""},"",null,{"$f":"IFERROR(INDEX(INDIRECT(\"T_NAV_\"&i_Location&\"[\"&i_Location&\"]\"),MATCH(1,--(BD124=INDIRECT(\"T_NAV_\"&i_Location&\"[No.]\"))*--((INDIRECT(\"T_NAV_\"&i_Location&\"[\"&i_Location&\"]\"))<>\"\"),0)),\"\")","v":""},null,{"$f":"IFERROR(IF(ISBLANK(BU124),\"\",IF(OR(BQ124=\"ROLL\",BQ124=\"LENGTH\"),ROUNDDOWN((BH124*1000)/(BM124+CutTol),0),PRODUCT(AE115,BU124))),\"\")","v":""}]
[null,null,null,null,null,"45mm",{"$f":"IFERROR(IF(ISBLANK(F125),\"\",IF(FIND(F125,INDIRECT($F$124))>0,1,0)),0)","v":0},null,{"$f":"IFERROR(IF(ISBLANK(H125),\"\",IF(FIND(H125,INDIRECT($H$124))>0,1,0)),0)","v":""},null,{"$f":"IFERROR(IF(ISBLANK(J125),\"\",IF(FIND(J125,INDIRECT($J$124))>0,1,0)),0)","v":""},null,{"$f":"IFERROR(IF(ISBLANK(L125),\"\",IF(FIND(L125,INDIRECT($L$124))>0,1,0)),0)","v":""},null,{"$f":"IFERROR(IF(ISBLANK(N125),\"\",IF(FIND(N125,INDIRECT($N$124))>0,1,0)),0)","v":""},null,{"$f":"IFERROR(IF(ISBLANK(P125),\"\",IF(FIND(P125,INDIRECT($P$124))>0,1,0)),0)","v":""},null,{"$f":"IFERROR(IF(ISBLANK(R125),\"\",IF(FIND(R125,INDIRECT($R$124))>0,1,0)),0)","v":""},null,{"$f":"IFERROR(IF(ISBLANK(T125),\"\",IF(FIND(T125,INDIRECT($T$124))>0,1,0)),0)","v":""},null,{"$f":"IFERROR(IF(ISBLANK(V125),\"\",IF(FIND(V125,INDIRECT($V$124))>0,1,0)),0)","v":""},null,null,null,null,null,null,null,{"$f":"IFERROR(IF(AND(AA125=\"Y\",PRODUCT(AB125:AD125)=0),o_nScreens,IF(PRODUCT(AB125:AD125)=0,\"\",PRODUCT(AB125:AD125))),\"\")","v":""},null,null,null,null,null,null,null,null,null,null,null,null,"AU",{"$f":"IF(ISNUMBER(FIND(\"x\",BF125)),IFERROR(INDEX(AI125:AQ125,0,MATCH(AT125,AI125:AQ125,0)),IF(AI125<>\"\",AI125,i_DefaultColour)),\"\")","v":""},{"$f":"i_Finish","v":0},null,{"$f":"IF(ISNUMBER(FIND(\"x\",BF125)),IFERROR(INDEX(AI125:AQ125,0,MATCH(AT125,AI125:AQ125,0)),AS125),\"\")","v":""},{"$f":"IF(ISNUMBER(FIND(\"x\",BF125)),IFERROR(INDEX(INDIRECT(\"T_FinishColour[ColourCode-\"&IF(ISNUMBER(FIND(\"xxx\",BF125)),\"xxx\",IF(ISNUMBER(FIND(\"xx\",BF125)),\"xx\",\"error\"))&AR125&\"]\"),MATCH(AV125,T_FinishColour[Finish / Colour],0)),\"\"),\"\")","v":""},null,{"$f":"IF(AND(ISBLANK(BD125),ISBLANK(C125)),\"HIDE\",_xlfn.SWITCH(PRODUCT(C125:Z125,B125),2,\"HEADING\",1,\"SHOW\",0,\"HIDE\"))","v":"HIDE"},null,"PICK","GL",null,"RE01-0214-050000",null,"RE01-0214-050000","Idler/Spring Bracket Adaptor Set MkII",null,{"$f":"IF(ISBLANK(BP125),\"\",IF(OR(BP125=L_Units),\"Y\",\"N\"))","v":"N"},null,{"$f":"IFERROR(IF(BI125=\"Y\",((INDEX(T_Deduc[Deduction],MATCH(BJ125,T_Deduc[Type],0),0))),\"\"),\"\")","v":""},null,"","","","Set",{"$f":"IFERROR(IF(ISBLANK(BD125),\"\",INDEX(T_NAV_AU[Unit of Measure],MATCH(BD125,T_NAV_AU[No.],0))),\"\")","v":"SET"},null,null,"HW",1,{"$f":"IF(ISBLANK(BU125),\"\",PRODUCT(AE125,BU125))","v":1},{"$f":"IF(ISBLANK(BU125),\"\",PRODUCT(AE125,BU125,i_systemQTY))","v":1},{"$f":"IFERROR(INDEX(INDIRECT(\"T_NAV_\"&i_Location&\"[\"&i_Location&\"]\"),MATCH(1,--(BD125=INDIRECT(\"T_NAV_\"&i_Location&\"[No.]\"))*--((INDIRECT(\"T_NAV_\"&i_Location&\"[\"&i_Location&\"]\"))<>\"\"),0))/IF(AND(BR125=\"METRE\",BH125<>\"\",BS125=\"\"),BH125,1),\"\")","v":""},"","","",null,null,{"$f":"IFERROR(IF(AY125=\"SHOW\",IF(AND(OR(BQ125=\"ROLL\",BQ125=\"LENGTH\"),BW125>0),ROUNDUP(BW125/CJ125/#REF!,0)*#REF!,IF(BQ125=\"METRE\",#REF!*ROUNDUP(((BW125*BM125)/1000)/#REF!,0),#REF!*ROUNDUP(BW125/#REF!,0))),\"\"),\"\")","v":""},"","",null,{"$f":"IFERROR(INDEX(INDIRECT(\"T_NAV_\"&i_Location&\"[\"&i_Location&\"]\"),MATCH(1,--(BD125=INDIRECT(\"T_NAV_\"&i_Location&\"[No.]\"))*--((INDIRECT(\"T_NAV_\"&i_Location&\"[\"&i_Location&\"]\"))<>\"\"),0)),\"\")","v":""},null,{"$f":"IFERROR(IF(ISBLANK(BU125),\"\",IF(OR(BQ125=\"ROLL\",BQ125=\"LENGTH\"),ROUNDDOWN((BH125*1000)/(BM125+CutTol),0),PRODUCT(AE116,BU125))),\"\")","v":1}]
[null,null,null,null,{"$f":"IFERROR(IF(ISBLANK(D126),\"\",IF(FIND(D126,INDIRECT($D$124))>0,1,0)),0)","v":""},"45mm",{"$f":"IFERROR(IF(ISBLANK(F126),\"\",IF(FIND(F126,INDIRECT($F$124))>0,1,0)),0)","v":0},null,{"$f":"IFERROR(IF(ISBLANK(H126),\"\",IF(FIND(H126,INDIRECT($H$124))>0,1,0)),0)","v":""},null,{"$f":"IFERROR(IF(ISBLANK(J126),\"\",IF(FIND(J126,INDIRECT($J$124))>0,1,0)),0)","v":""},null,{"$f":"IFERROR(IF(ISBLANK(L126),\"\",IF(FIND(L126,INDIRECT($L$124))>0,1,0)),0)","v":""},null,{"$f":"IFERROR(IF(ISBLANK(N126),\"\",IF(FIND(N126,INDIRECT($N$124))>0,1,0)),0)","v":""},null,{"$f":"IFERROR(IF(ISBLANK(P126),\"\",IF(FIND(P126,INDIRECT($P$124))>0,1,0)),0)","v":""},null,{"$f":"IFERROR(IF(ISBLANK(R126),\"\",IF(FIND(R126,INDIRECT($R$124))>0,1,0)),0)","v":""},null,{"$f":"IFERROR(IF(ISBLANK(T126),\"\",IF(FIND(T126,INDIRECT($T$124))>0,1,0)),0)","v":""},null,{"$f":"IFERROR(IF(ISBLANK(V126),\"\",IF(FIND(V126,INDIRECT($V$124))>0,1,0)),0)","v":""},null,null,null,null,null,null,null,{"$f":"IFERROR(IF(AND(AA126=\"Y\",PRODUCT(AB126:AD126)=0),o_nScreens,IF(PRODUCT(AB126:AD126)=0,\"\",PRODUCT(AB126:AD126))),\"\")","v":""},null,null,null,null,null,null,null,null,null,null,null,null,"AU",{"$f":"IF(ISNUMBER(FIND(\"x\",BF126)),IFERROR(INDEX(AI126:AQ126,0,MATCH(AT126,AI126:AQ126,0)),IF(AI126<>\"\",AI126,i_DefaultColour)),\"\")","v":""},{"$f":"i_Finish","v":0},null,{"$f":"IF(ISNUMBER(FIND(\"x\",BF126)),IFERROR(INDEX(AI126:AQ126,0,MATCH(AT126,AI126:AQ126,0)),AS126),\"\")","v":""},{"$f":"IF(ISNUMBER(FIND(\"x\",BF126)),IFERROR(INDEX(INDIRECT(\"T_FinishColour[ColourCode-\"&IF(ISNUMBER(FIND(\"xxx\",BF126)),\"xxx\",IF(ISNUMBER(FIND(\"xx\",BF126)),\"xx\",\"error\"))&AR126&\"]\"),MATCH(AV126,T_FinishColour[Finish / Colour],0)),\"\"),\"\")","v":""},null,{"$f":"IF(AND(ISBLANK(BD126),ISBLANK(C126)),\"HIDE\",_xlfn.SWITCH(PRODUCT(C126:Z126,B126),2,\"HEADING\",1,\"SHOW\",0,\"HIDE\"))","v":"HIDE"},null,"PICK","GL",null,"RE01-0213-050045",null,"RE01-0213-050045","Bearing Idler 45mm",null,{"$f":"IF(ISBLANK(BP126),\"\",IF(OR(BP126=L_Units),\"Y\",\"N\"))","v":"N"},null,{"$f":"IFERROR(IF(BI126=\"Y\",((INDEX(T_Deduc[Deduction],MATCH(BJ126,T_Deduc[Type],0),0))),\"\"),\"\")","v":""},null,"","","","Piece",{"$f":"IFERROR(IF(ISBLANK(BD126),\"\",INDEX(T_NAV_AU[Unit of Measure],MATCH(BD126,T_NAV_AU[No.],0))),\"\")","v":"PIECE"},null,null,"HW",1,{"$f":"IF(ISBLANK(BU126),\"\",PRODUCT(AE126,BU126))","v":1},{"$f":"IF(ISBLANK(BU126),\"\",PRODUCT(AE126,BU126,i_systemQTY))","v":1},{"$f":"IFERROR(INDEX(INDIRECT(\"T_NAV_\"&i_Location&\"[\"&i_Location&\"]\"),MATCH(1,--(BD126=INDIRECT(\"T_NAV_\"&i_Location&\"[No.]\"))*--((INDIRECT(\"T_NAV_\"&i_Location&\"[\"&i_Location&\"]\"))<>\"\"),0))/IF(AND(BR126=\"METRE\",BH126<>\"\",BS126=\"\"),BH126,1),\"\")","v":""},"","","",null,null,{"$f":"IFERROR(IF(AY126=\"SHOW\",IF(AND(OR(BQ126=\"ROLL\",BQ126=\"LENGTH\"),BW126>0),ROUNDUP(BW126/CJ126/#REF!,0)*#REF!,IF(BQ126=\"METRE\",#REF!*ROUNDUP(((BW126*BM126)/1000)/#REF!,0),#REF!*ROUNDUP(BW126/#REF!,0))),\"\"),\"\")","v":""},"","",null,{"$f":"IFERROR(INDEX(INDIRECT(\"T_NAV_\"&i_Location&\"[\"&i_Location&\"]\"),MATCH(1,--(BD126=INDIRECT(\"T_NAV_\"&i_Location&\"[No.]\"))*--((INDIRECT(\"T_NAV_\"&i_Location&\"[\"&i_Location&\"]\"))<>\"\"),0)),\"\")","v":""},null,{"$f":"IFERROR(IF(ISBLANK(BU126),\"\",IF(OR(BQ126=\"ROLL\",BQ126=\"LENGTH\"),ROUNDDOWN((BH126*1000)/(BM126+CutTol),0),PRODUCT(#REF!,BU126))),\"\")","v":""}]
[null,null,null,null,null,"Extreme",{"$f":"IFERROR(IF(ISBLANK(F127),\"\",IF(FIND(F127,INDIRECT($F$124))>0,1,0)),0)","v":0},null,{"$f":"IFERROR(IF(ISBLANK(H127),\"\",IF(FIND(H127,INDIRECT($H$124))>0,1,0)),0)","v":""},null,null,null,null,null,null,null,null,null,null,null,null,null,null,null,null,null,null,null,null,null,null,null,null,null,null,null,null,null,null,null,null,null,null,null,null,null,null,null,null,null,{"$f":"IF(AND(ISBLANK(BD127),ISBLANK(C127)),\"HIDE\",_xlfn.SWITCH(PRODUCT(C127:Z127,B127),2,\"HEADING\",1,\"SHOW\",0,\"HIDE\"))","v":"HIDE"},null,"PICK","GL",null,"RB80-0202-073100",null,"RB80-0202-073100","Extreme Bearing Idler | Universal | S100",null,"N",null,null,null,"",{"$f":"IFERROR(IF(BI127=\"Y\",BM127,\"\"),\"\")","v":""},{"$f":"IFERROR(IF(BI127=\"Y\",TEXT(BM127/25.4,\"0\"&IF(ABS(BM127/25.4-ROUND(BM127/25.4,0))>1/32,\"-0/\"&CHOOSE(ROUND(MOD(BM127/25.4,1)*16,0),16,8,16,4,16,8,16,2,16,8,16,4,16,8,16),\"\")),\"\"),\"\")","v":""},"Piece",{"$f":"IFERROR(IF(ISBLANK(BD127),\"\",INDEX(T_NAV_AU[Unit of Measure],MATCH(BD127,T_NAV_AU[No.],0))),\"\")","v":"PIECE"},null,null,"HW",1,{"$f":"IF(ISBLANK(BU127),\"\",PRODUCT(AE127,BU127))","v":1},{"$f":"IF(ISBLANK(BU127),\"\",PRODUCT(AE127,BU127,i_systemQTY))","v":1},{"$f":"IFERROR(INDEX(INDIRECT(\"T_NAV_\"&i_Location&\"[\"&i_Location&\"]\"),MATCH(1,--(BD127=INDIRECT(\"T_NAV_\"&i_Location&\"[No.]\"))*--((INDIRECT(\"T_NAV_\"&i_Location&\"[\"&i_Location&\"]\"))<>\"\"),0))/IF(AND(BR127=\"METRE\",BH127<>\"\",BS127=\"\"),BH127,1),\"\")","v":""},"","","",null,null,{"$f":"IFERROR(IF(AY127=\"SHOW\",IF(AND(OR(BQ127=\"ROLL\",BQ127=\"LENGTH\"),BW127>0),ROUNDUP(BW127/CJ127/#REF!,0)*#REF!,IF(BQ127=\"METRE\",#REF!*ROUNDUP(((BW127*BM127)/1000)/#REF!,0),#REF!*ROUNDUP(BW127/#REF!,0))),\"\"),\"\")","v":""},"","",null,{"$f":"IFERROR(INDEX(INDIRECT(\"T_NAV_\"&i_Location&\"[\"&i_Location&\"]\"),MATCH(1,--(BD127=INDIRECT(\"T_NAV_\"&i_Location&\"[No.]\"))*--((INDIRECT(\"T_NAV_\"&i_Location&\"[\"&i_Location&\"]\"))<>\"\"),0)),\"\")","v":""},null,{"$f":"IFERROR(IF(ISBLANK(BU127),\"\",IF(OR(BQ127=\"ROLL\",BQ127=\"LENGTH\"),ROUNDDOWN((BH127*1000)/(BM127+CutTol),0),PRODUCT(AE118,BU127))),\"\")","v":1}]
[null,2,{"$f":"C129","v":0},null,null,null,null,null,null,null,null,null,null,null,null,null,null,null,null,null,null,null,null,null,null,null,null,null,null,null,{"$f":"IFERROR(IF(AND(AA128=\"Y\",PRODUCT(AB128:AD128)=0),o_nScreens,IF(PRODUCT(AB128:AD128)=0,\"\",PRODUCT(AB128:AD128))),\"\")","v":""},null,null,null,null,null,null,null,null,null,null,null,null,null,{"$f":"IF(ISNUMBER(FIND(\"x\",BF128)),IFERROR(INDEX(AI128:AQ128,0,MATCH(AT128,AI128:AQ128,0)),IF(AI128<>\"\",AI128,i_DefaultColour)),\"\")","v":""},null,null,{"$f":"IF(ISNUMBER(FIND(\"x\",BF128)),IFERROR(INDEX(AI128:AQ128,0,MATCH(AT128,AI128:AQ128,0)),AS128),\"\")","v":""},{"$f":"IF(ISNUMBER(FIND(\"x\",BF128)),IFERROR(INDEX(INDIRECT(\"T_FinishColour[ColourCode-\"&IF(ISNUMBER(FIND(\"xxx\",BF128)),\"xxx\",IF(ISNUMBER(FIND(\"xx\",BF128)),\"xx\",\"error\"))&AR128&\"]\"),MATCH(AV128,T_FinishColour[Finish / Colour],0)),\"\"),\"\")","v":""},null,{"$f":"IF(AND(ISBLANK(BD128),ISBLANK(C128)),\"HIDE\",_xlfn.SWITCH(PRODUCT(C128:Z128,B128),2,\"HEADING\",1,\"SHOW\",0,\"HIDE\"))","v":"HIDE"},null,null,null,null,"",null,null,null,null,{"$f":"IF(ISBLANK(BP128),\"\",IF(OR(BP128=L_Units),\"Y\",\"N\"))","v":""},null,{"$f":"IFERROR(IF(BI128=\"Y\",((INDEX(T_Deduc[Deduction],MATCH(BJ128,T_Deduc[Type],0),0))),\"\"),\"\")","v":""},null,"","","",null,{"$f":"IFERROR(IF(ISBLANK(BD128),\"\",INDEX(T_NAV_AU[Unit of Measure],MATCH(BD128,T_NAV_AU[No.],0))),\"\")","v":""},null,null,null,null,{"$f":"IF(ISBLANK(BU128),\"\",PRODUCT(AE128,BU128))","v":""},{"$f":"IF(ISBLANK(BU128),\"\",PRODUCT(AE128,BU128,i_systemQTY))","v":""},{"$f":"IFERROR(INDEX(INDIRECT(\"T_NAV_\"&i_Location&\"[\"&i_Location&\"]\"),MATCH(1,--(BD128=INDIRECT(\"T_NAV_\"&i_Location&\"[No.]\"))*--((INDIRECT(\"T_NAV_\"&i_Location&\"[\"&i_Location&\"]\"))<>\"\"),0))/IF(AND(BR128=\"METRE\",BH128<>\"\",BS128=\"\"),BH128,1),\"\")","v":""},"","","",null,null,{"$f":"IFERROR(IF(AY128=\"SHOW\",IF(AND(OR(BQ128=\"ROLL\",BQ128=\"LENGTH\"),BW128>0),ROUNDUP(BW128/CJ128/#REF!,0)*#REF!,IF(BQ128=\"METRE\",#REF!*ROUNDUP(((BW128*BM128)/1000)/#REF!,0),#REF!*ROUNDUP(BW128/#REF!,0))),\"\"),\"\")","v":""},"","",null,{"$f":"IFERROR(INDEX(INDIRECT(\"T_NAV_\"&i_Location&\"[\"&i_Location&\"]\"),MATCH(1,--(BD128=INDIRECT(\"T_NAV_\"&i_Location&\"[No.]\"))*--((INDIRECT(\"T_NAV_\"&i_Location&\"[\"&i_Location&\"]\"))<>\"\"),0)),\"\")","v":""},null,{"$f":"IFERROR(IF(ISBLANK(BU128),\"\",IF(OR(BQ128=\"ROLL\",BQ128=\"LENGTH\"),ROUNDDOWN((BH128*1000)/(BM128+CutTol),0),PRODUCT(AE121,BU128))),\"\")","v":""}]
[null,2,{"$f":"IF(COUNTIF(AY130:AY152,\"SHOW\")>0,1,0)","v":0},"i_WeightBar",null,"i_SystemType",null,"i_wbHandle",null,"i_wbSeal",null,"i_wbBallast",null,"i_location",null,"i_wbLock",null,null,null,null,null,null,null,null,null,null,null,null,null,null,{"$f":"IFERROR(IF(AND(AA129=\"Y\",PRODUCT(AB129:AD129)=0),o_nScreens,IF(PRODUCT(AB129:AD129)=0,\"\",PRODUCT(AB129:AD129))),\"\")","v":""},null,null,null,null,null,null,null,null,null,null,null,null,null,"",null,null,"",{"$f":"IF(ISNUMBER(FIND(\"x\",BF129)),IFERROR(INDEX(INDIRECT(\"T_FinishColour[ColourCode-\"&IF(ISNUMBER(FIND(\"xxx\",BF129)),\"xxx\",IF(ISNUMBER(FIND(\"xx\",BF129)),\"xx\",\"error\"))&AR129&\"]\"),MATCH(AV129,T_FinishColour[Finish / Colour],0)),\"\"),\"\")","v":""},null,{"$f":"IF(AND(ISBLANK(BD129),ISBLANK(C129)),\"HIDE\",_xlfn.SWITCH(PRODUCT(C129:Z129,B129),2,\"HEADING\",1,\"SHOW\",0,\"HIDE\"))","v":"HIDE"},null,null,null,null,"WEIGHT BAR",null,{"$f":"IF(i_Location=\"US\",\"HEM BAR\",\"WEIGHT BAR\")","v":"WEIGHT BAR"},null,null,null,null,{"$f":"IFERROR(IF(BI129=\"Y\",((INDEX(T_Deduc[Deduction],MATCH(BJ129,T_Deduc[Type],0),0))),\"\"),\"\")","v":""},null,"","","",null,{"$f":"IFERROR(IF(ISBLANK(BD129),\"\",INDEX(T_NAV_AU[Unit of Measure],MATCH(BD129,T_NAV_AU[No.],0))),\"\")","v":""},null,null,null,null,null,null,null,"","","",null,null,{"$f":"IFERROR(IF(AY129=\"SHOW\",IF(AND(OR(BQ129=\"ROLL\",BQ129=\"LENGTH\"),BW129>0),ROUNDUP(BW129/CJ129/#REF!,0)*#REF!,IF(BQ129=\"METRE\",#REF!*ROUNDUP(((BW129*BM129)/1000)/#REF!,0),#REF!*ROUNDUP(BW129/#REF!,0))),\"\"),\"\")","v":""},"","",null,{"$f":"IFERROR(INDEX(INDIRECT(\"T_NAV_\"&i_Location&\"[\"&i_Location&\"]\"),MATCH(1,--(BD129=INDIRECT(\"T_NAV_\"&i_Location&\"[No.]\"))*--((INDIRECT(\"T_NAV_\"&i_Location&\"[\"&i_Location&\"]\"))<>\"\"),0)),\"\")","v":""},null,{"$f":"IFERROR(IF(ISBLANK(BU129),\"\",IF(OR(BQ129=\"ROLL\",BQ129=\"LENGTH\"),ROUNDDOWN((BH129*1000)/(BM129+CutTol),0),PRODUCT(AE122,BU129))),\"\")","v":""}]
[null,null,null,"F56",{"$f":"IFERROR(IF(ISBLANK(D130),\"\",IF(FIND(D130,INDIRECT($D$129))>0,1,0)),0)","v":0},null,{"$f":"IFERROR(IF(ISBLANK(F130),\"\",IF(FIND(F130,INDIRECT($F$129))>0,1,0)),0)","v":""},null,{"$f":"IFERROR(IF(ISBLANK(H130),\"\",IF(FIND(H130,INDIRECT($H$129))>0,1,0)),0)","v":""},null,{"$f":"IFERROR(IF(ISBLANK(J130),\"\",IF(FIND(J130,INDIRECT($J$129))>0,1,0)),0)","v":""},null,{"$f":"IFERROR(IF(ISBLANK(L130),\"\",IF(FIND(L130,INDIRECT($L$129))>0,1,0)),0)","v":""},null,null,null,{"$f":"IFERROR(IF(ISBLANK(P130),\"\",IF(FIND(P130,INDIRECT($P$129))>0,1,0)),0)","v":""},null,null,null,null,null,null,null,null,null,null,null,null,null,{"$f":"IFERROR(IF(AND(AA130=\"Y\",PRODUCT(AB130:AD130)=0),o_nScreens,IF(PRODUCT(AB130:AD130)=0,\"\",PRODUCT(AB130:AD130))),\"\")","v":""},null,null,null,"White","Mill",null,null,null,null,null,null,null,"AU","White",{"$f":"i_Finish","v":0},null,"White",{"$f":"IF(ISNUMBER(FIND(\"x\",BF130)),IFERROR(INDEX(INDIRECT(\"T_FinishColour[ColourCode-\"&IF(ISNUMBER(FIND(\"xxx\",BF130)),\"xxx\",IF(ISNUMBER(FIND(\"xx\",BF130)),\"xx\",\"error\"))&AR130&\"]\"),MATCH(AV130,T_FinishColour[Finish / Colour],0)),\"\"),\"\")","v":"069"},null,{"$f":"IF(AND(ISBLANK(BD130),ISBLANK(C130)),\"HIDE\",_xlfn.SWITCH(PRODUCT(C130:Z130,B130),2,\"HEADING\",1,\"SHOW\",0,\"HIDE\"))","v":"HIDE"},null,"PICK","GL",null,"RE15-0101-069580",null,{"$f":"\"RE15-0101-xxxLLL\"&IF(i_Finish=\"Powdercoat\",\"-PF\",\"\")","v":"RE15-0101-xxxLLL"},"F56 HD Weight Bar",5.8,{"$f":"IF(ISBLANK(BP130),\"\",IF(OR(BP130=L_Units),\"Y\",\"N\"))","v":{"$error":"#N/A"}},"wb",{"$f":"IFERROR(IF(BI130=\"Y\",((INDEX(T_Deduc[Deduction],MATCH(BJ130,T_Deduc[Type],0),0))),\"\"),\"\")","v":""},"o_widthmm","","","",{"$f":"INDEX(T_UnitSelection[Units],MATCH(i_Units,T_UnitSelection[UnitSelection],0))","v":{"$error":"#N/A"}},{"$f":"IFERROR(IF(ISBLANK(BD130),\"\",INDEX(T_NAV_AU[Unit of Measure],MATCH(BD130,T_NAV_AU[No.],0))),\"\")","v":""},"METRE",null,"HW",1,{"$f":"IF(ISBLANK(BU130),\"\",PRODUCT(AE130,BU130))","v":1},{"$f":"IF(ISBLANK(BU130),\"\",PRODUCT(AE130,BU130,i_systemQTY))","v":1},{"$f":"IFERROR(INDEX(INDIRECT(\"T_NAV_\"&i_Location&\"[\"&i_Location&\"]\"),MATCH(1,--(BD130=INDIRECT(\"T_NAV_\"&i_Location&\"[No.]\"))*--((INDIRECT(\"T_NAV_\"&i_Location&\"[\"&i_Location&\"]\"))<>\"\"),0))/IF(AND(BR130=\"METRE\",BH130<>\"\",BS130=\"\"),BH130,1),\"\")","v":""},"","","",null,null,{"$f":"IFERROR(IF(AY130=\"SHOW\",IF(AND(OR(BQ130=\"ROLL\",BQ130=\"LENGTH\"),BW130>0),ROUNDUP(BW130/CJ130/#REF!,0)*#REF!,IF(BQ130=\"METRE\",#REF!*ROUNDUP(((BW130*BM130)/1000)/#REF!,0),#REF!*ROUNDUP(BW130/#REF!,0))),\"\"),\"\")","v":""},"","",null,{"$f":"IFERROR(INDEX(INDIRECT(\"T_NAV_\"&i_Location&\"[\"&i_Location&\"]\"),MATCH(1,--(BD130=INDIRECT(\"T_NAV_\"&i_Location&\"[No.]\"))*--((INDIRECT(\"T_NAV_\"&i_Location&\"[\"&i_Location&\"]\"))<>\"\"),0)),\"\")","v":""},null,{"$f":"IFERROR(IF(ISBLANK(BU130),\"\",IF(OR(BQ130=\"ROLL\",BQ130=\"LENGTH\"),ROUNDDOWN((BH130*1000)/(BM130+CutTol),0),PRODUCT(AE123,BU130))),\"\")","v":1}]
[null,null,null,"F56",0,"Straight Drop",0,null,"",null,"",null,"",null,null,null,{"$f":"IFERROR(IF(ISBLANK(P131),\"\",IF(FIND(P131,INDIRECT($P$129))>0,1,0)),0)","v":""},null,null,null,null,null,null,null,null,null,null,null,null,null,{"$f":"IFERROR(IF(AND(AA131=\"Y\",PRODUCT(AB131:AD131)=0),o_nScreens,IF(PRODUCT(AB131:AD131)=0,\"\",PRODUCT(AB131:AD131))),\"\")","v":""},null,null,null,null,null,null,null,null,null,null,null,null,"AU","",0,null,"",{"$f":"IF(ISNUMBER(FIND(\"x\",BF131)),IFERROR(INDEX(INDIRECT(\"T_FinishColour[ColourCode-\"&IF(ISNUMBER(FIND(\"xxx\",BF131)),\"xxx\",IF(ISNUMBER(FIND(\"xx\",BF131)),\"xx\",\"error\"))&AR131&\"]\"),MATCH(AV131,T_FinishColour[Finish / Colour],0)),\"\"),\"\")","v":""},null,{"$f":"IF(AND(ISBLANK(BD131),ISBLANK(C131)),\"HIDE\",_xlfn.SWITCH(PRODUCT(C131:Z131,B131),2,\"HEADING\",1,\"SHOW\",0,\"HIDE\"))","v":"HIDE"},null,"PICK","GL",null,"RE15-0501-050000",null,"RE15-0501-050000","F56 Weight Bar Plain End Cap + Screws",null,{"$f":"IF(ISBLANK(BP131),\"\",IF(OR(BP131=L_Units),\"Y\",\"N\"))","v":"N"},null,{"$f":"IFERROR(IF(BI131=\"Y\",((INDEX(T_Deduc[Deduction],MATCH(BJ131,T_Deduc[Type],0),0))),\"\"),\"\")","v":""},null,"","","","Set",{"$f":"IFERROR(IF(ISBLANK(BD131),\"\",INDEX(T_NAV_AU[Unit of Measure],MATCH(BD131,T_NAV_AU[No.],0))),\"\")","v":"SET"},null,null,"HW",1,1,1,{"$f":"IFERROR(INDEX(INDIRECT(\"T_NAV_\"&i_Location&\"[\"&i_Location&\"]\"),MATCH(1,--(BD131=INDIRECT(\"T_NAV_\"&i_Location&\"[No.]\"))*--((INDIRECT(\"T_NAV_\"&i_Location&\"[\"&i_Location&\"]\"))<>\"\"),0))/IF(AND(BR131=\"METRE\",BH131<>\"\",BS131=\"\"),BH131,1),\"\")","v":""},"","","",null,null,{"$f":"IFERROR(IF(AY131=\"SHOW\",IF(AND(OR(BQ131=\"ROLL\",BQ131=\"LENGTH\"),BW131>0),ROUNDUP(BW131/CJ131/#REF!,0)*#REF!,IF(BQ131=\"METRE\",#REF!*ROUNDUP(((BW131*BM131)/1000)/#REF!,0),#REF!*ROUNDUP(BW131/#REF!,0))),\"\"),\"\")","v":""},"","",null,{"$f":"IFERROR(INDEX(INDIRECT(\"T_NAV_\"&i_Location&\"[\"&i_Location&\"]\"),MATCH(1,--(BD131=INDIRECT(\"T_NAV_\"&i_Location&\"[No.]\"))*--((INDIRECT(\"T_NAV_\"&i_Location&\"[\"&i_Location&\"]\"))<>\"\"),0)),\"\")","v":""},null,{"$f":"IFERROR(IF(ISBLANK(BU131),\"\",IF(OR(BQ131=\"ROLL\",BQ131=\"LENGTH\"),ROUNDDOWN((BH131*1000)/(BM131+CutTol),0),PRODUCT(AE124,BU131))),\"\")","v":1}]
[null,null,null,"F56",0,"Wire Guide",0,null,"",null,"",null,"",null,{"$f":"IFERROR(IF(ISBLANK(N132),\"\",IF(FIND(N132,INDIRECT($N$124))>0,1,0)),0)","v":""},null,"",null,{"$f":"IFERROR(IF(ISBLANK(R132),\"\",IF(FIND(R132,INDIRECT($R$124))>0,1,0)),0)","v":""},null,{"$f":"IFERROR(IF(ISBLANK(T132),\"\",IF(FIND(T132,INDIRECT($T$124))>0,1,0)),0)","v":""},null,{"$f":"IFERROR(IF(ISBLANK(V132),\"\",IF(FIND(V132,INDIRECT($V$124))>0,1,0)),0)","v":""},null,null,null,null,null,null,null,{"$f":"IFERROR(IF(AND(AA132=\"Y\",PRODUCT(AB132:AD132)=0),o_nScreens,IF(PRODUCT(AB132:AD132)=0,\"\",PRODUCT(AB132:AD132))),\"\")","v":""},null,null,null,"White",null,null,null,null,null,null,null,null,"AU","White",0,null,"White",{"$f":"IF(ISNUMBER(FIND(\"x\",BF132)),IFERROR(INDEX(INDIRECT(\"T_FinishColour[ColourCode-\"&IF(ISNUMBER(FIND(\"xxx\",BF132)),\"xxx\",IF(ISNUMBER(FIND(\"xx\",BF132)),\"xx\",\"error\"))&AR132&\"]\"),MATCH(AV132,T_FinishColour[Finish / Colour],0)),\"\"),\"\")","v":"069"},null,{"$f":"IF(AND(ISBLANK(BD132),ISBLANK(C132)),\"HIDE\",_xlfn.SWITCH(PRODUCT(C132:Z132,B132),2,\"HEADING\",1,\"SHOW\",0,\"HIDE\"))","v":"HIDE"},null,"PICK","GL",null,"RE15-0601-069001",null,"RE15-0601-xxx001","F56 Wire Guide Weight Bar End Cap Set + Screw",null,{"$f":"IF(ISBLANK(BP132),\"\",IF(OR(BP132=L_Units),\"Y\",\"N\"))","v":"N"},null,{"$f":"IFERROR(IF(BI132=\"Y\",((INDEX(T_Deduc[Deduction],MATCH(BJ132,T_Deduc[Type],0),0))),\"\"),\"\")","v":""},null,"","","","Set",{"$f":"IFERROR(IF(ISBLANK(BD132),\"\",INDEX(T_NAV_AU[Unit of Measure],MATCH(BD132,T_NAV_AU[No.],0))),\"\")","v":"SET"},null,null,"HW",1,1,1,{"$f":"IFERROR(INDEX(INDIRECT(\"T_NAV_\"&i_Location&\"[\"&i_Location&\"]\"),MATCH(1,--(BD132=INDIRECT(\"T_NAV_\"&i_Location&\"[No.]\"))*--((INDIRECT(\"T_NAV_\"&i_Location&\"[\"&i_Location&\"]\"))<>\"\"),0))/IF(AND(BR132=\"METRE\",BH132<>\"\",BS132=\"\"),BH132,1),\"\")","v":""},"","","",null,null,{"$f":"IFERROR(IF(AY132=\"SHOW\",IF(AND(OR(BQ132=\"ROLL\",BQ132=\"LENGTH\"),BW132>0),ROUNDUP(BW132/CJ132/#REF!,0)*#REF!,IF(BQ132=\"METRE\",#REF!*ROUNDUP(((BW132*BM132)/1000)/#REF!,0),#REF!*ROUNDUP(BW132/#REF!,0))),\"\"),\"\")","v":""},"","",null,{"$f":"IFERROR(INDEX(INDIRECT(\"T_NAV_\"&i_Location&\"[\"&i_Location&\"]\"),MATCH(1,--(BD132=INDIRECT(\"T_NAV_\"&i_Location&\"[No.]\"))*--((INDIRECT(\"T_NAV_\"&i_Location&\"[\"&i_Location&\"]\"))<>\"\"),0)),\"\")","v":""},null,{"$f":"IFERROR(IF(ISBLANK(BU132),\"\",IF(OR(BQ132=\"ROLL\",BQ132=\"LENGTH\"),ROUNDDOWN((BH132*1000)/(BM132+CutTol),0),PRODUCT(AE125,BU132))),\"\")","v":1}]
[null,null,null,"F56",0,"Zipscreen",0,null,"",null,"",null,"",null,null,null,"",null,null,null,null,null,null,null,null,null,null,null,null,null,{"$f":"IFERROR(IF(AND(AA133=\"Y\",PRODUCT(AB133:AD133)=0),o_nScreens,IF(PRODUCT(AB133:AD133)=0,\"\",PRODUCT(AB133:AD133))),\"\")","v":""},null,null,null,"White","Black",null,null,null,null,null,null,null,"AU","White",0,null,"White",{"$f":"IF(ISNUMBER(FIND(\"x\",BF133)),IFERROR(INDEX(INDIRECT(\"T_FinishColour[ColourCode-\"&IF(ISNUMBER(FIND(\"xxx\",BF133)),\"xxx\",IF(ISNUMBER(FIND(\"xx\",BF133)),\"xx\",\"error\"))&AR133&\"]\"),MATCH(AV133,T_FinishColour[Finish / Colour],0)),\"\"),\"\")","v":"069"},null,{"$f":"IF(AND(ISBLANK(BD133),ISBLANK(C133)),\"HIDE\",_xlfn.SWITCH(PRODUCT(C133:Z133,B133),2,\"HEADING\",1,\"SHOW\",0,\"HIDE\"))","v":"HIDE"},null,"PICK","GL",null,"RE20-0303-069002",null,"RE20-0303-xxx002","F56 Zipscreen Weight Bar End Cap Set",null,{"$f":"IF(ISBLANK(BP133),\"\",IF(OR(BP133=L_Units),\"Y\",\"N\"))","v":"N"},null,{"$f":"IFERROR(IF(BI133=\"Y\",((INDEX(T_Deduc[Deduction],MATCH(BJ133,T_Deduc[Type],0),0))),\"\"),\"\")","v":""},null,"",{"$f":"IFERROR(IF(BI133=\"Y\",BM133,\"\"),\"\")","v":""},{"$f":"IFERROR(IF(BI133=\"Y\",TEXT(BM133/25.4,\"0\"&IF(ABS(BM133/25.4-ROUND(BM133/25.4,0))>1/32,\"-0/\"&CHOOSE(ROUND(MOD(BM133/25.4,1)*16,0),16,8,16,4,16,8,16,2,16,8,16,4,16,8,16),\"\")),\"\"),\"\")","v":""},"Set",{"$f":"IFERROR(IF(ISBLANK(BD133),\"\",INDEX(T_NAV_AU[Unit of Measure],MATCH(BD133,T_NAV_AU[No.],0))),\"\")","v":"SET"},null,null,"HW",1,1,1,{"$f":"IFERROR(INDEX(INDIRECT(\"T_NAV_\"&i_Location&\"[\"&i_Location&\"]\"),MATCH(1,--(BD133=INDIRECT(\"T_NAV_\"&i_Location&\"[No.]\"))*--((INDIRECT(\"T_NAV_\"&i_Location&\"[\"&i_Location&\"]\"))<>\"\"),0))/IF(AND(BR133=\"METRE\",BH133<>\"\",BS133=\"\"),BH133,1),\"\")","v":""},"","","",null,null,{"$f":"IFERROR(IF(AY133=\"SHOW\",IF(AND(OR(BQ133=\"ROLL\",BQ133=\"LENGTH\"),BW133>0),ROUNDUP(BW133/CJ133/#REF!,0)*#REF!,IF(BQ133=\"METRE\",#REF!*ROUNDUP(((BW133*BM133)/1000)/#REF!,0),#REF!*ROUNDUP(BW133/#REF!,0))),\"\"),\"\")","v":""},"","",null,{"$f":"IFERROR(INDEX(INDIRECT(\"T_NAV_\"&i_Location&\"[\"&i_Location&\"]\"),MATCH(1,--(BD133=INDIRECT(\"T_NAV_\"&i_Location&\"[No.]\"))*--((INDIRECT(\"T_NAV_\"&i_Location&\"[\"&i_Location&\"]\"))<>\"\"),0)),\"\")","v":""},null,{"$f":"IFERROR(IF(ISBLANK(BU133),\"\",IF(OR(BQ133=\"ROLL\",BQ133=\"LENGTH\"),ROUNDDOWN((BH133*1000)/(BM133+CutTol),0),PRODUCT(#REF!,BU133))),\"\")","v":""}]
[null,null,null,null,"",null,"",null,"","F56 | 8mm",0,null,"",null,null,null,"",null,null,null,null,null,null,null,null,null,null,null,null,null,{"$f":"IFERROR(IF(AND(AA134=\"Y\",PRODUCT(AB134:AD134)=0),o_nScreens,IF(PRODUCT(AB134:AD134)=0,\"\",PRODUCT(AB134:AD134))),\"\")","v":""},null,null,null,null,null,null,null,null,null,null,null,null,"AU","",0,null,"",{"$f":"IF(ISNUMBER(FIND(\"x\",BF134)),IFERROR(INDEX(INDIRECT(\"T_FinishColour[ColourCode-\"&IF(ISNUMBER(FIND(\"xxx\",BF134)),\"xxx\",IF(ISNUMBER(FIND(\"xx\",BF134)),\"xx\",\"error\"))&AR134&\"]\"),MATCH(AV134,T_FinishColour[Finish / Colour],0)),\"\"),\"\")","v":""},null,{"$f":"IF(AND(ISBLANK(BD134),ISBLANK(C134)),\"HIDE\",_xlfn.SWITCH(PRODUCT(C134:Z134,B134),2,\"HEADING\",1,\"SHOW\",0,\"HIDE\"))","v":"HIDE"},null,"PICK","GL",null,"SB91-0001-050580",null,"SB91-0001-050580","8mm Bubble Seal Strip | F56 | 5.8m Lengths",5.8,{"$f":"IF(ISBLANK(BP134),\"\",IF(OR(BP134=L_Units),\"Y\",\"N\"))","v":{"$error":"#N/A"}},"wbSeal",{"$f":"IFERROR(IF(BI134=\"Y\",((INDEX(T_Deduc[Deduction],MATCH(BJ134,T_Deduc[Type],0),0))),\"\"),\"\")","v":""},"o_widthmm","","","",{"$f":"INDEX(T_UnitSelection[Units],MATCH(i_Units,T_UnitSelection[UnitSelection],0))","v":{"$error":"#N/A"}},{"$f":"IFERROR(IF(ISBLANK(BD134),\"\",INDEX(T_NAV_AU[Unit of Measure],MATCH(BD134,T_NAV_AU[No.],0))),\"\")","v":"LENGTH"},"METRE",null,"HW",1,1,1,{"$f":"IFERROR(INDEX(INDIRECT(\"T_NAV_\"&i_Location&\"[\"&i_Location&\"]\"),MATCH(1,--(BD134=INDIRECT(\"T_NAV_\"&i_Location&\"[No.]\"))*--((INDIRECT(\"T_NAV_\"&i_Location&\"[\"&i_Location&\"]\"))<>\"\"),0))/IF(AND(BR134=\"METRE\",BH134<>\"\",BS134=\"\"),BH134,1),\"\")","v":""},"","","",null,null,{"$f":"IFERROR(IF(AY134=\"SHOW\",IF(AND(OR(BQ134=\"ROLL\",BQ134=\"LENGTH\"),BW134>0),ROUNDUP(BW134/CJ134/#REF!,0)*#REF!,IF(BQ134=\"METRE\",#REF!*ROUNDUP(((BW134*BM134)/1000)/#REF!,0),#REF!*ROUNDUP(BW134/#REF!,0))),\"\"),\"\")","v":""},"","",null,{"$f":"IFERROR(INDEX(INDIRECT(\"T_NAV_\"&i_Location&\"[\"&i_Location&\"]\"),MATCH(1,--(BD134=INDIRECT(\"T_NAV_\"&i_Location&\"[No.]\"))*--((INDIRECT(\"T_NAV_\"&i_Location&\"[\"&i_Location&\"]\"))<>\"\"),0)),\"\")","v":""},null,{"$f":"IFERROR(IF(ISBLANK(BU134),\"\",IF(OR(BQ134=\"ROLL\",BQ134=\"LENGTH\"),ROUNDDOWN((BH134*1000)/(BM134+CutTol),0),PRODUCT(AE127,BU134))),\"\")","v":""}]
[null,null,null,null,"",null,"",null,"","Push Fit",0,null,"",null,null,null,"",null,null,null,null,null,null,null,null,null,null,null,null,null,{"$f":"IFERROR(MID(i_wbSeal,LEN(i_wbSeal)-1,1)*1,\"\")","v":""},null,null,null,null,null,null,null,null,null,null,null,null,"AU","",0,null,"",{"$f":"IF(ISNUMBER(FIND(\"x\",BF135)),IFERROR(INDEX(INDIRECT(\"T_FinishColour[ColourCode-\"&IF(ISNUMBER(FIND(\"xxx\",BF135)),\"xxx\",IF(ISNUMBER(FIND(\"xx\",BF135)),\"xx\",\"error\"))&AR135&\"]\"),MATCH(AV135,T_FinishColour[Finish / Colour],0)),\"\"),\"\")","v":""},null,{"$f":"IF(AND(ISBLANK(BD135),ISBLANK(C135)),\"HIDE\",_xlfn.SWITCH(PRODUCT(C135:Z135,B135),2,\"HEADING\",1,\"SHOW\",0,\"HIDE\"))","v":"HIDE"},null,"PICK","GL",null,"SB91-0013-050150",null,"SB91-0013-050150","8mm Bubble Seal Push Fit | 150 Lm Roll",1,{"$f":"IF(ISBLANK(BP135),\"\",IF(OR(BP135=L_Units),\"Y\",\"N\"))","v":{"$error":"#N/A"}},"wb",{"$f":"IFERROR(IF(BI135=\"Y\",((INDEX(T_Deduc[Deduction],MATCH(BJ135,T_Deduc[Type],0),0))),\"\"),\"\")","v":""},"o_widthmm","",{"$f":"IFERROR(IF(BI135=\"Y\",BM135,\"\"),\"\")","v":""},{"$f":"IFERROR(IF(BI135=\"Y\",TEXT(BM135/25.4,\"0\"&IF(ABS(BM135/25.4-ROUND(BM135/25.4,0))>1/32,\"-0/\"&CHOOSE(ROUND(MOD(BM135/25.4,1)*16,0),16,8,16,4,16,8,16,2,16,8,16,4,16,8,16),\"\")),\"\"),\"\")","v":""},{"$f":"INDEX(T_UnitSelection[Units],MATCH(i_Units,T_UnitSelection[UnitSelection],0))","v":{"$error":"#N/A"}},{"$f":"IFERROR(IF(ISBLANK(BD135),\"\",INDEX(T_NAV_AU[Unit of Measure],MATCH(BD135,T_NAV_AU[No.],0))),\"\")","v":"METRE"},"METRE",null,"HW",1,1,1,{"$f":"IFERROR(INDEX(INDIRECT(\"T_NAV_\"&i_Location&\"[\"&i_Location&\"]\"),MATCH(1,--(BD135=INDIRECT(\"T_NAV_\"&i_Location&\"[No.]\"))*--((INDIRECT(\"T_NAV_\"&i_Location&\"[\"&i_Location&\"]\"))<>\"\"),0))/IF(AND(BR135=\"METRE\",BH135<>\"\",BS135=\"\"),BH135,1),\"\")","v":""},"","","",null,null,{"$f":"IFERROR(IF(AY135=\"SHOW\",IF(AND(OR(BQ135=\"ROLL\",BQ135=\"LENGTH\"),BW135>0),ROUNDUP(BW135/CJ135/#REF!,0)*#REF!,IF(BQ135=\"METRE\",#REF!*ROUNDUP(((BW135*BM135)/1000)/#REF!,0),#REF!*ROUNDUP(BW135/#REF!,0))),\"\"),\"\")","v":""},"","",null,{"$f":"IFERROR(INDEX(INDIRECT(\"T_NAV_\"&i_Location&\"[\"&i_Location&\"]\"),MATCH(1,--(BD135=INDIRECT(\"T_NAV_\"&i_Location&\"[No.]\"))*--((INDIRECT(\"T_NAV_\"&i_Location&\"[\"&i_Location&\"]\"))<>\"\"),0)),\"\")","v":""},null,{"$f":"IFERROR(IF(ISBLANK(BU135),\"\",IF(OR(BQ135=\"ROLL\",BQ135=\"LENGTH\"),ROUNDDOWN((BH135*1000)/(BM135+CutTol),0),PRODUCT(#REF!,BU135))),\"\")","v":""}]
[null,null,null,"F72",0,null,"",null,"","16mm",0,null,"",null,null,null,"",null,null,null,null,null,null,null,null,null,null,null,null,null,{"$f":"IFERROR(IF(AND(AA136=\"Y\",PRODUCT(AB136:AD136)=0),o_nScreens,IF(PRODUCT(AB136:AD136)=0,\"\",PRODUCT(AB136:AD136))),\"\")","v":""},null,null,null,null,null,null,null,null,null,null,null,null,"AU","",0,null,"",{"$f":"IF(ISNUMBER(FIND(\"x\",BF136)),IFERROR(INDEX(INDIRECT(\"T_FinishColour[ColourCode-\"&IF(ISNUMBER(FIND(\"xxx\",BF136)),\"xxx\",IF(ISNUMBER(FIND(\"xx\",BF136)),\"xx\",\"error\"))&AR136&\"]\"),MATCH(AV136,T_FinishColour[Finish / Colour],0)),\"\"),\"\")","v":""},null,{"$f":"IF(AND(ISBLANK(BD136),ISBLANK(C136)),\"HIDE\",_xlfn.SWITCH(PRODUCT(C136:Z136,B136),2,\"HEADING\",1,\"SHOW\",0,\"HIDE\"))","v":"HIDE"},null,"PICK","GL",null,"SB91-0018-050040",null,"SB91-0018-050040","16mm Bubble Seal | F72 | 40 Lm Roll",1,{"$f":"IF(ISBLANK(BP136),\"\",IF(OR(BP136=L_Units),\"Y\",\"N\"))","v":{"$error":"#N/A"}},"wbSeal",{"$f":"IFERROR(IF(BI136=\"Y\",((INDEX(T_Deduc[Deduction],MATCH(BJ136,T_Deduc[Type],0),0))),\"\"),\"\")","v":""},"o_widthmm","","","",{"$f":"INDEX(T_UnitSelection[Units],MATCH(i_Units,T_UnitSelection[UnitSelection],0))","v":{"$error":"#N/A"}},{"$f":"IFERROR(IF(ISBLANK(BD136),\"\",INDEX(T_NAV_AU[Unit of Measure],MATCH(BD136,T_NAV_AU[No.],0))),\"\")","v":"METRE"},"METRE",null,"HW",1,1,1,{"$f":"IFERROR(INDEX(INDIRECT(\"T_NAV_\"&i_Location&\"[\"&i_Location&\"]\"),MATCH(1,--(BD136=INDIRECT(\"T_NAV_\"&i_Location&\"[No.]\"))*--((INDIRECT(\"T_NAV_\"&i_Location&\"[\"&i_Location&\"]\"))<>\"\"),0))/IF(AND(BR136=\"METRE\",BH136<>\"\",BS136=\"\"),BH136,1),\"\")","v":""},"","","",null,null,{"$f":"IFERROR(IF(AY136=\"SHOW\",IF(AND(OR(BQ136=\"ROLL\",BQ136=\"LENGTH\"),BW136>0),ROUNDUP(BW136/CJ136/#REF!,0)*#REF!,IF(BQ136=\"METRE\",#REF!*ROUNDUP(((BW136*BM136)/1000)/#REF!,0),#REF!*ROUNDUP(BW136/#REF!,0))),\"\"),\"\")","v":""},"","",null,{"$f":"IFERROR(INDEX(INDIRECT(\"T_NAV_\"&i_Location&\"[\"&i_Location&\"]\"),MATCH(1,--(BD136=INDIRECT(\"T_NAV_\"&i_Location&\"[No.]\"))*--((INDIRECT(\"T_NAV_\"&i_Location&\"[\"&i_Location&\"]\"))<>\"\"),0)),\"\")","v":""},null,{"$f":"IFERROR(IF(ISBLANK(BU136),\"\",IF(OR(BQ136=\"ROLL\",BQ136=\"LENGTH\"),ROUNDDOWN((BH136*1000)/(BM136+CutTol),0),PRODUCT(#REF!,BU136))),\"\")","v":""}]
[null,null,null,"F56",0,null,"",null,"","16mm",0,null,"",null,null,null,"",null,null,null,null,null,null,null,null,null,null,null,null,null,{"$f":"IFERROR(IF(AND(AA137=\"Y\",PRODUCT(AB137:AD137)=0),o_nScreens,IF(PRODUCT(AB137:AD137)=0,\"\",PRODUCT(AB137:AD137))),\"\")","v":""},null,null,null,null,null,null,null,null,null,null,null,null,"AU","",0,null,"",{"$f":"IF(ISNUMBER(FIND(\"x\",BF137)),IFERROR(INDEX(INDIRECT(\"T_FinishColour[ColourCode-\"&IF(ISNUMBER(FIND(\"xxx\",BF137)),\"xxx\",IF(ISNUMBER(FIND(\"xx\",BF137)),\"xx\",\"error\"))&AR137&\"]\"),MATCH(AV137,T_FinishColour[Finish / Colour],0)),\"\"),\"\")","v":""},null,{"$f":"IF(AND(ISBLANK(BD137),ISBLANK(C137)),\"HIDE\",_xlfn.SWITCH(PRODUCT(C137:Z137,B137),2,\"HEADING\",1,\"SHOW\",0,\"HIDE\"))","v":"HIDE"},null,"PICK","AU",null,"SB91-0019-050580",null,"SB91-0019-050580","16mm Bubble Seal Strip | F56 | 5.8 metre Lengths",5.8,{"$f":"IF(ISBLANK(BP137),\"\",IF(OR(BP137=L_Units),\"Y\",\"N\"))","v":{"$error":"#N/A"}},"wbSeal",{"$f":"IFERROR(IF(BI137=\"Y\",((INDEX(T_Deduc[Deduction],MATCH(BJ137,T_Deduc[Type],0),0))),\"\"),\"\")","v":""},"o_widthmm","",{"$f":"IFERROR(IF(BI137=\"Y\",BM137,\"\"),\"\")","v":""},{"$f":"IFERROR(IF(BI137=\"Y\",TEXT(BM137/25.4,\"0\"&IF(ABS(BM137/25.4-ROUND(BM137/25.4,0))>1/32,\"-0/\"&CHOOSE(ROUND(MOD(BM137/25.4,1)*16,0),16,8,16,4,16,8,16,2,16,8,16,4,16,8,16),\"\")),\"\"),\"\")","v":""},{"$f":"INDEX(T_UnitSelection[Units],MATCH(i_Units,T_UnitSelection[UnitSelection],0))","v":{"$error":"#N/A"}},{"$f":"IFERROR(IF(ISBLANK(BD137),\"\",INDEX(T_NAV_AU[Unit of Measure],MATCH(BD137,T_NAV_AU[No.],0))),\"\")","v":"LENGTH"},"METRE",null,"HW",1,1,1,{"$f":"IFERROR(INDEX(INDIRECT(\"T_NAV_\"&i_Location&\"[\"&i_Location&\"]\"),MATCH(1,--(BD137=INDIRECT(\"T_NAV_\"&i_Location&\"[No.]\"))*--((INDIRECT(\"T_NAV_\"&i_Location&\"[\"&i_Location&\"]\"))<>\"\"),0))/IF(AND(BR137=\"METRE\",BH137<>\"\",BS137=\"\"),BH137,1),\"\")","v":""},"","","",null,null,{"$f":"IFERROR(IF(AY137=\"SHOW\",IF(AND(OR(BQ137=\"ROLL\",BQ137=\"LENGTH\"),BW137>0),ROUNDUP(BW137/CJ137/#REF!,0)*#REF!,IF(BQ137=\"METRE\",#REF!*ROUNDUP(((BW137*BM137)/1000)/#REF!,0),#REF!*ROUNDUP(BW137/#REF!,0))),\"\"),\"\")","v":""},"","",null,{"$f":"IFERROR(INDEX(INDIRECT(\"T_NAV_\"&i_Location&\"[\"&i_Location&\"]\"),MATCH(1,--(BD137=INDIRECT(\"T_NAV_\"&i_Location&\"[No.]\"))*--((INDIRECT(\"T_NAV_\"&i_Location&\"[\"&i_Location&\"]\"))<>\"\"),0)),\"\")","v":""},null,{"$f":"IFERROR(IF(ISBLANK(BU137),\"\",IF(OR(BQ137=\"ROLL\",BQ137=\"LENGTH\"),ROUNDDOWN((BH137*1000)/(BM137+CutTol),0),PRODUCT(AE128,BU137))),\"\")","v":""}]
[null,null,null,null,"",null,"","Metal Handle",0,null,"",null,"",null,{"$f":"IFERROR(IF(ISBLANK(N138),\"\",IF(FIND(N138,INDIRECT($N$129))>0,1,0)),0)","v":""},null,"",null,null,null,null,null,null,null,null,null,null,null,null,null,{"$f":"IFERROR(MID(i_wbHandle,LEN(i_wbHandle)-1,1)*1,\"\")","v":""},null,null,null,"Stainless",null,null,null,null,null,null,null,null,"AU","Stainless",0,null,"Stainless",{"$f":"IF(ISNUMBER(FIND(\"x\",BF138)),IFERROR(INDEX(INDIRECT(\"T_FinishColour[ColourCode-\"&IF(ISNUMBER(FIND(\"xxx\",BF138)),\"xxx\",IF(ISNUMBER(FIND(\"xx\",BF138)),\"xx\",\"error\"))&AR138&\"]\"),MATCH(AV138,T_FinishColour[Finish / Colour],0)),\"\"),\"\")","v":"013"},null,{"$f":"IF(AND(ISBLANK(BD138),ISBLANK(C138)),\"HIDE\",_xlfn.SWITCH(PRODUCT(C138:Z138,B138),2,\"HEADING\",1,\"SHOW\",0,\"HIDE\"))","v":"HIDE"},null,{"$f":"IF(BQ138=\"LENGTH\",\"LENGTH\",\"PICK\")","v":"PICK"},"GL",null,"SB07-2202-013000",null,"SB07-2202-xxx000","External Weight Bar Pull Handle + Screws | MkII",null,{"$f":"IF(ISBLANK(BP138),\"\",IF(OR(BP138=L_Units),\"Y\",\"N\"))","v":"N"},null,{"$f":"IFERROR(IF(BI138=\"Y\",((INDEX(T_Deduc[Deduction],MATCH(BJ138,T_Deduc[Type],0),0))),\"\"),\"\")","v":""},null,"",{"$f":"IFERROR(IF(BI138=\"Y\",BM138,\"\"),\"\")","v":""},{"$f":"IFERROR(IF(BI138=\"Y\",TEXT(BM138/25.4,\"0\"&IF(ABS(BM138/25.4-ROUND(BM138/25.4,0))>1/32,\"-0/\"&CHOOSE(ROUND(MOD(BM138/25.4,1)*16,0),16,8,16,4,16,8,16,2,16,8,16,4,16,8,16),\"\")),\"\"),\"\")","v":""},"Set",{"$f":"IFERROR(IF(ISBLANK(BD138),\"\",INDEX(T_NAV_AU[Unit of Measure],MATCH(BD138,T_NAV_AU[No.],0))),\"\")","v":"SET"},null,null,"HW",1,1,1,{"$f":"IFERROR(INDEX(INDIRECT(\"T_NAV_\"&i_Location&\"[\"&i_Location&\"]\"),MATCH(1,--(BD138=INDIRECT(\"T_NAV_\"&i_Location&\"[No.]\"))*--((INDIRECT(\"T_NAV_\"&i_Location&\"[\"&i_Location&\"]\"))<>\"\"),0))/IF(AND(BR138=\"METRE\",BH138<>\"\",BS138=\"\"),BH138,1),\"\")","v":""},"","","",null,null,{"$f":"IFERROR(IF(AY138=\"SHOW\",IF(AND(OR(BQ138=\"ROLL\",BQ138=\"LENGTH\"),BW138>0),ROUNDUP(BW138/CJ138/#REF!,0)*#REF!,IF(BQ138=\"METRE\",#REF!*ROUNDUP(((BW138*BM138)/1000)/#REF!,0),#REF!*ROUNDUP(BW138/#REF!,0))),\"\"),\"\")","v":""},"","",null,{"$f":"IFERROR(INDEX(INDIRECT(\"T_NAV_\"&i_Location&\"[\"&i_Location&\"]\"),MATCH(1,--(BD138=INDIRECT(\"T_NAV_\"&i_Location&\"[No.]\"))*--((INDIRECT(\"T_NAV_\"&i_Location&\"[\"&i_Location&\"]\"))<>\"\"),0)),\"\")","v":""},null,{"$f":"IFERROR(IF(ISBLANK(BU138),\"\",IF(OR(BQ138=\"ROLL\",BQ138=\"LENGTH\"),ROUNDDOWN((BH138*1000)/(BM138+CutTol),0),PRODUCT(AE131,BU138))),\"\")","v":1}]
[null,null,null,null,{"$f":"IFERROR(IF(ISBLANK(D139),\"\",IF(FIND(D139,INDIRECT($D$129))>0,1,0)),0)","v":""},null,{"$f":"IFERROR(IF(ISBLANK(F139),\"\",IF(FIND(F139,INDIRECT($F$129))>0,1,0)),0)","v":""},"Zipscreen Handle",{"$f":"IFERROR(IF(ISBLANK(H139),\"\",IF(FIND(H139,INDIRECT($H$129))>0,1,0)),0)","v":0},null,{"$f":"IFERROR(IF(ISBLANK(J139),\"\",IF(FIND(J139,INDIRECT($J$129))>0,1,0)),0)","v":""},null,{"$f":"IFERROR(IF(ISBLANK(L139),\"\",IF(FIND(L139,INDIRECT($L$129))>0,1,0)),0)","v":""},null,{"$f":"IFERROR(IF(ISBLANK(N139),\"\",IF(FIND(N139,INDIRECT($N$129))>0,1,0)),0)","v":""},null,"",null,null,null,null,null,null,null,null,null,null,null,null,null,{"$f":"IFERROR(MID(i_wbHandle,LEN(i_wbHandle)-1,1)*1,\"\")","v":""},null,null,null,"Stainless",null,null,null,null,null,null,null,null,"AU","",0,null,"",{"$f":"IF(ISNUMBER(FIND(\"x\",BF139)),IFERROR(INDEX(INDIRECT(\"T_FinishColour[ColourCode-\"&IF(ISNUMBER(FIND(\"xxx\",BF139)),\"xxx\",IF(ISNUMBER(FIND(\"xx\",BF139)),\"xx\",\"error\"))&AR139&\"]\"),MATCH(AV139,T_FinishColour[Finish / Colour],0)),\"\"),\"\")","v":""},null,{"$f":"IF(AND(ISBLANK(BD139),ISBLANK(C139)),\"HIDE\",_xlfn.SWITCH(PRODUCT(C139:Z139,B139),2,\"HEADING\",1,\"SHOW\",0,\"HIDE\"))","v":"HIDE"},null,"PICK","AU",null,"SB07-2203-050001",null,"SB07-2203-050001","External Weight Bar Handle + Screws | Zipscreen\t",null,{"$f":"IF(ISBLANK(BP139),\"\",IF(OR(BP139=L_Units),\"Y\",\"N\"))","v":"N"},null,{"$f":"IFERROR(IF(BI139=\"Y\",((INDEX(T_Deduc[Deduction],MATCH(BJ139,T_Deduc[Type],0),0))),\"\"),\"\")","v":""},null,{"$f":"IFERROR(IF(BI139=\"Y\",INDIRECT(BL139)-BK139,\"\"),\"\")","v":""},{"$f":"IFERROR(IF(BI139=\"Y\",BM139,\"\"),\"\")","v":""},{"$f":"IFERROR(IF(BI139=\"Y\",TEXT(BM139/25.4,\"0\"&IF(ABS(BM139/25.4-ROUND(BM139/25.4,0))>1/32,\"-0/\"&CHOOSE(ROUND(MOD(BM139/25.4,1)*16,0),16,8,16,4,16,8,16,2,16,8,16,4,16,8,16),\"\")),\"\"),\"\")","v":""},"Set",{"$f":"IFERROR(IF(ISBLANK(BD139),\"\",INDEX(T_NAV_AU[Unit of Measure],MATCH(BD139,T_NAV_AU[No.],0))),\"\")","v":"KIT"},null,null,"HW",1,1,1,{"$f":"IFERROR(INDEX(INDIRECT(\"T_NAV_\"&i_Location&\"[\"&i_Location&\"]\"),MATCH(1,--(BD139=INDIRECT(\"T_NAV_\"&i_Location&\"[No.]\"))*--((INDIRECT(\"T_NAV_\"&i_Location&\"[\"&i_Location&\"]\"))<>\"\"),0))/IF(AND(BR139=\"METRE\",BH139<>\"\",BS139=\"\"),BH139,1),\"\")","v":""},"",{"$f":"IF(BY139<>\"\",(INDIRECT(\"i_\"&BT139&\"discount\"))*BY139,\"\")","v":""},{"$f":"IFERROR(IF(BY139<>\"\",BY139-BZ139,\"\"),\"\")","v":""},null,null,{"$f":"IFERROR(IF(AY139=\"SHOW\",IF(AND(OR(BQ139=\"ROLL\",BQ139=\"LENGTH\"),BW139>0),ROUNDUP(BW139/CJ139/#REF!,0)*#REF!,IF(BQ139=\"METRE\",#REF!*ROUNDUP(((BW139*BM139)/1000)/#REF!,0),#REF!*ROUNDUP(BW139/#REF!,0))),\"\"),\"\")","v":""},{"$f":"IF(CD139<>\"\",CD139&\"x \"&BQ139&IF(CD139>1,\"S\",\"\"),\"\")","v":""},"",null,{"$f":"IFERROR(INDEX(INDIRECT(\"T_NAV_\"&i_Location&\"[\"&i_Location&\"]\"),MATCH(1,--(BD139=INDIRECT(\"T_NAV_\"&i_Location&\"[No.]\"))*--((INDIRECT(\"T_NAV_\"&i_Location&\"[\"&i_Location&\"]\"))<>\"\"),0)),\"\")","v":""},null,{"$f":"IFERROR(IF(ISBLANK(BU139),\"\",IF(OR(BQ139=\"ROLL\",BQ139=\"LENGTH\"),ROUNDDOWN((BH139*1000)/(BM139+CutTol),0),PRODUCT(AE132,BU139))),\"\")","v":1}]
[null,null,null,null,{"$f":"IFERROR(IF(ISBLANK(D140),\"\",IF(FIND(D140,INDIRECT($D$129))>0,1,0)),0)","v":""},null,{"$f":"IFERROR(IF(ISBLANK(F140),\"\",IF(FIND(F140,INDIRECT($F$129))>0,1,0)),0)","v":""},null,{"$f":"IFERROR(IF(ISBLANK(H140),\"\",IF(FIND(H140,INDIRECT($H$129))>0,1,0)),0)","v":""},"Ultra-Lock",{"$f":"IFERROR(IF(ISBLANK(J140),\"\",IF(FIND(J140,INDIRECT($J$129))>0,1,0)),0)","v":0},null,{"$f":"IFERROR(IF(ISBLANK(L140),\"\",IF(FIND(L140,INDIRECT($L$129))>0,1,0)),0)","v":""},null,null,null,"",null,null,null,null,null,null,null,null,null,null,null,null,null,{"$f":"IFERROR(IF(AND(AA140=\"Y\",PRODUCT(AB140:AD140)=0),o_nScreens,IF(PRODUCT(AB140:AD140)=0,\"\",PRODUCT(AB140:AD140))),\"\")","v":""},null,null,null,null,null,null,null,null,null,null,null,null,null,"",0,null,"",{"$f":"IF(ISNUMBER(FIND(\"x\",BF140)),IFERROR(INDEX(INDIRECT(\"T_FinishColour[ColourCode-\"&IF(ISNUMBER(FIND(\"xxx\",BF140)),\"xxx\",IF(ISNUMBER(FIND(\"xx\",BF140)),\"xx\",\"error\"))&AR140&\"]\"),MATCH(AV140,T_FinishColour[Finish / Colour],0)),\"\"),\"\")","v":""},null,{"$f":"IF(AND(ISBLANK(BD140),ISBLANK(C140)),\"HIDE\",_xlfn.SWITCH(PRODUCT(C140:Z140,B140),2,\"HEADING\",1,\"SHOW\",0,\"HIDE\"))","v":"HIDE"},null,"PICK","GL",null,"SB91-0008-050050",null,"SB91-0008-050050","Ultra-Lock Seal 40mm | 50m Roll",50,{"$f":"IF(ISBLANK(BP140),\"\",IF(OR(BP140=L_Units),\"Y\",\"N\"))","v":{"$error":"#N/A"}},"wbSeal",{"$f":"IFERROR(IF(BI140=\"Y\",((INDEX(T_Deduc[Deduction],MATCH(BJ140,T_Deduc[Type],0),0))),\"\"),\"\")","v":""},"o_widthmm","","","",{"$f":"INDEX(T_UnitSelection[Units],MATCH(i_Units,T_UnitSelection[UnitSelection],0))","v":{"$error":"#N/A"}},{"$f":"IFERROR(IF(ISBLANK(BD140),\"\",INDEX(T_NAV_AU[Unit of Measure],MATCH(BD140,T_NAV_AU[No.],0))),\"\")","v":"METRE"},null,null,"HW",1,1,1,{"$f":"IFERROR(INDEX(INDIRECT(\"T_NAV_\"&i_Location&\"[\"&i_Location&\"]\"),MATCH(1,--(BD140=INDIRECT(\"T_NAV_\"&i_Location&\"[No.]\"))*--((INDIRECT(\"T_NAV_\"&i_Location&\"[\"&i_Location&\"]\"))<>\"\"),0))/IF(AND(BR140=\"METRE\",BH140<>\"\",BS140=\"\"),BH140,1),\"\")","v":""},"","","",null,null,{"$f":"IFERROR(IF(AY140=\"SHOW\",IF(AND(OR(BQ140=\"ROLL\",BQ140=\"LENGTH\"),BW140>0),ROUNDUP(BW140/CJ140/#REF!,0)*#REF!,IF(BQ140=\"METRE\",#REF!*ROUNDUP(((BW140*BM140)/1000)/#REF!,0),#REF!*ROUNDUP(BW140/#REF!,0))),\"\"),\"\")","v":""},"","",null,{"$f":"IFERROR(INDEX(INDIRECT(\"T_NAV_\"&i_Location&\"[\"&i_Location&\"]\"),MATCH(1,--(BD140=INDIRECT(\"T_NAV_\"&i_Location&\"[No.]\"))*--((INDIRECT(\"T_NAV_\"&i_Location&\"[\"&i_Location&\"]\"))<>\"\"),0)),\"\")","v":""},null,{"$f":"IFERROR(IF(ISBLANK(BU140),\"\",IF(OR(BQ140=\"ROLL\",BQ140=\"LENGTH\"),ROUNDDOWN((BH140*1000)/(BM140+CutTol),0),PRODUCT(#REF!,BU140))),\"\")","v":""}]
[null,null,null,"F72",0,null,"",null,"",null,"",null,"",null,null,null,"",null,null,null,null,null,null,null,null,null,null,null,null,null,{"$f":"IFERROR(IF(AND(AA141=\"Y\",PRODUCT(AB141:AD141)=0),o_nScreens,IF(PRODUCT(AB141:AD141)=0,\"\",PRODUCT(AB141:AD141))),\"\")","v":""},null,null,null,"White","Mill",null,null,null,null,null,null,null,"AU","White",0,null,"White",{"$f":"IF(ISNUMBER(FIND(\"x\",BF141)),IFERROR(INDEX(INDIRECT(\"T_FinishColour[ColourCode-\"&IF(ISNUMBER(FIND(\"xxx\",BF141)),\"xxx\",IF(ISNUMBER(FIND(\"xx\",BF141)),\"xx\",\"error\"))&AR141&\"]\"),MATCH(AV141,T_FinishColour[Finish / Colour],0)),\"\"),\"\")","v":"069"},null,{"$f":"IF(AND(ISBLANK(BD141),ISBLANK(C141)),\"HIDE\",_xlfn.SWITCH(PRODUCT(C141:Z141,B141),2,\"HEADING\",1,\"SHOW\",0,\"HIDE\"))","v":"HIDE"},null,"PICK","GL",null,{"$f":"_xlfn.IFNA(SUBSTITUTE(IF(AR141=\"AU\",SUBSTITUTE(BF141,\"xxx\",AW141),SUBSTITUTE(SUBSTITUTE(BF141,\"xx\",AW141),\"x\",\"\")),\"LLL\",\"700\"),BF141)","v":"RE15-0112-069700"},null,{"$f":"\"RE15-0112-xxxLLL\"&IF(i_Finish=\"Powdercoat\",\"-PF\",\"\")","v":"RE15-0112-xxxLLL"},"F72 Multi-Bar",7,{"$f":"IF(ISBLANK(BP141),\"\",IF(OR(BP141=L_Units),\"Y\",\"N\"))","v":{"$error":"#N/A"}},"wb",{"$f":"IFERROR(IF(BI141=\"Y\",((INDEX(T_Deduc[Deduction],MATCH(BJ141,T_Deduc[Type],0),0))),\"\"),\"\")","v":""},"o_widthmm","","","",{"$f":"INDEX(T_UnitSelection[Units],MATCH(i_Units,T_UnitSelection[UnitSelection],0))","v":{"$error":"#N/A"}},{"$f":"IFERROR(IF(ISBLANK(BD141),\"\",INDEX(T_NAV_AU[Unit of Measure],MATCH(BD141,T_NAV_AU[No.],0))),\"\")","v":""},"METRE",null,"HW",1,1,1,{"$f":"IFERROR(INDEX(INDIRECT(\"T_NAV_\"&i_Location&\"[\"&i_Location&\"]\"),MATCH(1,--(BD141=INDIRECT(\"T_NAV_\"&i_Location&\"[No.]\"))*--((INDIRECT(\"T_NAV_\"&i_Location&\"[\"&i_Location&\"]\"))<>\"\"),0))/IF(AND(BR141=\"METRE\",BH141<>\"\",BS141=\"\"),BH141,1),\"\")","v":""},"","","",null,null,{"$f":"IFERROR(IF(AY141=\"SHOW\",IF(AND(OR(BQ141=\"ROLL\",BQ141=\"LENGTH\"),BW141>0),ROUNDUP(BW141/CJ141/#REF!,0)*#REF!,IF(BQ141=\"METRE\",#REF!*ROUNDUP(((BW141*BM141)/1000)/#REF!,0),#REF!*ROUNDUP(BW141/#REF!,0))),\"\"),\"\")","v":""},"","",null,{"$f":"IFERROR(INDEX(INDIRECT(\"T_NAV_\"&i_Location&\"[\"&i_Location&\"]\"),MATCH(1,--(BD141=INDIRECT(\"T_NAV_\"&i_Location&\"[No.]\"))*--((INDIRECT(\"T_NAV_\"&i_Location&\"[\"&i_Location&\"]\"))<>\"\"),0)),\"\")","v":""},null,{"$f":"IFERROR(IF(ISBLANK(BU141),\"\",IF(OR(BQ141=\"ROLL\",BQ141=\"LENGTH\"),ROUNDDOWN((BH141*1000)/(BM141+CutTol),0),PRODUCT(AE133,BU141))),\"\")","v":1}]
[null,null,null,"F72",0,"Zipscreen",0,null,"",null,"",null,"",null,null,null,"",null,null,null,null,null,null,null,null,null,null,null,null,null,{"$f":"IFERROR(IF(AND(AA142=\"Y\",PRODUCT(AB142:AD142)=0),o_nScreens,IF(PRODUCT(AB142:AD142)=0,\"\",PRODUCT(AB142:AD142))),\"\")","v":""},null,null,null,"White",null,null,null,null,null,null,null,null,"AU","White",0,null,"White",{"$f":"IF(ISNUMBER(FIND(\"x\",BF142)),IFERROR(INDEX(INDIRECT(\"T_FinishColour[ColourCode-\"&IF(ISNUMBER(FIND(\"xxx\",BF142)),\"xxx\",IF(ISNUMBER(FIND(\"xx\",BF142)),\"xx\",\"error\"))&AR142&\"]\"),MATCH(AV142,T_FinishColour[Finish / Colour],0)),\"\"),\"\")","v":"069"},null,{"$f":"IF(AND(ISBLANK(BD142),ISBLANK(C142)),\"HIDE\",_xlfn.SWITCH(PRODUCT(C142:Z142,B142),2,\"HEADING\",1,\"SHOW\",0,\"HIDE\"))","v":"HIDE"},null,"PICK","GL",null,{"$f":"_xlfn.IFNA(SUBSTITUTE(IF(AR142=\"AU\",SUBSTITUTE(BF142,\"xxx\",AW142),SUBSTITUTE(SUBSTITUTE(BF142,\"xx\",AW142),\"x\",\"\")),\"LLL\",\"580\"),BF142)","v":"RE15-0512-069000"},null,"RE15-0512-xxx000","F72 Multi-Bar End Cap Set w/ Screws | Zipscreen",null,{"$f":"IF(ISBLANK(BP142),\"\",IF(OR(BP142=L_Units),\"Y\",\"N\"))","v":"N"},null,{"$f":"IFERROR(IF(BI142=\"Y\",((INDEX(T_Deduc[Deduction],MATCH(BJ142,T_Deduc[Type],0),0))),\"\"),\"\")","v":""},null,"","","","Set",{"$f":"IFERROR(IF(ISBLANK(BD142),\"\",INDEX(T_NAV_AU[Unit of Measure],MATCH(BD142,T_NAV_AU[No.],0))),\"\")","v":"SET"},null,null,"HW",1,1,1,{"$f":"IFERROR(INDEX(INDIRECT(\"T_NAV_\"&i_Location&\"[\"&i_Location&\"]\"),MATCH(1,--(BD142=INDIRECT(\"T_NAV_\"&i_Location&\"[No.]\"))*--((INDIRECT(\"T_NAV_\"&i_Location&\"[\"&i_Location&\"]\"))<>\"\"),0))/IF(AND(BR142=\"METRE\",BH142<>\"\",BS142=\"\"),BH142,1),\"\")","v":""},"","","",null,null,{"$f":"IFERROR(IF(AY142=\"SHOW\",IF(AND(OR(BQ142=\"ROLL\",BQ142=\"LENGTH\"),BW142>0),ROUNDUP(BW142/CJ142/#REF!,0)*#REF!,IF(BQ142=\"METRE\",#REF!*ROUNDUP(((BW142*BM142)/1000)/#REF!,0),#REF!*ROUNDUP(BW142/#REF!,0))),\"\"),\"\")","v":""},"","",null,{"$f":"IFERROR(INDEX(INDIRECT(\"T_NAV_\"&i_Location&\"[\"&i_Location&\"]\"),MATCH(1,--(BD142=INDIRECT(\"T_NAV_\"&i_Location&\"[No.]\"))*--((INDIRECT(\"T_NAV_\"&i_Location&\"[\"&i_Location&\"]\"))<>\"\"),0)),\"\")","v":""},null,{"$f":"IFERROR(IF(ISBLANK(BU142),\"\",IF(OR(BQ142=\"ROLL\",BQ142=\"LENGTH\"),ROUNDDOWN((BH142*1000)/(BM142+CutTol),0),PRODUCT(AE134,BU142))),\"\")","v":1}]
[null,null,null,"F72",0,"Wire Guide",0,null,"",null,"",null,"",null,null,null,"",null,null,null,null,null,null,null,null,null,null,null,null,null,{"$f":"IFERROR(IF(AND(AA143=\"Y\",PRODUCT(AB143:AD143)=0),o_nScreens,IF(PRODUCT(AB143:AD143)=0,\"\",PRODUCT(AB143:AD143))),\"\")","v":""},null,null,null,"White","Black",null,null,null,null,null,null,null,"AU","White",0,null,"White",{"$f":"IF(ISNUMBER(FIND(\"x\",BF143)),IFERROR(INDEX(INDIRECT(\"T_FinishColour[ColourCode-\"&IF(ISNUMBER(FIND(\"xxx\",BF143)),\"xxx\",IF(ISNUMBER(FIND(\"xx\",BF143)),\"xx\",\"error\"))&AR143&\"]\"),MATCH(AV143,T_FinishColour[Finish / Colour],0)),\"\"),\"\")","v":"069"},null,{"$f":"IF(AND(ISBLANK(BD143),ISBLANK(C143)),\"HIDE\",_xlfn.SWITCH(PRODUCT(C143:Z143,B143),2,\"HEADING\",1,\"SHOW\",0,\"HIDE\"))","v":"HIDE"},null,"PICK","GL",null,{"$f":"_xlfn.IFNA(SUBSTITUTE(IF(AR143=\"AU\",SUBSTITUTE(BF143,\"xxx\",AW143),SUBSTITUTE(SUBSTITUTE(BF143,\"xx\",AW143),\"x\",\"\")),\"LLL\",\"015\"),BF143)","v":"RE15-0522-069000"},null,"RE15-0522-xxx000","F72 Multi-Bar End Cap Set w/ Screws | Wire Guide",null,"N",null,{"$f":"IFERROR(IF(BI143=\"Y\",((INDEX(T_Deduc[Deduction],MATCH(BJ143,T_Deduc[Type],0),0))),\"\"),\"\")","v":""},null,"","","","Set",{"$f":"IFERROR(IF(ISBLANK(BD143),\"\",INDEX(T_NAV_AU[Unit of Measure],MATCH(BD143,T_NAV_AU[No.],0))),\"\")","v":"SET"},null,null,"HW",1,1,1,{"$f":"IFERROR(INDEX(INDIRECT(\"T_NAV_\"&i_Location&\"[\"&i_Location&\"]\"),MATCH(1,--(BD143=INDIRECT(\"T_NAV_\"&i_Location&\"[No.]\"))*--((INDIRECT(\"T_NAV_\"&i_Location&\"[\"&i_Location&\"]\"))<>\"\"),0))/IF(AND(BR143=\"METRE\",BH143<>\"\",BS143=\"\"),BH143,1),\"\")","v":""},"","","",null,null,{"$f":"IFERROR(IF(AY143=\"SHOW\",IF(AND(OR(BQ143=\"ROLL\",BQ143=\"LENGTH\"),BW143>0),ROUNDUP(BW143/CJ143/#REF!,0)*#REF!,IF(BQ143=\"METRE\",#REF!*ROUNDUP(((BW143*BM143)/1000)/#REF!,0),#REF!*ROUNDUP(BW143/#REF!,0))),\"\"),\"\")","v":""},"","",null,{"$f":"IFERROR(INDEX(INDIRECT(\"T_NAV_\"&i_Location&\"[\"&i_Location&\"]\"),MATCH(1,--(BD143=INDIRECT(\"T_NAV_\"&i_Location&\"[No.]\"))*--((INDIRECT(\"T_NAV_\"&i_Location&\"[\"&i_Location&\"]\"))<>\"\"),0)),\"\")","v":""},null,{"$f":"IFERROR(IF(ISBLANK(BU143),\"\",IF(OR(BQ143=\"ROLL\",BQ143=\"LENGTH\"),ROUNDDOWN((BH143*1000)/(BM143+CutTol),0),PRODUCT(AE135,BU143))),\"\")","v":1}]
[null,null,null,"F72",0,"Straight Drop",0,null,"",null,"",null,"",null,null,null,"",null,null,null,null,null,null,null,null,null,null,null,null,null,{"$f":"IFERROR(IF(AND(AA144=\"Y\",PRODUCT(AB144:AD144)=0),o_nScreens,IF(PRODUCT(AB144:AD144)=0,\"\",PRODUCT(AB144:AD144))),\"\")","v":""},null,null,null,null,null,null,null,null,null,null,null,null,"AU","",0,null,"",{"$f":"IF(ISNUMBER(FIND(\"x\",BF144)),IFERROR(INDEX(INDIRECT(\"T_FinishColour[ColourCode-\"&IF(ISNUMBER(FIND(\"xxx\",BF144)),\"xxx\",IF(ISNUMBER(FIND(\"xx\",BF144)),\"xx\",\"error\"))&AR144&\"]\"),MATCH(AV144,T_FinishColour[Finish / Colour],0)),\"\"),\"\")","v":""},null,{"$f":"IF(AND(ISBLANK(BD144),ISBLANK(C144)),\"HIDE\",_xlfn.SWITCH(PRODUCT(C144:Z144,B144),2,\"HEADING\",1,\"SHOW\",0,\"HIDE\"))","v":"HIDE"},null,"PICK","GL",null,{"$f":"_xlfn.IFNA(SUBSTITUTE(IF(AR144=\"AU\",SUBSTITUTE(BF144,\"xxx\",AW144),SUBSTITUTE(SUBSTITUTE(BF144,\"xx\",AW144),\"x\",\"\")),\"LLL\",\"015\"),BF144)","v":"RE15-0540-050000"},null,"RE15-0540-050000","F72 Plain End Cap Set + Screws",null,"N",null,{"$f":"IFERROR(IF(BI144=\"Y\",((INDEX(T_Deduc[Deduction],MATCH(BJ144,T_Deduc[Type],0),0))),\"\"),\"\")","v":""},null,"",{"$f":"IFERROR(IF(BI144=\"Y\",BM144,\"\"),\"\")","v":""},{"$f":"IFERROR(IF(BI144=\"Y\",TEXT(BM144/25.4,\"0\"&IF(ABS(BM144/25.4-ROUND(BM144/25.4,0))>1/32,\"-0/\"&CHOOSE(ROUND(MOD(BM144/25.4,1)*16,0),16,8,16,4,16,8,16,2,16,8,16,4,16,8,16),\"\")),\"\"),\"\")","v":""},"Set",{"$f":"IFERROR(IF(ISBLANK(BD144),\"\",INDEX(T_NAV_AU[Unit of Measure],MATCH(BD144,T_NAV_AU[No.],0))),\"\")","v":"SET"},null,null,"HW",1,1,1,{"$f":"IFERROR(INDEX(INDIRECT(\"T_NAV_\"&i_Location&\"[\"&i_Location&\"]\"),MATCH(1,--(BD144=INDIRECT(\"T_NAV_\"&i_Location&\"[No.]\"))*--((INDIRECT(\"T_NAV_\"&i_Location&\"[\"&i_Location&\"]\"))<>\"\"),0))/IF(AND(BR144=\"METRE\",BH144<>\"\",BS144=\"\"),BH144,1),\"\")","v":""},"","","",null,null,{"$f":"IFERROR(IF(AY144=\"SHOW\",IF(AND(OR(BQ144=\"ROLL\",BQ144=\"LENGTH\"),BW144>0),ROUNDUP(BW144/CJ144/#REF!,0)*#REF!,IF(BQ144=\"METRE\",#REF!*ROUNDUP(((BW144*BM144)/1000)/#REF!,0),#REF!*ROUNDUP(BW144/#REF!,0))),\"\"),\"\")","v":""},"","",null,{"$f":"IFERROR(INDEX(INDIRECT(\"T_NAV_\"&i_Location&\"[\"&i_Location&\"]\"),MATCH(1,--(BD144=INDIRECT(\"T_NAV_\"&i_Location&\"[No.]\"))*--((INDIRECT(\"T_NAV_\"&i_Location&\"[\"&i_Location&\"]\"))<>\"\"),0)),\"\")","v":""},null,{"$f":"IFERROR(IF(ISBLANK(BU144),\"\",IF(OR(BQ144=\"ROLL\",BQ144=\"LENGTH\"),ROUNDDOWN((BH144*1000)/(BM144+CutTol),0),PRODUCT(AE136,BU144))),\"\")","v":1}]
[null,null,null,null,"",null,"",null,"",null,"","20 x 5 mm",0,null,null,null,"",null,null,null,null,null,null,null,null,null,null,null,{"$f":"IFERROR(IF(FIND(\"(x2)\",i_wbBallast)>0,2,1),1)","v":1},null,{"$f":"IFERROR(IF(AND(AA145=\"Y\",PRODUCT(AB145:AD145)=0),o_nScreens,IF(PRODUCT(AB145:AD145)=0,\"\",PRODUCT(AB145:AD145))),\"\")","v":1},null,null,null,"White",null,null,null,null,null,null,null,null,"AU","",0,null,"",{"$f":"IF(ISNUMBER(FIND(\"x\",BF145)),IFERROR(INDEX(INDIRECT(\"T_FinishColour[ColourCode-\"&IF(ISNUMBER(FIND(\"xxx\",BF145)),\"xxx\",IF(ISNUMBER(FIND(\"xx\",BF145)),\"xx\",\"error\"))&AR145&\"]\"),MATCH(AV145,T_FinishColour[Finish / Colour],0)),\"\"),\"\")","v":""},null,{"$f":"IF(AND(ISBLANK(BD145),ISBLANK(C145)),\"HIDE\",_xlfn.SWITCH(PRODUCT(C145:Z145,B145),2,\"HEADING\",1,\"SHOW\",0,\"HIDE\"))","v":"HIDE"},null,"LENGTH","GL",null,{"$f":"_xlfn.IFNA(SUBSTITUTE(IF(AR145=\"AU\",SUBSTITUTE(BF145,\"xxx\",AW145),SUBSTITUTE(SUBSTITUTE(BF145,\"xx\",AW145),\"x\",\"\")),\"LLL\",\"300\"),BF145)","v":"SB91-1015-050200"},null,"SB91-1015-050200","Rectangular Ballast - 20 x 5mm - 0.8kg/m - Wrapped (2m Length)",2,{"$f":"IF(ISBLANK(BP145),\"\",IF(OR(BP145=L_Units),\"Y\",\"N\"))","v":{"$error":"#N/A"}},"Ballast",{"$f":"IFERROR(IF(BI145=\"Y\",((INDEX(T_Deduc[Deduction],MATCH(BJ145,T_Deduc[Type],0),0))),\"\"),\"\")","v":""},"o_widthmm",{"$f":"IFERROR(IF(BI145=\"Y\",IF(o_Widthmm>(2000+BK145),2000,INDIRECT(BL145)-BK145),\"\"),\"\")","v":""},"","",{"$f":"INDEX(T_UnitSelection[Units],MATCH(i_Units,T_UnitSelection[UnitSelection],0))","v":{"$error":"#N/A"}},{"$f":"IFERROR(IF(ISBLANK(BD145),\"\",INDEX(T_NAV_AU[Unit of Measure],MATCH(BD145,T_NAV_AU[No.],0))),\"\")","v":"LENGTH"},"METRE",null,"HW",1,1,1,{"$f":"IFERROR(INDEX(INDIRECT(\"T_NAV_\"&i_Location&\"[\"&i_Location&\"]\"),MATCH(1,--(BD145=INDIRECT(\"T_NAV_\"&i_Location&\"[No.]\"))*--((INDIRECT(\"T_NAV_\"&i_Location&\"[\"&i_Location&\"]\"))<>\"\"),0))/IF(AND(BR145=\"METRE\",BH145<>\"\",BS145=\"\"),BH145,1),\"\")","v":""},{"$f":"IFERROR(IF(AND(AY145=\"SHOW\",BX145<>\"\"),BX145*BW145*IF(AND(BN145<>\"\",OR(BQ145=\"LENGTH\",BQ145=\"METRE\",BQ145=\"ROLL\")),(BM145/1000),1),\"\"),\"\")","v":""},"","",null,null,{"$f":"IFERROR(IF(AY145=\"SHOW\",IF(AND(OR(BQ145=\"ROLL\",BQ145=\"LENGTH\"),BW145>0),ROUNDUP(BW145/CJ145/#REF!,0)*#REF!,IF(BQ145=\"METRE\",#REF!*ROUNDUP(((BW145*BM145)/1000)/#REF!,0),#REF!*ROUNDUP(BW145/#REF!,0))),\"\"),\"\")","v":""},"",{"$f":"IFERROR(IF(AY145=\"SHOW\",CH145*CD145*(1-(INDIRECT(\"i_\"&BT145&\"discount\"))),\"\"),\"\")","v":""},null,{"$f":"IFERROR(INDEX(INDIRECT(\"T_NAV_\"&i_Location&\"[\"&i_Location&\"]\"),MATCH(1,--(BD145=INDIRECT(\"T_NAV_\"&i_Location&\"[No.]\"))*--((INDIRECT(\"T_NAV_\"&i_Location&\"[\"&i_Location&\"]\"))<>\"\"),0)),\"\")","v":""},null,{"$f":"IFERROR(IF(ISBLANK(BU145),\"\",IF(OR(BQ145=\"ROLL\",BQ145=\"LENGTH\"),ROUNDDOWN((BH145*1000)/(BM145+CutTol),0),PRODUCT(#REF!,BU145))),\"\")","v":""}]
[null,null,null,null,"",null,"",null,"",null,"","20 x 5 mm",0,null,{"$f":"IF(BM146=0,0,1)","v":1},null,"",null,null,null,null,null,null,null,null,null,null,null,1,null,{"$f":"IFERROR(IF(AND(AA146=\"Y\",PRODUCT(AB146:AD146)=0),o_nScreens,IF(PRODUCT(AB146:AD146)=0,\"\",PRODUCT(AB146:AD146))),\"\")","v":1},null,null,null,"White",null,null,null,null,null,null,null,null,"AU","",0,null,"",{"$f":"IF(ISNUMBER(FIND(\"x\",BF146)),IFERROR(INDEX(INDIRECT(\"T_FinishColour[ColourCode-\"&IF(ISNUMBER(FIND(\"xxx\",BF146)),\"xxx\",IF(ISNUMBER(FIND(\"xx\",BF146)),\"xx\",\"error\"))&AR146&\"]\"),MATCH(AV146,T_FinishColour[Finish / Colour],0)),\"\"),\"\")","v":""},null,{"$f":"IF(AND(ISBLANK(BD146),ISBLANK(C146)),\"HIDE\",_xlfn.SWITCH(PRODUCT(C146:Z146,B146),2,\"HEADING\",1,\"SHOW\",0,\"HIDE\"))","v":"HIDE"},null,"LENGTH","GL",null,{"$f":"BD145","v":"SB91-1015-050200"},null,"SB91-1015-050200",{"$f":"BG145","v":"Rectangular Ballast - 20 x 5mm - 0.8kg/m - Wrapped (2m Length)"},2,{"$f":"IF(ISBLANK(BP146),\"\",IF(OR(BP146=L_Units),\"Y\",\"N\"))","v":{"$error":"#N/A"}},"Ballast",{"$f":"IFERROR(IF(BI146=\"Y\",((INDEX(T_Deduc[Deduction],MATCH(BJ146,T_Deduc[Type],0),0))),\"\"),\"\")","v":""},"o_widthmm",{"$f":"IFERROR(IF(BI146=\"Y\",IF(o_Widthmm-2000>(2000+BK146),2000,INDIRECT(BL146)-BM145-BK146),\"\"),\"\")","v":""},{"$f":"IFERROR(IF(BI146=\"Y\",BM146,\"\"),\"\")","v":""},"",{"$f":"INDEX(T_UnitSelection[Units],MATCH(i_Units,T_UnitSelection[UnitSelection],0))","v":{"$error":"#N/A"}},{"$f":"IFERROR(IF(ISBLANK(BD146),\"\",INDEX(T_NAV_AU[Unit of Measure],MATCH(BD146,T_NAV_AU[No.],0))),\"\")","v":"LENGTH"},"METRE",null,"HW",1,1,1,{"$f":"IFERROR(INDEX(INDIRECT(\"T_NAV_\"&i_Location&\"[\"&i_Location&\"]\"),MATCH(1,--(BD146=INDIRECT(\"T_NAV_\"&i_Location&\"[No.]\"))*--((INDIRECT(\"T_NAV_\"&i_Location&\"[\"&i_Location&\"]\"))<>\"\"),0))/IF(AND(BR146=\"METRE\",BH146<>\"\",BS146=\"\"),BH146,1),\"\")","v":""},"","","",null,null,{"$f":"IFERROR(IF(AY146=\"SHOW\",IF(AND(OR(BQ146=\"ROLL\",BQ146=\"LENGTH\"),BW146>0),ROUNDUP(BW146/CJ146/#REF!,0)*#REF!,IF(BQ146=\"METRE\",#REF!*ROUNDUP(((BW146*BM146)/1000)/#REF!,0),#REF!*ROUNDUP(BW146/#REF!,0))),\"\"),\"\")","v":""},"","",null,{"$f":"IFERROR(INDEX(INDIRECT(\"T_NAV_\"&i_Location&\"[\"&i_Location&\"]\"),MATCH(1,--(BD146=INDIRECT(\"T_NAV_\"&i_Location&\"[No.]\"))*--((INDIRECT(\"T_NAV_\"&i_Location&\"[\"&i_Location&\"]\"))<>\"\"),0)),\"\")","v":""},null,{"$f":"IFERROR(IF(ISBLANK(BU146),\"\",IF(OR(BQ146=\"ROLL\",BQ146=\"LENGTH\"),ROUNDDOWN((BH146*1000)/(BM146+CutTol),0),PRODUCT(#REF!,BU146))),\"\")","v":""}]
[null,null,null,null,"",null,"",null,"",null,"","25 x 8 mm",0,null,null,null,"",null,null,null,null,null,null,null,null,null,null,null,1,null,{"$f":"IFERROR(IF(AND(AA147=\"Y\",PRODUCT(AB147:AD147)=0),o_nScreens,IF(PRODUCT(AB147:AD147)=0,\"\",PRODUCT(AB147:AD147))),\"\")","v":1},null,null,null,"White",null,null,null,null,null,null,null,null,"AU","",0,null,"",{"$f":"IF(ISNUMBER(FIND(\"x\",BF147)),IFERROR(INDEX(INDIRECT(\"T_FinishColour[ColourCode-\"&IF(ISNUMBER(FIND(\"xxx\",BF147)),\"xxx\",IF(ISNUMBER(FIND(\"xx\",BF147)),\"xx\",\"error\"))&AR147&\"]\"),MATCH(AV147,T_FinishColour[Finish / Colour],0)),\"\"),\"\")","v":""},null,{"$f":"IF(AND(ISBLANK(BD147),ISBLANK(C147)),\"HIDE\",_xlfn.SWITCH(PRODUCT(C147:Z147,B147),2,\"HEADING\",1,\"SHOW\",0,\"HIDE\"))","v":"HIDE"},null,"LENGTH","GL",null,{"$f":"_xlfn.IFNA(SUBSTITUTE(IF(AR147=\"AU\",SUBSTITUTE(BF147,\"xxx\",AW147),SUBSTITUTE(SUBSTITUTE(BF147,\"xx\",AW147),\"x\",\"\")),\"LLL\",\"200\"),BF147)","v":"SB91-1018-050200"},null,"SB91-1018-050200","Rectangular Ballast - 25 x 8mm - 1.6kg/m - Wrapped (2m Length)",2,{"$f":"IF(ISBLANK(BP147),\"\",IF(OR(BP147=L_Units),\"Y\",\"N\"))","v":{"$error":"#N/A"}},"Ballast",{"$f":"IFERROR(IF(BI147=\"Y\",((INDEX(T_Deduc[Deduction],MATCH(BJ147,T_Deduc[Type],0),0))),\"\"),\"\")","v":""},"o_widthmm",{"$f":"IFERROR(IF(BI147=\"Y\",IF(o_Widthmm>(2000+BK147),2000,INDIRECT(BL147)-BK147),\"\"),\"\")","v":""},"","",{"$f":"INDEX(T_UnitSelection[Units],MATCH(i_Units,T_UnitSelection[UnitSelection],0))","v":{"$error":"#N/A"}},{"$f":"IFERROR(IF(ISBLANK(BD147),\"\",INDEX(T_NAV_AU[Unit of Measure],MATCH(BD147,T_NAV_AU[No.],0))),\"\")","v":"LENGTH"},"METRE",null,"HW",1,1,1,{"$f":"IFERROR(INDEX(INDIRECT(\"T_NAV_\"&i_Location&\"[\"&i_Location&\"]\"),MATCH(1,--(BD147=INDIRECT(\"T_NAV_\"&i_Location&\"[No.]\"))*--((INDIRECT(\"T_NAV_\"&i_Location&\"[\"&i_Location&\"]\"))<>\"\"),0))/IF(AND(BR147=\"METRE\",BH147<>\"\",BS147=\"\"),BH147,1),\"\")","v":""},"","",{"$f":"IFERROR(IF(BY147<>\"\",BY147-BZ147,\"\"),\"\")","v":""},null,null,{"$f":"IFERROR(IF(AY147=\"SHOW\",IF(AND(OR(BQ147=\"ROLL\",BQ147=\"LENGTH\"),BW147>0),ROUNDUP(BW147/CJ147/#REF!,0)*#REF!,IF(BQ147=\"METRE\",#REF!*ROUNDUP(((BW147*BM147)/1000)/#REF!,0),#REF!*ROUNDUP(BW147/#REF!,0))),\"\"),\"\")","v":""},"","",null,{"$f":"IFERROR(INDEX(INDIRECT(\"T_NAV_\"&i_Location&\"[\"&i_Location&\"]\"),MATCH(1,--(BD147=INDIRECT(\"T_NAV_\"&i_Location&\"[No.]\"))*--((INDIRECT(\"T_NAV_\"&i_Location&\"[\"&i_Location&\"]\"))<>\"\"),0)),\"\")","v":""},null,{"$f":"IFERROR(IF(ISBLANK(BU147),\"\",IF(OR(BQ147=\"ROLL\",BQ147=\"LENGTH\"),ROUNDDOWN((BH147*1000)/(BM147+CutTol),0),PRODUCT(AE140,BU147))),\"\")","v":""}]
[null,null,null,null,"",null,"",null,"",null,"","25 x 8 mm",0,null,{"$f":"IF(BM148=0,0,1)","v":1},null,"",null,null,null,null,null,null,null,null,null,null,null,1,null,{"$f":"IFERROR(IF(AND(AA148=\"Y\",PRODUCT(AB148:AD148)=0),o_nScreens,IF(PRODUCT(AB148:AD148)=0,\"\",PRODUCT(AB148:AD148))),\"\")","v":1},null,null,null,"White",null,null,null,null,null,null,null,null,"AU","",0,null,"",{"$f":"IF(ISNUMBER(FIND(\"x\",BF148)),IFERROR(INDEX(INDIRECT(\"T_FinishColour[ColourCode-\"&IF(ISNUMBER(FIND(\"xxx\",BF148)),\"xxx\",IF(ISNUMBER(FIND(\"xx\",BF148)),\"xx\",\"error\"))&AR148&\"]\"),MATCH(AV148,T_FinishColour[Finish / Colour],0)),\"\"),\"\")","v":""},null,{"$f":"IF(AND(ISBLANK(BD148),ISBLANK(C148)),\"HIDE\",_xlfn.SWITCH(PRODUCT(C148:Z148,B148),2,\"HEADING\",1,\"SHOW\",0,\"HIDE\"))","v":"HIDE"},null,"LENGTH","GL",null,{"$f":"BD147","v":"SB91-1018-050200"},null,{"$f":"BF147","v":"SB91-1018-050200"},{"$f":"BG147","v":"Rectangular Ballast - 25 x 8mm - 1.6kg/m - Wrapped (2m Length)"},2,{"$f":"IF(ISBLANK(BP148),\"\",IF(OR(BP148=L_Units),\"Y\",\"N\"))","v":{"$error":"#N/A"}},"Ballast",{"$f":"IFERROR(IF(BI148=\"Y\",((INDEX(T_Deduc[Deduction],MATCH(BJ148,T_Deduc[Type],0),0))),\"\"),\"\")","v":""},"o_widthmm",{"$f":"IFERROR(IF(BI148=\"Y\",IF(o_Widthmm-2000>(2000+BK148),2000,INDIRECT(BL148)-BM147-BK148),\"\"),\"\")","v":""},{"$f":"IFERROR(IF(BI148=\"Y\",BM148,\"\"),\"\")","v":""},{"$f":"IFERROR(IF(BI148=\"Y\",TEXT(BM148/25.4,\"0\"&IF(ABS(BM148/25.4-ROUND(BM148/25.4,0))>1/32,\"-0/\"&CHOOSE(ROUND(MOD(BM148/25.4,1)*16,0),16,8,16,4,16,8,16,2,16,8,16,4,16,8,16),\"\")),\"\"),\"\")","v":""},{"$f":"INDEX(T_UnitSelection[Units],MATCH(i_Units,T_UnitSelection[UnitSelection],0))","v":{"$error":"#N/A"}},{"$f":"IFERROR(IF(ISBLANK(BD148),\"\",INDEX(T_NAV_AU[Unit of Measure],MATCH(BD148,T_NAV_AU[No.],0))),\"\")","v":"LENGTH"},"METRE",null,"HW",1,1,1,{"$f":"IFERROR(INDEX(INDIRECT(\"T_NAV_\"&i_Location&\"[\"&i_Location&\"]\"),MATCH(1,--(BD148=INDIRECT(\"T_NAV_\"&i_Location&\"[No.]\"))*--((INDIRECT(\"T_NAV_\"&i_Location&\"[\"&i_Location&\"]\"))<>\"\"),0))/IF(AND(BR148=\"METRE\",BH148<>\"\",BS148=\"\"),BH148,1),\"\")","v":""},"","","",null,null,{"$f":"IFERROR(IF(AY148=\"SHOW\",IF(AND(OR(BQ148=\"ROLL\",BQ148=\"LENGTH\"),BW148>0),ROUNDUP(BW148/CJ148/#REF!,0)*#REF!,IF(BQ148=\"METRE\",#REF!*ROUNDUP(((BW148*BM148)/1000)/#REF!,0),#REF!*ROUNDUP(BW148/#REF!,0))),\"\"),\"\")","v":""},"","",null,{"$f":"IFERROR(INDEX(INDIRECT(\"T_NAV_\"&i_Location&\"[\"&i_Location&\"]\"),MATCH(1,--(BD148=INDIRECT(\"T_NAV_\"&i_Location&\"[No.]\"))*--((INDIRECT(\"T_NAV_\"&i_Location&\"[\"&i_Location&\"]\"))<>\"\"),0)),\"\")","v":""},null,{"$f":"IFERROR(IF(ISBLANK(BU148),\"\",IF(OR(BQ148=\"ROLL\",BQ148=\"LENGTH\"),ROUNDDOWN((BH148*1000)/(BM148+CutTol),0),PRODUCT(AE141,BU148))),\"\")","v":""}]
[null,null,null,null,"","Pivot",0,null,"",null,"",null,"",null,null,null,"",null,null,null,null,null,null,null,null,null,null,null,null,null,{"$f":"IFERROR(IF(AND(AA149=\"Y\",PRODUCT(AB149:AD149)=0),o_nScreens,IF(PRODUCT(AB149:AD149)=0,\"\",PRODUCT(AB149:AD149))),\"\")","v":""},null,null,null,"White","Mill",null,null,null,null,null,null,null,"AU","White",0,null,"White",{"$f":"IF(ISNUMBER(FIND(\"x\",BF149)),IFERROR(INDEX(INDIRECT(\"T_FinishColour[ColourCode-\"&IF(ISNUMBER(FIND(\"xxx\",BF149)),\"xxx\",IF(ISNUMBER(FIND(\"xx\",BF149)),\"xx\",\"error\"))&AR149&\"]\"),MATCH(AV149,T_FinishColour[Finish / Colour],0)),\"\"),\"\")","v":"069"},null,{"$f":"IF(AND(ISBLANK(BD149),ISBLANK(C149)),\"HIDE\",_xlfn.SWITCH(PRODUCT(C149:Z149,B149),2,\"HEADING\",1,\"SHOW\",0,\"HIDE\"))","v":"HIDE"},null,"LENGTH","GL",null,{"$f":"_xlfn.IFNA(SUBSTITUTE(IF(AR149=\"AU\",SUBSTITUTE(BF149,\"xxx\",AW149),SUBSTITUTE(SUBSTITUTE(BF149,\"xx\",AW149),\"x\",\"\")),\"LLL\",\"500\"),BF149)","v":"RE29-0102-069500"},null,"RE29-0102-xxxLLL","Pivot Arm Terminal Bar",5,{"$f":"IF(ISBLANK(BP149),\"\",IF(OR(BP149=L_Units),\"Y\",\"N\"))","v":{"$error":"#N/A"}},"Fabric",{"$f":"IFERROR(IF(BI149=\"Y\",((INDEX(T_Deduc[Deduction],MATCH(BJ149,T_Deduc[Type],0),0))),\"\"),\"\")","v":""},"o_widthmm",{"$f":"IFERROR(IF(BI149=\"Y\",INDIRECT(BL149)-BK149,\"\"),\"\")","v":""},"","",{"$f":"INDEX(T_UnitSelection[Units],MATCH(i_Units,T_UnitSelection[UnitSelection],0))","v":{"$error":"#N/A"}},{"$f":"IFERROR(IF(ISBLANK(BD149),\"\",INDEX(T_NAV_AU[Unit of Measure],MATCH(BD149,T_NAV_AU[No.],0))),\"\")","v":"LENGTH"},"METRE",null,"HW",1,1,1,{"$f":"IFERROR(INDEX(INDIRECT(\"T_NAV_\"&i_Location&\"[\"&i_Location&\"]\"),MATCH(1,--(BD149=INDIRECT(\"T_NAV_\"&i_Location&\"[No.]\"))*--((INDIRECT(\"T_NAV_\"&i_Location&\"[\"&i_Location&\"]\"))<>\"\"),0))/IF(AND(BR149=\"METRE\",BH149<>\"\",BS149=\"\"),BH149,1),\"\")","v":""},"","","",null,null,{"$f":"IFERROR(IF(AY149=\"SHOW\",IF(AND(OR(BQ149=\"ROLL\",BQ149=\"LENGTH\"),BW149>0),ROUNDUP(BW149/CJ149/#REF!,0)*#REF!,IF(BQ149=\"METRE\",#REF!*ROUNDUP(((BW149*BM149)/1000)/#REF!,0),#REF!*ROUNDUP(BW149/#REF!,0))),\"\"),\"\")","v":""},"","",null,{"$f":"IFERROR(INDEX(INDIRECT(\"T_NAV_\"&i_Location&\"[\"&i_Location&\"]\"),MATCH(1,--(BD149=INDIRECT(\"T_NAV_\"&i_Location&\"[No.]\"))*--((INDIRECT(\"T_NAV_\"&i_Location&\"[\"&i_Location&\"]\"))<>\"\"),0)),\"\")","v":""},null,{"$f":"IFERROR(IF(ISBLANK(BU149),\"\",IF(OR(BQ149=\"ROLL\",BQ149=\"LENGTH\"),ROUNDDOWN((BH149*1000)/(BM149+CutTol),0),PRODUCT(AE143,BU149))),\"\")","v":""}]
[null,null,null,null,null,"Pivot",0,null,"",null,"",null,"",null,null,null,"",null,null,null,null,null,{"$f":"IFERROR(IF(ISBLANK(V150),\"\",IF(FIND(V150,INDIRECT($V$124))>0,1,0)),0)","v":""},null,null,null,null,null,null,null,{"$f":"IFERROR(IF(AND(AA150=\"Y\",PRODUCT(AB150:AD150)=0),o_nScreens,IF(PRODUCT(AB150:AD150)=0,\"\",PRODUCT(AB150:AD150))),\"\")","v":""},null,null,null,"White","Black",null,null,null,null,null,null,null,"AU","White",0,null,"White","064",null,{"$f":"IF(AND(ISBLANK(BD150),ISBLANK(C150)),\"HIDE\",_xlfn.SWITCH(PRODUCT(C150:Z150,B150),2,\"HEADING\",1,\"SHOW\",0,\"HIDE\"))","v":"HIDE"},null,"PICK","GL",null,{"$f":"_xlfn.IFNA(SUBSTITUTE(IF(AR150=\"AU\",SUBSTITUTE(BF150,\"xxx\",AW150),SUBSTITUTE(SUBSTITUTE(BF150,\"xx\",AW150),\"x\",\"\")),\"LLL\",\"580\"),BF150)","v":"AW05-0801-064000"},null,"AW05-0801-xxx000","Pivot Arm Cover Cap for Terminal Bar",null,{"$f":"IF(ISBLANK(BP150),\"\",IF(OR(BP150=L_Units),\"Y\",\"N\"))","v":"N"},null,{"$f":"IFERROR(IF(BI150=\"Y\",((INDEX(T_Deduc[Deduction],MATCH(BJ150,T_Deduc[Type],0),0))),\"\"),\"\")","v":""},null,"","","","Set",{"$f":"IFERROR(IF(ISBLANK(BD150),\"\",INDEX(T_NAV_AU[Unit of Measure],MATCH(BD150,T_NAV_AU[No.],0))),\"\")","v":"KIT"},null,null,"HW",1,1,1,{"$f":"IFERROR(INDEX(INDIRECT(\"T_NAV_\"&i_Location&\"[\"&i_Location&\"]\"),MATCH(1,--(BD150=INDIRECT(\"T_NAV_\"&i_Location&\"[No.]\"))*--((INDIRECT(\"T_NAV_\"&i_Location&\"[\"&i_Location&\"]\"))<>\"\"),0))/IF(AND(BR150=\"METRE\",BH150<>\"\",BS150=\"\"),BH150,1),\"\")","v":""},"","","",null,null,{"$f":"IFERROR(IF(AY150=\"SHOW\",IF(AND(OR(BQ150=\"ROLL\",BQ150=\"LENGTH\"),BW150>0),ROUNDUP(BW150/CJ150/#REF!,0)*#REF!,IF(BQ150=\"METRE\",#REF!*ROUNDUP(((BW150*BM150)/1000)/#REF!,0),#REF!*ROUNDUP(BW150/#REF!,0))),\"\"),\"\")","v":""},"","",null,{"$f":"IFERROR(INDEX(INDIRECT(\"T_NAV_\"&i_Location&\"[\"&i_Location&\"]\"),MATCH(1,--(BD150=INDIRECT(\"T_NAV_\"&i_Location&\"[No.]\"))*--((INDIRECT(\"T_NAV_\"&i_Location&\"[\"&i_Location&\"]\"))<>\"\"),0)),\"\")","v":""},null,{"$f":"IFERROR(IF(ISBLANK(BU150),\"\",IF(OR(BQ150=\"ROLL\",BQ150=\"LENGTH\"),ROUNDDOWN((BH150*1000)/(BM150+CutTol),0),PRODUCT(AE144,BU150))),\"\")","v":1}]
[null,null,null,null,null,null,null,null,null,null,null,null,null,null,null,"SB07",0,null,null,null,null,null,null,null,null,null,null,null,null,null,{"$f":"IFERROR(IF(AND(AA151=\"Y\",PRODUCT(AB151:AD151)=0),o_nScreens,IF(PRODUCT(AB151:AD151)=0,\"\",PRODUCT(AB151:AD151))),\"\")","v":""},null,null,null,null,null,null,null,null,null,null,null,null,"AU","",{"$f":"i_Finish","v":0},null,"",{"$f":"IF(ISNUMBER(FIND(\"x\",BF151)),IFERROR(INDEX(INDIRECT(\"T_FinishColour[ColourCode-\"&IF(ISNUMBER(FIND(\"xxx\",BF151)),\"xxx\",IF(ISNUMBER(FIND(\"xx\",BF151)),\"xx\",\"error\"))&AR151&\"]\"),MATCH(AV151,T_FinishColour[Finish / Colour],0)),\"\"),\"\")","v":""},null,{"$f":"IF(AND(ISBLANK(BD151),ISBLANK(C151)),\"HIDE\",_xlfn.SWITCH(PRODUCT(C151:Z151,B151),2,\"HEADING\",1,\"SHOW\",0,\"HIDE\"))","v":"HIDE"},null,{"$f":"IF(BQ151=\"LENGTH\",\"LENGTH\",\"PICK\")","v":"PICK"},"GL",null,{"$f":"_xlfn.IFNA(SUBSTITUTE(IF(AR151=\"AU\",SUBSTITUTE(BF151,\"xxx\",AW151),SUBSTITUTE(SUBSTITUTE(BF151,\"xx\",AW151),\"x\",\"\")),\"LLL\",BH151*100),BF151)","v":"SB07-2103-050001"},null,"SB07-2103-050001","SB07 Bolt Lock Set",null,{"$f":"IF(ISBLANK(BP151),\"\",IF(OR(BP151=L_Units),\"Y\",\"N\"))","v":"N"},null,{"$f":"IFERROR(IF(BI151=\"Y\",((INDEX(T_Deduc[Deduction],MATCH(BJ151,T_Deduc[Type],0),0))),\"\"),\"\")","v":""},null,{"$f":"IFERROR(IF(BI151=\"Y\",INDIRECT(BL151)-BK151,\"\"),\"\")","v":""},{"$f":"IFERROR(IF(BI151=\"Y\",BM151,\"\"),\"\")","v":""},{"$f":"IFERROR(IF(BI151=\"Y\",TEXT(BM151/25.4,\"0\"&IF(ABS(BM151/25.4-ROUND(BM151/25.4,0))>1/32,\"-0/\"&CHOOSE(ROUND(MOD(BM151/25.4,1)*16,0),16,8,16,4,16,8,16,2,16,8,16,4,16,8,16),\"\")),\"\"),\"\")","v":""},"Set",{"$f":"IFERROR(IF(ISBLANK(BD151),\"\",INDEX(T_NAV_AU[Unit of Measure],MATCH(BD151,T_NAV_AU[No.],0))),\"\")","v":"SET"},null,null,"HW",2,2,2,{"$f":"IFERROR(INDEX(INDIRECT(\"T_NAV_\"&i_Location&\"[\"&i_Location&\"]\"),MATCH(1,--(BD151=INDIRECT(\"T_NAV_\"&i_Location&\"[No.]\"))*--((INDIRECT(\"T_NAV_\"&i_Location&\"[\"&i_Location&\"]\"))<>\"\"),0))/IF(AND(BR151=\"METRE\",BH151<>\"\",BS151=\"\"),BH151,1),\"\")","v":""},"",{"$f":"IF(BY151<>\"\",(INDIRECT(\"i_\"&BT151&\"discount\"))*BY151,\"\")","v":""},{"$f":"IFERROR(IF(BY151<>\"\",BY151-BZ151,\"\"),\"\")","v":""},null,null,{"$f":"IFERROR(IF(AY151=\"SHOW\",IF(AND(OR(BQ151=\"ROLL\",BQ151=\"LENGTH\"),BW151>0),ROUNDUP(BW151/CJ151/#REF!,0)*#REF!,IF(BQ151=\"METRE\",#REF!*ROUNDUP(((BW151*BM151)/1000)/#REF!,0),#REF!*ROUNDUP(BW151/#REF!,0))),\"\"),\"\")","v":""},{"$f":"IF(CD151<>\"\",CD151&\"x \"&BQ151&IF(CD151>1,\"S\",\"\"),\"\")","v":""},"",null,{"$f":"IFERROR(INDEX(INDIRECT(\"T_NAV_\"&i_Location&\"[\"&i_Location&\"]\"),MATCH(1,--(BD151=INDIRECT(\"T_NAV_\"&i_Location&\"[No.]\"))*--((INDIRECT(\"T_NAV_\"&i_Location&\"[\"&i_Location&\"]\"))<>\"\"),0)),\"\")","v":""},null,{"$f":"IFERROR(IF(ISBLANK(BU151),\"\",IF(OR(BQ151=\"ROLL\",BQ151=\"LENGTH\"),ROUNDDOWN((BH151*1000)/(BM151+CutTol),0),PRODUCT(AE145,BU151))),\"\")","v":2}]
[null,null,null,null,null,null,null,null,null,null,null,null,null,null,null,"Zipscreen",0,null,null,null,null,null,null,null,null,null,null,null,null,null,{"$f":"IFERROR(IF(AND(AA152=\"Y\",PRODUCT(AB152:AD152)=0),o_nScreens,IF(PRODUCT(AB152:AD152)=0,\"\",PRODUCT(AB152:AD152))),\"\")","v":""},null,null,null,null,null,null,null,null,null,null,null,null,"AU","",null,null,"",{"$f":"IF(ISNUMBER(FIND(\"x\",BF152)),IFERROR(INDEX(INDIRECT(\"T_FinishColour[ColourCode-\"&IF(ISNUMBER(FIND(\"xxx\",BF152)),\"xxx\",IF(ISNUMBER(FIND(\"xx\",BF152)),\"xx\",\"error\"))&AR152&\"]\"),MATCH(AV152,T_FinishColour[Finish / Colour],0)),\"\"),\"\")","v":""},null,{"$f":"IF(AND(ISBLANK(BD152),ISBLANK(C152)),\"HIDE\",_xlfn.SWITCH(PRODUCT(C152:Z152,B152),2,\"HEADING\",1,\"SHOW\",0,\"HIDE\"))","v":"HIDE"},null,{"$f":"IF(BQ152=\"LENGTH\",\"LENGTH\",\"PICK\")","v":"PICK"},"GL",null,{"$f":"_xlfn.IFNA(SUBSTITUTE(IF(AR152=\"AU\",SUBSTITUTE(BF152,\"xxx\",AW152),SUBSTITUTE(SUBSTITUTE(BF152,\"xx\",AW152),\"x\",\"\")),\"LLL\",\"580\"),BF152)","v":"RE15-0422-050001"},null,"RE15-0422-050001","Zipscreen Ultra-Lock Set V2",null,{"$f":"IF(ISBLANK(BP152),\"\",IF(OR(BP152=L_Units),\"Y\",\"N\"))","v":"N"},null,{"$f":"IFERROR(IF(BI152=\"Y\",((INDEX(T_Deduc[Deduction],MATCH(BJ152,T_Deduc[Type],0),0))),\"\"),\"\")","v":""},null,{"$f":"IFERROR(IF(BI152=\"Y\",INDIRECT(BL152)-BK152,\"\"),\"\")","v":""},{"$f":"IFERROR(IF(BI152=\"Y\",BM152,\"\"),\"\")","v":""},{"$f":"IFERROR(IF(BI152=\"Y\",TEXT(BM152/25.4,\"0\"&IF(ABS(BM152/25.4-ROUND(BM152/25.4,0))>1/32,\"-0/\"&CHOOSE(ROUND(MOD(BM152/25.4,1)*16,0),16,8,16,4,16,8,16,2,16,8,16,4,16,8,16),\"\")),\"\"),\"\")","v":""},"Set",{"$f":"IFERROR(IF(ISBLANK(BD152),\"\",INDEX(T_NAV_AU[Unit of Measure],MATCH(BD152,T_NAV_AU[No.],0))),\"\")","v":"KIT"},null,null,"HW",1,1,1,{"$f":"IFERROR(INDEX(INDIRECT(\"T_NAV_\"&i_Location&\"[\"&i_Location&\"]\"),MATCH(1,--(BD152=INDIRECT(\"T_NAV_\"&i_Location&\"[No.]\"))*--((INDIRECT(\"T_NAV_\"&i_Location&\"[\"&i_Location&\"]\"))<>\"\"),0))/IF(AND(BR152=\"METRE\",BH152<>\"\",BS152=\"\"),BH152,1),\"\")","v":""},"",{"$f":"IF(BY152<>\"\",(INDIRECT(\"i_\"&BT152&\"discount\"))*BY152,\"\")","v":""},{"$f":"IFERROR(IF(BY152<>\"\",BY152-BZ152,\"\"),\"\")","v":""},null,null,{"$f":"IFERROR(IF(AY152=\"SHOW\",IF(AND(OR(BQ152=\"ROLL\",BQ152=\"LENGTH\"),BW152>0),ROUNDUP(BW152/CJ152/#REF!,0)*#REF!,IF(BQ152=\"METRE\",#REF!*ROUNDUP(((BW152*BM152)/1000)/#REF!,0),#REF!*ROUNDUP(BW152/#REF!,0))),\"\"),\"\")","v":""},{"$f":"IF(CD152<>\"\",CD152&\"x \"&BQ152&IF(CD152>1,\"S\",\"\"),\"\")","v":""},"",null,{"$f":"IFERROR(INDEX(INDIRECT(\"T_NAV_\"&i_Location&\"[\"&i_Location&\"]\"),MATCH(1,--(BD152=INDIRECT(\"T_NAV_\"&i_Location&\"[No.]\"))*--((INDIRECT(\"T_NAV_\"&i_Location&\"[\"&i_Location&\"]\"))<>\"\"),0)),\"\")","v":""},null,{"$f":"IFERROR(IF(ISBLANK(BU152),\"\",IF(OR(BQ152=\"ROLL\",BQ152=\"LENGTH\"),ROUNDDOWN((BH152*1000)/(BM152+CutTol),0),PRODUCT(AE146,BU152))),\"\")","v":1}]
[null,2,1,null,null,null,null,null,null,null,null,null,null,null,null,null,null,null,null,null,null,null,null,null,null,null,null,null,null,null,{"$f":"IFERROR(IF(AND(AA153=\"Y\",PRODUCT(AB153:AD153)=0),o_nScreens,IF(PRODUCT(AB153:AD153)=0,\"\",PRODUCT(AB153:AD153))),\"\")","v":""},null,null,null,null,null,null,null,null,null,null,null,null,null,"",null,null,"",{"$f":"IF(ISNUMBER(FIND(\"x\",BF153)),IFERROR(INDEX(INDIRECT(\"T_FinishColour[ColourCode-\"&IF(ISNUMBER(FIND(\"xxx\",BF153)),\"xxx\",IF(ISNUMBER(FIND(\"xx\",BF153)),\"xx\",\"error\"))&AR153&\"]\"),MATCH(AV153,T_FinishColour[Finish / Colour],0)),\"\"),\"\")","v":""},null,{"$f":"IF(AND(ISBLANK(BD153),ISBLANK(C153)),\"HIDE\",_xlfn.SWITCH(PRODUCT(C153:Z153,B153),2,\"HEADING\",1,\"SHOW\",0,\"HIDE\"))","v":"HEADING"},null,null,null,null,"",null,null,null,null,{"$f":"IF(ISBLANK(BP153),\"\",IF(OR(BP153=L_Units),\"Y\",\"N\"))","v":""},null,{"$f":"IFERROR(IF(BI153=\"Y\",((INDEX(T_Deduc[Deduction],MATCH(BJ153,T_Deduc[Type],0),0))),\"\"),\"\")","v":""},null,"","","",null,{"$f":"IFERROR(IF(ISBLANK(BD153),\"\",INDEX(T_NAV_AU[Unit of Measure],MATCH(BD153,T_NAV_AU[No.],0))),\"\")","v":""},null,null,null,null,"","",{"$f":"IFERROR(INDEX(INDIRECT(\"T_NAV_\"&i_Location&\"[\"&i_Location&\"]\"),MATCH(1,--(BD153=INDIRECT(\"T_NAV_\"&i_Location&\"[No.]\"))*--((INDIRECT(\"T_NAV_\"&i_Location&\"[\"&i_Location&\"]\"))<>\"\"),0))/IF(AND(BR153=\"METRE\",BH153<>\"\",BS153=\"\"),BH153,1),\"\")","v":""},"","","",null,null,{"$f":"IFERROR(IF(AY153=\"SHOW\",IF(AND(OR(BQ153=\"ROLL\",BQ153=\"LENGTH\"),BW153>0),ROUNDUP(BW153/CJ153/#REF!,0)*#REF!,IF(BQ153=\"METRE\",#REF!*ROUNDUP(((BW153*BM153)/1000)/#REF!,0),#REF!*ROUNDUP(BW153/#REF!,0))),\"\"),\"\")","v":""},"","",null,{"$f":"IFERROR(INDEX(INDIRECT(\"T_NAV_\"&i_Location&\"[\"&i_Location&\"]\"),MATCH(1,--(BD153=INDIRECT(\"T_NAV_\"&i_Location&\"[No.]\"))*--((INDIRECT(\"T_NAV_\"&i_Location&\"[\"&i_Location&\"]\"))<>\"\"),0)),\"\")","v":""},null,{"$f":"IFERROR(IF(ISBLANK(BU153),\"\",IF(OR(BQ153=\"ROLL\",BQ153=\"LENGTH\"),ROUNDDOWN((BH153*1000)/(BM153+CutTol),0),PRODUCT(AE148,BU153))),\"\")","v":""}]
[null,2,1,"i_Tube",null,"i_SystemType",null,"i_TubeExtras",null,"i_ControlType",null,"i_Location",null,"i_IdlerType",null,null,null,null,null,null,null,null,null,null,null,null,null,null,null,null,{"$f":"IFERROR(IF(AND(AA154=\"Y\",PRODUCT(AB154:AD154)=0),o_nScreens,IF(PRODUCT(AB154:AD154)=0,\"\",PRODUCT(AB154:AD154))),\"\")","v":""},null,null,null,null,null,null,null,null,null,null,null,null,null,"",null,null,"",{"$f":"IF(ISNUMBER(FIND(\"x\",BF154)),IFERROR(INDEX(INDIRECT(\"T_FinishColour[ColourCode-\"&IF(ISNUMBER(FIND(\"xxx\",BF154)),\"xxx\",IF(ISNUMBER(FIND(\"xx\",BF154)),\"xx\",\"error\"))&AR154&\"]\"),MATCH(AV154,T_FinishColour[Finish / Colour],0)),\"\"),\"\")","v":""},null,{"$f":"IF(AND(ISBLANK(BD154),ISBLANK(C154)),\"HIDE\",_xlfn.SWITCH(PRODUCT(C154:Z154,B154),2,\"HEADING\",1,\"SHOW\",0,\"HIDE\"))","v":"HEADING"},null,null,null,null,"TUBE",null,"TUBE",null,null,null,null,{"$f":"IFERROR(IF(BI154=\"Y\",((INDEX(T_Deduc[Deduction],MATCH(BJ154,T_Deduc[Type],0),0))),\"\"),\"\")","v":""},null,"","","",null,{"$f":"IFERROR(IF(ISBLANK(BD154),\"\",INDEX(T_NAV_AU[Unit of Measure],MATCH(BD154,T_NAV_AU[No.],0))),\"\")","v":""},null,null,null,null,null,null,null,"","","",null,null,{"$f":"IFERROR(IF(AY154=\"SHOW\",IF(AND(OR(BQ154=\"ROLL\",BQ154=\"LENGTH\"),BW154>0),ROUNDUP(BW154/CJ154/#REF!,0)*#REF!,IF(BQ154=\"METRE\",#REF!*ROUNDUP(((BW154*BM154)/1000)/#REF!,0),#REF!*ROUNDUP(BW154/#REF!,0))),\"\"),\"\")","v":""},"","",null,{"$f":"IFERROR(INDEX(INDIRECT(\"T_NAV_\"&i_Location&\"[\"&i_Location&\"]\"),MATCH(1,--(BD154=INDIRECT(\"T_NAV_\"&i_Location&\"[No.]\"))*--((INDIRECT(\"T_NAV_\"&i_Location&\"[\"&i_Location&\"]\"))<>\"\"),0)),\"\")","v":""},null,{"$f":"IFERROR(IF(ISBLANK(BU154),\"\",IF(OR(BQ154=\"ROLL\",BQ154=\"LENGTH\"),ROUNDDOWN((BH154*1000)/(BM154+CutTol),0),PRODUCT(#REF!,BU154))),\"\")","v":""}]
[null,null,null,"78 AL STD",{"$f":"IFERROR(IF(ISBLANK(D155),\"\",IF(FIND(D155,INDIRECT($D$154))>0,1,0)),0)","v":0},null,{"$f":"IFERROR(IF(ISBLANK(F155),\"\",IF(FIND(F155,INDIRECT($F$154))>0,1,0)),0)","v":""},null,{"$f":"IFERROR(IF(ISBLANK(H155),\"\",IF(FIND(H155,INDIRECT($H$154))>0,1,0)),0)","v":""},null,{"$f":"IFERROR(IF(ISBLANK(J155),\"\",IF(FIND(J155,INDIRECT($J$154))>0,1,0)),0)","v":""},"AU",{"$f":"IFERROR(IF(ISBLANK(L155),\"\",IF(FIND(L155,INDIRECT($L$154))>0,1,0)),0)","v":0},null,{"$f":"IFERROR(IF(ISBLANK(N155),\"\",IF(FIND(N155,INDIRECT($N$154))>0,1,0)),0)","v":""},null,null,null,null,null,null,null,null,null,null,null,null,null,null,null,{"$f":"IFERROR(IF(AND(AA155=\"Y\",PRODUCT(AB155:AD155)=0),o_nScreens,IF(PRODUCT(AB155:AD155)=0,\"\",PRODUCT(AB155:AD155))),\"\")","v":""},null,null,null,null,null,null,null,null,null,null,null,null,"AU","",{"$f":"i_Finish","v":0},null,"",{"$f":"IF(ISNUMBER(FIND(\"x\",BF155)),IFERROR(INDEX(INDIRECT(\"T_FinishColour[ColourCode-\"&IF(ISNUMBER(FIND(\"xxx\",BF155)),\"xxx\",IF(ISNUMBER(FIND(\"xx\",BF155)),\"xx\",\"error\"))&AR155&\"]\"),MATCH(AV155,T_FinishColour[Finish / Colour],0)),\"\"),\"\")","v":""},null,{"$f":"IF(AND(ISBLANK(BD155),ISBLANK(C155)),\"HIDE\",_xlfn.SWITCH(PRODUCT(C155:Z155,B155),2,\"HEADING\",1,\"SHOW\",0,\"HIDE\"))","v":"HIDE"},null,"LENGTH","GL",null,"RE01-0377-000580",null,"RE01-0377-000LLL","78mm STD Aluminium Tube V2",5.8,{"$f":"IF(ISBLANK(BP155),\"\",IF(OR(BP155=L_Units),\"Y\",\"N\"))","v":{"$error":"#N/A"}},"Tube",{"$f":"IFERROR(IF(BI155=\"Y\",((INDEX(T_Deduc[Deduction],MATCH(BJ155,T_Deduc[Type],0),0))),\"\"),\"\")","v":""},"o_widthmm","","","",{"$f":"INDEX(T_UnitSelection[Units],MATCH(i_Units,T_UnitSelection[UnitSelection],0))","v":{"$error":"#N/A"}},{"$f":"IFERROR(IF(ISBLANK(BD155),\"\",INDEX(T_NAV_AU[Unit of Measure],MATCH(BD155,T_NAV_AU[No.],0))),\"\")","v":"LENGTH"},"METRE",null,"HW",1,{"$f":"IF(ISBLANK(BU155),\"\",PRODUCT(AE155,BU155))","v":1},{"$f":"IF(ISBLANK(BU155),\"\",PRODUCT(AE155,BU155,i_systemQTY))","v":1},{"$f":"IFERROR(INDEX(INDIRECT(\"T_NAV_\"&i_Location&\"[\"&i_Location&\"]\"),MATCH(1,--(BD155=INDIRECT(\"T_NAV_\"&i_Location&\"[No.]\"))*--((INDIRECT(\"T_NAV_\"&i_Location&\"[\"&i_Location&\"]\"))<>\"\"),0))/IF(AND(BR155=\"METRE\",BH155<>\"\",BS155=\"\"),BH155,1),\"\")","v":""},"","","",null,null,{"$f":"IFERROR(IF(AY155=\"SHOW\",IF(AND(OR(BQ155=\"ROLL\",BQ155=\"LENGTH\"),BW155>0),ROUNDUP(BW155/CJ155/#REF!,0)*#REF!,IF(BQ155=\"METRE\",#REF!*ROUNDUP(((BW155*BM155)/1000)/#REF!,0),#REF!*ROUNDUP(BW155/#REF!,0))),\"\"),\"\")","v":""},"","",null,{"$f":"IFERROR(INDEX(INDIRECT(\"T_NAV_\"&i_Location&\"[\"&i_Location&\"]\"),MATCH(1,--(BD155=INDIRECT(\"T_NAV_\"&i_Location&\"[No.]\"))*--((INDIRECT(\"T_NAV_\"&i_Location&\"[\"&i_Location&\"]\"))<>\"\"),0)),\"\")","v":""},null,{"$f":"IFERROR(IF(ISBLANK(BU155),\"\",IF(OR(BQ155=\"ROLL\",BQ155=\"LENGTH\"),ROUNDDOWN((BH155*1000)/(BM155+CutTol),0),PRODUCT(AE150,BU155))),\"\")","v":""}]
[null,null,null,"78 AL HD",0,null,"",null,"",null,"","AU",0,null,{"$f":"IFERROR(IF(ISBLANK(N156),\"\",IF(FIND(N156,INDIRECT($N$154))>0,1,0)),0)","v":""},null,null,null,null,null,null,null,null,null,null,null,null,null,null,null,{"$f":"IFERROR(IF(AND(AA156=\"Y\",PRODUCT(AB156:AD156)=0),o_nScreens,IF(PRODUCT(AB156:AD156)=0,\"\",PRODUCT(AB156:AD156))),\"\")","v":""},null,null,null,null,null,null,null,null,null,null,null,null,"AU","",null,null,"",{"$f":"IF(ISNUMBER(FIND(\"x\",BF156)),IFERROR(INDEX(INDIRECT(\"T_FinishColour[ColourCode-\"&IF(ISNUMBER(FIND(\"xxx\",BF156)),\"xxx\",IF(ISNUMBER(FIND(\"xx\",BF156)),\"xx\",\"error\"))&AR156&\"]\"),MATCH(AV156,T_FinishColour[Finish / Colour],0)),\"\"),\"\")","v":""},null,{"$f":"IF(AND(ISBLANK(BD156),ISBLANK(C156)),\"HIDE\",_xlfn.SWITCH(PRODUCT(C156:Z156,B156),2,\"HEADING\",1,\"SHOW\",0,\"HIDE\"))","v":"HIDE"},null,"LENGTH","GL",null,"RE01-0380-000580",null,"RE01-0380-000LLL","78mm HD Aluminium Tube V2",5.8,{"$f":"IF(ISBLANK(BP156),\"\",IF(OR(BP156=L_Units),\"Y\",\"N\"))","v":{"$error":"#N/A"}},"Tube",{"$f":"IFERROR(IF(BI156=\"Y\",((INDEX(T_Deduc[Deduction],MATCH(BJ156,T_Deduc[Type],0),0))),\"\"),\"\")","v":""},"o_widthmm","","","",{"$f":"INDEX(T_UnitSelection[Units],MATCH(i_Units,T_UnitSelection[UnitSelection],0))","v":{"$error":"#N/A"}},{"$f":"IFERROR(IF(ISBLANK(BD156),\"\",INDEX(T_NAV_AU[Unit of Measure],MATCH(BD156,T_NAV_AU[No.],0))),\"\")","v":"LENGTH"},"METRE",null,"HW",1,1,1,{"$f":"IFERROR(INDEX(INDIRECT(\"T_NAV_\"&i_Location&\"[\"&i_Location&\"]\"),MATCH(1,--(BD156=INDIRECT(\"T_NAV_\"&i_Location&\"[No.]\"))*--((INDIRECT(\"T_NAV_\"&i_Location&\"[\"&i_Location&\"]\"))<>\"\"),0))/IF(AND(BR156=\"METRE\",BH156<>\"\",BS156=\"\"),BH156,1),\"\")","v":""},"","","",null,null,{"$f":"IFERROR(IF(AY156=\"SHOW\",IF(AND(OR(BQ156=\"ROLL\",BQ156=\"LENGTH\"),BW156>0),ROUNDUP(BW156/CJ156/#REF!,0)*#REF!,IF(BQ156=\"METRE\",#REF!*ROUNDUP(((BW156*BM156)/1000)/#REF!,0),#REF!*ROUNDUP(BW156/#REF!,0))),\"\"),\"\")","v":""},"","",null,{"$f":"IFERROR(INDEX(INDIRECT(\"T_NAV_\"&i_Location&\"[\"&i_Location&\"]\"),MATCH(1,--(BD156=INDIRECT(\"T_NAV_\"&i_Location&\"[No.]\"))*--((INDIRECT(\"T_NAV_\"&i_Location&\"[\"&i_Location&\"]\"))<>\"\"),0)),\"\")","v":""},null,{"$f":"IFERROR(IF(ISBLANK(BU156),\"\",IF(OR(BQ156=\"ROLL\",BQ156=\"LENGTH\"),ROUNDDOWN((BH156*1000)/(BM156+CutTol),0),PRODUCT(AE178,BU156))),\"\")","v":""}]
[null,null,null,"78 AL STD",0,null,{"$f":"IFERROR(IF(ISBLANK(F157),\"\",IF(FIND(F157,INDIRECT($F$154))>0,1,0)),0)","v":""},null,{"$f":"IFERROR(IF(ISBLANK(H157),\"\",IF(FIND(H157,INDIRECT($H$154))>0,1,0)),0)","v":""},null,{"$f":"IFERROR(IF(ISBLANK(J157),\"\",IF(FIND(J157,INDIRECT($J$154))>0,1,0)),0)","v":""},"US",0,null,{"$f":"IFERROR(IF(ISBLANK(N157),\"\",IF(FIND(N157,INDIRECT($N$154))>0,1,0)),0)","v":""},null,null,null,null,null,null,null,null,null,null,null,null,null,null,null,{"$f":"IFERROR(IF(AND(AA157=\"Y\",PRODUCT(AB157:AD157)=0),o_nScreens,IF(PRODUCT(AB157:AD157)=0,\"\",PRODUCT(AB157:AD157))),\"\")","v":""},null,null,null,null,null,null,null,null,null,null,null,null,"AU","",{"$f":"i_Finish","v":0},null,"",{"$f":"IF(ISNUMBER(FIND(\"x\",BF157)),IFERROR(INDEX(INDIRECT(\"T_FinishColour[ColourCode-\"&IF(ISNUMBER(FIND(\"xxx\",BF157)),\"xxx\",IF(ISNUMBER(FIND(\"xx\",BF157)),\"xx\",\"error\"))&AR157&\"]\"),MATCH(AV157,T_FinishColour[Finish / Colour],0)),\"\"),\"\")","v":""},null,{"$f":"IF(AND(ISBLANK(BD157),ISBLANK(C157)),\"HIDE\",_xlfn.SWITCH(PRODUCT(C157:Z157,B157),2,\"HEADING\",1,\"SHOW\",0,\"HIDE\"))","v":"HIDE"},null,"LENGTH","GL",null,"RE01-0378-000580",null,"RE01-0378-000LLL","78mm STD Aluminium Tube",5.8,{"$f":"IF(ISBLANK(BP157),\"\",IF(OR(BP157=L_Units),\"Y\",\"N\"))","v":{"$error":"#N/A"}},"Tube",{"$f":"IFERROR(IF(BI157=\"Y\",((INDEX(T_Deduc[Deduction],MATCH(BJ157,T_Deduc[Type],0),0))),\"\"),\"\")","v":""},"o_widthmm",{"$f":"IFERROR(IF(BI157=\"Y\",INDIRECT(BL157)-BK157,\"\"),\"\")","v":""},{"$f":"IFERROR(IF(BI157=\"Y\",BM157,\"\"),\"\")","v":""},{"$f":"IFERROR(IF(BI157=\"Y\",TEXT(BM157/25.4,\"0\"&IF(ABS(BM157/25.4-ROUND(BM157/25.4,0))>1/32,\"-0/\"&CHOOSE(ROUND(MOD(BM157/25.4,1)*16,0),16,8,16,4,16,8,16,2,16,8,16,4,16,8,16),\"\")),\"\"),\"\")","v":""},{"$f":"INDEX(T_UnitSelection[Units],MATCH(i_Units,T_UnitSelection[UnitSelection],0))","v":{"$error":"#N/A"}},"LENGTH","METRE",null,"HW",1,1,1,{"$f":"IFERROR(INDEX(INDIRECT(\"T_NAV_\"&i_Location&\"[\"&i_Location&\"]\"),MATCH(1,--(BD157=INDIRECT(\"T_NAV_\"&i_Location&\"[No.]\"))*--((INDIRECT(\"T_NAV_\"&i_Location&\"[\"&i_Location&\"]\"))<>\"\"),0))/IF(AND(BR157=\"METRE\",BH157<>\"\",BS157=\"\"),BH157,1),\"\")","v":""},"",{"$f":"IF(BY157<>\"\",(INDIRECT(\"i_\"&BT157&\"discount\"))*BY157,\"\")","v":""},{"$f":"IFERROR(IF(BY157<>\"\",BY157-BZ157,\"\"),\"\")","v":""},null,null,{"$f":"IFERROR(IF(AY157=\"SHOW\",IF(AND(OR(BQ157=\"ROLL\",BQ157=\"LENGTH\"),BW157>0),ROUNDUP(BW157/CJ157/#REF!,0)*#REF!,IF(BQ157=\"METRE\",#REF!*ROUNDUP(((BW157*BM157)/1000)/#REF!,0),#REF!*ROUNDUP(BW157/#REF!,0))),\"\"),\"\")","v":""},{"$f":"IF(CD157<>\"\",CD157&\"x \"&BQ157&IF(CD157>1,\"S\",\"\"),\"\")","v":""},"",null,{"$f":"IFERROR(INDEX(INDIRECT(\"T_NAV_\"&i_Location&\"[\"&i_Location&\"]\"),MATCH(1,--(BD157=INDIRECT(\"T_NAV_\"&i_Location&\"[No.]\"))*--((INDIRECT(\"T_NAV_\"&i_Location&\"[\"&i_Location&\"]\"))<>\"\"),0)),\"\")","v":""},null,{"$f":"IFERROR(IF(ISBLANK(BU157),\"\",IF(OR(BQ157=\"ROLL\",BQ157=\"LENGTH\"),ROUNDDOWN((BH157*1000)/(BM157+CutTol),0),PRODUCT(#REF!,BU157))),\"\")","v":""}]
[null,null,null,"78 AL HD",0,null,"",null,"",null,"","US",0,null,{"$f":"IFERROR(IF(ISBLANK(N158),\"\",IF(FIND(N158,INDIRECT($N$154))>0,1,0)),0)","v":""},null,null,null,null,null,null,null,null,null,null,null,null,null,null,null,{"$f":"IFERROR(IF(AND(AA158=\"Y\",PRODUCT(AB158:AD158)=0),o_nScreens,IF(PRODUCT(AB158:AD158)=0,\"\",PRODUCT(AB158:AD158))),\"\")","v":""},null,null,null,null,null,null,null,null,null,null,null,null,"AU","",null,null,"",{"$f":"IF(ISNUMBER(FIND(\"x\",BF158)),IFERROR(INDEX(INDIRECT(\"T_FinishColour[ColourCode-\"&IF(ISNUMBER(FIND(\"xxx\",BF158)),\"xxx\",IF(ISNUMBER(FIND(\"xx\",BF158)),\"xx\",\"error\"))&AR158&\"]\"),MATCH(AV158,T_FinishColour[Finish / Colour],0)),\"\"),\"\")","v":""},null,{"$f":"IF(AND(ISBLANK(BD158),ISBLANK(C158)),\"HIDE\",_xlfn.SWITCH(PRODUCT(C158:Z158,B158),2,\"HEADING\",1,\"SHOW\",0,\"HIDE\"))","v":"HIDE"},null,"LENGTH","GL",null,{"$f":"_xlfn.IFNA(SUBSTITUTE(IF(AR158=\"AU\",SUBSTITUTE(BF158,\"xxx\",AW158),SUBSTITUTE(SUBSTITUTE(BF158,\"xx\",AW158),\"x\",\"\")),\"LLL\",\"700\"),BF158)","v":"RE01-0379-000700"},null,"RE01-0379-000LLL","78mm HD Aluminium Tube",7,{"$f":"IF(ISBLANK(BP158),\"\",IF(OR(BP158=L_Units),\"Y\",\"N\"))","v":{"$error":"#N/A"}},"Tube",{"$f":"IFERROR(IF(BI158=\"Y\",((INDEX(T_Deduc[Deduction],MATCH(BJ158,T_Deduc[Type],0),0))),\"\"),\"\")","v":""},"o_widthmm","","","",{"$f":"INDEX(T_UnitSelection[Units],MATCH(i_Units,T_UnitSelection[UnitSelection],0))","v":{"$error":"#N/A"}},"LENGTH","METRE",null,"HW",1,1,1,{"$f":"IFERROR(INDEX(INDIRECT(\"T_NAV_\"&i_Location&\"[\"&i_Location&\"]\"),MATCH(1,--(BD158=INDIRECT(\"T_NAV_\"&i_Location&\"[No.]\"))*--((INDIRECT(\"T_NAV_\"&i_Location&\"[\"&i_Location&\"]\"))<>\"\"),0))/IF(AND(BR158=\"METRE\",BH158<>\"\",BS158=\"\"),BH158,1),\"\")","v":""},"","","",null,null,{"$f":"IFERROR(IF(AY158=\"SHOW\",IF(AND(OR(BQ158=\"ROLL\",BQ158=\"LENGTH\"),BW158>0),ROUNDUP(BW158/CJ158/#REF!,0)*#REF!,IF(BQ158=\"METRE\",#REF!*ROUNDUP(((BW158*BM158)/1000)/#REF!,0),#REF!*ROUNDUP(BW158/#REF!,0))),\"\"),\"\")","v":""},"","",null,{"$f":"IFERROR(INDEX(INDIRECT(\"T_NAV_\"&i_Location&\"[\"&i_Location&\"]\"),MATCH(1,--(BD158=INDIRECT(\"T_NAV_\"&i_Location&\"[No.]\"))*--((INDIRECT(\"T_NAV_\"&i_Location&\"[\"&i_Location&\"]\"))<>\"\"),0)),\"\")","v":""},null,{"$f":"IFERROR(IF(ISBLANK(BU158),\"\",IF(OR(BQ158=\"ROLL\",BQ158=\"LENGTH\"),ROUNDDOWN((BH158*1000)/(BM158+CutTol),0),PRODUCT(#REF!,BU158))),\"\")","v":""}]
[null,null,null,"78 STEEL",0,null,"",null,"",null,"",null,"",null,"",null,null,null,null,null,null,null,null,null,null,null,null,null,null,null,{"$f":"IFERROR(IF(AND(AA159=\"Y\",PRODUCT(AB159:AD159)=0),o_nScreens,IF(PRODUCT(AB159:AD159)=0,\"\",PRODUCT(AB159:AD159))),\"\")","v":""},null,null,null,null,null,null,null,null,null,null,null,null,"AU","",null,null,"",{"$f":"IF(ISNUMBER(FIND(\"x\",BF159)),IFERROR(INDEX(INDIRECT(\"T_FinishColour[ColourCode-\"&IF(ISNUMBER(FIND(\"xxx\",BF159)),\"xxx\",IF(ISNUMBER(FIND(\"xx\",BF159)),\"xx\",\"error\"))&AR159&\"]\"),MATCH(AV159,T_FinishColour[Finish / Colour],0)),\"\"),\"\")","v":""},null,{"$f":"IF(AND(ISBLANK(BD159),ISBLANK(C159)),\"HIDE\",_xlfn.SWITCH(PRODUCT(C159:Z159,B159),2,\"HEADING\",1,\"SHOW\",0,\"HIDE\"))","v":"HIDE"},null,"LENGTH","GL",null,{"$f":"_xlfn.IFNA(SUBSTITUTE(IF(AR159=\"AU\",SUBSTITUTE(BF159,\"xxx\",AW159),SUBSTITUTE(SUBSTITUTE(BF159,\"xx\",AW159),\"x\",\"\")),\"LLL\",\"700\"),BF159)","v":"AW92-0901-000700"},null,"AW92-0901-000LLL","78mm Steel Tube",7,{"$f":"IF(ISBLANK(BP159),\"\",IF(OR(BP159=L_Units),\"Y\",\"N\"))","v":{"$error":"#N/A"}},"Tube",{"$f":"IFERROR(IF(BI159=\"Y\",((INDEX(T_Deduc[Deduction],MATCH(BJ159,T_Deduc[Type],0),0))),\"\"),\"\")","v":""},"o_widthmm","","","",{"$f":"INDEX(T_UnitSelection[Units],MATCH(i_Units,T_UnitSelection[UnitSelection],0))","v":{"$error":"#N/A"}},{"$f":"IFERROR(IF(ISBLANK(BD159),\"\",INDEX(T_NAV_AU[Unit of Measure],MATCH(BD159,T_NAV_AU[No.],0))),\"\")","v":"LENGTH"},"METRE",null,"HW",1,1,1,{"$f":"IFERROR(INDEX(INDIRECT(\"T_NAV_\"&i_Location&\"[\"&i_Location&\"]\"),MATCH(1,--(BD159=INDIRECT(\"T_NAV_\"&i_Location&\"[No.]\"))*--((INDIRECT(\"T_NAV_\"&i_Location&\"[\"&i_Location&\"]\"))<>\"\"),0))/IF(AND(BR159=\"METRE\",BH159<>\"\",BS159=\"\"),BH159,1),\"\")","v":""},"","","",null,null,{"$f":"IFERROR(IF(AY159=\"SHOW\",IF(AND(OR(BQ159=\"ROLL\",BQ159=\"LENGTH\"),BW159>0),ROUNDUP(BW159/CJ159/#REF!,0)*#REF!,IF(BQ159=\"METRE\",#REF!*ROUNDUP(((BW159*BM159)/1000)/#REF!,0),#REF!*ROUNDUP(BW159/#REF!,0))),\"\"),\"\")","v":""},"","",null,{"$f":"IFERROR(INDEX(INDIRECT(\"T_NAV_\"&i_Location&\"[\"&i_Location&\"]\"),MATCH(1,--(BD159=INDIRECT(\"T_NAV_\"&i_Location&\"[No.]\"))*--((INDIRECT(\"T_NAV_\"&i_Location&\"[\"&i_Location&\"]\"))<>\"\"),0)),\"\")","v":""},null,{"$f":"IFERROR(IF(ISBLANK(BU159),\"\",IF(OR(BQ159=\"ROLL\",BQ159=\"LENGTH\"),ROUNDDOWN((BH159*1000)/(BM159+CutTol),0),PRODUCT(#REF!,BU159))),\"\")","v":""}]
[null,null,null,"78 ",{"$f":"IFERROR(IF(ISBLANK(D160),\"\",IF(FIND(D160,INDIRECT($D$154))>0,1,0)),0)","v":0},"!Zipscreen",{"$f":"IFERROR(IF(ISBLANK(F160),\"\",IF(FIND(MID(F160,2,10),INDIRECT($F$154))>0,0,1)),1)","v":1},null,"",null,"",null,{"$f":"IFERROR(IF(ISBLANK(L160),\"\",IF(FIND(L160,INDIRECT($L$124))>0,1,0)),0)","v":""},null,"",null,{"$f":"IFERROR(IF(ISBLANK(P160),\"\",IF(FIND(P160,INDIRECT($P$124))>0,1,0)),0)","v":""},null,{"$f":"IFERROR(IF(ISBLANK(R160),\"\",IF(FIND(R160,INDIRECT($R$124))>0,1,0)),0)","v":""},null,{"$f":"IFERROR(IF(ISBLANK(T160),\"\",IF(FIND(T160,INDIRECT($T$124))>0,1,0)),0)","v":""},null,{"$f":"IFERROR(IF(ISBLANK(V160),\"\",IF(FIND(V160,INDIRECT($V$124))>0,1,0)),0)","v":""},null,null,null,null,null,null,null,{"$f":"IFERROR(IF(AND(AA160=\"Y\",PRODUCT(AB160:AD160)=0),o_nScreens,IF(PRODUCT(AB160:AD160)=0,\"\",PRODUCT(AB160:AD160))),\"\")","v":""},null,null,null,null,null,null,null,null,null,null,null,null,"AU","",{"$f":"i_Finish","v":0},null,"",{"$f":"IF(ISNUMBER(FIND(\"x\",BF160)),IFERROR(INDEX(INDIRECT(\"T_FinishColour[ColourCode-\"&IF(ISNUMBER(FIND(\"xxx\",BF160)),\"xxx\",IF(ISNUMBER(FIND(\"xx\",BF160)),\"xx\",\"error\"))&AR160&\"]\"),MATCH(AV160,T_FinishColour[Finish / Colour],0)),\"\"),\"\")","v":""},null,{"$f":"IF(AND(ISBLANK(BD160),ISBLANK(C160)),\"HIDE\",_xlfn.SWITCH(PRODUCT(C160:Z160,B160),2,\"HEADING\",1,\"SHOW\",0,\"HIDE\"))","v":"HIDE"},null,"PICK","GL",null,{"$f":"_xlfn.IFNA(SUBSTITUTE(IF(AR160=\"AU\",SUBSTITUTE(BF160,\"xxx\",AW160),SUBSTITUTE(SUBSTITUTE(BF160,\"xx\",AW160),\"x\",\"\")),\"LLL\",\"580\"),BF160)","v":"MT03-0106-050005"},null,"MT03-0106-050005","45mm-78mm Crown w/ Screws",null,{"$f":"IF(ISBLANK(BP160),\"\",IF(OR(BP160=L_Units),\"Y\",\"N\"))","v":"N"},null,{"$f":"IFERROR(IF(BI160=\"Y\",((INDEX(T_Deduc[Deduction],MATCH(BJ160,T_Deduc[Type],0),0))),\"\"),\"\")","v":""},null,"","","","Piece",{"$f":"IFERROR(IF(ISBLANK(BD160),\"\",INDEX(T_NAV_AU[Unit of Measure],MATCH(BD160,T_NAV_AU[No.],0))),\"\")","v":"PIECE"},null,null,"HW",2,2,2,{"$f":"IFERROR(INDEX(INDIRECT(\"T_NAV_\"&i_Location&\"[\"&i_Location&\"]\"),MATCH(1,--(BD160=INDIRECT(\"T_NAV_\"&i_Location&\"[No.]\"))*--((INDIRECT(\"T_NAV_\"&i_Location&\"[\"&i_Location&\"]\"))<>\"\"),0))/IF(AND(BR160=\"METRE\",BH160<>\"\",BS160=\"\"),BH160,1),\"\")","v":""},"","","",null,null,{"$f":"IFERROR(IF(AY160=\"SHOW\",IF(AND(OR(BQ160=\"ROLL\",BQ160=\"LENGTH\"),BW160>0),ROUNDUP(BW160/CJ160/#REF!,0)*#REF!,IF(BQ160=\"METRE\",#REF!*ROUNDUP(((BW160*BM160)/1000)/#REF!,0),#REF!*ROUNDUP(BW160/#REF!,0))),\"\"),\"\")","v":""},"","",null,{"$f":"IFERROR(INDEX(INDIRECT(\"T_NAV_\"&i_Location&\"[\"&i_Location&\"]\"),MATCH(1,--(BD160=INDIRECT(\"T_NAV_\"&i_Location&\"[No.]\"))*--((INDIRECT(\"T_NAV_\"&i_Location&\"[\"&i_Location&\"]\"))<>\"\"),0)),\"\")","v":""},null,{"$f":"IFERROR(IF(ISBLANK(BU160),\"\",IF(OR(BQ160=\"ROLL\",BQ160=\"LENGTH\"),ROUNDDOWN((BH160*1000)/(BM160+CutTol),0),PRODUCT(AE156,BU160))),\"\")","v":2}]
[null,null,null,"78 ",0,"Zipscreen",0,null,"",null,"",null,{"$f":"IFERROR(IF(ISBLANK(L161),\"\",IF(FIND(L161,INDIRECT($L$154))>0,1,0)),0)","v":""},null,"",null,null,null,null,null,null,null,null,null,null,null,null,null,{"$f":"IF(OR(i_ControlType=\"Gear\",i_ControlType=\"Motor\"),2,1)","v":1},null,{"$f":"IFERROR(IF(AND(AA161=\"Y\",PRODUCT(AB161:AD161)=0),o_nScreens,IF(PRODUCT(AB161:AD161)=0,\"\",PRODUCT(AB161:AD161))),\"\")","v":1},"+1 Motor & Crank",null,null,null,null,null,null,null,null,null,null,null,null,"",0,null,"",{"$f":"IF(ISNUMBER(FIND(\"x\",BF161)),IFERROR(INDEX(INDIRECT(\"T_FinishColour[ColourCode-\"&IF(ISNUMBER(FIND(\"xxx\",BF161)),\"xxx\",IF(ISNUMBER(FIND(\"xx\",BF161)),\"xx\",\"error\"))&AR161&\"]\"),MATCH(AV161,T_FinishColour[Finish / Colour],0)),\"\"),\"\")","v":""},null,{"$f":"IF(AND(ISBLANK(BD161),ISBLANK(C161)),\"HIDE\",_xlfn.SWITCH(PRODUCT(C161:Z161,B161),2,\"HEADING\",1,\"SHOW\",0,\"HIDE\"))","v":"HIDE"},null,"PICK","GL",null,{"$f":"_xlfn.IFNA(SUBSTITUTE(IF(AR161=\"AU\",SUBSTITUTE(BF161,\"xxx\",AW161),SUBSTITUTE(SUBSTITUTE(BF161,\"xx\",AW161),\"x\",\"\")),\"LLL\",\"580\"),BF161)","v":"RE20-0311-050178"},null,"RE20-0311-050178","Zipscreen Tube Reducer 78mm V2 w/ Screws",null,{"$f":"IF(ISBLANK(BP161),\"\",IF(OR(BP161=L_Units),\"Y\",\"N\"))","v":"N"},null,{"$f":"IFERROR(IF(BI161=\"Y\",((INDEX(T_Deduc[Deduction],MATCH(BJ161,T_Deduc[Type],0),0))),\"\"),\"\")","v":""},null,"","","","Piece",{"$f":"IFERROR(IF(ISBLANK(BD161),\"\",INDEX(T_NAV_AU[Unit of Measure],MATCH(BD161,T_NAV_AU[No.],0))),\"\")","v":"PIECE"},null,null,"HW",1,1,1,{"$f":"IFERROR(INDEX(INDIRECT(\"T_NAV_\"&i_Location&\"[\"&i_Location&\"]\"),MATCH(1,--(BD161=INDIRECT(\"T_NAV_\"&i_Location&\"[No.]\"))*--((INDIRECT(\"T_NAV_\"&i_Location&\"[\"&i_Location&\"]\"))<>\"\"),0))/IF(AND(BR161=\"METRE\",BH161<>\"\",BS161=\"\"),BH161,1),\"\")","v":""},"","","",null,null,{"$f":"IFERROR(IF(AY161=\"SHOW\",IF(AND(OR(BQ161=\"ROLL\",BQ161=\"LENGTH\"),BW161>0),ROUNDUP(BW161/CJ161/#REF!,0)*#REF!,IF(BQ161=\"METRE\",#REF!*ROUNDUP(((BW161*BM161)/1000)/#REF!,0),#REF!*ROUNDUP(BW161/#REF!,0))),\"\"),\"\")","v":""},"","",null,{"$f":"IFERROR(INDEX(INDIRECT(\"T_NAV_\"&i_Location&\"[\"&i_Location&\"]\"),MATCH(1,--(BD161=INDIRECT(\"T_NAV_\"&i_Location&\"[No.]\"))*--((INDIRECT(\"T_NAV_\"&i_Location&\"[\"&i_Location&\"]\"))<>\"\"),0)),\"\")","v":""},null,{"$f":"IFERROR(IF(ISBLANK(BU161),\"\",IF(OR(BQ161=\"ROLL\",BQ161=\"LENGTH\"),ROUNDDOWN((BH161*1000)/(BM161+CutTol),0),PRODUCT(#REF!,BU161))),\"\")","v":""}]
[null,null,null,"110mm STD",0,null,"",null,null,null,null,null,null,null,"",null,null,null,null,null,null,null,null,null,null,null,null,null,null,null,null,null,null,null,null,null,null,null,null,null,null,null,null,"AU","",0,null,"",{"$f":"IF(ISNUMBER(FIND(\"x\",BF162)),IFERROR(INDEX(INDIRECT(\"T_FinishColour[ColourCode-\"&IF(ISNUMBER(FIND(\"xxx\",BF162)),\"xxx\",IF(ISNUMBER(FIND(\"xx\",BF162)),\"xx\",\"error\"))&AR162&\"]\"),MATCH(AV162,T_FinishColour[Finish / Colour],0)),\"\"),\"\")","v":""},null,{"$f":"IF(AND(ISBLANK(BD162),ISBLANK(C162)),\"HIDE\",_xlfn.SWITCH(PRODUCT(C162:Z162,B162),2,\"HEADING\",1,\"SHOW\",0,\"HIDE\"))","v":"HIDE"},null,"LENGTH","GL",null,{"$f":"_xlfn.IFNA(SUBSTITUTE(IF(AR162=\"AU\",SUBSTITUTE(BF162,\"xxx\",AW162),SUBSTITUTE(SUBSTITUTE(BF162,\"xx\",AW162),\"x\",\"\")),\"LLL\",\"700\"),BF162)","v":"RB93-0110-000700"},null,"RB93-0110-000LLL","S100 | 110mm STD Aluminium Tube",7,"Y","Tube",{"$f":"IFERROR(IF(BI162=\"Y\",((INDEX(T_Deduc[Deduction],MATCH(BJ162,T_Deduc[Type],0),0))),\"\"),\"\")","v":118},"o_widthmm",-118,{"$f":"IFERROR(IF(BI162=\"Y\",BM162,\"\"),\"\")","v":-118},{"$f":"IFERROR(IF(BI162=\"Y\",TEXT(BM162/25.4,\"0\"&IF(ABS(BM162/25.4-ROUND(BM162/25.4,0))>1/32,\"-0/\"&CHOOSE(ROUND(MOD(BM162/25.4,1)*16,0),16,8,16,4,16,8,16,2,16,8,16,4,16,8,16),\"\")),\"\"),\"\")","v":"-4-5/8"},{"$f":"INDEX(T_UnitSelection[Units],MATCH(i_Units,T_UnitSelection[UnitSelection],0))","v":{"$error":"#N/A"}},{"$f":"IFERROR(IF(ISBLANK(BD162),\"\",INDEX(T_NAV_AU[Unit of Measure],MATCH(BD162,T_NAV_AU[No.],0))),\"\")","v":"LENGTH"},"METRE",null,"HW",1,1,1,{"$f":"IFERROR(INDEX(INDIRECT(\"T_NAV_\"&i_Location&\"[\"&i_Location&\"]\"),MATCH(1,--(BD162=INDIRECT(\"T_NAV_\"&i_Location&\"[No.]\"))*--((INDIRECT(\"T_NAV_\"&i_Location&\"[\"&i_Location&\"]\"))<>\"\"),0))/IF(AND(BR162=\"METRE\",BH162<>\"\",BS162=\"\"),BH162,1),\"\")","v":""},"","","",null,null,{"$f":"IFERROR(IF(AY162=\"SHOW\",IF(AND(OR(BQ162=\"ROLL\",BQ162=\"LENGTH\"),BW162>0),ROUNDUP(BW162/CJ162/#REF!,0)*#REF!,IF(BQ162=\"METRE\",#REF!*ROUNDUP(((BW162*BM162)/1000)/#REF!,0),#REF!*ROUNDUP(BW162/#REF!,0))),\"\"),\"\")","v":""},"","",null,{"$f":"IFERROR(INDEX(INDIRECT(\"T_NAV_\"&i_Location&\"[\"&i_Location&\"]\"),MATCH(1,--(BD162=INDIRECT(\"T_NAV_\"&i_Location&\"[No.]\"))*--((INDIRECT(\"T_NAV_\"&i_Location&\"[\"&i_Location&\"]\"))<>\"\"),0)),\"\")","v":""},null,{"$f":"IFERROR(IF(ISBLANK(BU162),\"\",IF(OR(BQ162=\"ROLL\",BQ162=\"LENGTH\"),ROUNDDOWN((BH162*1000)/(BM162+CutTol),0),PRODUCT(AE159,BU162))),\"\")","v":-59}]
[null,null,null,"130mm HD",0,null,"",null,null,null,null,null,null,null,"",null,null,null,null,null,null,null,null,null,null,null,null,null,null,null,null,null,null,null,null,null,null,null,null,null,null,null,null,"AU","",0,null,"",{"$f":"IF(ISNUMBER(FIND(\"x\",BF163)),IFERROR(INDEX(INDIRECT(\"T_FinishColour[ColourCode-\"&IF(ISNUMBER(FIND(\"xxx\",BF163)),\"xxx\",IF(ISNUMBER(FIND(\"xx\",BF163)),\"xx\",\"error\"))&AR163&\"]\"),MATCH(AV163,T_FinishColour[Finish / Colour],0)),\"\"),\"\")","v":""},null,{"$f":"IF(AND(ISBLANK(BD163),ISBLANK(C163)),\"HIDE\",_xlfn.SWITCH(PRODUCT(C163:Z163,B163),2,\"HEADING\",1,\"SHOW\",0,\"HIDE\"))","v":"HIDE"},null,"LENGTH","GL",null,{"$f":"_xlfn.IFNA(SUBSTITUTE(IF(AR163=\"AU\",SUBSTITUTE(BF163,\"xxx\",AW163),SUBSTITUTE(SUBSTITUTE(BF163,\"xx\",AW163),\"x\",\"\")),\"LLL\",\"700\"),BF163)","v":"RB93-0130-000700"},null,"RB93-0130-000LLL","S100 | 130mm HD Aluminium Tube",7,"Y","Tube",{"$f":"IFERROR(IF(BI163=\"Y\",((INDEX(T_Deduc[Deduction],MATCH(BJ163,T_Deduc[Type],0),0))),\"\"),\"\")","v":118},"o_widthmm",-118,{"$f":"IFERROR(IF(BI163=\"Y\",BM163,\"\"),\"\")","v":-118},{"$f":"IFERROR(IF(BI163=\"Y\",TEXT(BM163/25.4,\"0\"&IF(ABS(BM163/25.4-ROUND(BM163/25.4,0))>1/32,\"-0/\"&CHOOSE(ROUND(MOD(BM163/25.4,1)*16,0),16,8,16,4,16,8,16,2,16,8,16,4,16,8,16),\"\")),\"\"),\"\")","v":"-4-5/8"},{"$f":"INDEX(T_UnitSelection[Units],MATCH(i_Units,T_UnitSelection[UnitSelection],0))","v":{"$error":"#N/A"}},{"$f":"IFERROR(IF(ISBLANK(BD163),\"\",INDEX(T_NAV_AU[Unit of Measure],MATCH(BD163,T_NAV_AU[No.],0))),\"\")","v":"LENGTH"},"METRE",null,"HW",1,1,1,{"$f":"IFERROR(INDEX(INDIRECT(\"T_NAV_\"&i_Location&\"[\"&i_Location&\"]\"),MATCH(1,--(BD163=INDIRECT(\"T_NAV_\"&i_Location&\"[No.]\"))*--((INDIRECT(\"T_NAV_\"&i_Location&\"[\"&i_Location&\"]\"))<>\"\"),0))/IF(AND(BR163=\"METRE\",BH163<>\"\",BS163=\"\"),BH163,1),\"\")","v":""},"","","",null,null,{"$f":"IFERROR(IF(AY163=\"SHOW\",IF(AND(OR(BQ163=\"ROLL\",BQ163=\"LENGTH\"),BW163>0),ROUNDUP(BW163/CJ163/#REF!,0)*#REF!,IF(BQ163=\"METRE\",#REF!*ROUNDUP(((BW163*BM163)/1000)/#REF!,0),#REF!*ROUNDUP(BW163/#REF!,0))),\"\"),\"\")","v":""},"","",null,{"$f":"IFERROR(INDEX(INDIRECT(\"T_NAV_\"&i_Location&\"[\"&i_Location&\"]\"),MATCH(1,--(BD163=INDIRECT(\"T_NAV_\"&i_Location&\"[No.]\"))*--((INDIRECT(\"T_NAV_\"&i_Location&\"[\"&i_Location&\"]\"))<>\"\"),0)),\"\")","v":""},null,{"$f":"IFERROR(IF(ISBLANK(BU163),\"\",IF(OR(BQ163=\"ROLL\",BQ163=\"LENGTH\"),ROUNDDOWN((BH163*1000)/(BM163+CutTol),0),PRODUCT(AE176,BU163))),\"\")","v":-59}]
[null,null,null,"160mm XHD",0,null,"",null,null,null,null,null,null,null,"",null,null,null,null,null,null,null,null,null,null,null,null,null,null,null,null,null,null,null,null,null,null,null,null,null,null,null,null,"AU","",0,null,"",{"$f":"IF(ISNUMBER(FIND(\"x\",BF164)),IFERROR(INDEX(INDIRECT(\"T_FinishColour[ColourCode-\"&IF(ISNUMBER(FIND(\"xxx\",BF164)),\"xxx\",IF(ISNUMBER(FIND(\"xx\",BF164)),\"xx\",\"error\"))&AR164&\"]\"),MATCH(AV164,T_FinishColour[Finish / Colour],0)),\"\"),\"\")","v":""},null,{"$f":"IF(AND(ISBLANK(BD164),ISBLANK(C164)),\"HIDE\",_xlfn.SWITCH(PRODUCT(C164:Z164,B164),2,\"HEADING\",1,\"SHOW\",0,\"HIDE\"))","v":"HIDE"},null,"LENGTH","GL",null,{"$f":"_xlfn.IFNA(SUBSTITUTE(IF(AR164=\"AU\",SUBSTITUTE(BF164,\"xxx\",AW164),SUBSTITUTE(SUBSTITUTE(BF164,\"xx\",AW164),\"x\",\"\")),\"LLL\",\"700\"),BF164)","v":"RB93-0130-000700"},null,"RB93-0130-000LLL","S100 | 130mm HD Aluminium Tube (Motor & Idler sleeve)",7,"Y",null,null,"o_widthmm",1000,1000,"39-3/8",{"$f":"INDEX(T_UnitSelection[Units],MATCH(i_Units,T_UnitSelection[UnitSelection],0))","v":{"$error":"#N/A"}},{"$f":"IFERROR(IF(ISBLANK(BD164),\"\",INDEX(T_NAV_AU[Unit of Measure],MATCH(BD164,T_NAV_AU[No.],0))),\"\")","v":"LENGTH"},"METRE",null,"HW",1,1,1,{"$f":"IFERROR(INDEX(INDIRECT(\"T_NAV_\"&i_Location&\"[\"&i_Location&\"]\"),MATCH(1,--(BD164=INDIRECT(\"T_NAV_\"&i_Location&\"[No.]\"))*--((INDIRECT(\"T_NAV_\"&i_Location&\"[\"&i_Location&\"]\"))<>\"\"),0))/IF(AND(BR164=\"METRE\",BH164<>\"\",BS164=\"\"),BH164,1),\"\")","v":""},"","","",null,null,{"$f":"IFERROR(IF(AY164=\"SHOW\",IF(AND(OR(BQ164=\"ROLL\",BQ164=\"LENGTH\"),BW164>0),ROUNDUP(BW164/CJ164/#REF!,0)*#REF!,IF(BQ164=\"METRE\",#REF!*ROUNDUP(((BW164*BM164)/1000)/#REF!,0),#REF!*ROUNDUP(BW164/#REF!,0))),\"\"),\"\")","v":""},"","",null,{"$f":"IFERROR(INDEX(INDIRECT(\"T_NAV_\"&i_Location&\"[\"&i_Location&\"]\"),MATCH(1,--(BD164=INDIRECT(\"T_NAV_\"&i_Location&\"[No.]\"))*--((INDIRECT(\"T_NAV_\"&i_Location&\"[\"&i_Location&\"]\"))<>\"\"),0)),\"\")","v":""},null,{"$f":"IFERROR(IF(ISBLANK(BU164),\"\",IF(OR(BQ164=\"ROLL\",BQ164=\"LENGTH\"),ROUNDDOWN((BH164*1000)/(BM164+CutTol),0),PRODUCT(#REF!,BU164))),\"\")","v":6}]
[null,null,null,"160mm XHD",0,null,"",null,null,null,null,null,null,null,"",null,null,null,null,null,null,null,null,null,null,null,null,null,null,null,null,null,null,null,null,null,null,null,null,null,null,null,null,"AU","",0,null,"",{"$f":"IF(ISNUMBER(FIND(\"x\",BF165)),IFERROR(INDEX(INDIRECT(\"T_FinishColour[ColourCode-\"&IF(ISNUMBER(FIND(\"xxx\",BF165)),\"xxx\",IF(ISNUMBER(FIND(\"xx\",BF165)),\"xx\",\"error\"))&AR165&\"]\"),MATCH(AV165,T_FinishColour[Finish / Colour],0)),\"\"),\"\")","v":""},null,{"$f":"IF(AND(ISBLANK(BD165),ISBLANK(C165)),\"HIDE\",_xlfn.SWITCH(PRODUCT(C165:Z165,B165),2,\"HEADING\",1,\"SHOW\",0,\"HIDE\"))","v":"HIDE"},null,"LENGTH","GL",null,{"$f":"_xlfn.IFNA(SUBSTITUTE(IF(AR165=\"AU\",SUBSTITUTE(BF165,\"xxx\",AW165),SUBSTITUTE(SUBSTITUTE(BF165,\"xx\",AW165),\"x\",\"\")),\"LLL\",\"700\"),BF165)","v":"RB93-0160-000700"},null,"RB93-0160-000LLL","S100 | 160mm XHD Aluminium Tube",7,"Y","Tube",{"$f":"IFERROR(IF(BI165=\"Y\",((INDEX(T_Deduc[Deduction],MATCH(BJ165,T_Deduc[Type],0),0))),\"\"),\"\")","v":118},"o_widthmm",{"$f":"IFERROR(IF(BI165=\"Y\",INDIRECT(BL165)-BK165,\"\"),\"\")","v":-118},{"$f":"IFERROR(IF(BI165=\"Y\",BM165,\"\"),\"\")","v":-118},{"$f":"IFERROR(IF(BI165=\"Y\",TEXT(BM165/25.4,\"0\"&IF(ABS(BM165/25.4-ROUND(BM165/25.4,0))>1/32,\"-0/\"&CHOOSE(ROUND(MOD(BM165/25.4,1)*16,0),16,8,16,4,16,8,16,2,16,8,16,4,16,8,16),\"\")),\"\"),\"\")","v":"-4-5/8"},{"$f":"INDEX(T_UnitSelection[Units],MATCH(i_Units,T_UnitSelection[UnitSelection],0))","v":{"$error":"#N/A"}},{"$f":"IFERROR(IF(ISBLANK(BD165),\"\",INDEX(T_NAV_AU[Unit of Measure],MATCH(BD165,T_NAV_AU[No.],0))),\"\")","v":"LENGTH"},"METRE",null,"HW",1,1,1,{"$f":"IFERROR(INDEX(INDIRECT(\"T_NAV_\"&i_Location&\"[\"&i_Location&\"]\"),MATCH(1,--(BD165=INDIRECT(\"T_NAV_\"&i_Location&\"[No.]\"))*--((INDIRECT(\"T_NAV_\"&i_Location&\"[\"&i_Location&\"]\"))<>\"\"),0))/IF(AND(BR165=\"METRE\",BH165<>\"\",BS165=\"\"),BH165,1),\"\")","v":""},"","","",null,null,{"$f":"IFERROR(IF(AY165=\"SHOW\",IF(AND(OR(BQ165=\"ROLL\",BQ165=\"LENGTH\"),BW165>0),ROUNDUP(BW165/CJ165/#REF!,0)*#REF!,IF(BQ165=\"METRE\",#REF!*ROUNDUP(((BW165*BM165)/1000)/#REF!,0),#REF!*ROUNDUP(BW165/#REF!,0))),\"\"),\"\")","v":""},"","",null,{"$f":"IFERROR(INDEX(INDIRECT(\"T_NAV_\"&i_Location&\"[\"&i_Location&\"]\"),MATCH(1,--(BD165=INDIRECT(\"T_NAV_\"&i_Location&\"[No.]\"))*--((INDIRECT(\"T_NAV_\"&i_Location&\"[\"&i_Location&\"]\"))<>\"\"),0)),\"\")","v":""},null,{"$f":"IFERROR(IF(ISBLANK(BU165),\"\",IF(OR(BQ165=\"ROLL\",BQ165=\"LENGTH\"),ROUNDDOWN((BH165*1000)/(BM165+CutTol),0),PRODUCT(#REF!,BU165))),\"\")","v":-59}]
[null,null,null,"110mm STD",0,"Zipscreen",0,null,null,null,null,null,null,null,"",null,null,null,null,null,null,null,null,null,null,null,null,null,null,null,null,null,null,null,null,null,null,null,null,null,null,null,null,"AU","",0,null,"",{"$f":"IF(ISNUMBER(FIND(\"x\",BF166)),IFERROR(INDEX(INDIRECT(\"T_FinishColour[ColourCode-\"&IF(ISNUMBER(FIND(\"xxx\",BF166)),\"xxx\",IF(ISNUMBER(FIND(\"xx\",BF166)),\"xx\",\"error\"))&AR166&\"]\"),MATCH(AV166,T_FinishColour[Finish / Colour],0)),\"\"),\"\")","v":""},null,{"$f":"IF(AND(ISBLANK(BD166),ISBLANK(C166)),\"HIDE\",_xlfn.SWITCH(PRODUCT(C166:Z166,B166),2,\"HEADING\",1,\"SHOW\",0,\"HIDE\"))","v":"HIDE"},null,"PICK","GL",null,{"$f":"_xlfn.IFNA(SUBSTITUTE(IF(AR166=\"AU\",SUBSTITUTE(BF166,\"xxx\",AW166),SUBSTITUTE(SUBSTITUTE(BF166,\"xx\",AW166),\"x\",\"\")),\"LLL\",\"580\"),BF166)","v":"RB80-0501-050110"},null,"RB80-0501-050110","S100 - ZIP Reducer End Plate Set - 110mm",null,"N",null,{"$f":"IFERROR(IF(BI166=\"Y\",((INDEX(T_Deduc[Deduction],MATCH(BJ166,T_Deduc[Type],0),0))),\"\"),\"\")","v":""},null,"",{"$f":"IFERROR(IF(BI166=\"Y\",BM166,\"\"),\"\")","v":""},{"$f":"IFERROR(IF(BI166=\"Y\",TEXT(BM166/25.4,\"0\"&IF(ABS(BM166/25.4-ROUND(BM166/25.4,0))>1/32,\"-0/\"&CHOOSE(ROUND(MOD(BM166/25.4,1)*16,0),16,8,16,4,16,8,16,2,16,8,16,4,16,8,16),\"\")),\"\"),\"\")","v":""},"Set",{"$f":"IFERROR(IF(ISBLANK(BD166),\"\",INDEX(T_NAV_AU[Unit of Measure],MATCH(BD166,T_NAV_AU[No.],0))),\"\")","v":"SET"},null,null,"HW",1,1,1,{"$f":"IFERROR(INDEX(INDIRECT(\"T_NAV_\"&i_Location&\"[\"&i_Location&\"]\"),MATCH(1,--(BD166=INDIRECT(\"T_NAV_\"&i_Location&\"[No.]\"))*--((INDIRECT(\"T_NAV_\"&i_Location&\"[\"&i_Location&\"]\"))<>\"\"),0))/IF(AND(BR166=\"METRE\",BH166<>\"\",BS166=\"\"),BH166,1),\"\")","v":""},"",{"$f":"IF(BY166<>\"\",(INDIRECT(\"i_\"&BT166&\"discount\"))*BY166,\"\")","v":""},{"$f":"IFERROR(IF(BY166<>\"\",BY166-BZ166,\"\"),\"\")","v":""},null,null,{"$f":"IFERROR(IF(AY166=\"SHOW\",IF(AND(OR(BQ166=\"ROLL\",BQ166=\"LENGTH\"),BW166>0),ROUNDUP(BW166/CJ166/#REF!,0)*#REF!,IF(BQ166=\"METRE\",#REF!*ROUNDUP(((BW166*BM166)/1000)/#REF!,0),#REF!*ROUNDUP(BW166/#REF!,0))),\"\"),\"\")","v":""},{"$f":"IF(CD166<>\"\",CD166&\"x \"&BQ166&IF(CD166>1,\"S\",\"\"),\"\")","v":""},"",null,{"$f":"IFERROR(INDEX(INDIRECT(\"T_NAV_\"&i_Location&\"[\"&i_Location&\"]\"),MATCH(1,--(BD166=INDIRECT(\"T_NAV_\"&i_Location&\"[No.]\"))*--((INDIRECT(\"T_NAV_\"&i_Location&\"[\"&i_Location&\"]\"))<>\"\"),0)),\"\")","v":""},null,{"$f":"IFERROR(IF(ISBLANK(BU166),\"\",IF(OR(BQ166=\"ROLL\",BQ166=\"LENGTH\"),ROUNDDOWN((BH166*1000)/(BM166+CutTol),0),PRODUCT(#REF!,BU166))),\"\")","v":""}]
[null,null,null,"130mm HD",0,"Zipscreen",0,null,null,null,null,null,null,null,"",null,null,null,null,null,null,null,null,null,null,null,null,null,null,null,null,null,null,null,null,null,null,null,null,null,null,null,null,"AU","",0,null,"",{"$f":"IF(ISNUMBER(FIND(\"x\",BF167)),IFERROR(INDEX(INDIRECT(\"T_FinishColour[ColourCode-\"&IF(ISNUMBER(FIND(\"xxx\",BF167)),\"xxx\",IF(ISNUMBER(FIND(\"xx\",BF167)),\"xx\",\"error\"))&AR167&\"]\"),MATCH(AV167,T_FinishColour[Finish / Colour],0)),\"\"),\"\")","v":""},null,{"$f":"IF(AND(ISBLANK(BD167),ISBLANK(C167)),\"HIDE\",_xlfn.SWITCH(PRODUCT(C167:Z167,B167),2,\"HEADING\",1,\"SHOW\",0,\"HIDE\"))","v":"HIDE"},null,"PICK","GL",null,"RB80-0501-050130",null,"RB80-0501-050130","S100 - ZIP Reducer End Plate Set - 130mm",null,"N",null,{"$f":"IFERROR(IF(BI167=\"Y\",((INDEX(T_Deduc[Deduction],MATCH(BJ167,T_Deduc[Type],0),0))),\"\"),\"\")","v":""},null,"","","","Set",{"$f":"IFERROR(IF(ISBLANK(BD167),\"\",INDEX(T_NAV_AU[Unit of Measure],MATCH(BD167,T_NAV_AU[No.],0))),\"\")","v":"SET"},null,null,"HW",1,1,1,{"$f":"IFERROR(INDEX(INDIRECT(\"T_NAV_\"&i_Location&\"[\"&i_Location&\"]\"),MATCH(1,--(BD167=INDIRECT(\"T_NAV_\"&i_Location&\"[No.]\"))*--((INDIRECT(\"T_NAV_\"&i_Location&\"[\"&i_Location&\"]\"))<>\"\"),0))/IF(AND(BR167=\"METRE\",BH167<>\"\",BS167=\"\"),BH167,1),\"\")","v":""},"","","",null,null,{"$f":"IFERROR(IF(AY167=\"SHOW\",IF(AND(OR(BQ167=\"ROLL\",BQ167=\"LENGTH\"),BW167>0),ROUNDUP(BW167/CJ167/#REF!,0)*#REF!,IF(BQ167=\"METRE\",#REF!*ROUNDUP(((BW167*BM167)/1000)/#REF!,0),#REF!*ROUNDUP(BW167/#REF!,0))),\"\"),\"\")","v":""},"","",null,{"$f":"IFERROR(INDEX(INDIRECT(\"T_NAV_\"&i_Location&\"[\"&i_Location&\"]\"),MATCH(1,--(BD167=INDIRECT(\"T_NAV_\"&i_Location&\"[No.]\"))*--((INDIRECT(\"T_NAV_\"&i_Location&\"[\"&i_Location&\"]\"))<>\"\"),0)),\"\")","v":""},null,{"$f":"IFERROR(IF(ISBLANK(BU167),\"\",IF(OR(BQ167=\"ROLL\",BQ167=\"LENGTH\"),ROUNDDOWN((BH167*1000)/(BM167+CutTol),0),PRODUCT(#REF!,BU167))),\"\")","v":""}]
[null,null,null,"110mm STD",0,"Wire Guide",0,null,null,null,null,null,null,null,"",null,null,null,null,null,null,null,null,null,null,null,null,null,null,null,null,null,null,null,null,null,null,null,null,null,null,null,null,null,"",0,null,"",{"$f":"IF(ISNUMBER(FIND(\"x\",BF168)),IFERROR(INDEX(INDIRECT(\"T_FinishColour[ColourCode-\"&IF(ISNUMBER(FIND(\"xxx\",BF168)),\"xxx\",IF(ISNUMBER(FIND(\"xx\",BF168)),\"xx\",\"error\"))&AR168&\"]\"),MATCH(AV168,T_FinishColour[Finish / Colour],0)),\"\"),\"\")","v":""},null,{"$f":"IF(AND(ISBLANK(BD168),ISBLANK(C168)),\"HIDE\",_xlfn.SWITCH(PRODUCT(C168:Z168,B168),2,\"HEADING\",1,\"SHOW\",0,\"HIDE\"))","v":"HIDE"},null,"PICK","GL",null,"RB80-0601-073110",null,"RB80-0601-073110","S100 - STD Roller End Plate Pair - 110mm",null,"N",null,{"$f":"IFERROR(IF(BI168=\"Y\",((INDEX(T_Deduc[Deduction],MATCH(BJ168,T_Deduc[Type],0),0))),\"\"),\"\")","v":""},null,"","","","Set",{"$f":"IFERROR(IF(ISBLANK(BD168),\"\",INDEX(T_NAV_AU[Unit of Measure],MATCH(BD168,T_NAV_AU[No.],0))),\"\")","v":"SET"},null,null,"HW",1,1,1,{"$f":"IFERROR(INDEX(INDIRECT(\"T_NAV_\"&i_Location&\"[\"&i_Location&\"]\"),MATCH(1,--(BD168=INDIRECT(\"T_NAV_\"&i_Location&\"[No.]\"))*--((INDIRECT(\"T_NAV_\"&i_Location&\"[\"&i_Location&\"]\"))<>\"\"),0))/IF(AND(BR168=\"METRE\",BH168<>\"\",BS168=\"\"),BH168,1),\"\")","v":""},"","","",null,null,{"$f":"IFERROR(IF(AY168=\"SHOW\",IF(AND(OR(BQ168=\"ROLL\",BQ168=\"LENGTH\"),BW168>0),ROUNDUP(BW168/CJ168/#REF!,0)*#REF!,IF(BQ168=\"METRE\",#REF!*ROUNDUP(((BW168*BM168)/1000)/#REF!,0),#REF!*ROUNDUP(BW168/#REF!,0))),\"\"),\"\")","v":""},"","",null,{"$f":"IFERROR(INDEX(INDIRECT(\"T_NAV_\"&i_Location&\"[\"&i_Location&\"]\"),MATCH(1,--(BD168=INDIRECT(\"T_NAV_\"&i_Location&\"[No.]\"))*--((INDIRECT(\"T_NAV_\"&i_Location&\"[\"&i_Location&\"]\"))<>\"\"),0)),\"\")","v":""},null,{"$f":"IFERROR(IF(ISBLANK(BU168),\"\",IF(OR(BQ168=\"ROLL\",BQ168=\"LENGTH\"),ROUNDDOWN((BH168*1000)/(BM168+CutTol),0),PRODUCT(AE160,BU168))),\"\")","v":1}]
[null,null,null,"130mm HD",0,"Wire Guide",0,null,null,null,null,null,null,null,"",null,null,null,null,null,null,null,null,null,null,null,null,null,null,null,null,null,null,null,null,null,null,null,null,null,null,null,null,null,null,null,null,null,{"$f":"IF(ISNUMBER(FIND(\"x\",BF169)),IFERROR(INDEX(INDIRECT(\"T_FinishColour[ColourCode-\"&IF(ISNUMBER(FIND(\"xxx\",BF169)),\"xxx\",IF(ISNUMBER(FIND(\"xx\",BF169)),\"xx\",\"error\"))&AR169&\"]\"),MATCH(AV169,T_FinishColour[Finish / Colour],0)),\"\"),\"\")","v":""},null,{"$f":"IF(AND(ISBLANK(BD169),ISBLANK(C169)),\"HIDE\",_xlfn.SWITCH(PRODUCT(C169:Z169,B169),2,\"HEADING\",1,\"SHOW\",0,\"HIDE\"))","v":"HIDE"},null,"PICK","GL",null,"RB80-0601-073130",null,"RB80-0601-073130","S100 - STD Roller End Plate Pair - 130mm",null,"N",null,{"$f":"IFERROR(IF(BI169=\"Y\",((INDEX(T_Deduc[Deduction],MATCH(BJ169,T_Deduc[Type],0),0))),\"\"),\"\")","v":""},null,"","","","Set",{"$f":"IFERROR(IF(ISBLANK(BD169),\"\",INDEX(T_NAV_AU[Unit of Measure],MATCH(BD169,T_NAV_AU[No.],0))),\"\")","v":"SET"},null,null,"HW",1,1,1,{"$f":"IFERROR(INDEX(INDIRECT(\"T_NAV_\"&i_Location&\"[\"&i_Location&\"]\"),MATCH(1,--(BD169=INDIRECT(\"T_NAV_\"&i_Location&\"[No.]\"))*--((INDIRECT(\"T_NAV_\"&i_Location&\"[\"&i_Location&\"]\"))<>\"\"),0))/IF(AND(BR169=\"METRE\",BH169<>\"\",BS169=\"\"),BH169,1),\"\")","v":""},"","","",null,null,{"$f":"IFERROR(IF(AY169=\"SHOW\",IF(AND(OR(BQ169=\"ROLL\",BQ169=\"LENGTH\"),BW169>0),ROUNDUP(BW169/CJ169/#REF!,0)*#REF!,IF(BQ169=\"METRE\",#REF!*ROUNDUP(((BW169*BM169)/1000)/#REF!,0),#REF!*ROUNDUP(BW169/#REF!,0))),\"\"),\"\")","v":""},"","",null,{"$f":"IFERROR(INDEX(INDIRECT(\"T_NAV_\"&i_Location&\"[\"&i_Location&\"]\"),MATCH(1,--(BD169=INDIRECT(\"T_NAV_\"&i_Location&\"[No.]\"))*--((INDIRECT(\"T_NAV_\"&i_Location&\"[\"&i_Location&\"]\"))<>\"\"),0)),\"\")","v":""},null,1]
[null,null,null,"160mm XHD",0,"Wire Guide",0,null,null,null,null,null,null,null,"",null,null,null,null,null,null,null,null,null,null,null,null,null,null,null,null,null,null,null,null,null,null,null,null,null,null,null,null,null,null,null,null,null,{"$f":"IF(ISNUMBER(FIND(\"x\",BF170)),IFERROR(INDEX(INDIRECT(\"T_FinishColour[ColourCode-\"&IF(ISNUMBER(FIND(\"xxx\",BF170)),\"xxx\",IF(ISNUMBER(FIND(\"xx\",BF170)),\"xx\",\"error\"))&AR170&\"]\"),MATCH(AV170,T_FinishColour[Finish / Colour],0)),\"\"),\"\")","v":""},null,{"$f":"IF(AND(ISBLANK(BD170),ISBLANK(C170)),\"HIDE\",_xlfn.SWITCH(PRODUCT(C170:Z170,B170),2,\"HEADING\",1,\"SHOW\",0,\"HIDE\"))","v":"HIDE"},null,"PICK","GL",null,"RB80-0601-073160",null,"RB80-0601-073160","S100 - STD Roller End Plate Pair - 160mm",null,"N",null,{"$f":"IFERROR(IF(BI170=\"Y\",((INDEX(T_Deduc[Deduction],MATCH(BJ170,T_Deduc[Type],0),0))),\"\"),\"\")","v":""},null,"","","","Set",{"$f":"IFERROR(IF(ISBLANK(BD170),\"\",INDEX(T_NAV_AU[Unit of Measure],MATCH(BD170,T_NAV_AU[No.],0))),\"\")","v":"SET"},null,null,"HW",1,1,1,{"$f":"IFERROR(INDEX(INDIRECT(\"T_NAV_\"&i_Location&\"[\"&i_Location&\"]\"),MATCH(1,--(BD170=INDIRECT(\"T_NAV_\"&i_Location&\"[No.]\"))*--((INDIRECT(\"T_NAV_\"&i_Location&\"[\"&i_Location&\"]\"))<>\"\"),0))/IF(AND(BR170=\"METRE\",BH170<>\"\",BS170=\"\"),BH170,1),\"\")","v":""},"","","",null,null,{"$f":"IFERROR(IF(AY170=\"SHOW\",IF(AND(OR(BQ170=\"ROLL\",BQ170=\"LENGTH\"),BW170>0),ROUNDUP(BW170/CJ170/#REF!,0)*#REF!,IF(BQ170=\"METRE\",#REF!*ROUNDUP(((BW170*BM170)/1000)/#REF!,0),#REF!*ROUNDUP(BW170/#REF!,0))),\"\"),\"\")","v":""},"","",null,{"$f":"IFERROR(INDEX(INDIRECT(\"T_NAV_\"&i_Location&\"[\"&i_Location&\"]\"),MATCH(1,--(BD170=INDIRECT(\"T_NAV_\"&i_Location&\"[No.]\"))*--((INDIRECT(\"T_NAV_\"&i_Location&\"[\"&i_Location&\"]\"))<>\"\"),0)),\"\")","v":""},null,1]
[null,2,1,null,null,null,null,null,null,null,{"$f":"IFERROR(IF(ISBLANK(J171),\"\",IF(FIND(J171,INDIRECT($J$154))>0,1,0)),0)","v":""},null,null,null,null,null,null,null,null,null,null,null,null,null,null,null,null,null,null,null,{"$f":"IFERROR(IF(AND(AA171=\"Y\",PRODUCT(AB171:AD171)=0),o_nScreens,IF(PRODUCT(AB171:AD171)=0,\"\",PRODUCT(AB171:AD171))),\"\")","v":""},null,null,null,null,null,null,null,null,null,null,null,null,null,{"$f":"IF(ISNUMBER(FIND(\"x\",BF171)),IFERROR(INDEX(AI171:AQ171,0,MATCH(AT171,AI171:AQ171,0)),IF(AI171<>\"\",AI171,i_DefaultColour)),\"\")","v":""},null,null,{"$f":"IF(ISNUMBER(FIND(\"x\",BF171)),IFERROR(INDEX(AI171:AQ171,0,MATCH(AT171,AI171:AQ171,0)),AS171),\"\")","v":""},{"$f":"IF(ISNUMBER(FIND(\"x\",BF171)),IFERROR(INDEX(INDIRECT(\"T_FinishColour[ColourCode-\"&IF(ISNUMBER(FIND(\"xxx\",BF171)),\"xxx\",IF(ISNUMBER(FIND(\"xx\",BF171)),\"xx\",\"error\"))&AR171&\"]\"),MATCH(AV171,T_FinishColour[Finish / Colour],0)),\"\"),\"\")","v":""},null,{"$f":"IF(AND(ISBLANK(BD171),ISBLANK(C171)),\"HIDE\",_xlfn.SWITCH(PRODUCT(C171:Z171,B171),2,\"HEADING\",1,\"SHOW\",0,\"HIDE\"))","v":"HEADING"},null,null,null,null,"",null,null,null,null,{"$f":"IF(ISBLANK(BP171),\"\",IF(OR(BP171=L_Units),\"Y\",\"N\"))","v":""},null,{"$f":"IFERROR(IF(BI171=\"Y\",((INDEX(T_Deduc[Deduction],MATCH(BJ171,T_Deduc[Type],0),0))),\"\"),\"\")","v":""},null,"","","",null,{"$f":"IFERROR(IF(ISBLANK(BD171),\"\",INDEX(T_NAV_AU[Unit of Measure],MATCH(BD171,T_NAV_AU[No.],0))),\"\")","v":""},null,null,null,null,"",{"$f":"IF(ISBLANK(BU171),\"\",PRODUCT(AE124,BU171))","v":""},{"$f":"IFERROR(INDEX(INDIRECT(\"T_NAV_\"&i_Location&\"[\"&i_Location&\"]\"),MATCH(1,--(BD171=INDIRECT(\"T_NAV_\"&i_Location&\"[No.]\"))*--((INDIRECT(\"T_NAV_\"&i_Location&\"[\"&i_Location&\"]\"))<>\"\"),0))/IF(AND(BR171=\"METRE\",BH171<>\"\",BS171=\"\"),BH171,1),\"\")","v":""},"","",null,null,null,{"$f":"IFERROR(IF(AY171=\"SHOW\",IF(AND(OR(BQ171=\"ROLL\",BQ171=\"LENGTH\"),BW171>0),ROUNDUP(BW171/CJ171/#REF!,0)*#REF!,IF(BQ171=\"METRE\",#REF!*ROUNDUP(((BW171*BM171)/1000)/#REF!,0),#REF!*ROUNDUP(BW171/#REF!,0))),\"\"),\"\")","v":""},"","",null,{"$f":"IFERROR(INDEX(INDIRECT(\"T_NAV_\"&i_Location&\"[\"&i_Location&\"]\"),MATCH(1,--(BD171=INDIRECT(\"T_NAV_\"&i_Location&\"[No.]\"))*--((INDIRECT(\"T_NAV_\"&i_Location&\"[\"&i_Location&\"]\"))<>\"\"),0)),\"\")","v":""},null,""]
[null,2,1,null,null,null,null,null,null,null,"",null,null,null,null,null,null,null,null,null,null,null,null,null,null,null,null,null,null,null,{"$f":"IFERROR(IF(AND(AA172=\"Y\",PRODUCT(AB172:AD172)=0),o_nScreens,IF(PRODUCT(AB172:AD172)=0,\"\",PRODUCT(AB172:AD172))),\"\")","v":""},null,null,null,null,null,null,null,null,null,null,null,null,null,"",null,null,"",{"$f":"IF(ISNUMBER(FIND(\"x\",BF172)),IFERROR(INDEX(INDIRECT(\"T_FinishColour[ColourCode-\"&IF(ISNUMBER(FIND(\"xxx\",BF172)),\"xxx\",IF(ISNUMBER(FIND(\"xx\",BF172)),\"xx\",\"error\"))&AR172&\"]\"),MATCH(AV172,T_FinishColour[Finish / Colour],0)),\"\"),\"\")","v":""},null,{"$f":"IF(AND(ISBLANK(BD172),ISBLANK(C172)),\"HIDE\",_xlfn.SWITCH(PRODUCT(C172:Z172,B172),2,\"HEADING\",1,\"SHOW\",0,\"HIDE\"))","v":"HEADING"},null,null,null,null,"FABRIC",null,"FABRIC",null,null,null,null,{"$f":"IFERROR(IF(BI172=\"Y\",((INDEX(T_Deduc[Deduction],MATCH(BJ172,T_Deduc[Type],0),0))),\"\"),\"\")","v":""},null,"","","",null,{"$f":"IFERROR(IF(ISBLANK(BD172),\"\",INDEX(T_NAV_AU[Unit of Measure],MATCH(BD172,T_NAV_AU[No.],0))),\"\")","v":""},null,null,null,null,null,null,null,"","",null,null,null,{"$f":"IFERROR(IF(AY172=\"SHOW\",IF(AND(OR(BQ172=\"ROLL\",BQ172=\"LENGTH\"),BW172>0),ROUNDUP(BW172/CJ172/#REF!,0)*#REF!,IF(BQ172=\"METRE\",#REF!*ROUNDUP(((BW172*BM172)/1000)/#REF!,0),#REF!*ROUNDUP(BW172/#REF!,0))),\"\"),\"\")","v":""},"","",null,{"$f":"IFERROR(INDEX(INDIRECT(\"T_NAV_\"&i_Location&\"[\"&i_Location&\"]\"),MATCH(1,--(BD172=INDIRECT(\"T_NAV_\"&i_Location&\"[No.]\"))*--((INDIRECT(\"T_NAV_\"&i_Location&\"[\"&i_Location&\"]\"))<>\"\"),0)),\"\")","v":""},null,""]
[null,2,1,null,null,null,null,null,null,null,"",null,null,null,null,null,null,null,null,null,null,null,null,null,null,null,null,null,null,null,{"$f":"IFERROR(IF(AND(AA173=\"Y\",PRODUCT(AB173:AD173)=0),o_nScreens,IF(PRODUCT(AB173:AD173)=0,\"\",PRODUCT(AB173:AD173))),\"\")","v":""},null,null,null,null,null,null,null,null,null,null,null,null,null,"",null,null,"",{"$f":"IF(ISNUMBER(FIND(\"x\",BF173)),IFERROR(INDEX(INDIRECT(\"T_FinishColour[ColourCode-\"&IF(ISNUMBER(FIND(\"xxx\",BF173)),\"xxx\",IF(ISNUMBER(FIND(\"xx\",BF173)),\"xx\",\"error\"))&AR173&\"]\"),MATCH(AV173,T_FinishColour[Finish / Colour],0)),\"\"),\"\")","v":""},null,{"$f":"IF(AND(ISBLANK(BD173),ISBLANK(C173)),\"HIDE\",_xlfn.SWITCH(PRODUCT(C173:Z173,B173),2,\"HEADING\",1,\"SHOW\",0,\"HIDE\"))","v":"HEADING"},null,null,null,null,"NOT SUPPLIED",null,null,"Fabric Width",null,{"$f":"IF(ISBLANK(BP173),\"\",IF(OR(BP173=L_Units),\"Y\",\"N\"))","v":{"$error":"#N/A"}},"Fabric",{"$f":"IFERROR(IF(BI173=\"Y\",((INDEX(T_Deduc[Deduction],MATCH(BJ173,T_Deduc[Type],0),0))),\"\"),\"\")","v":""},"o_widthmm","","","",{"$f":"INDEX(T_UnitSelection[Units],MATCH(i_Units,T_UnitSelection[UnitSelection],0))","v":{"$error":"#N/A"}},{"$f":"IFERROR(IF(ISBLANK(BD173),\"\",INDEX(T_NAV_AU[Unit of Measure],MATCH(BD173,T_NAV_AU[No.],0))),\"\")","v":""},null,null,null,1,{"$f":"IF(ISBLANK(BU173),\"\",PRODUCT(AE173,BU173))","v":1},{"$f":"IF(ISBLANK(BU173),\"\",PRODUCT(AE173,BU173,i_systemQTY))","v":1},{"$f":"IFERROR(INDEX(INDIRECT(\"T_NAV_\"&i_Location&\"[\"&i_Location&\"]\"),MATCH(1,--(BD173=INDIRECT(\"T_NAV_\"&i_Location&\"[No.]\"))*--((INDIRECT(\"T_NAV_\"&i_Location&\"[\"&i_Location&\"]\"))<>\"\"),0))/IF(AND(BR173=\"METRE\",BH173<>\"\",BS173=\"\"),BH173,1),\"\")","v":""},"","",{"$f":"IFERROR(IF(BY173<>\"\",BY173-BZ173,\"\"),\"\")","v":""},null,null,{"$f":"IFERROR(IF(AY173=\"SHOW\",IF(AND(OR(BQ173=\"ROLL\",BQ173=\"LENGTH\"),BW173>0),ROUNDUP(BW173/CJ173/#REF!,0)*#REF!,IF(BQ173=\"METRE\",#REF!*ROUNDUP(((BW173*BM173)/1000)/#REF!,0),#REF!*ROUNDUP(BW173/#REF!,0))),\"\"),\"\")","v":""},"","",null,{"$f":"IFERROR(INDEX(INDIRECT(\"T_NAV_\"&i_Location&\"[\"&i_Location&\"]\"),MATCH(1,--(BD173=INDIRECT(\"T_NAV_\"&i_Location&\"[No.]\"))*--((INDIRECT(\"T_NAV_\"&i_Location&\"[\"&i_Location&\"]\"))<>\"\"),0)),\"\")","v":""},null,1]
[null,2,1,null,null,null,null,null,null,null,"",null,null,null,null,null,null,null,null,null,null,null,null,null,null,null,null,null,null,null,{"$f":"IFERROR(IF(AND(AA174=\"Y\",PRODUCT(AB174:AD174)=0),o_nScreens,IF(PRODUCT(AB174:AD174)=0,\"\",PRODUCT(AB174:AD174))),\"\")","v":""},null,null,null,null,null,null,null,null,null,null,null,null,null,"",null,null,"",{"$f":"IF(ISNUMBER(FIND(\"x\",BF174)),IFERROR(INDEX(INDIRECT(\"T_FinishColour[ColourCode-\"&IF(ISNUMBER(FIND(\"xxx\",BF174)),\"xxx\",IF(ISNUMBER(FIND(\"xx\",BF174)),\"xx\",\"error\"))&AR174&\"]\"),MATCH(AV174,T_FinishColour[Finish / Colour],0)),\"\"),\"\")","v":""},null,{"$f":"IF(AND(ISBLANK(BD174),ISBLANK(C174)),\"HIDE\",_xlfn.SWITCH(PRODUCT(C174:Z174,B174),2,\"HEADING\",1,\"SHOW\",0,\"HIDE\"))","v":"HEADING"},null,null,null,null,null,null,null,"Fabric Drop",null,{"$f":"IF(ISBLANK(BP174),\"\",IF(OR(BP174=L_Units),\"Y\",\"N\"))","v":{"$error":"#N/A"}},"FabricDrop",{"$f":"IFERROR(IF(BI174=\"Y\",((INDEX(T_Deduc[Deduction],MATCH(BJ174,T_Deduc[Type],0),0))),\"\"),\"\")","v":""},"o_dropmm","","","",{"$f":"INDEX(T_UnitSelection[Units],MATCH(i_Units,T_UnitSelection[UnitSelection],0))","v":{"$error":"#N/A"}},{"$f":"IFERROR(IF(ISBLANK(BD174),\"\",INDEX(T_NAV_AU[Unit of Measure],MATCH(BD174,T_NAV_AU[No.],0))),\"\")","v":""},null,null,null,null,null,null,{"$f":"IFERROR(INDEX(INDIRECT(\"T_NAV_\"&i_Location&\"[\"&i_Location&\"]\"),MATCH(1,--(BD174=INDIRECT(\"T_NAV_\"&i_Location&\"[No.]\"))*--((INDIRECT(\"T_NAV_\"&i_Location&\"[\"&i_Location&\"]\"))<>\"\"),0))/IF(AND(BR174=\"METRE\",BH174<>\"\",BS174=\"\"),BH174,1),\"\")","v":""},"","","",null,null,{"$f":"IFERROR(IF(AY174=\"SHOW\",IF(AND(OR(BQ174=\"ROLL\",BQ174=\"LENGTH\"),BW174>0),ROUNDUP(BW174/CJ174/#REF!,0)*#REF!,IF(BQ174=\"METRE\",#REF!*ROUNDUP(((BW174*BM174)/1000)/#REF!,0),#REF!*ROUNDUP(BW174/#REF!,0))),\"\"),\"\")","v":""},"","",null,{"$f":"IFERROR(INDEX(INDIRECT(\"T_NAV_\"&i_Location&\"[\"&i_Location&\"]\"),MATCH(1,--(BD174=INDIRECT(\"T_NAV_\"&i_Location&\"[No.]\"))*--((INDIRECT(\"T_NAV_\"&i_Location&\"[\"&i_Location&\"]\"))<>\"\"),0)),\"\")","v":""},null,""]
[null,null,null,null,{"$f":"IFERROR(IF(ISBLANK(D175),\"\",IF(FIND(D175,INDIRECT($D$154))>0,1,0)),0)","v":""},"Zipscreen",{"$f":"IFERROR(IF(ISBLANK(F175),\"\",IF(FIND(F175,INDIRECT($F$154))>0,1,0)),0)","v":0},null,{"$f":"IFERROR(IF(ISBLANK(H175),\"\",IF(FIND(H175,INDIRECT($H$154))>0,1,0)),0)","v":""},null,"",null,{"$f":"IFERROR(IF(ISBLANK(L175),\"\",IF(FIND(L175,INDIRECT($L$154))>0,1,0)),0)","v":""},null,{"$f":"IFERROR(IF(ISBLANK(N175),\"\",IF(FIND(N175,INDIRECT($N$154))>0,1,0)),0)","v":""},null,null,null,null,null,null,null,null,null,null,null,null,null,null,null,{"$f":"IFERROR(IF(AND(AA175=\"Y\",PRODUCT(AB175:AD175)=0),o_nScreens,IF(PRODUCT(AB175:AD175)=0,\"\",PRODUCT(AB175:AD175))),\"\")","v":""},null,null,null,null,null,null,null,null,null,null,null,null,"AU","",null,null,"",{"$f":"IF(ISNUMBER(FIND(\"x\",BF175)),IFERROR(INDEX(INDIRECT(\"T_FinishColour[ColourCode-\"&IF(ISNUMBER(FIND(\"xxx\",BF175)),\"xxx\",IF(ISNUMBER(FIND(\"xx\",BF175)),\"xx\",\"error\"))&AR175&\"]\"),MATCH(AV175,T_FinishColour[Finish / Colour],0)),\"\"),\"\")","v":""},null,{"$f":"IF(AND(ISBLANK(BD175),ISBLANK(C175)),\"HIDE\",_xlfn.SWITCH(PRODUCT(C175:Z175,B175),2,\"HEADING\",1,\"SHOW\",0,\"HIDE\"))","v":"HIDE"},null,null,"GL",null,{"$f":"_xlfn.IFNA(SUBSTITUTE(IF(AR175=\"AU\",SUBSTITUTE(BF175,\"xxx\",AW175),SUBSTITUTE(SUBSTITUTE(BF175,\"xx\",AW175),\"x\",\"\")),\"LLL\",\"200\"),BF175)","v":"SH91-0135-050200"},null,"SH91-0135-050200","Zip No. 6 Gauge, Double Sided | 200m Roll (Sides)",1,{"$f":"IF(ISBLANK(BP175),\"\",IF(OR(BP175=L_Units),\"Y\",\"N\"))","v":{"$error":"#N/A"}},"FabricDrop",{"$f":"IFERROR(IF(BI175=\"Y\",((INDEX(T_Deduc[Deduction],MATCH(BJ175,T_Deduc[Type],0),0))),\"\"),\"\")","v":""},"o_dropmm","","","",{"$f":"INDEX(T_UnitSelection[Units],MATCH(i_Units,T_UnitSelection[UnitSelection],0))","v":{"$error":"#N/A"}},{"$f":"IFERROR(IF(ISBLANK(BD175),\"\",INDEX(T_NAV_AU[Unit of Measure],MATCH(BD175,T_NAV_AU[No.],0))),\"\")","v":"METRE"},null,null,"HW",1,{"$f":"IF(ISBLANK(BU175),\"\",PRODUCT(AE175,BU175))","v":1},{"$f":"IF(ISBLANK(BU175),\"\",PRODUCT(AE175,BU175,i_systemQTY))","v":1},{"$f":"IFERROR(INDEX(INDIRECT(\"T_NAV_\"&i_Location&\"[\"&i_Location&\"]\"),MATCH(1,--(BD175=INDIRECT(\"T_NAV_\"&i_Location&\"[No.]\"))*--((INDIRECT(\"T_NAV_\"&i_Location&\"[\"&i_Location&\"]\"))<>\"\"),0))/IF(AND(BR175=\"METRE\",BH175<>\"\",BS175=\"\"),BH175,1),\"\")","v":""},"","","",null,null,{"$f":"IFERROR(IF(AY175=\"SHOW\",IF(AND(OR(BQ175=\"ROLL\",BQ175=\"LENGTH\"),BW175>0),ROUNDUP(BW175/CJ175/#REF!,0)*#REF!,IF(BQ175=\"METRE\",#REF!*ROUNDUP(((BW175*BM175)/1000)/#REF!,0),#REF!*ROUNDUP(BW175/#REF!,0))),\"\"),\"\")","v":""},"","",null,{"$f":"IFERROR(INDEX(INDIRECT(\"T_NAV_\"&i_Location&\"[\"&i_Location&\"]\"),MATCH(1,--(BD175=INDIRECT(\"T_NAV_\"&i_Location&\"[No.]\"))*--((INDIRECT(\"T_NAV_\"&i_Location&\"[\"&i_Location&\"]\"))<>\"\"),0)),\"\")","v":""},null,1]
[null,null,null,"63 AL",{"$f":"IFERROR(IF(ISBLANK(D176),\"\",IF(FIND(D176,INDIRECT($D$154))>0,1,0)),0)","v":0},null,{"$f":"IFERROR(IF(ISBLANK(F176),\"\",IF(FIND(F176,INDIRECT($F$154))>0,1,0)),0)","v":""},null,{"$f":"IFERROR(IF(ISBLANK(H176),\"\",IF(FIND(H176,INDIRECT($H$154))>0,1,0)),0)","v":""},null,{"$f":"IFERROR(IF(ISBLANK(J176),\"\",IF(FIND(J176,INDIRECT($J$154))>0,1,0)),0)","v":""},"US",{"$f":"IFERROR(IF(ISBLANK(L176),\"\",IF(FIND(L176,INDIRECT($L$154))>0,1,0)),0)","v":0},null,{"$f":"IFERROR(IF(ISBLANK(N176),\"\",IF(FIND(N176,INDIRECT($N$154))>0,1,0)),0)","v":""},null,null,null,null,null,null,null,null,null,null,null,null,null,null,null,{"$f":"IFERROR(IF(AND(AA176=\"Y\",PRODUCT(AB176:AD176)=0),o_nScreens,IF(PRODUCT(AB176:AD176)=0,\"\",PRODUCT(AB176:AD176))),\"\")","v":""},null,null,null,null,null,null,null,null,null,null,null,null,"AU","",null,null,"",{"$f":"IF(ISNUMBER(FIND(\"x\",BF176)),IFERROR(INDEX(INDIRECT(\"T_FinishColour[ColourCode-\"&IF(ISNUMBER(FIND(\"xxx\",BF176)),\"xxx\",IF(ISNUMBER(FIND(\"xx\",BF176)),\"xx\",\"error\"))&AR176&\"]\"),MATCH(AV176,T_FinishColour[Finish / Colour],0)),\"\"),\"\")","v":""},null,{"$f":"IF(AND(ISBLANK(BD176),ISBLANK(C176)),\"HIDE\",_xlfn.SWITCH(PRODUCT(C176:Z176,B176),2,\"HEADING\",1,\"SHOW\",0,\"HIDE\"))","v":"HIDE"},null,null,null,null,{"$f":"_xlfn.IFNA(SUBSTITUTE(IF(AR176=\"AU\",SUBSTITUTE(BF176,\"xxx\",AW176),SUBSTITUTE(SUBSTITUTE(BF176,\"xx\",AW176),\"x\",\"\")),\"LLL\",\"200\"),BF176)","v":"SH91-0135-050200"},null,"SH91-0135-050200","Zip No. 6 Gauge, Double Sided | 200m Roll (Welded to top)",1,{"$f":"IF(ISBLANK(BP176),\"\",IF(OR(BP176=L_Units),\"Y\",\"N\"))","v":{"$error":"#N/A"}},"TubeSpline",{"$f":"IFERROR(IF(BI176=\"Y\",((INDEX(T_Deduc[Deduction],MATCH(BJ176,T_Deduc[Type],0),0))),\"\"),\"\")","v":""},"o_widthmm",{"$f":"IFERROR(IF(BI176=\"Y\",INDIRECT(BL176)-BK176,\"\"),\"\")","v":""},{"$f":"IFERROR(IF(BI176=\"Y\",BM176,\"\"),\"\")","v":""},{"$f":"IFERROR(IF(BI176=\"Y\",TEXT(BM176/25.4,\"0\"&IF(ABS(BM176/25.4-ROUND(BM176/25.4,0))>1/32,\"-0/\"&CHOOSE(ROUND(MOD(BM176/25.4,1)*16,0),16,8,16,4,16,8,16,2,16,8,16,4,16,8,16),\"\")),\"\"),\"\")","v":""},{"$f":"INDEX(T_UnitSelection[Units],MATCH(i_Units,T_UnitSelection[UnitSelection],0))","v":{"$error":"#N/A"}},{"$f":"IFERROR(IF(ISBLANK(BD176),\"\",INDEX(T_NAV_AU[Unit of Measure],MATCH(BD176,T_NAV_AU[No.],0))),\"\")","v":"METRE"},null,null,"HW",0.5,{"$f":"IF(ISBLANK(BU176),\"\",PRODUCT(AE176,BU176))","v":0.5},{"$f":"IF(ISBLANK(BU176),\"\",PRODUCT(AE176,BU176,i_systemQTY))","v":0.5},{"$f":"IFERROR(INDEX(INDIRECT(\"T_NAV_\"&i_Location&\"[\"&i_Location&\"]\"),MATCH(1,--(BD176=INDIRECT(\"T_NAV_\"&i_Location&\"[No.]\"))*--((INDIRECT(\"T_NAV_\"&i_Location&\"[\"&i_Location&\"]\"))<>\"\"),0))/IF(AND(BR176=\"METRE\",BH176<>\"\",BS176=\"\"),BH176,1),\"\")","v":""},"",{"$f":"IF(BY176<>\"\",(INDIRECT(\"i_\"&BT176&\"discount\"))*BY176,\"\")","v":""},"",null,null,{"$f":"IFERROR(IF(AY176=\"SHOW\",IF(AND(OR(BQ176=\"ROLL\",BQ176=\"LENGTH\"),BW176>0),ROUNDUP(BW176/CJ176/#REF!,0)*#REF!,IF(BQ176=\"METRE\",#REF!*ROUNDUP(((BW176*BM176)/1000)/#REF!,0),#REF!*ROUNDUP(BW176/#REF!,0))),\"\"),\"\")","v":""},{"$f":"IF(CD176<>\"\",CD176&\"x \"&BQ176&IF(CD176>1,\"S\",\"\"),\"\")","v":""},"",null,{"$f":"IFERROR(INDEX(INDIRECT(\"T_NAV_\"&i_Location&\"[\"&i_Location&\"]\"),MATCH(1,--(BD176=INDIRECT(\"T_NAV_\"&i_Location&\"[No.]\"))*--((INDIRECT(\"T_NAV_\"&i_Location&\"[\"&i_Location&\"]\"))<>\"\"),0)),\"\")","v":""},null,{"$f":"IFERROR(IF(ISBLANK(BU176),\"\",IF(OR(BQ176=\"ROLL\",BQ176=\"LENGTH\"),ROUNDDOWN((BH176*1000)/(BM176+CutTol),0),PRODUCT(AE151,BU176))),\"\")","v":0.5}]
[null,null,null,"!63 AL",{"$f":"IFERROR(IF(ISBLANK(D177),\"\",IF(FIND(MID(D177,2,50),INDIRECT($D$154))>0,0,1)),1)","v":1},null,{"$f":"IFERROR(IF(ISBLANK(F177),\"\",IF(FIND(F177,INDIRECT($F$154))>0,1,0)),0)","v":""},null,{"$f":"IFERROR(IF(ISBLANK(H177),\"\",IF(FIND(H177,INDIRECT($H$154))>0,1,0)),0)","v":""},null,{"$f":"IFERROR(IF(ISBLANK(J177),\"\",IF(FIND(J177,INDIRECT($J$154))>0,1,0)),0)","v":""},null,null,null,{"$f":"IFERROR(IF(ISBLANK(N177),\"\",IF(FIND(N177,INDIRECT($N$154))>0,1,0)),0)","v":""},null,null,null,null,null,null,null,null,null,null,null,null,null,null,null,{"$f":"IFERROR(IF(AND(AA177=\"Y\",PRODUCT(AB177:AD177)=0),o_nScreens,IF(PRODUCT(AB177:AD177)=0,\"\",PRODUCT(AB177:AD177))),\"\")","v":""},null,null,null,null,null,null,null,null,null,null,null,null,null,"",null,null,"",{"$f":"IF(ISNUMBER(FIND(\"x\",BF177)),IFERROR(INDEX(INDIRECT(\"T_FinishColour[ColourCode-\"&IF(ISNUMBER(FIND(\"xxx\",BF177)),\"xxx\",IF(ISNUMBER(FIND(\"xx\",BF177)),\"xx\",\"error\"))&AR177&\"]\"),MATCH(AV177,T_FinishColour[Finish / Colour],0)),\"\"),\"\")","v":""},null,{"$f":"IF(AND(ISBLANK(BD177),ISBLANK(C177)),\"HIDE\",_xlfn.SWITCH(PRODUCT(C177:Z177,B177),2,\"HEADING\",1,\"SHOW\",0,\"HIDE\"))","v":"SHOW"},null,null,"GL",null,{"$f":"_xlfn.IFNA(SUBSTITUTE(IF(AR177=\"AU\",SUBSTITUTE(BF177,\"xxx\",AW177),SUBSTITUTE(SUBSTITUTE(BF177,\"xx\",AW177),\"x\",\"\")),\"LLL\",\"015\"),BF177)","v":"SB91-0409-050015"},null,"SB91-0409-050015","7mm Fabric spline with 15mm tail | 100m Roll (Top/Bottom)",100,{"$f":"IF(ISBLANK(BP177),\"\",IF(OR(BP177=L_Units),\"Y\",\"N\"))","v":{"$error":"#N/A"}},"TubeSpline",{"$f":"IFERROR(IF(BI177=\"Y\",((INDEX(T_Deduc[Deduction],MATCH(BJ177,T_Deduc[Type],0),0))),\"\"),\"\")","v":""},"o_widthmm",{"$f":"IFERROR(IF(BI177=\"Y\",INDIRECT(BL177)-BK177,\"\"),\"\")","v":""},{"$f":"IFERROR(IF(BI177=\"Y\",BM177,\"\"),\"\")","v":""},{"$f":"IFERROR(IF(BI177=\"Y\",TEXT(BM177/25.4,\"0\"&IF(ABS(BM177/25.4-ROUND(BM177/25.4,0))>1/32,\"-0/\"&CHOOSE(ROUND(MOD(BM177/25.4,1)*16,0),16,8,16,4,16,8,16,2,16,8,16,4,16,8,16),\"\")),\"\"),\"\")","v":""},{"$f":"INDEX(T_UnitSelection[Units],MATCH(i_Units,T_UnitSelection[UnitSelection],0))","v":{"$error":"#N/A"}},{"$f":"IFERROR(IF(ISBLANK(BD177),\"\",INDEX(T_NAV_AU[Unit of Measure],MATCH(BD177,T_NAV_AU[No.],0))),\"\")","v":"ROLL"},"METRE",null,"HW",2,{"$f":"IF(ISBLANK(BU177),\"\",PRODUCT(AE177,BU177))","v":2},{"$f":"IF(ISBLANK(BU177),\"\",PRODUCT(AE177,BU177,i_systemQTY))","v":2},{"$f":"IFERROR(INDEX(INDIRECT(\"T_NAV_\"&i_Location&\"[\"&i_Location&\"]\"),MATCH(1,--(BD177=INDIRECT(\"T_NAV_\"&i_Location&\"[No.]\"))*--((INDIRECT(\"T_NAV_\"&i_Location&\"[\"&i_Location&\"]\"))<>\"\"),0))/IF(AND(BR177=\"METRE\",BH177<>\"\",BS177=\"\"),BH177,1),\"\")","v":""},{"$f":"IFERROR(IF(AND(AY177=\"SHOW\",BX177<>\"\"),BX177*BW177*IF(AND(BN177<>\"\",OR(BQ177=\"LENGTH\",BQ177=\"METRE\",BQ177=\"ROLL\")),(BM177/1000),1),\"\"),\"\")","v":""},{"$f":"IF(BY177<>\"\",(INDIRECT(\"i_\"&BT177&\"discount\"))*BY177,\"\")","v":""},"",null,null,{"$f":"IFERROR(IF(AY177=\"SHOW\",IF(AND(OR(BQ177=\"ROLL\",BQ177=\"LENGTH\"),BW177>0),ROUNDUP(BW177/CJ177/#REF!,0)*#REF!,IF(BQ177=\"METRE\",#REF!*ROUNDUP(((BW177*BM177)/1000)/#REF!,0),#REF!*ROUNDUP(BW177/#REF!,0))),\"\"),\"\")","v":""},{"$f":"IF(CD177<>\"\",CD177&\"x \"&BQ177&IF(CD177>1,\"S\",\"\"),\"\")","v":""},"",null,{"$f":"IFERROR(INDEX(INDIRECT(\"T_NAV_\"&i_Location&\"[\"&i_Location&\"]\"),MATCH(1,--(BD177=INDIRECT(\"T_NAV_\"&i_Location&\"[No.]\"))*--((INDIRECT(\"T_NAV_\"&i_Location&\"[\"&i_Location&\"]\"))<>\"\"),0)),\"\")","v":""},null,{"$f":"IFERROR(IF(ISBLANK(BU177),\"\",IF(OR(BQ177=\"ROLL\",BQ177=\"LENGTH\"),ROUNDDOWN((BH177*1000)/(BM177+CutTol),0),PRODUCT(AE155,BU177))),\"\")","v":""}]
[null,null,null,null,{"$f":"IFERROR(IF(ISBLANK(D178),\"\",IF(FIND(D178,INDIRECT($D$129))>0,1,0)),0)","v":""},null,{"$f":"IFERROR(IF(ISBLANK(F178),\"\",IF(FIND(F178,INDIRECT($F$129))>0,1,0)),0)","v":""},null,{"$f":"IFERROR(IF(ISBLANK(H178),\"\",IF(FIND(H178,INDIRECT($H$129))>0,1,0)),0)","v":""},null,{"$f":"IFERROR(IF(ISBLANK(J178),\"\",IF(FIND(J178,INDIRECT($J$129))>0,1,0)),0)","v":""},null,{"$f":"IFERROR(IF(ISBLANK(L178),\"\",IF(FIND(L178,INDIRECT($L$129))>0,1,0)),0)","v":""},null,null,null,null,null,null,null,null,null,null,null,null,null,null,null,null,null,{"$f":"IFERROR(IF(AND(AA178=\"Y\",PRODUCT(AB178:AD178)=0),o_nScreens,IF(PRODUCT(AB178:AD178)=0,\"\",PRODUCT(AB178:AD178))),\"\")","v":""},null,null,null,null,null,null,null,null,null,null,null,null,null,"",0,null,"",{"$f":"IF(ISNUMBER(FIND(\"x\",BF178)),IFERROR(INDEX(INDIRECT(\"T_FinishColour[ColourCode-\"&IF(ISNUMBER(FIND(\"xxx\",BF178)),\"xxx\",IF(ISNUMBER(FIND(\"xx\",BF178)),\"xx\",\"error\"))&AR178&\"]\"),MATCH(AV178,T_FinishColour[Finish / Colour],0)),\"\"),\"\")","v":""},null,{"$f":"IF(AND(ISBLANK(BD178),ISBLANK(C178)),\"HIDE\",_xlfn.SWITCH(PRODUCT(C178:Z178,B178),2,\"HEADING\",1,\"SHOW\",0,\"HIDE\"))","v":"HIDE"},null,null,null,null,{"$f":"_xlfn.IFNA(SUBSTITUTE(IF(AR178=\"AU\",SUBSTITUTE(BF178,\"xxx\",AW178),SUBSTITUTE(SUBSTITUTE(BF178,\"xx\",AW178),\"x\",\"\")),\"LLL\",\"015\"),BF178)","v":"SB91-0408-001015"},null,"SB91-0408-001015","7.2mm PVC spline with 15mm tail | 100m Rolls",100,{"$f":"IF(ISBLANK(BP178),\"\",IF(OR(BP178=L_Units),\"Y\",\"N\"))","v":{"$error":"#N/A"}},"wbSpline",{"$f":"IFERROR(IF(BI178=\"Y\",((INDEX(T_Deduc[Deduction],MATCH(BJ178,T_Deduc[Type],0),0))),\"\"),\"\")","v":""},"o_widthmm",{"$f":"IFERROR(IF(BI178=\"Y\",INDIRECT(BL178)-BK178,\"\"),\"\")","v":""},{"$f":"IFERROR(IF(BI178=\"Y\",BM178,\"\"),\"\")","v":""},{"$f":"IFERROR(IF(BI178=\"Y\",TEXT(BM178/25.4,\"0\"&IF(ABS(BM178/25.4-ROUND(BM178/25.4,0))>1/32,\"-0/\"&CHOOSE(ROUND(MOD(BM178/25.4,1)*16,0),16,8,16,4,16,8,16,2,16,8,16,4,16,8,16),\"\")),\"\"),\"\")","v":""},{"$f":"INDEX(T_UnitSelection[Units],MATCH(i_Units,T_UnitSelection[UnitSelection],0))","v":{"$error":"#N/A"}},{"$f":"IFERROR(IF(ISBLANK(BD178),\"\",INDEX(T_NAV_AU[Unit of Measure],MATCH(BD178,T_NAV_AU[No.],0))),\"\")","v":"ROLL"},"METRE",null,"HW",1,{"$f":"IF(ISBLANK(BU178),\"\",PRODUCT(AE178,BU178))","v":1},{"$f":"IF(ISBLANK(BU178),\"\",PRODUCT(AE178,BU178,i_systemQTY))","v":1},{"$f":"IFERROR(INDEX(INDIRECT(\"T_NAV_\"&i_Location&\"[\"&i_Location&\"]\"),MATCH(1,--(BD178=INDIRECT(\"T_NAV_\"&i_Location&\"[No.]\"))*--((INDIRECT(\"T_NAV_\"&i_Location&\"[\"&i_Location&\"]\"))<>\"\"),0))/IF(AND(BR178=\"METRE\",BH178<>\"\",BS178=\"\"),BH178,1),\"\")","v":""},"",{"$f":"IF(BY178<>\"\",(INDIRECT(\"i_\"&BT178&\"discount\"))*BY178,\"\")","v":""},"",null,null,{"$f":"IFERROR(IF(AY178=\"SHOW\",IF(AND(OR(BQ178=\"ROLL\",BQ178=\"LENGTH\"),BW178>0),ROUNDUP(BW178/CJ178/#REF!,0)*#REF!,IF(BQ178=\"METRE\",#REF!*ROUNDUP(((BW178*BM178)/1000)/#REF!,0),#REF!*ROUNDUP(BW178/#REF!,0))),\"\"),\"\")","v":""},{"$f":"IF(CD178<>\"\",CD178&\"x \"&BQ178&IF(CD178>1,\"S\",\"\"),\"\")","v":""},"",null,{"$f":"IFERROR(INDEX(INDIRECT(\"T_NAV_\"&i_Location&\"[\"&i_Location&\"]\"),MATCH(1,--(BD178=INDIRECT(\"T_NAV_\"&i_Location&\"[No.]\"))*--((INDIRECT(\"T_NAV_\"&i_Location&\"[\"&i_Location&\"]\"))<>\"\"),0)),\"\")","v":""},null,{"$f":"IFERROR(IF(ISBLANK(BU178),\"\",IF(OR(BQ178=\"ROLL\",BQ178=\"LENGTH\"),ROUNDDOWN((BH178*1000)/(BM178+CutTol),0),PRODUCT(#REF!,BU178))),\"\")","v":""}]
[null,2,1,null,null,null,null,null,null,null,"",null,null,null,null,null,null,null,null,null,null,null,null,null,null,null,null,null,null,null,null,null,null,null,null,null,null,null,null,null,null,null,null,null,null,null,null,null,null,null,{"$f":"IF(AND(ISBLANK(BD179),ISBLANK(C179)),\"HIDE\",_xlfn.SWITCH(PRODUCT(C179:Z179,B179),2,\"HEADING\",1,\"SHOW\",0,\"HIDE\"))","v":"HEADING"},null,null,null,null,null,null,null,null,null,null,null,null,null,null,null,null,null,null,null,null,null,null,null,null,null,null,null,null,null,null,null,null,null,null,{"$f":"IFERROR(IF(BQ179=\"LENGTH\",INDEX(INDIRECT(\"T_NAV[\"&i_Location&\"]\"),MATCH(1,--(BD179=T_NAV_AU[No.])*--((INDIRECT(\"T_NAV[\"&i_Location&\"]\"))<>\"\"),0)),\"\"),\"\")","v":""}]
[null,2,1,null,null,null,null,null,null,null,"",null,null,null,null,null,null,null,null,null,null,null,null,null,null,null,null,null,null,null,null,null,null,null,null,null,null,null,null,null,null,null,null,null,null,null,null,null,null,null,{"$f":"IF(AND(ISBLANK(BD180),ISBLANK(C180)),\"HIDE\",_xlfn.SWITCH(PRODUCT(C180:Z180,B180),2,\"HEADING\",1,\"SHOW\",0,\"HIDE\"))","v":"HEADING"},null,null,null,null,null,null,"CUSTOM NOTES"]
[null,null,1,null,null,null,null,null,null,null,"",null,null,null,null,null,null,null,null,null,null,null,null,null,null,null,null,null,null,null,null,null,null,null,null,null,null,null,null,null,null,null,null,null,null,null,null,null,null,null,{"$f":"IF(AND(ISBLANK(BD181),ISBLANK(C181)),\"HIDE\",_xlfn.SWITCH(PRODUCT(C181:Z181,B181),2,\"HEADING\",1,\"SHOW\",0,\"HIDE\"))","v":"SHOW"}]
[null,null,1,null,null,null,null,null,null,null,"",null,null,null,null,null,null,null,null,null,null,null,null,null,null,null,null,null,null,null,null,null,null,null,null,null,null,null,null,null,null,null,null,null,null,null,null,null,null,null,{"$f":"IF(AND(ISBLANK(BD182),ISBLANK(C182)),\"HIDE\",_xlfn.SWITCH(PRODUCT(C182:Z182,B182),2,\"HEADING\",1,\"SHOW\",0,\"HIDE\"))","v":"SHOW"}]
[null,null,1,null,null,null,null,null,null,null,{"$f":"IFERROR(IF(ISBLANK(J183),\"\",IF(FIND(J183,INDIRECT($J$154))>0,1,0)),0)","v":""},null,null,null,null,null,null,null,null,null,null,null,null,null,null,null,null,null,null,null,null,null,null,null,null,null,null,null,null,null,null,null,null,null,null,null,null,null,null,null,{"$f":"IF(AND(ISBLANK(BD183),ISBLANK(C183)),\"HIDE\",_xlfn.SWITCH(PRODUCT(C183:Z183,B183),2,\"HEADING\",1,\"SHOW\",0,\"HIDE\"))","v":"SHOW"},null,null,null,null,null,null,"Filter Rows:"]
[null,null,1,null,null,null,null,null,null,null,"",null,null,null,null,null,null,null,null,null,null,null,null,null,null,null,null,null,null,null,null,null,null,null,null,null,null,null,null,null,null,null,null,null,null,null,null,null,null,null,{"$f":"IF(AND(ISBLANK(BD184),ISBLANK(C184)),\"HIDE\",_xlfn.SWITCH(PRODUCT(C184:Z184,B184),2,\"HEADING\",1,\"SHOW\",0,\"HIDE\"))","v":"SHOW"},null,null,null,null,null,null,"All"]
[null,null,null,null,null,null,null,null,null,null,null,null,null,null,null,null,null,null,null,null,null,null,null,null,null,null,null,null,null,null,null,null,null,null,null,null,null,null,null,null,null,null,null,null,{"$f":"IF(ISNUMBER(FIND(\"x\",BF185)),IFERROR(INDEX(AI185:AQ185,0,MATCH(AT185,AI185:AQ185,0)),IF(AI185<>\"\",AI185,i_DefaultColour)),\"\")","v":""},null,null,{"$f":"IF(ISNUMBER(FIND(\"x\",BF185)),IFERROR(INDEX(AI185:AQ185,0,MATCH(AT185,AI185:AQ185,0)),AS185),\"\")","v":""},{"$f":"IF(ISNUMBER(FIND(\"x\",BF185)),IFERROR(INDEX(INDIRECT(\"T_FinishColour[ColourCode-\"&IF(ISNUMBER(FIND(\"xxx\",BF185)),\"xxx\",IF(ISNUMBER(FIND(\"xx\",BF185)),\"xx\",\"error\"))&AR185&\"]\"),MATCH(AV185,T_FinishColour[Finish / Colour],0)),\"\"),\"\")","v":""},null,{"$f":"IF(AND(ISBLANK(BD185),ISBLANK(C185)),\"HIDE\",_xlfn.SWITCH(PRODUCT(C185:Z185,B185),2,\"HEADING\",1,\"SHOW\",0,\"HIDE\"))","v":"HIDE"}]
[null,null,null,null,null,null,null,null,null,null,null,null,null,null,null,null,null,null,null,null,null,null,null,null,null,null,null,null,null,null,null,null,null,null,null,null,null,null,null,null,null,null,null,null,{"$f":"IF(ISNUMBER(FIND(\"x\",BF186)),IFERROR(INDEX(AI186:AQ186,0,MATCH(AT186,AI186:AQ186,0)),IF(AI186<>\"\",AI186,i_DefaultColour)),\"\")","v":""},null,null,{"$f":"IF(ISNUMBER(FIND(\"x\",BF186)),IFERROR(INDEX(AI186:AQ186,0,MATCH(AT186,AI186:AQ186,0)),AS186),\"\")","v":""},{"$f":"IF(ISNUMBER(FIND(\"x\",BF186)),IFERROR(INDEX(INDIRECT(\"T_FinishColour[ColourCode-\"&IF(ISNUMBER(FIND(\"xxx\",BF186)),\"xxx\",IF(ISNUMBER(FIND(\"xx\",BF186)),\"xx\",\"error\"))&AR186&\"]\"),MATCH(AV186,T_FinishColour[Finish / Colour],0)),\"\"),\"\")","v":""},null,{"$f":"IF(i_Pricing=\"No\",\"HIDE\",\"SHOW\")","v":"SHOW"}]
[null,null,null,null,null,null,null,null,null,null,null,null,null,null,null,null,null,null,null,null,null,null,null,null,null,null,null,null,null,null,null,null,null,null,null,null,null,null,null,null,null,null,null,null,{"$f":"IF(ISNUMBER(FIND(\"x\",BF184)),IFERROR(INDEX(AI187:AQ187,0,MATCH(AT187,AI187:AQ187,0)),IF(AI187<>\"\",AI187,i_DefaultColour)),\"\")","v":""},null,null,{"$f":"IF(ISNUMBER(FIND(\"x\",BF184)),IFERROR(INDEX(AI187:AQ187,0,MATCH(AT187,AI187:AQ187,0)),AS187),\"\")","v":""},{"$f":"IF(ISNUMBER(FIND(\"x\",BF184)),IFERROR(INDEX(INDIRECT(\"T_FinishColour[ColourCode-\"&IF(ISNUMBER(FIND(\"xxx\",BF184)),\"xxx\",IF(ISNUMBER(FIND(\"xx\",BF184)),\"xx\",\"error\"))&AR187&\"]\"),MATCH(AV187,T_FinishColour[Finish / Colour],0)),\"\"),\"\")","v":""},null,{"$f":"IF(i_Pricing=\"No\",\"HIDE\",\"SHOW\")","v":"SHOW"},null,null,null,null,null,null,null,null,null,null,null,null,null,null,null,null,{"$f":"\"LIST PRICE: (\"&IF(CustomCurrency=\"\",i_Currency,CustomCurrency)&\")\"","v":{"$error":"#N/A"}},null,null,null,null,null,null,{"$f":"SUM(BY16:BY178)*(IF(CustomCurrencyRate<>\"\",CustomCurrencyRate,1))","v":0}]
[null,null,null,null,null,null,null,null,null,null,null,null,null,null,null,null,null,null,null,null,null,null,null,null,null,null,null,null,null,null,null,null,null,null,null,null,null,null,null,null,null,null,null,null,{"$f":"IF(ISNUMBER(FIND(\"x\",#REF!)),IFERROR(INDEX(AI188:AQ188,0,MATCH(AT188,AI188:AQ188,0)),IF(AI188<>\"\",AI188,i_DefaultColour)),\"\")","v":""},null,null,{"$f":"IF(ISNUMBER(FIND(\"x\",#REF!)),IFERROR(INDEX(AI188:AQ188,0,MATCH(AT188,AI188:AQ188,0)),AS188),\"\")","v":""},{"$f":"IF(ISNUMBER(FIND(\"x\",#REF!)),IFERROR(INDEX(INDIRECT(\"T_FinishColour[ColourCode-\"&IF(ISNUMBER(FIND(\"xxx\",#REF!)),\"xxx\",IF(ISNUMBER(FIND(\"xx\",#REF!)),\"xx\",\"error\"))&AR188&\"]\"),MATCH(AV188,T_FinishColour[Finish / Colour],0)),\"\"),\"\")","v":""},null,{"$f":"IF(i_Pricing=\"No\",\"HIDE\",\"SHOW\")","v":"SHOW"},null,null,null,null,null,null,null,null,null,null,null,null,null,null,null,null,{"$f":"\"Discounts Applied: \"","v":"Discounts Applied: "},null,null,null,null,null,null,{"$f":"SUM(BZ16:BZ175)*(IF(CustomCurrencyRate<>\"\",CustomCurrencyRate,1))","v":0}]
[null,null,null,null,null,null,null,null,null,null,null,null,null,null,null,null,null,null,null,null,null,null,null,null,null,null,null,null,null,null,null,null,null,null,null,null,null,null,null,null,null,null,null,null,{"$f":"IF(ISNUMBER(FIND(\"x\",BF189)),IFERROR(INDEX(AI189:AQ189,0,MATCH(AT189,AI189:AQ189,0)),IF(AI189<>\"\",AI189,i_DefaultColour)),\"\")","v":""},null,null,{"$f":"IF(ISNUMBER(FIND(\"x\",BF189)),IFERROR(INDEX(AI189:AQ189,0,MATCH(AT189,AI189:AQ189,0)),AS189),\"\")","v":""},{"$f":"IF(ISNUMBER(FIND(\"x\",BF189)),IFERROR(INDEX(INDIRECT(\"T_FinishColour[ColourCode-\"&IF(ISNUMBER(FIND(\"xxx\",BF189)),\"xxx\",IF(ISNUMBER(FIND(\"xx\",BF189)),\"xx\",\"error\"))&AR189&\"]\"),MATCH(AV189,T_FinishColour[Finish / Colour],0)),\"\"),\"\")","v":""},null,{"$f":"IF(i_Pricing=\"No\",\"HIDE\",\"SHOW\")","v":"SHOW"},null,null,null,null,null,null,null,null,null,null,null,null,null,null,null,null,{"$f":"\"TOTAL ex. GST: (\"&IF(CustomCurrency=\"\",i_Currency,CustomCurrency)&\")\"","v":{"$error":"#N/A"}},null,null,null,null,null,null,{"$f":"BW187-BW188","v":0}]
[null,null,null,null,null,null,null,null,null,null,null,null,null,null,null,null,null,null,null,null,null,null,null,null,null,null,null,null,null,null,null,null,null,null,null,null,null,null,null,null,null,null,null,null,{"$f":"IF(ISNUMBER(FIND(\"x\",BF190)),IFERROR(INDEX(AI190:AQ190,0,MATCH(AT190,AI190:AQ190,0)),IF(AI190<>\"\",AI190,i_DefaultColour)),\"\")","v":""},null,null,{"$f":"IF(ISNUMBER(FIND(\"x\",BF190)),IFERROR(INDEX(AI190:AQ190,0,MATCH(AT190,AI190:AQ190,0)),AS190),\"\")","v":""},{"$f":"IF(ISNUMBER(FIND(\"x\",BF190)),IFERROR(INDEX(INDIRECT(\"T_FinishColour[ColourCode-\"&IF(ISNUMBER(FIND(\"xxx\",BF190)),\"xxx\",IF(ISNUMBER(FIND(\"xx\",BF190)),\"xx\",\"error\"))&AR190&\"]\"),MATCH(AV190,T_FinishColour[Finish / Colour],0)),\"\"),\"\")","v":""},null,"SHOW"]
[null,null,null,null,null,null,null,null,null,null,null,null,null,null,null,null,null,null,null,null,null,null,null,null,null,null,null,null,null,null,null,null,null,null,null,null,null,null,null,null,null,null,null,null,{"$f":"IF(ISNUMBER(FIND(\"x\",#REF!)),IFERROR(INDEX(AI191:AQ191,0,MATCH(AT191,AI191:AQ191,0)),IF(AI191<>\"\",AI191,i_DefaultColour)),\"\")","v":""},null,null,{"$f":"IF(ISNUMBER(FIND(\"x\",#REF!)),IFERROR(INDEX(AI191:AQ191,0,MATCH(AT191,AI191:AQ191,0)),AS191),\"\")","v":""},{"$f":"IF(ISNUMBER(FIND(\"x\",#REF!)),IFERROR(INDEX(INDIRECT(\"T_FinishColour[ColourCode-\"&IF(ISNUMBER(FIND(\"xxx\",#REF!)),\"xxx\",IF(ISNUMBER(FIND(\"xx\",#REF!)),\"xx\",\"error\"))&AR191&\"]\"),MATCH(AV191,T_FinishColour[Finish / Colour],0)),\"\"),\"\")","v":""},null,{"$f":"IF(AND(ISBLANK(BF191),ISBLANK(C191)),\"HIDE\",IF(PRODUCT(C191:Z191)=1,\"SHOW\",\"HIDE\"))","v":"HIDE"}]
[null,null,null,null,null,null,null,null,null,null,null,null,null,null,null,null,null,null,null,null,null,null,null,null,null,null,null,null,null,null,null,null,null,null,null,null,null,null,null,null,null,null,null,null,{"$f":"IF(ISNUMBER(FIND(\"x\",#REF!)),IFERROR(INDEX(AI192:AQ192,0,MATCH(AT192,AI192:AQ192,0)),IF(AI192<>\"\",AI192,i_DefaultColour)),\"\")","v":""},null,null,{"$f":"IF(ISNUMBER(FIND(\"x\",#REF!)),IFERROR(INDEX(AI192:AQ192,0,MATCH(AT192,AI192:AQ192,0)),AS192),\"\")","v":""},{"$f":"IF(ISNUMBER(FIND(\"x\",#REF!)),IFERROR(INDEX(INDIRECT(\"T_FinishColour[ColourCode-\"&IF(ISNUMBER(FIND(\"xxx\",#REF!)),\"xxx\",IF(ISNUMBER(FIND(\"xx\",#REF!)),\"xx\",\"error\"))&AR192&\"]\"),MATCH(AV192,T_FinishColour[Finish / Colour],0)),\"\"),\"\")","v":""},null,"HIDE"]
[null,null,null,null,null,null,null,null,null,null,null,null,null,null,null,null,null,null,null,null,null,null,null,null,null,null,null,null,null,null,null,null,null,null,null,null,null,null,null,null,null,null,null,null,{"$f":"IF(ISNUMBER(FIND(\"x\",BF193)),IFERROR(INDEX(AI193:AQ193,0,MATCH(AT193,AI193:AQ193,0)),IF(AI193<>\"\",AI193,i_DefaultColour)),\"\")","v":""},null,null,{"$f":"IF(ISNUMBER(FIND(\"x\",BF193)),IFERROR(INDEX(AI193:AQ193,0,MATCH(AT193,AI193:AQ193,0)),AS193),\"\")","v":""},{"$f":"IF(ISNUMBER(FIND(\"x\",BF193)),IFERROR(INDEX(INDIRECT(\"T_FinishColour[ColourCode-\"&IF(ISNUMBER(FIND(\"xxx\",BF193)),\"xxx\",IF(ISNUMBER(FIND(\"xx\",BF193)),\"xx\",\"error\"))&AR193&\"]\"),MATCH(AV193,T_FinishColour[Finish / Colour],0)),\"\"),\"\")","v":""},null,"HIDE"]
[null,null,null,null,null,null,null,null,null,null,null,null,null,null,null,null,null,null,null,null,null,null,null,null,null,null,null,null,null,null,null,null,null,null,null,null,null,null,null,null,null,null,null,null,{"$f":"IF(ISNUMBER(FIND(\"x\",BF194)),IFERROR(INDEX(AI194:AQ194,0,MATCH(AT194,AI194:AQ194,0)),IF(AI194<>\"\",AI194,i_DefaultColour)),\"\")","v":""},null,null,{"$f":"IF(ISNUMBER(FIND(\"x\",BF194)),IFERROR(INDEX(AI194:AQ194,0,MATCH(AT194,AI194:AQ194,0)),AS194),\"\")","v":""},{"$f":"IF(ISNUMBER(FIND(\"x\",BF194)),IFERROR(INDEX(INDIRECT(\"T_FinishColour[ColourCode-\"&IF(ISNUMBER(FIND(\"xxx\",BF194)),\"xxx\",IF(ISNUMBER(FIND(\"xx\",BF194)),\"xx\",\"error\"))&AR194&\"]\"),MATCH(AV194,T_FinishColour[Finish / Colour],0)),\"\"),\"\")","v":""},null,"HIDE"]
[null,null,null,null,null,null,null,null,null,null,null,null,null,null,null,null,null,null,null,null,null,null,null,null,null,null,null,null,null,null,null,null,null,null,null,null,null,null,null,null,null,null,null,null,{"$f":"IF(ISNUMBER(FIND(\"x\",BF195)),IFERROR(INDEX(AI195:AQ195,0,MATCH(AT195,AI195:AQ195,0)),IF(AI195<>\"\",AI195,i_DefaultColour)),\"\")","v":""},null,null,{"$f":"IF(ISNUMBER(FIND(\"x\",BF195)),IFERROR(INDEX(AI195:AQ195,0,MATCH(AT195,AI195:AQ195,0)),AS195),\"\")","v":""},{"$f":"IF(ISNUMBER(FIND(\"x\",BF195)),IFERROR(INDEX(INDIRECT(\"T_FinishColour[ColourCode-\"&IF(ISNUMBER(FIND(\"xxx\",BF195)),\"xxx\",IF(ISNUMBER(FIND(\"xx\",BF195)),\"xx\",\"error\"))&AR195&\"]\"),MATCH(AV195,T_FinishColour[Finish / Colour],0)),\"\"),\"\")","v":""},null,"HIDE"]
[null,null,null,null,null,null,null,null,null,null,null,null,null,null,null,null,null,null,null,null,null,null,null,null,null,null,null,null,null,null,null,null,null,null,null,null,null,null,null,null,null,null,null,null,{"$f":"IF(ISNUMBER(FIND(\"x\",BF196)),IFERROR(INDEX(AI196:AQ196,0,MATCH(AT196,AI196:AQ196,0)),IF(AI196<>\"\",AI196,i_DefaultColour)),\"\")","v":""},null,null,{"$f":"IF(ISNUMBER(FIND(\"x\",BF196)),IFERROR(INDEX(AI196:AQ196,0,MATCH(AT196,AI196:AQ196,0)),AS196),\"\")","v":""},{"$f":"IF(ISNUMBER(FIND(\"x\",BF196)),IFERROR(INDEX(INDIRECT(\"T_FinishColour[ColourCode-\"&IF(ISNUMBER(FIND(\"xxx\",BF196)),\"xxx\",IF(ISNUMBER(FIND(\"xx\",BF196)),\"xx\",\"error\"))&AR196&\"]\"),MATCH(AV196,T_FinishColour[Finish / Colour],0)),\"\"),\"\")","v":""},null,"HIDE",null,null,null,null,null,null,null,null,null,null,null,null,null,null,null,null,"System unit cost",null,null,null,null,null,null,{"$f":"BW189/i_systemQTY","v":0}]
[null,null,null,null,null,null,null,null,null,null,null,null,null,null,null,null,null,null,null,null,null,null,null,null,null,null,null,null,null,null,null,null,null,null,null,null,null,null,null,null,null,null,null,null,null,null,null,{"$f":"IF(ISNUMBER(FIND(\"x\",BF197)),IFERROR(INDEX(AI197:AQ197,0,MATCH(AT197,AI197:AQ197,0)),AS197),\"\")","v":""},{"$f":"IF(ISNUMBER(FIND(\"x\",BF197)),IFERROR(INDEX(INDIRECT(\"T_FinishColour[ColourCode-\"&IF(ISNUMBER(FIND(\"xxx\",BF197)),\"xxx\",IF(ISNUMBER(FIND(\"xx\",BF197)),\"xx\",\"error\"))&AR197&\"]\"),MATCH(AV197,T_FinishColour[Finish / Colour],0)),\"\"),\"\")","v":""},null,"HIDE"]
[null,null,null,null,null,null,null,null,null,null,null,null,null,null,null,null,null,null,null,null,null,null,null,null,null,null,null,null,null,null,null,null,null,null,null,null,null,null,null,null,null,null,null,null,null,null,null,null,null,null,"HIDE"]
[]
[]
[]
[]
[]
[]
[]
[]
[]
[]
[]
[]
[]
[]
[]
[]
[]
[]
[]
[]
[]
[]
[]
[]
[]
[]
[]
[]
[]
[]
[]
[]
[]
[]
[]
[]
[]
[]
[]
[]
[]
[]
[]
[]
[]
[]
[]
[]
[]
[]
[]
[]
[]
[]
[]
[]
[]
[]
[]
[]
[]
[]
[]
[]
[]
[]
[]
[]
[]
[]
[]
[]
[]
[]
[]
[]
[]
[]
[]
[]
[]
[]
[]
[]
[]
[]
[]
[]
[]
[]
[]
[]
[]
[]
[]
[]
[]
[]
[]
[]
[]
[]
[]
[]
[]
[]
[]
[]
[]
[]
[]
[]
[]
[]
[]
[null,null,null,null,"Ultra-Lock Wire Guide","Ultra-Lock Zipscreen"]
[]
[]
[]
[]
[]
[]
[]
[]
[]
[]
[]
[]
[]
[]
[]
[]
[]
[]
[]
[]
[]
[]
[]
[]
[]
[]
[]
[]
[]
[]
[null,null,null,null,null,"Ultra-Lock Zipscreen"]
[null,null,null,null,"Ultra-Lock Wire Guide"]

{"sheet":"Zipscreen","index":3,"n_rows":45,"n_cols":48,"rows_kept":45,"cut":false,"hidden":false,"merged":[[11,47,11,55],[9,2,25,2],[9,3,29,3],[9,4,24,4],[9,5,19,5],[11,44,11,46],[4,7,4,13],[5,7,5,20],[5,21,5,34],[6,7,6,25],[6,26,6,40]]}
[0]
[]
[]
[]
[null,null,null,null,null,null,"ZIPSCREEN","BALLAST RECOMMENDED"]
[null,null,null,null,null,null,null,"5:1 OR 8:1 CRANK w/ LOCKS/STRAPS (78mm Tube)",null,null,null,null,null,null,null,null,null,null,null,null,null,"8:1 CRANK GEAR (78mm Tube)"]
[null,null,null,null,null,null,null,"F56 OR F72 WEIGHT BAR",null,null,null,null,null,null,null,null,null,null,null,null,null,null,null,null,null,null,"F72 WEIGHT BAR"]
[null,null,null,null,null,null,null,null,null,"WIDTH"]
[null,null,null,null,null,null,"m",0.5,0.7,0.8,1,1.2,1.4,1.6,1.8,2,2.2000000000000002,2.4,2.6,2.8,3,3.2,3.4,3.6,3.8,4,4.2,4.4000000000000004,4.5999999999999996,4.8,5,5.2,5.4,5.6,5.8,6,6.2,6.4,6.6,6.8,7,null,null,null,"PARAMETERS"]
[null,null,"DROP","BOX 190 / EXTREME OPEN (110mm & 130mm Tubes)","OPEN BRACKETS (78mm Tubes)","BOX 120 (78mm Tubes)",1,{"$f":"IFERROR(IF(AND(H$9=$H$45,$G10=$K$45),\"1\",\"\"),\"\")","v":""},{"$f":"IFERROR(IF(AND(I$9=$H$45,$G10=$K$45),\"1\",\"\"),\"\")","v":""},"","","","","","","","","","","","","","","",{"$f":"IFERROR(IF(AND(Y$9=$H$45,$G10=$K$45),\"1\",\"\"),\"\")","v":""},"","","","","","","","","","","","","","","",{"$f":"IFERROR(IF(AND(AO$9=$H$45,$G10=$K$45),\"1\",\"\"),\"\")","v":""},null,{"$f":"ROUNDUP(G10/0.0254,0)","v":40},null,"Fabric: ",null,null,"530gsm (15.6oz/yd²), 0.8mm (0.031in) Thick"]
[null,null,null,null,null,null,1.2,{"$f":"IFERROR(IF(AND(H$9=$H$45,$G11=$K$45),\"1\",\"\"),\"\")","v":""},"","","","","","","","","","","","","","","",{"$f":"IFERROR(IF(AND(X$9=$H$45,$G11=$K$45),\"1\",\"\"),\"\")","v":""},"","","","","","","","","","","","","","","",{"$f":"IFERROR(IF(AND(AN$9=$H$45,$G11=$K$45),\"1\",\"\"),\"\")","v":""},"",null,48]
[null,null,null,null,null,null,1.4,"","","","","","","","","","","","","","","","","","","","","","","","","","","","","","","","","","",null,56,null,"LEGEND",null,null,"DESCRIPTION"]
[null,null,null,null,null,null,1.5999999999999999,"","","","","","","","","","","","","","","","","","","","","","","","","","","","","","","","","","",null,63,null,null,null,null,"Outside Product Specifications"]
[null,null,null,null,null,null,1.7999999999999998,"","","","","","","","","","","","","","","","","","","","","","","","","","","","","","","","","","",null,71,null,null,null,null,"78mm AL STD / STEEL Tube "]
[null,null,null,null,null,null,1.9999999999999998,"","","","","","","","","","","","","","","","","","","","","","","","","","","","","","","","","","",null,79,null,null,null,null,"78mm AL HD Tube"]
[null,null,null,null,null,null,2.1999999999999997,"","","","","","","","","","","","","","","","","","","","","","","","","","","","","","","","","","",null,87,null,null,null,null,"110mm Tube"]
[null,null,null,null,null,null,2.4,"","","","","","","","","","","","","","","","","","","","","","","","","","","","","","","","","","",null,95,null,null,null,null,"130mm Tube (Box 190 / Extreme Open)"]
[null,null,null,null,null,null,2.6,"","","","","","","","","","","","","","","","","","","","","","","","","","","","","","","","","","",null,103,null,null,null,null,"130mm Tube (Extreme Open)"]
[null,null,null,null,null,null,2.8000000000000003,"","","","","","","","","","","","","","","","","","","","","","","","","","","","","","","","","","",null,111]
[null,null,null,null,null,null,3.0000000000000004,"","","","","","","","","","","","","","","","","","","","","","","","","","","","","","","","","","",null,119]
[null,null,null,null,null,null,3.2000000000000006,"","","","","","","","","","","","","","","","","","","","","","","","","","","","","","","","","","",null,126]
[null,null,null,null,null,null,3.4000000000000008,"","","","","","","","","","","","","","","","","","","","","","","","","","","","","","","","","","",null,134]
[null,null,null,null,null,null,3.600000000000001,"","","","","","","","","","","","","","","","","","","","","","","","","","","","","","","","","","",null,142]
[null,null,null,null,null,null,3.8000000000000012,"","","","","","","","","","","","","","","","","","","","","","","","","","","","","","","","","","",null,150]
[null,null,null,null,null,null,4.0000000000000009,"","","","","","","","","","","","","","","","","","","","","","","","","","","","","","","","","","",null,158]
[null,null,null,null,null,null,4.2000000000000011,"","","","","","","","","","","","","","","",{"$f":"IFERROR(IF(AND(W$9=$H$45,$G26=$K$45),\"1\",\"\"),\"\")","v":""},"","","","","","","","","","","","","","","","","","",null,166]
[null,null,null,null,null,null,4.4000000000000012,{"$f":"IFERROR(IF(AND(H$9=$H$45,$G27=$K$45),\"1\",\"\"),\"\")","v":""},"","","","","","","","","","","","","","","","","","","","","","","","","","","","","","",{"$f":"IFERROR(IF(AND(AM$9=$H$45,$G27=$K$45),\"1\",\"\"),\"\")","v":""},"","",null,174]
[null,null,null,null,null,null,4.6000000000000014,"","","","","","","","","","","","","","","","","","","","","","","","","","","","","","","","","","",null,182]
[null,null,null,null,null,null,4.8000000000000016,"","","","","","","","","","","","","","","","","","","","","","","","","","","","","","","","","","",null,189]
[null,null,null,null,null,null,5.0000000000000018,"","","","","","","","","","","","","","","","","","","","","","","","","","","","","","","","","","",null,{"$f":"ROUNDUP(G30/0.0254,0)","v":197}]
[]
[null,null,null,null,null,null,null,{"$f":"ROUNDUP(H$9/0.0254,0)","v":20},{"$f":"ROUNDUP(I$9/0.0254,0)","v":28},32,40,48,56,63,71,79,87,95,103,111,119,126,134,142,150,158,166,174,182,189,197,205,213,221,229,237,245,252,260,268,276]
[]
[]
[]
[]
[]
[]
[]
[]
[]
[]
[]
[]
[null,null,null,null,null,null,"Width (to match with Chart)",{"$f":"INDEX(ZS_Width_Lookup,1,IFERROR(MATCH(TRUE,EXACT(o_BlindWidthm,ZS_Width_Lookup),0),MATCH(o_BlindWidthm,ZS_Width_Lookup,1)+1))","v":{"$error":"#N/A"}},null,"Drop (to match with Chart)",{"$f":"INDEX(ZS_Drop_Lookup,IFERROR(MATCH(TRUE,EXACT(o_BlindDropm,ZS_Drop_Lookup),0),MATCH(o_BlindDropm,ZS_Drop_Lookup,1)+1))","v":{"$error":"#N/A"}}]

{"sheet":"Wire Guide","index":4,"n_rows":45,"n_cols":48,"rows_kept":45,"cut":false,"hidden":false,"merged":[[9,5,25,5],[4,7,4,13],[5,7,5,20],[11,47,11,55],[11,44,11,46],[5,21,5,34],[6,7,6,25],[6,26,6,40]]}
[]
[]
[]
[]
[null,null,null,null,null,null,"WIRE GUIDE","BALLAST RECOMMENDED"]
[null,null,null,null,null,null,null,"5:1 OR 8:1 CRANK w/ LOCKS/STRAPS (78mm Tube)",null,null,null,null,null,null,null,null,null,null,null,null,null,"8:1 CRANK GEAR (78mm Tube)"]
[null,null,null,null,null,null,null,"F56 OR F72 WEIGHT BAR",null,null,null,null,null,null,null,null,null,null,null,null,null,null,null,null,null,null,"F72 WEIGHT BAR"]
[null,null,null,null,null,null,null,null,null,"WIDTH"]
[null,null,null,null,null,null,"m",0.5,0.7,0.8,1,1.2,1.4,1.6,1.8,2,2.2000000000000002,2.4,2.6,2.8,3,3.2,3.4,3.6,3.8,4,4.2,4.4000000000000004,4.5999999999999996,4.8,5,5.2,5.4,5.6,5.8,6,6.2,6.4,6.6,6.8,7,null,null,null,"PARAMETERS"]
[null,null,null,null,null,"DROP",1,{"$f":"IFERROR(IF(AND(H$9=$H$45,$G10=$K$45),\"1\",\"\"),\"\")","v":""},{"$f":"IFERROR(IF(AND(I$9=$H$45,$G10=$K$45),\"1\",\"\"),\"\")","v":""},"","","","","","","","","","","","","","","",{"$f":"IFERROR(IF(AND(Y$9=$H$45,$G10=$K$45),\"1\",\"\"),\"\")","v":""},"","","","","","","","","","","","","","","",{"$f":"IFERROR(IF(AND(AO$9=$H$45,$G10=$K$45),\"1\",\"\"),\"\")","v":""},null,{"$f":"ROUNDUP(G10/0.0254,0)","v":40},null,"Fabric: ",null,null,"530gsm (15.6oz/yd²), 0.8mm (0.031in) Thick"]
[null,null,null,null,null,null,1.2,{"$f":"IFERROR(IF(AND(H$9=$H$45,$G11=$K$45),\"1\",\"\"),\"\")","v":""},"","","","","","","","","","","","","","","","","","","","","","","","","","","","","","","","","",null,48]
[null,null,null,null,null,null,1.4,"","","","","","","","","","","","","","","","","","","","","","","","","","","","","","","","","","",null,56,null,"LEGEND",null,null,"DESCRIPTION"]
[null,null,null,null,null,null,1.5999999999999999,"","","","","","","","","","","","","","","","","","","","","","","","","","","","","","","","","","",null,63,null,null,null,null,"Outside Product Specifications"]
[null,null,null,null,null,null,1.7999999999999998,"","","","","","","","","","","","","","","","","","","","","","","","","","","","","","","","","","",null,71,null,null,null,null,"78mm AL STD / STEEL Tube"]
[null,null,null,null,null,null,1.9999999999999998,"","","","","","","","","","","","","","","","","","","","","","","","","","","","","","","","","","",null,79,null,null,null,null,"78mm AL HD Tube"]
[null,null,null,null,null,null,2.1999999999999997,"","","","","","","","","","","","","","","","","","","","","","","","","","","","","","","","","","",null,87,null,null,null,null,"110mm Tube"]
[null,null,null,null,null,null,2.4,"","","","","","","","","","","","","","","","","","","","","","","","","","","","","","","","","","",null,95,null,null,null,null,"130mm Tube"]
[null,null,null,null,null,null,2.6,"","","","","","","","","","","","","","","","","","","","","","","","","","","","","","","","","","",null,103]
[null,null,null,null,null,null,2.8000000000000003,"","","","","","","","","","","","","","","","","","","","","","","","","","","","","","","","","","",null,111]
[null,null,null,null,null,null,3.0000000000000004,"","","","","","","","","","","","","","","","","","","","","","","","","","","","","","","","","","",null,119]
[null,null,null,null,null,null,3.2000000000000006,"","","","","","","","","","","","","","","","","","","","","","","","","","","","","","","","","","",null,126]
[null,null,null,null,null,null,3.4000000000000008,"","","","","","","","","","","","","","","","","","","","","","","","","","","","","","","","","","",null,134]
[null,null,null,null,null,null,3.600000000000001,"","","","","","","","","","","","","","","","","","","","","","","","","","","","","","","","","","",null,142]
[null,null,null,null,null,null,3.8000000000000012,"","","","","","","","","","","","","","","","","","","","","","","","","","","","","","","","","","",null,150]
[null,null,null,null,null,null,4.0000000000000009,"","","","","","","","","","","","","","","","",{"$f":"IFERROR(IF(AND(X$9=$H$45,$G25=$K$45),\"1\",\"\"),\"\")","v":""},"","","","","","","","","","","","","","","",{"$f":"IFERROR(IF(AND(AN$9=$H$45,$G25=$K$45),\"1\",\"\"),\"\")","v":""},"",null,158]
[null,null,null,null,null,null,4.2000000000000011,"","","","","","","","","","","","","","","","","","","","","","","","","","","","","","","","","","",null,166]
[null,null,null,null,null,null,4.4000000000000012,{"$f":"IFERROR(IF(AND(H$9=$H$45,$G27=$K$45),\"1\",\"\"),\"\")","v":""},"","","","","","","","","","","","","","","","","","","","","","","","","","","","","","","","","",null,174]
[null,null,null,null,null,null,4.6000000000000014,"","","","","","","","","","","","","","","","","","","","","","","","","","","","","","","","","","",null,182]
[null,null,null,null,null,null,4.8000000000000016,"","","","","","","","","","","","","","","","","","","","","","","","","","","","","","","","","","",null,189]
[null,null,null,null,null,null,5.0000000000000018,"","","","","","","","","","","","","","","","","","","","","","","","","","","","","","","","","","",null,{"$f":"ROUNDUP(G30/0.0254,0)","v":197}]
[]
[null,null,null,null,null,null,null,{"$f":"ROUNDUP(H$9/0.0254,0)","v":20},{"$f":"ROUNDUP(I$9/0.0254,0)","v":28},32,40,48,56,63,71,79,87,95,103,111,119,126,134,142,150,158,166,174,182,189,197,205,213,221,229,237,245,252,260,268,276]
[]
[]
[]
[]
[]
[]
[]
[]
[]
[]
[]
[]
[null,null,null,null,null,null,"Width (to match with Chart)",{"$f":"INDEX(ZS_Width_Lookup,1,IFERROR(MATCH(TRUE,EXACT(o_BlindWidthm,ZS_Width_Lookup),0),MATCH(o_BlindWidthm,ZS_Width_Lookup,1)+1))","v":{"$error":"#N/A"}},null,"Drop (to match with Chart)",{"$f":"INDEX(ZS_Drop_Lookup,IFERROR(MATCH(TRUE,EXACT(o_BlindDropm,ZS_Drop_Lookup),0),MATCH(o_BlindDropm,ZS_Drop_Lookup,1)+1))","v":{"$error":"#N/A"}}]

{"sheet":"Straight Drop","index":5,"n_rows":45,"n_cols":48,"rows_kept":45,"cut":false,"hidden":false,"merged":[[11,47,11,55],[12,44,12,46],[13,44,13,46],[14,44,14,46],[9,5,25,5],[11,44,11,46],[4,7,4,13],[5,7,5,20],[5,21,5,34],[6,7,6,25],[6,26,6,40]]}
[]
[]
[]
[]
[null,null,null,null,null,null,"STRAIGHT DROP","BALLAST RECOMMENDED"]
[null,null,null,null,null,null,null,"5:1 OR 8:1 CRANK w/ LOCKS/STRAPS (78mm Tube)",null,null,null,null,null,null,null,null,null,null,null,null,null,"8:1 CRANK GEAR (78mm Tube)"]
[null,null,null,null,null,null,null,"F56 OR F72 WEIGHT BAR",null,null,null,null,null,null,null,null,null,null,null,null,null,null,null,null,null,null,"F72 WEIGHT BAR"]
[null,null,null,null,null,null,null,null,null,"WIDTH"]
[null,null,null,null,null,null,"m",0.5,0.7,0.8,1,1.2,1.4,1.6,1.8,2,2.2000000000000002,2.4,2.6,2.8,3,3.2,3.4,3.6,3.8,4,4.2,4.4000000000000004,4.5999999999999996,4.8,5,5.2,5.4,5.6,5.8,6,6.2,6.4,6.6,6.8,7,null,null,null,"PARAMETERS"]
[null,null,null,null,null,"DROP",1,{"$f":"IFERROR(IF(AND(H$9=$H$45,$G10=$K$45),\"1\",\"\"),\"\")","v":""},{"$f":"IFERROR(IF(AND(I$9=$H$45,$G10=$K$45),\"1\",\"\"),\"\")","v":""},"","","","","","","","","","","","","","","",{"$f":"IFERROR(IF(AND(Y$9=$H$45,$G10=$K$45),\"1\",\"\"),\"\")","v":""},"","","","","","","","","","","","","","","",{"$f":"IFERROR(IF(AND(AO$9=$H$45,$G10=$K$45),\"1\",\"\"),\"\")","v":""},null,{"$f":"ROUNDUP(G10/0.0254,0)","v":40},null,"Fabric: ",null,null,"530gsm (15.6oz/yd²), 0.8mm (0.031in) Thick"]
[null,null,null,null,null,null,1.2,{"$f":"IFERROR(IF(AND(H$9=$H$45,$G11=$K$45),\"1\",\"\"),\"\")","v":""},"","","","","","","","","","","","","","","","","","","","","","","","","","","","","","","","","",null,48]
[null,null,null,null,null,null,1.4,"","","","","","","","","","","","","","","","","","","","","","","","","","","","","","","","","","",null,56,null,"LEGEND",null,null,"DESCRIPTION"]
[null,null,null,null,null,null,1.5999999999999999,"","","","","","","","","","","","","","","","","","","","","","","","","","","","","","","","","","",null,63,null,null,null,null,"Outside Product Specifications"]
[null,null,null,null,null,null,1.7999999999999998,"","","","","","","","","","","","","","","","","","","","","","","","","","","","","","","","","","",null,71,null,null,null,null,"78mm AL STD / STEEL Tube"]
[null,null,null,null,null,null,1.9999999999999998,"","","","","","","","","","","","","","","","","","","","","","","","","","","","","","","","","","",null,79,null,null,null,null,"78mm AL HD Tube"]
[null,null,null,null,null,null,2.1999999999999997,"","","","","","","","","","","","","","","","","","","","","","","","","","","","","","","","","","",null,87]
[null,null,null,null,null,null,2.4,"","","","","","","","","","","","","","","","","","","","","","","","","","","","","","","","","","",null,95]
[null,null,null,null,null,null,2.6,"","","","","","","","","","","","","","","","","","","","","","","","","","","","","","","","","","",null,103]
[null,null,null,null,null,null,2.8000000000000003,"","","","","","","","","","","","","","","","","","","","","","","","","","","","","","","","","","",null,111]
[null,null,null,null,null,null,3.0000000000000004,"","","","","","","","","","","","","","","","","","","","","","","","","","","","","","","","","","",null,119]
[null,null,null,null,null,null,3.2000000000000006,"","","","","","","","","","","","","","","","","","","","","","","","","","","","","","","","","","",null,126]
[null,null,null,null,null,null,3.4000000000000008,"","","","","","","","","","","","","","","","","","","","","","","","","","","","","","","","","","",null,134]
[null,null,null,null,null,null,3.600000000000001,"","","","","","","","","","","","","","","","","","","","","","","","","","","","","","","","","","",null,142]
[null,null,null,null,null,null,3.8000000000000012,"","","","","","","","","","","","","","","","","","","","","","","","","","","","","","","","","","",null,150]
[null,null,null,null,null,null,4.0000000000000009,"","","","","","","","","","","","","","","","",{"$f":"IFERROR(IF(AND(X$9=$H$45,$G25=$K$45),\"1\",\"\"),\"\")","v":""},"","","","","","","","","","","","","","","",{"$f":"IFERROR(IF(AND(AN$9=$H$45,$G25=$K$45),\"1\",\"\"),\"\")","v":""},"",null,158]
[null,null,null,null,null,null,4.2000000000000011,"","","","","","","","","","","","","","","","","","","","","","","","","","","","","","","","","","",null,166]
[null,null,null,null,null,null,4.4000000000000012,{"$f":"IFERROR(IF(AND(H$9=$H$45,$G27=$K$45),\"1\",\"\"),\"\")","v":""},"","","","","","","","","","","","","","","","","","","","","","","","","","","","","","","","","",null,174]
[null,null,null,null,null,null,4.6000000000000014,"","","","","","","","","","","","","","","","","","","","","","","","","","","","","","","","","","",null,182]
[null,null,null,null,null,null,4.8000000000000016,"","","","","","","","","","","","","","","","","","","","","","","","","","","","","","","","","","",null,189]
[null,null,null,null,null,null,5.0000000000000018,"","","","","","","","","","","","","","","","","","","","","","","","","","","","","","","","","","",null,{"$f":"ROUNDUP(G30/0.0254,0)","v":197}]
[]
[null,null,null,null,null,null,null,{"$f":"ROUNDUP(H$9/0.0254,0)","v":20},{"$f":"ROUNDUP(I$9/0.0254,0)","v":28},32,40,48,56,63,71,79,87,95,103,111,119,126,134,142,150,158,166,174,182,189,197,205,213,221,229,237,245,252,260,268,276]
[]
[]
[]
[]
[]
[]
[]
[]
[]
[]
[]
[]
[null,null,null,null,null,null,"Width (to match with Chart)",{"$f":"INDEX(ZS_Width_Lookup,1,IFERROR(MATCH(TRUE,EXACT(o_BlindWidthm,ZS_Width_Lookup),0),MATCH(o_BlindWidthm,ZS_Width_Lookup,1)+1))","v":{"$error":"#N/A"}},null,"Drop (to match with Chart)",{"$f":"INDEX(ZS_Drop_Lookup,IFERROR(MATCH(TRUE,EXACT(o_BlindDropm,ZS_Drop_Lookup),0),MATCH(o_BlindDropm,ZS_Drop_Lookup,1)+1))","v":{"$error":"#N/A"}}]

{"sheet":"Ctrl_Lists","index":6,"n_rows":57,"n_cols":45,"rows_kept":57,"cut":false,"hidden":true,"merged":[[1,0,1,1],[19,12,19,14],[19,7,19,10],[20,7,20,10],[5,19,5,21],[6,19,6,21]]}
[null,null,null,null,null,"TO BE FINISHED LATER>"]
["List Summary",null,null,null,null,null,null,null,null,null,null,null,null,null,null,null,null,null,null,"L_SelectUnitsSingle"]
[null,null,null,"i_Currency",null,null,null,null,null,null,null,null,null,"o_nScreens",null,null,null,null,null,{"$f":"IF(i_Units=\"Metric\",\"Imperial\",\"Metric\")","v":"Metric"}]
[null,null,null,{"$f":"INDEX(T_Currency[Currency],MATCH(i_Location,T_Location[Location],0))","v":{"$error":"#N/A"}},null,null,null,null,null,null,null,null,null,{"$f":"IF(OR(i_LinkedScreens=\"No\",i_LinkedScreens=\"\"),1,i_nScreens)","v":{"$error":"#NAME?"}},null,null,null,null,null,{"$f":"IF(i_Units=\"\",\"Imperial\",0)","v":"Imperial"}]
[null,"Activate List ->",null,null,null,null,null,null,null,null,null,null,null,null,null,null,null,null,null,null,null,null,null,null,{"$f":"COUNTA(Y7:Y14)","v":3},{"$f":"COUNTA(Z7:Z14)","v":2},3,3,3,{"$f":"COUNTA(AD7:AD14)","v":3},4,2,3]
[null,"Table/List Name (MUST MATCH) ->",{"$f":"\"T_\"&SUBSTITUTE((OFFSET(C6,2,0)),\" \",\"\")","v":"T_Installation"},"T_Currency","T_Location","T_SystemType",null,null,null,null,{"$f":"\"T_\"&SUBSTITUTE((OFFSET(K6,2,0)),\" \",\"\")","v":"T_ControlSide"},"T_YesNo","T_BoxShape","T_nScreens","T_CassetteBrush","T_wbBallast",null,null,null,{"$f":"\"T_\"&SUBSTITUTE((OFFSET(T6,2,0)),\" \",\"\")","v":"T_UnitSelection"},null,null,"T_SheetStatus",null,"L_InstallType_ZS_120","L_InstallType_ZS_190","L_InstallType_WG_120","L_InstallType_WG_190","L_InstallType_VEUE","L_InstallType_120","L_InstallType_190","L_Tubes_S100","L_Tubes_78mm",null,null,null,null,null,{"$f":"\"T_\"&SUBSTITUTE((OFFSET(AM6,2,0)),\" \",\"\")","v":"T_RemoteList"},"T_WGTopTerminal","T_GearArm","T_GearRatio","T_BracketOptions",null,"T_OpenBktOrientation"]
[null,"List Test ->",null,null,null,null,null,null,null,null,null,null,null,null,null,null,null,null,null,null,null,null,null,null,"Box 120 (Full Cover)","Box 190","Box 120 (Full Cover)","Box 190","Box 120 (Full Cover)",{"$f":"_xlfn.UNIQUE(_xlfn.VSTACK(L_InstallType_WG_120,L_InstallType_ZS_120))","v":"Box 120 (Full Cover)"},{"$f":"_xlfn.UNIQUE(_xlfn.VSTACK(L_InstallType_WG_190,L_InstallType_ZS_190))","v":"Box 190"},"110mm STD | S100 ","78 AL STD"]
[null,"Header Name ->","Installation","Currency","Location","System Type",null,null,null,null,"Control Side","YesNo","Box Shape","nScreens","CassetteBrush","wbBallast","L_mode",null,null,"UnitSelection","Units","Fabric","Status",null,"Box 120 (Semi Cover)","Zipscreen Extreme Open Bracket","Box 120 (Semi Cover)","Extreme Open Brackets (Top/Face Fix)","Box 120 (Semi Cover)","Box 120 (Semi Cover)","Extreme Open Brackets (Top/Face Fix)","130mm HD | S100","78 AL HD",null,null,null,null,null,"RemoteList","WGTopTerminal","GearArm","GearRatio","BracketOptions",null,"OpenBktOrientation"]
[null,null,"Internal","AUD","AU","Zipscreen",null,null,null,null,"Left","Yes","Round",2,"Yes","Yes","Default",null,null,"Metric","mm","gsm","Development",null,"Open",null,"Open","Extreme Open Brackets (Recess Fix)","Open","Open","Extreme Open Brackets (Recess Fix)",null,"78 STEEL",null,null,null,null,null,"PUSH One Ch. | White","Hook Saddle Bracket","1m (40\")","5:1 (7.5 Nm)","Mild Steel",null,"Bracket - Face Fix Orientation"]
[null,null,"External","USD","US","Wire Guide",null,null,null,null,"Right","No","Square",3,"No","No","FFA",null,null,"Imperial","in","oz/yd²","Release",null,null,null,null,null,null,null,"Zipscreen Extreme Open Bracket",null,null,null,null,null,null,null,"PUSH One Ch. | Black","Round Clamp Terminal","1.5m (60\")","8:1 (20 Nm)","Stainless Steel",null,"Bracket - Top Fix Orientation"]
[null,null,null,"EUR",null,"Straight Drop",null,null,null,null,null,null,null,null,null,null,null,null,null,null,null,null,null,null,null,null,null,null,null,null,null,null,null,null,null,null,null,null,"PUSH Five Ch. | White",null,"2m (80\")"]
[null,null,null,null,null,"Pivot Arm",null,null,null,null,null,null,null,null,null,null,null,null,null,null,null,null,null,null,null,null,null,null,null,null,null,null,null,null,null,null,null,null,"PUSH Five Ch. | Black"]
[null,null,null,null,null,null,null,null,null,null,null,null,null,null,null,null,null,null,null,null,null,null,null,null,null,null,null,null,null,null,null,null,null,null,null,null,null,null,"PUSH Fifteen Ch. | White"]
[null,null,null,null,null,null,null,null,null,null,null,null,null,null,null,null,null,null,null,null,null,null,null,null,null,null,null,null,null,null,null,null,null,null,null,null,null,null,"PUSH Fifteen Ch. | Black"]
[null,null,null,null,null,null,null,null,null,null,null,null,null,null,null,null,null,null,null,null,null,null,null,null,null,null,null,null,null,null,null,"160mm XHD | S100",null,null,null,null,null,null,"No Remote"]
[]
[]
[]
[]
[null,null,null,null,null,null,"T_Finish","T_FinishColour",null,null,null,null,"T_Fabric",null,null,null,null,null,null,null,"T_CostCalc",null,"T_ShowType",null,null,"Box 120 (Full Cover)"]
[null,null,null,null,null,null,null,null,null,null,null,null,"gsm","oz/yd²","mm",null,null,null,null,null,null,null,null,null,null,"Box 120 (Semi Cover)"]
[null,null,null,null,null,null,"Finish","Finish / Colour","ColourCode-xxxAU","ColourCode-xxUS","ColourCode-xxxUS",null,"Metric","Imperial","Thickness",null,null,null,null,null,"CostCalc",null,"ShowType",null,null,"Open"]
[null,null,null,null,null,null,"Mill",{"$f":"T_Finish[[#This Row],[Finish]]","v":"Mill"},"000","U",null,null,180,{"$f":"ROUND(T_Fabric[[#This Row],[Metric]]/33.9,2)","v":5.31},0.4,null,null,null,null,null,"Pro-rata'd lengths",null,"All",null,null,"Box 190"]
[null,null,null,null,null,null,"Anodised","Anodised","018","A",null,null,320,{"$f":"ROUND(T_Fabric[[#This Row],[Metric]]/33.9,2)","v":9.44},0.55000000000000004,null,null,null,null,null,"Charge full lengths",null,"Pick",null,null,"Zipscreen Extreme Open Bracket"]
[null,null,null,null,null,null,"Power Coat","Stainless","013",null,null,null,420,{"$f":"ROUND(T_Fabric[[#This Row],[Metric]]/33.9,2)","v":12.39},0.55000000000000004,null,null,null,null,null,"Minimum pack sizes???",null,"Length"]
[null,null,null,null,null,null,null,"Black","050","BK","050",null,500,{"$f":"ROUND(T_Fabric[[#This Row],[Metric]]/33.9,2)","v":14.75},0.9]
[null,null,null,null,null,null,null,"White","069","W","075"]
[null,null,null,null,null,null,null,"Silver Grey","338"]
[null,null,null,null,null,null,null,"Bronze","082","BR",472]
[null,null,null,null,null,null,null,"Vanilla",null,"V",414]
[null,null,null,null,null,null,null,"Cream",null,"CR"]
[null,null,null,null,null,null,null,"Sandstone","269"]
[null,null,null,null,null,null,null,"Barley","283"]
[null,null,null,null,null,null,null,"Grey","340","G"]
[null,null,null,null,null,null,null,"Brown",null,"GR"]
[null,null,null,null,null,null,null,"Zinc Plated","025",{"$f":"1/0","v":{"$error":"#DIV/0!"}},"025"]
[null,null,null,null,null,null,null,"Monument"]
[null,null,null,null,null,null,null,"Woodland Grey"]
[]
[null,null,null,null,null,null,null,null,"Test"]
[null,null,null,null,null,null,null,"L_ColourList"]
[]
[]
[]
[]
[]
[]
[null,null,null,null,null,null,null,{"$f":"_xlfn._xlws.FILTER(T_FinishColour[Finish / Colour],T_FinishColour[ColourCode-xxxUS]<>\"\")","v":"Black"},null,null,null,null,{"$f":"\"T_\"&SUBSTITUTE((OFFSET(M48,2,0)),\" \",\"\")","v":"T_wbBrush"},{"$f":"\"T_\"&SUBSTITUTE((OFFSET(N48,2,0)),\" \",\"\")","v":"T_wbBubbleSeal"},null,{"$f":"\"T_\"&SUBSTITUTE((OFFSET(P48,2,0)),\" \",\"\")","v":"T_ChainLength"}]
[null,null,null,null,null,null,null,"White"]
[null,null,null,null,null,null,null,"Bronze",null,null,null,null,"wbBrush","wbBubbleSeal",null,"ChainLength"]
[null,null,null,null,null,null,null,"Vanilla",null,null,null,null,"Yes","No Bubble Seal",null,50]
[null,null,null,null,null,null,null,"Zinc Plated",null,null,null,null,"No","Yes - Bottom/Back Seal (1x)",null,75]
[null,null,null,null,null,null,null,null,null,null,null,null,null,"Yes - Bottom + Back Seal (2x)",null,100]
[null,null,null,null,null,null,null,null,null,null,null,null,null,null,null,125]
[null,null,null,null,null,null,null,null,null,null,null,null,null,null,null,150]
[null,null,null,null,null,null,null,null,null,null,null,null,null,null,null,175]
[null,null,null,null,null,null,null,null,null,null,null,null,null,null,null,200]

{"sheet":"Ctrl_Selections","index":7,"n_rows":1028,"n_cols":17,"rows_kept":1028,"cut":false,"hidden":true,"merged":[[643,2,644,2],[681,2,683,2],[684,3,688,3],[684,2,688,2],[719,2,723,2],[450,4,450,13],[610,3,612,3],[541,2,544,2],[545,2,550,2],[605,3,609,3],[551,2,555,2],[539,4,539,13],[541,3,544,3],[545,3,550,3],[551,3,555,3],[583,3,583,13],[752,3,757,3],[752,2,757,2],[719,3,723,3],[767,3,767,13],[645,2,646,2],[717,4,717,13],[706,3,706,13],[645,3,646,3],[681,3,683,3],[666,3,666,13],[935,2,941,2],[935,3,941,3],[747,4,747,13],[737,3,737,13],[724,3,728,3],[724,2,728,2],[906,3,909,3],[910,2,912,2],[783,3,790,3],[783,2,790,2],[920,3,920,13],[931,4,931,13],[910,3,912,3],[781,2,782,2],[781,3,782,3],[749,2,751,2],[749,3,751,3],[791,3,793,3],[851,3,851,13],[794,2,796,2],[794,3,796,3],[823,2,824,2],[821,4,821,13],[823,3,824,3],[825,3,826,3],[843,3,843,13],[804,3,804,13],[828,2,830,2],[831,2,835,2],[779,4,779,13],[977,3,977,13],[964,4,964,13],[966,2,968,2],[966,3,968,3],[862,4,862,13],[870,2,876,2],[890,3,890,13],[864,3,869,3],[864,2,869,2],[870,3,876,3],[877,3,879,3],[877,2,879,2],[902,4,902,13],[904,2,905,2],[904,3,905,3],[906,2,909,2],[952,3,952,13],[933,2,934,2],[933,3,934,3],[942,2,944,2],[942,3,944,3],[825,2,827,2],[791,2,793,2],[2,0,2,1],[1020,3,1020,13],[991,4,991,13],[1004,3,1004,13],[1012,3,1012,13],[387,4,387,13],[389,2,392,2],[435,3,435,13],[393,2,406,2],[679,4,679,13],[698,3,698,13],[623,3,623,13],[610,2,612,2],[184,4,184,13],[812,3,812,13],[97,3,97,13],[603,4,603,13],[605,2,609,2],[4,4,4,13],[24,3,24,13],[338,4,338,13],[6,2,10,2],[6,3,10,3],[11,3,13,3],[217,3,217,13],[344,3,350,3],[407,2,418,2],[407,3,418,3],[11,2,13,2],[186,3,189,3],[186,2,189,2],[190,2,192,2],[190,3,192,3],[55,3,55,13],[63,3,63,13],[77,3,80,3],[75,4,75,13],[34,4,34,13],[77,2,80,2],[109,3,109,13],[36,2,41,2],[36,3,41,3],[121,3,121,13],[134,3,134,13],[154,2,159,2],[81,3,85,3],[81,2,85,2],[641,4,641,13],[524,3,524,13],[643,3,644,3],[659,3,659,13],[573,3,573,13],[323,3,323,13],[286,4,286,13],[147,4,147,13],[149,2,153,2],[288,2,292,2],[288,3,292,3],[293,2,296,2],[293,3,296,3],[485,3,485,13],[229,4,229,13],[253,3,253,13],[206,3,206,13],[149,3,153,3],[169,3,169,13],[154,3,159,3],[194,6,194,7],[315,3,315,13],[273,3,273,13],[340,3,343,3],[340,2,343,2],[501,3,501,13],[509,3,509,13],[389,3,392,3],[344,2,350,2],[393,3,406,3],[362,3,362,13],[471,3,471,13],[372,3,372,13],[297,2,303,2]]}
[null,null,"=IF(INDIRECT(\"i_\"&SUBSTITUTE(D55,\" \",\"\")),0,\"No\") if a default value is required"]
[]
["Configuration Matrix"]
[]
[null,null,"Enter DEPENDENCIES","SELECTION OPTIONS","CONFIGURATIONS"]
[null,null,"Ref Position →",{"$f":"COUNTA(D7:D14)","v":1},{"$f":"SUM(COUNTIF(E7:E14,$C7:$C14))","v":0},{"$f":"SUM(COUNTIF(F7:F14,$C7:$C14))","v":0},{"$f":"SUM(COUNTIF(G7:G14,$C7:$C14))","v":0},{"$f":"SUM(COUNTIF(H7:H14,$C7:$C14))","v":0},{"$f":"SUM(COUNTIF(I7:I14,$C7:$C14))","v":0},{"$f":"SUM(COUNTIF(J7:J14,$C7:$C14))","v":0},{"$f":"SUM(COUNTIF(K7:K14,$C7:$C14))","v":0},{"$f":"SUM(COUNTIF(L7:L14,$C7:$C14))","v":0},{"$f":"SUM(COUNTIF(M7:M14,$C7:$C14))","v":0},{"$f":"SUM(COUNTIF(N7:N14,$C7:$C14))","v":0}]
[null,"Enter Selection 1 ->",{"$f":"i_Location","v":0},"Region","AU","US"]
[]
[]
[]
[]
[null,"Enter Selection 2->"]
[]
[]
[]
[null,null,null,{"$f":"MAX(E16:N16)","v":0},{"$f":"IF(E6<>$D6,0,COUNTA(E17:E24))","v":0},0,0,0,0,0,0,0,0,0]
[null,"Dependent (Output List) 1 -> ",null,"Remotes","PUSH One Ch. | White","PUSH Five Ch. | White"]
[null,null,null,null,"PUSH One Ch. | Black","PUSH Five Ch. | Black"]
[null,null,null,null,"PUSH Five Ch. | White","PUSH Fifteen Ch. | White"]
[null,null,null,null,"PUSH Five Ch. | Black","PUSH Fifteen Ch. | Black"]
[null,null,null,null,"PUSH Fifteen Ch. | White","No Remote"]
[null,null,null,null,"PUSH Fifteen Ch. | Black"]
[null,null,null,null,"No Remote"]
[]
[null,null,null,"DO NOT FILL"]
[]
[null,null,null,{"$f":"D17","v":"Remotes"},null,null,{"$f":"SUBSTITUTE(\" \",\"\",$D7)","v":" "},{"$f":"IFERROR(INDEX(#REF!, MATCH(0, COUNTIF($D27:G$677,#REF!) + ( COUNTIF(#REF!,#REF!)<>1), 0)), \"\")","v":""},{"$f":"IFERROR(INDEX(#REF!, MATCH(0, COUNTIF($D27:H$677,#REF!) + ( COUNTIF(#REF!,#REF!)<>1), 0)), \"\")","v":""}]
[null,null,"row",{"$f":"MATCH(D27,$D6:$D26,0)","v":12}]
[null,null,"column",{"$f":"MATCH(OFFSET($D6,MATCH(D27,$D6:$D26,0)-2,0),OFFSET($D6,MATCH(D27,$D6:$D26,0)-2,1,1,11),0)+1","v":2}]
[null,null,"Size",{"$f":"OFFSET($D6,MATCH(D27,$D6:$D26,0)-2,0,)","v":0}]
[null,null,"Test →"]
[null,null,"Data Validation Name",{"$f":"\"L_\"&SUBSTITUTE(D27,\" \",\"\")","v":"L_Remotes"}]
[]
[]
[null,null,"Enter DEPENDENCIES","SELECTION OPTIONS","CONFIGURATIONS"]
[null,null,"Ref Position →",{"$f":"COUNTA(D37:D48)","v":2},{"$f":"SUM(COUNTIF(E37:E48,$C37:$C48))","v":0},{"$f":"SUM(COUNTIF(F37:F48,$C37:$C48))","v":0},{"$f":"SUM(COUNTIF(G37:G48,$C37:$C48))","v":0},{"$f":"SUM(COUNTIF(H37:H48,$C37:$C48))","v":0},{"$f":"SUM(COUNTIF(I37:I48,$C37:$C48))","v":0},{"$f":"SUM(COUNTIF(J37:J48,$C37:$C48))","v":0},{"$f":"SUM(COUNTIF(K37:K48,$C37:$C48))","v":0},{"$f":"SUM(COUNTIF(L37:L48,$C37:$C48))","v":0},{"$f":"SUM(COUNTIF(M37:M48,$C37:$C48))","v":0},{"$f":"SUM(COUNTIF(N37:N48,$C37:$C48))","v":0}]
[null,"Enter Selection 2->",{"$f":"i_InstallationType","v":0},"Installation Type","Box 190","Box 190","Box 120 (Full Cover)","Open","Zipscreen Extreme Open Bracket","Zipscreen Extreme Open Bracket","Open"]
[null,null,null,null,null,null,"Box 120 (Semi Cover)"]
[null,null,null,null,null,null,"Box 160"]
[]
[]
[]
[null,null,{"$f":"i_BktFixType","v":0},"Bracket Fix Orientation","Bracket - Recess Fix","Bracket - Face/Top Fix Orientation","Bracket - Face/Top Fix Orientation","Bracket - Face/Top Fix Orientation","Bracket - Face Fix Orientation","Bracket - Recess Fix","Bracket - Recess Fix"]
[null,null,null,null,null,null,null,null,"Bracket - Top Fix Orientation"]
[]
[]
[null,"Enter Selection 3->"]
[null,"Enter Selection 4->"]
[]
[null,null,null,{"$f":"MAX(E50:N50)","v":0},{"$f":"IF(E36<>$D36,0,COUNTA(E51:E55))","v":0},0,0,0,0,0,0,0,0,0]
[null,"Dependent (Output List) 1 -> ",null,"Zipscreen Side Guide Fix","Side Guide - Recess Fix (Inside Mount)","Side Guide - Recess Fix (Inside Mount)","Side Guide - Recess Fix (Inside Mount)","Side Guide - Recess Fix (Inside Mount)","Side Guide - Recess Fix (Inside Mount)","Side Guide - Recess Fix (Inside Mount)","Side Guide - Recess Fix (Inside Mount)"]
[null,null,null,null,null,"Side Guide - Face Fix (Wall / Outside Mount)","Side Guide - Face Fix (Wall / Outside Mount)","Side Guide - Face Fix (Wall / Outside Mount)","Side Guide - Face Fix (Wall / Outside Mount)"]
[]
[]
[]
[null,null,null,"DO NOT FILL"]
[]
[null,null,null,{"$f":"MAX(E58:N58)","v":0},{"$f":"IF(E36<>$D36,0,COUNTA(E59:E63))","v":0},0,0,0,0,0,0,0,0,0]
[null,"Dependent (Output List) 1 -> "]
[]
[]
[]
[]
[null,null,null,"DO NOT FILL"]
[]
[null,null,null,{"$f":"D51","v":"Zipscreen Side Guide Fix"},{"$f":"D59","v":0},null,null,{"$f":"IFERROR(INDEX(#REF!, MATCH(0, COUNTIF($D66:G$677,#REF!) + ( COUNTIF(#REF!,#REF!)<>1), 0)), \"\")","v":""},{"$f":"IFERROR(INDEX(#REF!, MATCH(0, COUNTIF($D66:H$677,#REF!) + ( COUNTIF(#REF!,#REF!)<>1), 0)), \"\")","v":""}]
[null,null,"row",{"$f":"MATCH(D66,$D36:$D64,0)","v":16},{"$f":"MATCH(E66,$D36:$D64,0)","v":15}]
[null,null,"column",{"$f":"MATCH(OFFSET($D36,MATCH(D66,$D36:$D57,0)-2,0),OFFSET($D36,MATCH(D66,$D36:$D57,0)-2,1,1,11),0)+1","v":2},{"$f":"MATCH(OFFSET($D36,MATCH(E66,$D36:$D64,0)-2,0),OFFSET($D36,MATCH(E66,$D36:$D64,0)-2,1,1,11),0)+1","v":{"$error":"#N/A"}}]
[null,null,"Size",{"$f":"OFFSET($D36,MATCH(D66,$D36:$D57,0)-2,0,)","v":0},{"$f":"OFFSET($D36,MATCH(E66,$D36:$D64,0)-2,0,)","v":0}]
[null,null,"Test →"]
[null,null,"Data Validation Name",{"$f":"\"L_\"&SUBSTITUTE(D66,\" \",\"\")","v":"L_ZipscreenSideGuideFix"},{"$f":"\"L_\"&SUBSTITUTE(E66,\" \",\"\")","v":"L_0"}]
[]
[]
[]
[]
[null,null,"Enter DEPENDENCIES","SELECTION OPTIONS","CONFIGURATIONS"]
[null,null,"Ref Position →",{"$f":"COUNTA(D78:D89)","v":2},{"$f":"SUM(COUNTIF(E78:E89,$C78:$C89))","v":0},{"$f":"SUM(COUNTIF(F78:F89,$C78:$C89))","v":0},{"$f":"SUM(COUNTIF(G78:G89,$C78:$C89))","v":0},{"$f":"SUM(COUNTIF(H78:H89,$C78:$C89))","v":0},{"$f":"SUM(COUNTIF(I78:I89,$C78:$C89))","v":0},{"$f":"SUM(COUNTIF(J78:J89,$C78:$C89))","v":0},{"$f":"SUM(COUNTIF(K78:K89,$C78:$C89))","v":0},{"$f":"SUM(COUNTIF(L78:L89,$C78:$C89))","v":0},{"$f":"SUM(COUNTIF(M78:M89,$C78:$C89))","v":0},{"$f":"SUM(COUNTIF(N78:N89,$C78:$C89))","v":0}]
[null,"Enter Selection 1 ->",{"$f":"i_Location","v":0},"Location","AU","US","AU","US"]
[]
[]
[]
[null,null,{"$f":"i_InstallationType","v":0},"Install Type",{"$f":"L_InstallType_120","v":"Box 120 (Full Cover)"},{"$f":"L_InstallType_120","v":"Box 120 (Full Cover)"},{"$f":"L_InstallType_190","v":"Box 190"},{"$f":"L_InstallType_190","v":"Box 190"}]
[null,null,null,null,"Box 120 (Semi Cover)","Box 120 (Semi Cover)","Extreme Open Brackets (Top/Face Fix)","Extreme Open Brackets (Top/Face Fix)"]
[null,null,null,null,"Open","Open","Extreme Open Brackets (Recess Fix)","Extreme Open Brackets (Recess Fix)"]
[null,null,null,null,"Box 160","Box 160","Zipscreen Extreme Open Bracket","Zipscreen Extreme Open Bracket"]
[]
[]
[]
[]
[]
[null,null,null,{"$f":"MAX(E91:N91)","v":0},{"$f":"IF(E77<>$D77,0,COUNTA(E92:E97))","v":0},{"$f":"IF(F77<>$D77,0,COUNTA(F92:F97))","v":0},{"$f":"IF(G77<>$D77,0,COUNTA(G92:G97))","v":0},{"$f":"IF(H77<>$D77,0,COUNTA(H92:H97))","v":0},0,0,0,0,0,0]
[null,"Dependent (Output List) 1 -> ",null,"Booster","Compact","Compact"]
[null,null,null,null,"Light","Light"]
[null,null,null,null,"Standard","Standard"]
[null,null,null,null,"Heavy","Heavy"]
[null,null,null,null,"Extra Heavy","Extra Heavy"]
[null,null,null,null,"Ultra Heavy","Ultra Heavy"]
[null,null,null,"DO NOT FILL"]
[]
[null,null,null,{"$f":"MAX(E100:N100)","v":0},{"$f":"IF(E77<>$D77,0,COUNTA(E101:E109))","v":0},{"$f":"IF(F77<>$D77,0,COUNTA(F101:F109))","v":0},0,0,0,0,0,0,0,0]
[null,"Dependent (Output List) 1 -> ",null,"Colours","Black (050)","Black (050)","Black (050)","Black (050)"]
[null,null,null,null,"Monument (057)","White (069)","Monument (057)","White (069)"]
[null,null,null,null,"Surfmist (068)","Bronze (080)","White (069)"]
[null,null,null,null,"White (069)","Woodland Grey (352)"]
[null,null,null,null,"Classic Cream (295)","Paperbark (425)"]
[null,null,null,null,"Woodland Grey (352)"]
[null,null,null,null,"Paperbark (425)"]
[]
[]
[null,null,null,"DO NOT FILL"]
[]
[null,null,null,{"$f":"MAX(E112:N112)","v":0},{"$f":"IF(E77<>$D77,0,COUNTA(E113:E121))","v":0},{"$f":"IF(F77<>$D77,0,COUNTA(F113:F121))","v":0},0,0,0,0,0,0,0,0]
[null,"Dependent (Output List) 1 -> ",null,"Weight Bar Handles","No","No","No","No"]
[null,null,null,null,"Metal Handle (x1)","Metal Handle (x1)","Metal Handle (x1)","Metal Handle (x1)"]
[null,null,null,null,"Metal Handle (x2)","Metal Handle (x2)","Metal Handle (x2)","Metal Handle (x2)"]
[null,null,null,null,"Zipscreen Handle (x1)",null,"Zipscreen Handle (x1)"]
[null,null,null,null,"Zipscreen Handle (x2)",null,"Zipscreen Handle (x2)"]
[]
[]
[]
[]
[null,null,null,"DO NOT FILL"]
[]
[]
[null,null,null,{"$f":"MAX(E125:N125)","v":0},{"$f":"IF(E77<>$D77,0,COUNTIF(E126:E134,\"?*\"))","v":0},{"$f":"IF(F77<>$D77,0,COUNTIF(F126:F134,\"?*\"))","v":0},0,0,0,0,0,0,0,0]
[null,"Dependent (Output List) 1 -> ",null,"Sensors","No Sensor","No Sensor","No Sensor","No Sensor"]
[null,null,null,null,"AUTOMATE | Solar Sun & Wind Sensor","AUTOMATE | Solar Sun & Wind Sensor","AUTOMATE | Solar Sun & Wind Sensor","AUTOMATE | Solar Sun & Wind Sensor"]
[null,null,null,null,"AUTOMATE | 240V Sun & Wind Sensor",null,"AUTOMATE | 240V Sun & Wind Sensor"]
[]
[]
[]
[]
[]
[]
[null,null,null,"DO NOT FILL"]
[]
[]
[null,null,null,{"$f":"D92","v":"Booster"},{"$f":"D101","v":"Colours"},{"$f":"D113","v":"Weight Bar Handles"},{"$f":"D126","v":"Sensors"},{"$f":"IFERROR(INDEX(#REF!, MATCH(0, COUNTIF($D138:G$677,#REF!) + ( COUNTIF(#REF!,#REF!)<>1), 0)), \"\")","v":""},{"$f":"IFERROR(INDEX(#REF!, MATCH(0, COUNTIF($D138:H$677,#REF!) + ( COUNTIF(#REF!,#REF!)<>1), 0)), \"\")","v":""}]
[null,null,"row",{"$f":"MATCH(D138,$D77:$D99,0)","v":16},{"$f":"MATCH(E138,$D77:$D110,0)","v":25},{"$f":"MATCH(F138,$D77:$D122,0)","v":37},{"$f":"MATCH(G138,$D77:$D135,0)","v":50}]
[null,null,"column",{"$f":"MATCH(OFFSET($D77,MATCH(D138,$D77:$D99,0)-2,0),OFFSET($D77,MATCH(D138,$D77:$D99,0)-2,1,1,11),0)+1","v":2},{"$f":"MATCH(OFFSET($D77,MATCH(E138,$D77:$D110,0)-2,0),OFFSET($D77,MATCH(E138,$D77:$D110,0)-2,1,1,11),0)+1","v":2},{"$f":"MATCH(OFFSET($D77,MATCH(F138,$D77:$D122,0)-2,0),OFFSET($D77,MATCH(F138,$D77:$D122,0)-2,1,1,11),0)+1","v":2},{"$f":"MATCH(OFFSET($D77,MATCH(G138,$D77:$D135,0)-2,0),OFFSET($D77,MATCH(G138,$D77:$D135,0)-2,1,1,11),0)+1","v":2}]
[null,null,"Size",{"$f":"OFFSET($D77,MATCH(D138,$D77:$D99,0)-2,0,)","v":0},{"$f":"OFFSET($D77,MATCH(E138,$D77:$D110,0)-2,0,)","v":0},{"$f":"OFFSET($D77,MATCH(F138,$D77:$D122,0)-2,0,)","v":0},{"$f":"OFFSET($D77,MATCH(G138,$D77:$D135,0)-2,0,)","v":0}]
[null,null,"Test →"]
[null,null,"Data Validation Name",{"$f":"\"L_\"&SUBSTITUTE(D138,\" \",\"\")","v":"L_Booster"},{"$f":"\"L_\"&SUBSTITUTE(E138,\" \",\"\")","v":"L_Colours"},{"$f":"\"L_\"&SUBSTITUTE(F138,\" \",\"\")","v":"L_WeightBarHandles"},{"$f":"\"L_\"&SUBSTITUTE(G138,\" \",\"\")","v":"L_Sensors"}]
[]
[]
[]
[]
[null,null,"Enter DEPENDENCIES","SELECTION OPTIONS","CONFIGURATIONS"]
[null,null,"Ref Position →",{"$f":"COUNTA(D150:D161)","v":2},{"$f":"SUM(COUNTIF(E150:E161,$C150:$C161))","v":0},{"$f":"SUM(COUNTIF(F150:F161,$C150:$C161))","v":0},{"$f":"SUM(COUNTIF(G150:G161,$C150:$C161))","v":0},{"$f":"SUM(COUNTIF(H150:H161,$C150:$C161))","v":0},{"$f":"SUM(COUNTIF(I150:I161,$C150:$C161))","v":0},{"$f":"SUM(COUNTIF(J150:J161,$C150:$C161))","v":0},{"$f":"SUM(COUNTIF(K150:K161,$C150:$C161))","v":0},{"$f":"SUM(COUNTIF(L150:L161,$C150:$C161))","v":0},{"$f":"SUM(COUNTIF(M150:M161,$C150:$C161))","v":0},{"$f":"SUM(COUNTIF(N150:N161,$C150:$C161))","v":0}]
[null,"Enter Selection 1 ->",{"$f":"i_SystemType","v":0},"System Type","Straight Drop","Straight Drop","Zipscreen","Wire Guide","Wire Guide","Wire Guide","Zipscreen"]
[null,null,null,null,"Wire Guide","Wire Guide",null,"Zipscreen"]
[null,null,null,null,"Pivot Arm","Pivot Arm"]
[null,null,null,null,"Zipscreen"]
[]
[null,null,{"$f":"i_InstallationType","v":0},"Installation Type","Box 120 (Full Cover)","Open","Zipscreen Extreme Open Bracket","Box 190","Extreme Open Brackets (Top/Face Fix)","Extreme Open Brackets (Recess Fix)","Open"]
[null,null,null,null,"Box 120 (Semi Cover)"]
[null,null,null,null,"Box 160"]
[]
[]
[]
[]
[]
[null,null,null,{"$f":"MAX(E163:N163)","v":0},{"$f":"IF(E149<>$D149,0,COUNTA(E164:E169))","v":0},0,0,0,0,0,0,0,0,0]
[null,"Dependent (Output List) 1 -> ",null,"Bkt Fix Orientation","Bracket - Face/Top Fix Orientation","Bracket - Face Fix Orientation","Bracket - Face Fix Orientation","Bracket - Face/Top Fix Orientation","Bracket - Face Fix Orientation","Bracket - Recess Fix","Bracket - Face/Top Fix Orientation"]
[null,null,null,null,null,"Bracket - Top Fix Orientation","Bracket - Top Fix Orientation",null,"Bracket - Top Fix Orientation"]
[]
[]
[]
[]
[null,null,null,"DO NOT FILL"]
[]
[null,null,null,{"$f":"D164","v":"Bkt Fix Orientation"},null,null,{"$f":"SUBSTITUTE(\" \",\"\",$D150)","v":" "},{"$f":"IFERROR(INDEX(#REF!, MATCH(0, COUNTIF($D172:G$677,#REF!) + ( COUNTIF(#REF!,#REF!)<>1), 0)), \"\")","v":""},{"$f":"IFERROR(INDEX(#REF!, MATCH(0, COUNTIF($D172:H$677,#REF!) + ( COUNTIF(#REF!,#REF!)<>1), 0)), \"\")","v":""}]
[null,null,"row",{"$f":"MATCH(D172,$D149:$D171,0)","v":16}]
[null,null,"column",{"$f":"MATCH(OFFSET($D149,MATCH(D172,$D149:$D171,0)-2,0),OFFSET($D149,MATCH(D172,$D149:$D171,0)-2,1,1,11),0)+1","v":2}]
[null,null,"Size",{"$f":"OFFSET($D149,MATCH(D172,$D149:$D171,0)-2,0,)","v":0}]
[null,null,"Test →"]
[null,null,"Data Validation Name",{"$f":"\"L_\"&SUBSTITUTE(D172,\" \",\"\")","v":"L_BktFixOrientation"}]
[]
[null,null,null,null,"Straight Drop"]
[null,null,null,null,"Wire Guide"]
[null,null,null,null,"Channel Guide",null,{"$f":"COUNTIF(G197:G206,REPT(\"?\",1)&\"*\")","v":5}]
[null,null,null,null,"Pivot Arm"]
[]
[]
[null,null,"Enter DEPENDENCIES","SELECTION OPTIONS","CONFIGURATIONS"]
[null,null,"Ref Position →",{"$f":"COUNTA(D187:D193)","v":1},{"$f":"SUM(COUNTIF(E187:E193,$C187:$C193))","v":0},{"$f":"SUM(COUNTIF(F187:F193,$C187:$C193))","v":0},{"$f":"SUM(COUNTIF(G187:G193,$C187:$C193))","v":0},{"$f":"SUM(COUNTIF(H187:H193,$C187:$C193))","v":0},{"$f":"SUM(COUNTIF(I187:I193,$C187:$C193))","v":0},{"$f":"SUM(COUNTIF(J187:J193,$C187:$C193))","v":0},{"$f":"SUM(COUNTIF(K187:K193,$C187:$C193))","v":0},{"$f":"SUM(COUNTIF(L187:L193,$C187:$C193))","v":0},{"$f":"SUM(COUNTIF(M187:M193,$C187:$C193))","v":0},{"$f":"SUM(COUNTIF(N187:N193,$C187:$C193))","v":0}]
[null,"Enter Selection 1 ->",{"$f":"IF(i_Mode=\"FFA\",\"FFA\",i_SystemType)","v":0},"System Type","Straight Drop","Pivot Arm","Zipscreen","Wire Guide","FFA"]
[null,null,null,null,"Channel Guide"]
[]
[]
[]
[]
[]
[]
[null,null,null,null,null,null,"These Install Types are Blind Width dependent"]
[null,null,null,{"$f":"MAX(E196:N196)","v":0},{"$f":"IF(E186<>$D186,0,COUNTIF(E197:E206,REPT(\"?\",1)&\"*\"))","v":0},{"$f":"IF(F186<>$D186,0,COUNTIF(F197:F206,REPT(\"?\",1)&\"*\"))","v":0},{"$f":"IF(G186<>$D186,0,COUNTIF(G197:G206,\"?*\"))","v":0},{"$f":"IF(H186<>$D186,0,COUNTIF(H197:H206,\"?*\"))","v":0},{"$f":"IF(I186<>$D186,0,COUNTA(I197:I206))","v":0},{"$f":"IF(J186<>$D186,0,COUNTA(J197:J206))","v":0},0,0,0,0]
[null,"Dependent (Output List) 1 -> ",null,"Installation Type","Box 120 (Full Cover)","Box 120 (Semi Cover)",{"$f":"IFERROR(L_BoxTypeZS,\"\")","v":"Box 120 (Full Cover)"},{"$f":"IFERROR(L_BoxTypeWG,\"\")","v":"Box 120 (Full Cover)"},"Box 120 (Full Cover)"]
[null,null,null,null,"Box 120 (Semi Cover)","Open","Box 120 (Semi Cover)","Box 120 (Semi Cover)","Box 120 (Semi Cover)"]
[null,null,null,null,"Open",null,"Open","Open","Open"]
[null,null,null,null,"Box 160",null,"Box 190","Box 190","Box 160"]
[null,null,null,null,null,null,"Zipscreen Extreme Open Bracket","Extreme Open Brackets (Top/Face Fix)","Box 190"]
[null,null,null,null,null,null,null,"Extreme Open Brackets (Recess Fix)","Extreme Open Brackets (Top/Face Fix)"]
[null,null,null,null,null,null,null,null,"Extreme Open Brackets (Recess Fix)"]
[null,null,null,null,null,null,null,null,"Zipscreen Extreme Open Bracket"]
[]
[]
[null,null,null,"DO NOT FILL"]
[]
[]
[]
[]
[null,null,null,{"$f":"MAX(E212:N212)","v":0},{"$f":"IF(E186<>$D186,0,COUNTA(E213:E217))","v":0},0,0,0,0,0,0,0,0,0]
[null,"Dependent (Output List) 1 -> "]
[]
[]
[]
[]
[null,null,null,"DO NOT FILL"]
[]
[null,null,null,{"$f":"D197","v":"Installation Type"},{"$f":"D213","v":0},null,{"$f":"SUBSTITUTE(\" \",\"\",$D187)","v":" "},{"$f":"IFERROR(INDEX(#REF!, MATCH(0, COUNTIF($D220:G$677,#REF!) + ( COUNTIF(#REF!,#REF!)<>1), 0)), \"\")","v":""},{"$f":"IFERROR(INDEX(#REF!, MATCH(0, COUNTIF($D220:H$677,#REF!) + ( COUNTIF(#REF!,#REF!)<>1), 0)), \"\")","v":""}]
[null,null,"row",{"$f":"MATCH(D220,$D186:$D208,0)","v":12},{"$f":"MATCH(E220,$D186:$D218,0)","v":11}]
[null,null,"column",{"$f":"MATCH(OFFSET($D186,MATCH(D220,$D186:$D208,0)-2,0),OFFSET($D186,MATCH(D220,$D186:$D208,0)-2,1,1,11),0)+1","v":2},{"$f":"MATCH(OFFSET($D186,MATCH(E220,$D186:$D218,0)-2,0),OFFSET($D186,MATCH(E220,$D186:$D218,0)-2,1,1,11),0)+1","v":{"$error":"#N/A"}}]
[null,null,"Size",{"$f":"OFFSET($D186,MATCH(D220,$D186:$D208,0)-2,0,)","v":0},{"$f":"OFFSET($D186,MATCH(E220,$D186:$D218,0)-2,0,)","v":0}]
[null,null,"Test →"]
[null,null,"Data Validation Name",{"$f":"\"L_\"&SUBSTITUTE(D220,\" \",\"\")","v":"L_InstallationType"},{"$f":"\"L_\"&SUBSTITUTE(E220,\" \",\"\")","v":"L_0"}]
[]
[]
[]
[null,"INSTALL TYPE"]
[null,"WIDTH DEPENDENT LIST","Enter DEPENDENCIES","SELECTION OPTIONS","CONFIGURATIONS"]
[null,"Ref Position →","o_BlindWidthm",{"$f":"o_BlindWidthm","v":0}]
[null,null,"o_BlindDropm",{"$f":"o_BlindDropm","v":0}]
[null,null,"Width (to match with Chart)",{"$f":"INDEX(ZS_Width_Lookup,1,IFERROR(MATCH(TRUE,EXACT(o_BlindWidthm,ZS_Width_Lookup),0),IF(o_BlindWidthm<MIN(ZS_Width_Lookup),MATCH(MIN(ZS_Width_Lookup),ZS_Width_Lookup,1),MATCH(o_BlindWidthm,ZS_Width_Lookup,1)+1)))","v":0.5}]
[null,null,"Drop (to match with Chart)",{"$f":"INDEX(ZS_Drop_Lookup,IFERROR(MATCH(TRUE,EXACT(o_BlindDropm,ZS_Drop_Lookup),0),IF(o_BlindDropm<MIN(ZS_Drop_Lookup),MATCH(MIN(ZS_Drop_Lookup),ZS_Drop_Lookup,0),MATCH(o_BlindDropm,ZS_Drop_Lookup,1)+1)))","v":1}]
[null,null,"Recommended Zipscreen Size Index",{"$f":"IFERROR(INDEX(ZS_range_lookup,MATCH(TRUE,EXACT(D234,ZS_Drop_Lookup),0),MATCH(TRUE, EXACT(D233,ZS_Width_Lookup),0)),100)","v":2}]
[null,null,"Recommended Wire Guide Size Index",{"$f":"IFERROR(INDEX(WG_Range_Lookup,MATCH(TRUE,EXACT(D234,WG_Drop_Lookup),0),MATCH(TRUE, EXACT(D233,WG_Width_Lookup),0)),100)","v":2},"Box 160","Box 160","Box 160","Box 160",null,"Box 160"]
[null,"Box Size Index (Must match 'ZS_Range_Lookup') →",null,null,2,2.5,3,3.5,"placeholder",4.0999999999999996,4.2,4.3,5,6,999]
[null,"Dependent (Output List)  2 -> ",null,{"$f":"MAX(E238:O238)","v":5},{"$f":"IF(E237<>$D235,0,COUNTA(E239:E253))","v":5},{"$f":"IF(F237<>$D235,0,COUNTA(F239:F253))","v":0},{"$f":"IF(G237<>$D235,0,COUNTA(G239:G253))","v":0},0,{"$f":"IF(I237<>$D235,0,COUNTA(I239:I253))","v":0},0,{"$f":"IF(K237<>$D235,0,COUNTA(K239:K253))","v":0},0,0,0,0]
[null,null,null,"Box Type ZS","Box 120 (Full Cover)","Box 120 (Full Cover)","Box 120 (Full Cover)","Box 120 (Full Cover)","Box 150 (Placeholder)","Box 190",{"$f":"L_InstallType_ZS_190","v":"Box 190"},{"$f":"L_InstallType_ZS_190","v":"Box 190"},"Box 190","Box 190","Box 120 (Full Cover)"]
[null,null,null,null,"Box 120 (Semi Cover)","Box 120 (Semi Cover)","Box 120 (Semi Cover)","Box 120 (Semi Cover)",null,"Zipscreen Extreme Open Bracket","Zipscreen Extreme Open Bracket","Zipscreen Extreme Open Bracket","Zipscreen Extreme Open Bracket","Zipscreen Extreme Open Bracket","Box 120 (Semi Cover)"]
[null,null,"Fascia (Full Cover)",null,"Open","Open","Open","Open",null,null,null,null,null,null,"Open"]
[null,null,"Fascia (Semi Cover)",null,"Box 190","Box 190","Box 190","Box 190",null,null,null,null,null,null,"Box 190"]
[null,null,null,null,"Zipscreen Extreme Open Bracket","Zipscreen Extreme Open Bracket","Zipscreen Extreme Open Bracket","Zipscreen Extreme Open Bracket",null,null,null,null,null,null,"Extreme Open Brackets (Top/Face Fix)"]
[null,null,null,null,null,null,null,null,null,null,null,null,null,null,"Extreme Open Brackets (Recess Fix)"]
[]
[]
[]
[]
[]
[]
[]
[]
[]
[null,null,null,"DO NOT FILL"]
[]
[null,null,null,null,"Box 160","Box 160","Box 160",null,"Box 160"]
[null,"Box Size Index (Must match 'WG_Range_Lookup') →",null,null,2,"placeholder",3,"placeholder",4,4.0999999999999996,5,6]
[null,"Dependent (Output List)  3 -> ",null,{"$f":"MAX(E258:L258)","v":6},{"$f":"IF(E257<>$D236,0,COUNTA(E259:E273))","v":6},{"$f":"IF(F257<>$D236,0,COUNTA(F259:F273))","v":0},0,0,{"$f":"IF(I257<>$D236,0,COUNTA(I259:I273))","v":0},0,0,0]
[null,null,null,"Box Type WG","Box 120 (Full Cover)","Box 120 (Full Cover)","Box 120 (Full Cover)",null,"Box 190","Box 190","Box 190","Box 190"]
[null,null,null,null,"Box 120 (Semi Cover)","Box 120 (Semi Cover)","Box 120 (Semi Cover)",null,"Extreme Open Brackets (Top/Face Fix)","Extreme Open Brackets (Top/Face Fix)","Extreme Open Brackets (Top/Face Fix)","Extreme Open Brackets (Top/Face Fix)"]
[null,null,null,null,"Open","Open","Open",null,"Extreme Open Brackets (Recess Fix)","Extreme Open Brackets (Recess Fix)","Extreme Open Brackets (Recess Fix)","Extreme Open Brackets (Recess Fix)"]
[null,null,null,null,"Box 190","Box 190","Box 190"]
[null,null,null,null,"Extreme Open Brackets (Top/Face Fix)","Extreme Open Brackets (Top/Face Fix)","Extreme Open Brackets (Top/Face Fix)"]
[null,null,null,null,"Extreme Open Brackets (Recess Fix)","Extreme Open Brackets (Recess Fix)","Extreme Open Brackets (Recess Fix)"]
[]
[]
[]
[]
[]
[]
[]
[]
[]
[null,null,null,"DO NOT FILL"]
[]
[]
[null,null,null,{"$f":"D239","v":"Box Type ZS"},{"$f":"D259","v":"Box Type WG"}]
[null,null,"row",{"$f":"MATCH(D277,$D231:$D253,0)","v":9},{"$f":"MATCH(E277,$D231:$D274,0)","v":29}]
[null,null,"column",{"$f":"MATCH(OFFSET($D231,MATCH(D277,$D231:$D253,0)-2,0),OFFSET($D231,MATCH(D277,$D231:$D253,0)-2,1,1,11),0)+1","v":2},{"$f":"MATCH(OFFSET($D231,MATCH(E277,$D231:$D273,0)-2,0),OFFSET($D231,MATCH(E277,$D231:$D273,0)-2,1,1,11),0)+1","v":2}]
[null,null,"Size",{"$f":"OFFSET($D231,MATCH(D277,$D231:$D253,0)-2,0,)","v":5},{"$f":"OFFSET($D231,MATCH(E277,$D231:$D273,0)-2,0,)","v":6}]
[null,null,"Test →","Box 190"]
[null,null,"Data Validation Name",{"$f":"\"L_\"&SUBSTITUTE(D277,\" \",\"\")","v":"L_BoxTypeZS"},{"$f":"\"L_\"&SUBSTITUTE(E277,\" \",\"\")","v":"L_BoxTypeWG"}]
[]
[]
[]
[]
[null,null,"Enter DEPENDENCIES","SELECTION OPTIONS","CONFIGURATIONS"]
[null,null,"Ref Position →",{"$f":"COUNTA(D289:D304)","v":3},{"$f":"SUM(COUNTIF(E289:E304,$C289:$C304))","v":0},{"$f":"SUM(COUNTIF(F289:F304,$C289:$C304))","v":0},{"$f":"SUM(COUNTIF(G289:G304,$C289:$C304))","v":0},{"$f":"SUM(COUNTIF(H289:H304,$C289:$C304))","v":0},{"$f":"SUM(COUNTIF(I289:I304,$C289:$C304))","v":0},{"$f":"SUM(COUNTIF(J289:J304,$C289:$C304))","v":0},{"$f":"SUM(COUNTIF(K289:K304,$C289:$C304))","v":0},{"$f":"SUM(COUNTIF(L289:L304,$C289:$C304))","v":0},{"$f":"SUM(COUNTIF(M289:M304,$C289:$C304))","v":0},{"$f":"SUM(COUNTIF(N289:N304,$C289:$C304))","v":0}]
[null,"Enter Selection 1 ->",{"$f":"i_SystemType","v":0},"System Type","Straight Drop","Zipscreen","Wire Guide"]
[null,null,null,null,"Wire Guide"]
[null,null,null,null,"Pivot Arm"]
[null,null,null,null,"Zipscreen"]
[]
[null,null,{"$f":"i_InstallationType","v":0},"Install Type","Box 120 (Full Cover)","Box 160","Box 190"]
[null,null,null,null,"Box 120 (Semi Cover)","Box 190","Extreme Open Brackets (Top/Face Fix)"]
[null,null,null,null,"Open","Zipscreen Extreme Open Bracket"]
[null,null,null,null,"Box 160",null,"Extreme Open Brackets (Recess Fix)"]
[null,null,{"$f":"i_Tube","v":0},null,{"$f":"L_Tubes_78mm","v":"78 AL STD"},{"$f":"L_Tubes_S100","v":"110mm STD | S100 "},{"$f":"L_Tubes_S100","v":"110mm STD | S100 "}]
[null,null,null,null,"78 AL HD","130mm HD | S100","130mm HD | S100"]
[null,null,null,null,"78 STEEL"]
[null,null,null,"Tube Type"]
[]
[]
[]
[]
[]
[]
[]
[null,null,null,{"$f":"MAX(E309:N309)","v":0},{"$f":"IF(E288<>$D288,0,COUNTA(E310:E315))","v":0},0,0,0,0,0,0,0,0,0]
[null,"Dependent (Output List) 1 -> ",null,"Idler Type","Bearing Idler 45mm","Extreme Bearing Idler","Extreme Bearing Idler"]
[]
[]
[]
[]
[]
[null,null,null,"DO NOT FILL"]
[]
[null,null,null,{"$f":"MAX(E318:N318)","v":0},{"$f":"IF(E288<>$D288,0,COUNTA(E319:E323))","v":0},0,0,0,0,0,0,0,0,0]
[null,"Dependent (Output List) 1 -> "]
[]
[]
[]
[]
[null,null,null,"DO NOT FILL"]
[]
[null,null,null,{"$f":"D310","v":"Idler Type"},{"$f":"D319","v":0},null,{"$f":"SUBSTITUTE(\" \",\"\",$D289)","v":" "},{"$f":"IFERROR(INDEX(#REF!, MATCH(0, COUNTIF($D326:G$677,#REF!) + ( COUNTIF(#REF!,#REF!)<>1), 0)), \"\")","v":""},{"$f":"IFERROR(INDEX(#REF!, MATCH(0, COUNTIF($D326:H$677,#REF!) + ( COUNTIF(#REF!,#REF!)<>1), 0)), \"\")","v":""}]
[null,null,"row",{"$f":"MATCH(D326,$D288:$D317,0)","v":23},{"$f":"MATCH(E326,$D288:$D324,0)","v":22}]
[null,null,"column",{"$f":"MATCH(OFFSET($D288,MATCH(D326,$D288:$D317,0)-2,0),OFFSET($D288,MATCH(D326,$D288:$D317,0)-2,1,1,11),0)+1","v":2},{"$f":"MATCH(OFFSET($D288,MATCH(E326,$D288:$D324,0)-2,0),OFFSET($D288,MATCH(E326,$D288:$D324,0)-2,1,1,11),0)+1","v":{"$error":"#N/A"}}]
[null,null,"Size",{"$f":"OFFSET($D288,MATCH(D326,$D288:$D317,0)-2,0,)","v":0},{"$f":"OFFSET($D288,MATCH(E326,$D288:$D324,0)-2,0,)","v":0}]
[null,null,"Test →"]
[null,null,"Data Validation Name",{"$f":"\"L_\"&SUBSTITUTE(D326,\" \",\"\")","v":"L_IdlerType"},{"$f":"\"L_\"&SUBSTITUTE(E326,\" \",\"\")","v":"L_0"}]
[]
[null,null,null,{"$f":"OFFSET($D$288,$D$327-1,$D$328-1,$D$329)","v":{"$error":"#REF!"}}]
[null,null,null,{"$f":"OFFSET(Ctrl_Selections!$D$288,Ctrl_Selections!$D$327-1,Ctrl_Selections!$D$328-1,Ctrl_Selections!$D$329)","v":{"$error":"#REF!"}}]
[]
[]
[]
[]
[null,null,"Enter DEPENDENCIES","SELECTION OPTIONS","CONFIGURATIONS"]
[null,null,"Ref Position →",{"$f":"COUNTA(D341:D353)","v":2},{"$f":"SUM(COUNTIF(E341:E353,$C$341:$C$353))","v":0},{"$f":"SUM(COUNTIF(F341:F353,$C$341:$C$353))","v":0},{"$f":"SUM(COUNTIF(G341:G353,$C$341:$C$353))","v":0},{"$f":"SUM(COUNTIF(H341:H353,$C$341:$C$353))","v":0},{"$f":"SUM(COUNTIF(I341:I353,$C$341:$C$353))","v":0},{"$f":"SUM(COUNTIF(J341:J353,$C$341:$C$353))","v":0},{"$f":"SUM(COUNTIF(K341:K353,$C$341:$C$353))","v":0},{"$f":"SUM(COUNTIF(L341:L353,$C$341:$C$353))","v":0},{"$f":"SUM(COUNTIF(M341:M353,$C$341:$C$353))","v":0},{"$f":"SUM(COUNTIF(N341:N353,$C$341:$C$353))","v":0}]
[null,"Enter Selection 3->",{"$f":"i_SystemType","v":0},"System Type","Straight Drop","Wire Guide","Zipscreen","Zipscreen"]
[null,null,null,null,"Pivot Arm","Channel Guide","Wire Guide"]
[]
[]
[null,null,{"$f":"i_InstallationType","v":0},"Installation Type","Box 120 (Full Cover)","Box 120 (Full Cover)","Box 190","Box 120 (Full Cover)"]
[null,null,null,null,"Box 120 (Semi Cover)","Box 120 (Semi Cover)","Extreme Open Brackets (Top/Face Fix)","Box 120 (Semi Cover)"]
[null,null,null,null,"Open","Open","Extreme Open Brackets (Recess Fix)","Open"]
[null,null,null,null,null,null,"Zipscreen Extreme Open Bracket"]
[]
[]
[]
[]
[]
[]
[null,null,null,{"$f":"MAX(E355:N355)","v":0},{"$f":"IF(E340<>$D340,0,COUNTA(E356:E362))","v":0},0,0,0,0,0,0,0,0,0]
[null,"Dependent (Output List) 1 -> ",null,"Control Type","Gear","Gear","Motor","Spring"]
[null,null,null,null,"Motor","Motor",null,"Gear"]
[null,null,null,null,null,null,null,"Motor"]
[]
[]
[]
[]
[null,null,null,"DO NOT FILL"]
[]
[null,null,null,{"$f":"MAX(E365:N365)","v":0},{"$f":"IF(E340<>$D340,0,COUNTA(E366:E372))","v":0},{"$f":"IF(F340<>$D340,0,COUNTA(F366:F372))","v":0},0,0,0,0,0,0,0,0]
[null,"Dependent (Output List) 1 -> ",null,"Gear Ratio","Gear 8:1 (20Nm)","Gear 5:1 (7.5Nm)",null,"Gear 5:1 (7.5Nm)"]
[null,null,null,null,null,"Gear 8:1 (20Nm)",null,"Gear 8:1 (20Nm)"]
[]
[]
[]
[]
[]
[null,null,null,"DO NOT FILL"]
[]
[null,null,null,{"$f":"D356","v":"Control Type"},{"$f":"D366","v":"Gear Ratio"}]
[null,null,"row",{"$f":"MATCH(D375,$D340:$D364,0)","v":17},{"$f":"MATCH(E375,$D340:$D373,0)","v":27}]
[null,null,"column",{"$f":"MATCH(OFFSET($D340,MATCH(D375,$D340:$D364,0)-2,0),OFFSET($D340,MATCH(D375,$D340:$D364,0)-2,1,1,11),0)+1","v":2},{"$f":"MATCH(OFFSET($D340,MATCH(E375,$D340:$D372,0)-2,0),OFFSET($D340,MATCH(E375,$D340:$D372,0)-2,1,1,11),0)+1","v":2}]
[null,null,"Size",{"$f":"OFFSET($D340,MATCH(D375,$D340:$D364,0)-2,0,)","v":0},{"$f":"OFFSET($D339,MATCH(E375,$D339:$D373,0)-2,0,)","v":0}]
[null,null,"Test →"]
[null,null,"Data Validation Name",{"$f":"\"L_\"&SUBSTITUTE(D375,\" \",\"\")","v":"L_ControlType"},{"$f":"\"L_\"&SUBSTITUTE(E375,\" \",\"\")","v":"L_GearRatio"}]
[]
[]
[]
[]
[]
[]
[]
[null,null,"Enter DEPENDENCIES","SELECTION OPTIONS","CONFIGURATIONS"]
[null,null,"Ref Position →",{"$f":"COUNTA(D390:D423)","v":3},{"$f":"SUM(COUNTIF(E390:E423,$C$390:$C$423))","v":1},{"$f":"SUM(COUNTIF(F390:F423,$C$390:$C$423))","v":1},{"$f":"SUM(COUNTIF(G390:G423,$C$390:$C$423))","v":1},{"$f":"SUM(COUNTIF(H390:H423,$C$390:$C$423))","v":1},{"$f":"SUM(COUNTIF(I390:I423,$C$390:$C$423))","v":1},{"$f":"SUM(COUNTIF(J390:J423,$C$390:$C$423))","v":1},{"$f":"SUM(COUNTIF(K390:K423,$C$390:$C$423))","v":0},{"$f":"SUM(COUNTIF(L390:L423,$C$390:$C$423))","v":1},{"$f":"SUM(COUNTIF(M390:M423,$C$390:$C$423))","v":1},{"$f":"SUM(COUNTIF(N390:N423,$C$390:$C$423))","v":0},{"$f":"SUM(COUNTIF(O390:O423,$C$390:$C$423))","v":0},{"$f":"SUM(COUNTIF(P390:P423,$C$390:$C$423))","v":0},{"$f":"SUM(COUNTIF(Q390:Q423,$C$390:$C$423))","v":0}]
[null,"Enter Selection 3->",{"$f":"i_SystemType","v":0},"System Type","Pivot Arm","Straight Drop","Zipscreen","Zipscreen","Zipscreen","Zipscreen","Zipscreen","Wire Guide","Wire Guide"]
[null,null,null,null,null,"Channel Guide"]
[null,null,null,null,null,"Pivot Arm"]
[]
[null,null,{"$f":"i_InstallationType","v":0},"Installation Type","Box 120 (Full Cover)","Box 120 (Full Cover)","Box 120 (Full Cover)","Zipscreen Extreme Open Bracket","Box 160","Box 190","Box 190","Box 120 (Full Cover)","Box 190"]
[null,null,null,null,"Box 120 (Semi Cover)","Box 120 (Semi Cover)","Box 120 (Semi Cover)",null,null,null,null,"Box 120 (Semi Cover)","Extreme Open Brackets (Top/Face Fix)"]
[null,null,null,null,"Open","Open","Open",null,null,null,null,"Open","Extreme Open Brackets (Recess Fix)"]
[]
[]
[]
[]
[]
[]
[]
[]
[]
[]
[]
[null,null,{"$f":"IF(i_Mode=\"Default\",_xlfn.SWITCH(i_SystemType,\"Zipscreen\",D456,\"Wire Guide\",D457,D458),\"FFA\")","v":2},"Blind Size Index","FFA","FFA","FFA","FFA","FFA","FFA","FFA","FFA","FFA"]
[null,null,null,null,3,3,6,6,null,null,6,3,5]
[null,null,null,null,2,2,5,5,null,5,null,2,4]
[null,null,null,null,null,null,4.3,4.3,null,null,4.3,null,3]
[null,null,null,null,null,null,4.2,4.2,4.2,4.2,null,null,2]
[null,null,null,null,null,null,4.0999999999999996,4.0999999999999996,4.0999999999999996,4.0999999999999996]
[null,null,null,null,null,null,3.5,3.5,3.5,3.5]
[null,null,null,null,null,null,3,3,3,3]
[null,null,null,null,null,null,2.5,2.5,2.5,2.5]
[null,null,null,null,null,null,2,2,2,2]
[]
[]
[]
[]
[]
[]
[null,null,null,null,"*Leave this here - pivot arm drop is not selectable","These Tube List are Blind Width dependent"]
[null,null,null,{"$f":"MAX(E425:Q425)","v":0},{"$f":"IF(E389<>$D389,0,COUNTA(E426:E435))","v":0},{"$f":"IF(F389<>$D389,0,COUNTIF(F426:F435,\"?*\"))","v":0},{"$f":"IF(G389<>$D389,0,COUNTIF(G426:G435,\"?*\"))","v":0},{"$f":"IF(H389<>$D389,0,COUNTIF(H426:H435,\"?*\"))","v":0},{"$f":"IF(I389<>$D389,0,COUNTIF(I426:I435,\"?*\"))","v":0},{"$f":"IF(J389<>$D389,0,COUNTIF(J426:J435,\"?*\"))","v":0},0,{"$f":"IF(L389<>$D389,0,COUNTIF(L426:L435,\"?*\"))","v":0},{"$f":"IF(M389<>$D389,0,COUNTIF(M426:M435,\"?*\"))","v":0},{"$f":"IF(N389<>$D389,0,COUNTIF(N426:N435,REPT(\"?\",1)&\"*\"))","v":0},{"$f":"IF(O389<>$D389,0,COUNTIF(O426:O435,REPT(\"?\",1)&\"*\"))","v":0},{"$f":"IF(P389<>$D389,0,COUNTA(P426:P435))","v":0},0]
[null,"Dependent (Output List) 1 -> ",null,"Tube","78 AL STD",{"$f":"IF(i_Mode=\"Default\",L_VEUE_TubeType_78mm,L_Tubes_78mm)","v":"78 AL STD"},{"$f":"IF(i_Mode=\"Default\",L_ZS_TubeType_78mm,L_Tubes_78mm)","v":"78 AL STD"},{"$f":"IF(i_Mode=\"Default\",L_ZS_TubeType_S100,L_Tubes_S100)","v":"110mm STD | S100 "},{"$f":"IFERROR(_xlfn.VSTACK(L_VEUE_TubeType_78mm,INDEX(L_ZS_TubeType_S100,1)),INDEX(L_ZS_TubeType_S100,1))","v":"78 AL STD"},{"$f":"IF(i_Mode=\"Default\",L_ZS_TubeType_S100,L_Tubes_S100)","v":"110mm STD | S100 "},{"$f":"IF(i_Mode=\"Default\",L_ZS_TubeType_S100,L_Tubes_S100)","v":"110mm STD | S100 "},{"$f":"IF(i_Mode=\"Default\",L_WG_TubeType_78mm,L_Tubes_78mm)","v":"78 AL STD"},{"$f":"IF(i_Mode=\"Default\",L_WG_TubeType_S100,L_Tubes_S100)","v":"110mm STD | S100 "}]
[null,null,null,null,"78 AL HD","78 AL HD","78 AL HD","130mm HD | S100","78 AL HD","130mm HD | S100","130mm HD | S100","78 AL HD","130mm HD | S100"]
[null,null,null,null,"78 STEEL","78 STEEL","78 STEEL",null,"78 STEEL",null,null,"78 STEEL"]
[null,null,null,null,null,null,null,null,"110mm STD | S100 "]
[]
[]
[]
[]
[]
[]
[null,null,null,"DO NOT FILL"]
[]
[]
[null,null,null,{"$f":"D426","v":"Tube"}]
[null,null,"row",{"$f":"MATCH(D439,$D389:$D437,0)","v":38}]
[null,null,"column",{"$f":"MATCH(OFFSET($D389,MATCH(D439,$D389:$D437,0)-2,0),OFFSET($D389,MATCH(D439,$D389:$D437,0)-2,1,1,11),0)+1","v":2}]
[null,null,"Size",{"$f":"OFFSET($D389,MATCH(D439,$D389:$D437,0)-2,0,)","v":0}]
[null,null,"Test →"]
[null,null,"Data Validation Name",{"$f":"\"L_\"&SUBSTITUTE(D439,\" \",\"\")","v":"L_Tube"}]
[]
[]
[null,null,null,"=OFFSET($D$134,OFFSET(INDIRECT(ADDRESS(ROW(),COLUMN(),4)),-3,0)-1,OFFSET(INDIRECT(ADDRESS(ROW(),COLUMN(),4)),-2,0)-1,OFFSET(INDIRECT(ADDRESS(ROW(),COLUMN(),4)),-1,0))"]
[]
[]
[null,"TUBE"]
[null,"WIDTH DEPENDENT LIST","Enter DEPENDENCIES","SELECTION OPTIONS","CONFIGURATIONS"]
[null,"Ref Position →","o_BlindWidthm",{"$f":"o_BlindWidthm","v":0}]
[null,null,"o_BlindDropm",{"$f":"o_BlindDropm","v":0}]
[null,null,"Width (to match with Chart)",{"$f":"INDEX(ZS_Width_Lookup,1,IFERROR(MATCH(TRUE,EXACT(o_BlindWidthm,ZS_Width_Lookup),0),IF(o_BlindWidthm<MIN(ZS_Width_Lookup),MATCH(MIN(ZS_Width_Lookup),ZS_Width_Lookup,1),MATCH(o_BlindWidthm,ZS_Width_Lookup,1)+1)))","v":0.5}]
[null,null,"Drop (to match with Chart)",{"$f":"INDEX(ZS_Drop_Lookup,IFERROR(MATCH(TRUE,EXACT(o_BlindDropm,ZS_Drop_Lookup),0),IF(o_BlindDropm<MIN(ZS_Drop_Lookup),MATCH(MIN(ZS_Drop_Lookup),ZS_Drop_Lookup,0),MATCH(o_BlindDropm,ZS_Drop_Lookup,1)+1)))","v":1}]
[null,null,"Recommended Zipscreen size Index",{"$f":"IFERROR(INDEX(ZS_range_lookup,MATCH(TRUE,EXACT(D455,ZS_Drop_Lookup),0),MATCH(TRUE, EXACT(D454,ZS_Width_Lookup),0)),100)","v":2}]
[null,null,"Recommended Wire Guide Size Index",{"$f":"IFERROR(INDEX(WG_Range_Lookup,MATCH(TRUE,EXACT(D455,WG_Drop_Lookup),0),MATCH(TRUE, EXACT(D454,WG_Width_Lookup),0)),100)","v":2}]
[null,null,"Recommended VEUE size index",{"$f":"IFERROR(INDEX(VEUE_Range_Lookup,MATCH(TRUE,EXACT(D455,VEUE_Drop_Lookup),0),MATCH(TRUE, EXACT(D454,VEUE_Width_Lookup),0)),100)","v":2}]
[null,null,null,null,null,null,null,"Zipscreen Extreme Open Bracket"]
[null,"Box Size Index (Must match 'ZS_range_lookup') →",null,null,2,2.5,3,3.5,"placeholder",4.0999999999999996,4.2]
[null,null,null,{"$f":"MAX(E461:L461)","v":3},{"$f":"IF(E460<>$D$456,0,COUNTA(E462:E471))","v":3},{"$f":"IF(F460<>$D$456,0,COUNTA(F462:F471))","v":0},0,0,0,0,0,0,0,0,0]
[null,null,null,"ZS_TubeType_78mm","78 AL STD","78 AL STD","78 AL HD","78 AL HD","Box 150 (Placeholder)"]
[null,null,null,null,"78 AL HD","78 AL HD",null,null,"78 AL STD"]
[null,null,null,null,"78 STEEL","78 STEEL",null,null,"78 AL HD"]
[null,null,null,null,null,null,null,null,"78 STEEL"]
[null,null,null,null,null,null,null,null,"110mm STD | S100 "]
[]
[]
[]
[]
[]
[null,null,null,"DO NOT FILL"]
[]
[null,"Box Size Index (Must match 'ZS_range_lookup') →",null,null,2,2.5,3,3.5,"placeholder",4.0999999999999996,4.2,4.3,5,6]
[null,null,null,{"$f":"MAX(E475:N475)","v":2},{"$f":"IF(E474<>$D$456,0,COUNTA(E476:E485))","v":2},{"$f":"IF(F474<>$D$456,0,COUNTA(F476:F485))","v":0},0,0,0,0,{"$f":"IF(K474<>$D$456,0,COUNTA(K476:K485))","v":0},0,0,0,0,0,0]
[null,null,null,"ZS_TubeType_S100","110mm STD | S100 ","110mm STD | S100 ","110mm STD | S100 ","110mm STD | S100 ","Box 150 (Placeholder)","110mm STD | S100 ","110mm STD | S100 ","110mm STD | S100 ","130mm HD | S100","130mm HD | S100"]
[null,null,null,null,"130mm HD | S100","130mm HD | S100","130mm HD | S100","130mm HD | S100","78 AL STD","130mm HD | S100","130mm HD | S100","130mm HD | S100"]
[null,null,null,null,null,null,null,null,"78 AL HD"]
[null,null,null,null,null,null,null,null,"78 STEEL"]
[null,null,null,null,null,null,null,null,"110mm STD | S100 "]
[]
[]
[]
[]
[]
[null,null,null,"DO NOT FILL"]
[]
[]
[]
[null,"Box Size Index (Must match 'WG_range_lookup') →",null,null,2,null,3,"placeholder",5,6,7]
[null,null,null,{"$f":"MAX(E491:K491)","v":3},{"$f":"IF(E490<>$D$457,0,COUNTA(E492:E501))","v":3},{"$f":"IF(F490<>$D$457,0,COUNTA(F492:F501))","v":0},0,0,0,0,0,0,0,0]
[null,null,null,"WG_TubeType_78mm","78 AL STD","78 AL STD","78 AL HD","Box 150 (Placeholder)"]
[null,null,null,null,"78 AL HD","78 AL HD",null,"78 AL STD"]
[null,null,null,null,"78 STEEL","78 STEEL",null,"78 AL HD"]
[null,null,null,null,null,null,null,"78 STEEL"]
[null,null,null,null,null,null,null,"110mm STD | S100 "]
[]
[]
[]
[]
[]
[null,null,null,"DO NOT FILL"]
[]
[null,"Box Size Index (Must match 'WG_range_lookup') →",null,null,2,"placeholder",3,4,5,6,7]
[null,null,null,{"$f":"MAX(E505:K505)","v":2},{"$f":"IF(E504<>$D$457,0,COUNTA(E506:E509))","v":2},0,0,0,0,0,0,0,0,0]
[null,null,null,"WG_TubeType_S100","110mm STD | S100 ","110mm STD | S100 ","110mm STD | S100 ","110mm STD | S100 ","130mm HD | S100"]
[null,null,null,null,"130mm HD | S100","130mm HD | S100","130mm HD | S100","130mm HD | S100"]
[]
[]
[null,null,null,"DO NOT FILL"]
[null,null,null,null,"160mm XHD | S100","160mm XHD | S100","160mm XHD | S100","160mm XHD | S100","160mm XHD | S100","160mm XHD | S100"]
[]
[null,"Box Size Index (Must match 'VEUE_range_lookup') →",null,null,2,null,3]
[null,null,null,{"$f":"MAX(E514:K514)","v":3},{"$f":"IF(E513<>$D$458,0,COUNTA(E515:E524))","v":3},{"$f":"IF(F513<>$D$458,0,COUNTA(F515:F524))","v":0},0,0,0,0,0,0,0,0]
[null,null,null,"VEUE_TubeType_78mm","78 AL STD",null,"78 AL HD"]
[null,null,null,null,"78 AL HD"]
[null,null,null,null,"78 STEEL"]
[]
[]
[]
[]
[]
[]
[]
[null,null,null,"DO NOT FILL"]
[]
[]
[]
[null,null,null,{"$f":"OFFSET(Ctrl_Selections!$D$452,Ctrl_Selections!$D$534-1,Ctrl_Selections!$D$535-1,Ctrl_Selections!$D$536)","v":"78 AL STD"}]
[null,null,null,"78 AL HD"]
[null,null,null,"78 STEEL"]
[]
[null,null,null,{"$f":"D462","v":"ZS_TubeType_78mm"},{"$f":"D476","v":"ZS_TubeType_S100"},{"$f":"D492","v":"WG_TubeType_78mm"},{"$f":"D506","v":"WG_TubeType_S100"},{"$f":"D515","v":"VEUE_TubeType_78mm"}]
[null,null,"row",{"$f":"MATCH(D533,$D452:$D532,0)","v":11},{"$f":"MATCH(E533,$D452:$D532,0)","v":25},{"$f":"MATCH(F533,$D452:$D532,0)","v":41},{"$f":"MATCH(G533,$D452:$D532,0)","v":55},{"$f":"MATCH(H533,$D452:$D532,0)","v":64}]
[null,null,"column",{"$f":"MATCH(OFFSET($D452,MATCH(D533,$D452:$D532,0)-2,0),OFFSET($D452,MATCH(D533,$D452:$D532,0)-2,1,1,11),0)+1","v":2},{"$f":"MATCH(OFFSET($D452,MATCH(E533,$D452:$D532,0)-2,0),OFFSET($D452,MATCH(E533,$D452:$D532,0)-2,1,1,11),0)+1","v":2},{"$f":"MATCH(OFFSET($D452,MATCH(F533,$D452:$D532,0)-2,0),OFFSET($D452,MATCH(F533,$D452:$D532,0)-2,1,1,11),0)+1","v":2},{"$f":"MATCH(OFFSET($D452,MATCH(G533,$D452:$D532,0)-2,0),OFFSET($D452,MATCH(G533,$D452:$D532,0)-2,1,1,11),0)+1","v":2},{"$f":"MATCH(OFFSET($D452,MATCH(H533,$D452:$D532,0)-2,0),OFFSET($D452,MATCH(H533,$D452:$D532,0)-2,1,1,11),0)+1","v":2}]
[null,null,"Size",{"$f":"OFFSET($D452,MATCH(D533,$D452:$D532,0)-2,0,)","v":3},{"$f":"OFFSET($D452,MATCH(E533,$D452:$D532,0)-2,0,)","v":2},{"$f":"OFFSET($D452,MATCH(F533,$D452:$D532,0)-2,0,)","v":3},{"$f":"OFFSET($D452,MATCH(G533,$D452:$D532,0)-2,0,)","v":2},{"$f":"OFFSET($D452,MATCH(H533,$D452:$D532,0)-2,0,)","v":3}]
[null,null,"Test →","78 AL STD","110mm STD | S100 ","78 AL HD",null,"78 AL HD"]
[null,null,"Data Validation Name",{"$f":"\"L_\"&SUBSTITUTE(D533,\" \",\"\")","v":"L_ZS_TubeType_78mm"},{"$f":"\"L_\"&SUBSTITUTE(E533,\" \",\"\")","v":"L_ZS_TubeType_S100"},{"$f":"\"L_\"&SUBSTITUTE(F533,\" \",\"\")","v":"L_WG_TubeType_78mm"},{"$f":"\"L_\"&SUBSTITUTE(G533,\" \",\"\")","v":"L_WG_TubeType_S100"},{"$f":"\"L_\"&SUBSTITUTE(H533,\" \",\"\")","v":"L_VEUE_TubeType_78mm"}]
[]
[null,null,"Enter DEPENDENCIES","SELECTION OPTIONS","CONFIGURATIONS"]
[null,null,"Ref Position →",{"$f":"COUNTA(D542:D561)","v":4},{"$f":"SUM(COUNTIF(E542:E562,$C$542:$C$562))","v":0},{"$f":"SUM(COUNTIF(F542:F562,$C$542:$C$562))","v":0},{"$f":"SUM(COUNTIF(G542:G562,$C$542:$C$562))","v":0},{"$f":"SUM(COUNTIF(H542:H562,$C$542:$C$562))","v":0},{"$f":"SUM(COUNTIF(I542:I562,$C$542:$C$562))","v":0},{"$f":"SUM(COUNTIF(J542:J562,$C$542:$C$562))","v":0},{"$f":"SUM(COUNTIF(K542:K562,$C$542:$C$562))","v":0},{"$f":"SUM(COUNTIF(L542:L562,$C$542:$C$562))","v":0},{"$f":"SUM(COUNTIF(M542:M562,$C$542:$C$562))","v":0},{"$f":"SUM(COUNTIF(N542:N562,$C$542:$C$562))","v":0}]
[null,"Enter Selection 3->",{"$f":"i_Location","v":0},"i_Location","US","AU","AU"]
[null,null,null,null,null,null,"US"]
[]
[]
[null,null,{"$f":"i_SystemType","v":0},"i_SystemType","Straight Drop","Straight Drop","Zipscreen"]
[null,null,null,null,"Wire Guide","Wire Guide","Wire Guide"]
[null,null,null,null,"Pivot Arm","Pivot Arm"]
[null,null,null,null,"Zipscreen","Zipscreen"]
[]
[]
[null,null,{"$f":"i_InstallationType","v":0},"i_installationtype",{"$f":"L_InstallType_120","v":"Box 120 (Full Cover)"},{"$f":"L_InstallType_120","v":"Box 120 (Full Cover)"},"Box 160"]
[null,null,null,null,"Box 120 (Semi Cover)","Box 120 (Semi Cover)",{"$f":"L_InstallType_190","v":"Box 190"}]
[null,null,null,null,"Open","Open","Extreme Open Brackets (Top/Face Fix)"]
[null,null,null,null,"Box 160","Box 160","Extreme Open Brackets (Recess Fix)"]
[null,"Enter Selection 4->",null,null,null,null,"Zipscreen Extreme Open Bracket"]
[null,null,null,null,{"$f":"L_Tubes_78mm","v":"78 AL STD"},{"$f":"L_Tubes_78mm","v":"78 AL STD"},{"$f":"L_Tubes_S100","v":"110mm STD | S100 "}]
[null,null,{"$f":"i_Tube","v":0},null,"78 AL HD","78 AL HD","130mm HD | S100"]
[null,null,null,"i_tube","78 STEEL","78 STEEL"]
[]
[]
[]
[]
[]
[]
[null,null,null,{"$f":"MAX(E566:N566)","v":0},{"$f":"IF(E541<>$D541,0,COUNTA(E567:E573))","v":0},{"$f":"IF(F541<>$D541,0,COUNTA(F567:F573))","v":0},0,0,0,0,0,0,0,0]
[null,"Dependent (Output List) 1 -> ",null,"Motor","AUTOMATE | FT Motor | 15Nm","AUTOMATE | FT Motor | 15Nm | Short Conn.","AUTOMATE | AX30 | 30Nm"]
[null,null,null,null,"Other","AUTOMATE | FT Motor | 15Nm | Long Conn.","AUTOMATE | AX50 | 50Nm"]
[null,null,null,null,null,"AUTOMATE | DCFT Motor + Battery |15Nm","Other"]
[null,null,null,null,null,"Other"]
[]
[]
[]
[null,null,null,"DO NOT FILL"]
[]
[null,null,null,{"$f":"MAX(E576:N576)","v":0},{"$f":"IF(E541<>$D541,0,COUNTA(E577:E583))","v":0},{"$f":"IF(F541<>$D541,0,COUNTA(F577:F583))","v":0},0,0,0,0,0,0,0,0]
[null,"Dependent (Output List) 1 -> ",null,"Zipscreen Side Guide Type","L-Fixing Rail (Standard)","L-Fixing Rail (Standard)","L-Fixing Rail (Offset)"]
[null,null,null,null,null,"Face Fix U-Rail (Wall Mount)"]
[]
[]
[]
[]
[]
[null,null,null,"DO NOT FILL"]
[]
[]
[null,null,null,{"$f":"D567","v":"Motor"},{"$f":"D577","v":"Zipscreen Side Guide Type"}]
[null,null,"row",{"$f":"MATCH(D587,$D541:$D585,0)","v":27},{"$f":"MATCH(E587,$D541:$D585,0)","v":37}]
[null,null,"column",{"$f":"MATCH(OFFSET($D541,MATCH(D587,$D541:$D585,0)-2,0),OFFSET($D541,MATCH(D587,$D541:$D585,0)-2,1,1,11),0)+1","v":2},{"$f":"MATCH(OFFSET($D541,MATCH(E587,$D541:$D585,0)-2,0),OFFSET($D541,MATCH(E587,$D541:$D585,0)-2,1,1,11),0)+1","v":2}]
[null,null,"Size",{"$f":"OFFSET($D541,MATCH(D587,$D541:$D585,0)-2,0,)","v":0},{"$f":"OFFSET($D541,MATCH(E587,$D541:$D585,0)-2,0,)","v":0}]
[null,null,"Test →",null,"L-Fixing Rail"]
[null,null,"Data Validation Name",{"$f":"\"L_\"&SUBSTITUTE(D587,\" \",\"\")","v":"L_Motor"},{"$f":"\"L_\"&SUBSTITUTE(E587,\" \",\"\")","v":"L_ZipscreenSideGuideType"}]
[]
[]
[null,null,null,{"$f":"OFFSET($D$541,$D$588-1,$D$589-1,$D$590)","v":{"$error":"#REF!"}}]
[]
[null,null,null,{"$f":"OFFSET(Ctrl_Selections!$D$541,Ctrl_Selections!$D$588-1,Ctrl_Selections!$D$589-1,Ctrl_Selections!$D$590)","v":{"$error":"#REF!"}}]
[]
[]
[]
[]
[null,null,null,null,null,null,"have not set up deductions for pivot arm / wire guide systems. "]
[]
[null,null,"Enter DEPENDENCIES","SELECTION OPTIONS","CONFIGURATIONS"]
[null,null,"Ref Position →",{"$f":"COUNTA(D606:D614)","v":2},{"$f":"SUM(COUNTIF(E606:E614,$C$606:$C$614))","v":0},{"$f":"SUM(COUNTIF(F606:F614,$C$606:$C$614))","v":0},{"$f":"SUM(COUNTIF(G606:G614,$C$606:$C$614))","v":0},{"$f":"SUM(COUNTIF(H606:H614,$C$606:$C$614))","v":0},{"$f":"SUM(COUNTIF(I606:I614,$C$606:$C$614))","v":0},{"$f":"SUM(COUNTIF(J606:J614,$C$606:$C$614))","v":0},{"$f":"SUM(COUNTIF(K606:K614,$C$606:$C$614))","v":0},{"$f":"SUM(COUNTIF(L606:L614,$C$606:$C$614))","v":0},{"$f":"SUM(COUNTIF(M606:M614,$C$606:$C$614))","v":0},{"$f":"SUM(COUNTIF(N606:N614,$C$606:$C$614))","v":0}]
[null,"Enter Selection 3->",{"$f":"i_SystemType","v":0},"System Type","Zipscreen","Straight Drop"]
[null,null,null,null,null,"Wire Guide"]
[null,null,null,null,null,"Pivot Arm"]
[]
[]
[null,null,{"$f":"i_InstallationType","v":0},"Installation Type","Open","Open"]
[]
[]
[null,"Enter Selection 4->"]
[]
[null,null,null,{"$f":"MAX(E616:N616)","v":0},{"$f":"IF(E605<>$D605,0,COUNTA(E617:E623))","v":0},{"$f":"IF(F605<>$D605,0,COUNTA(F617:F623))","v":0},0,0,0,0,0,0,0,0]
[null,"Dependent (Output List) 1 -> ",null,"Open Bkt Style","Open Brackets | SQUARE","Open Brackets | ROUND"]
[null,null,null,null,null,"Open Brackets | SQUARE"]
[]
[]
[]
[]
[]
[null,null,null,"DO NOT FILL"]
[]
[]
[null,null,null,{"$f":"D617","v":"Open Bkt Style"}]
[null,null,"row",{"$f":"MATCH(D627,$D605:$D625,0)","v":13}]
[null,null,"column",{"$f":"MATCH(OFFSET($D605,MATCH(D627,$D605:$D625,0)-2,0),OFFSET($D605,MATCH(D627,$D605:$D625,0)-2,1,1,11),0)+1","v":2}]
[null,null,"Size",{"$f":"OFFSET($D605,MATCH(D627,$D605:$D625,0)-2,0,)","v":0}]
[null,null,"Test →"]
[null,null,"Data Validation Name",{"$f":"\"L_\"&SUBSTITUTE(D627,\" \",\"\")","v":"L_OpenBktStyle"}]
[]
[]
[null,null,null,"=OFFSET($D$134,OFFSET(INDIRECT(ADDRESS(ROW(),COLUMN(),4)),-3,0)-1,OFFSET(INDIRECT(ADDRESS(ROW(),COLUMN(),4)),-2,0)-1,OFFSET(INDIRECT(ADDRESS(ROW(),COLUMN(),4)),-1,0))"]
[]
[null,null,null,{"$f":"OFFSET($D$605,$D$628-1,$D$629-1,$D$630)","v":{"$error":"#REF!"}}]
[]
[]
[]
[]
[null,null,"Enter DEPENDENCIES","SELECTION OPTIONS","CONFIGURATIONS"]
[null,null,"Ref Position →",{"$f":"COUNTA(D644:D646)","v":1},{"$f":"SUM(COUNTIF($E$644:$E$647,$C$644:$C$647))","v":0},{"$f":"SUM(COUNTIF($F$644:$F$647,$C$644:$C$647))","v":0}]
[null,"Enter Selection 1 ->",{"$f":"i_Location","v":0},"Location","AU","US"]
[null,"Enter Selection 2->"]
[null,"Enter Selection 3->"]
[null,"Enter Selection 4->"]
[]
[null,null,null,{"$f":"MAX(E649:N649)","v":0},{"$f":"IF(E643<>$D643,0,COUNTA(E650:E659))","v":0},0,0,0,0,0,0,0,0,0]
[null,"Dependent (Output List) 1 -> ",null,"Gear Arm Length","No handle","No handle"]
[null,null,null,null,"1m (40\") - Grey","1m (40\") - Grey"]
[null,null,null,null,"1.5m (60\") - Grey","1.5m (60\") - Grey"]
[null,null,null,null,"2m (80\") - Grey","2m (80\") - Grey"]
[null,null,null,null,"1m (40\") - Black"]
[null,null,null,null,"1.5m (60\") - Black"]
[null,null,null,null,"2m (80\") - Black"]
[]
[]
[]
[null,null,null,"DO NOT FILL"]
[]
[null,null,null,{"$f":"MAX(E662:N662)","v":0},{"$f":"IF(E643<>$D643,0,COUNTA(E663:E666))","v":0},{"$f":"IF(F643<>$D643,0,COUNTA(F663:F666))","v":0},0,0,0,0,0,0,0,0]
[null,"Dependent (Output List) 1 -> ",null,"Gear Handle Clip","No clip","No clip"]
[null,null,null,null,"Yes - Grey","Yes - Grey"]
[null,null,null,null,"Yes - Black"]
[]
[null,null,null,"DO NOT FILL"]
[]
[null,null,null,{"$f":"D650","v":"Gear Arm Length"},{"$f":"D663","v":"Gear Handle Clip"},null,null,{"$f":"IFERROR(INDEX(#REF!, MATCH(0, COUNTIF($D669:G$677,#REF!) + ( COUNTIF(#REF!,#REF!)<>1), 0)), \"\")","v":""},{"$f":"IFERROR(INDEX(#REF!, MATCH(0, COUNTIF($D669:H$677,#REF!) + ( COUNTIF(#REF!,#REF!)<>1), 0)), \"\")","v":""}]
[null,null,"row",{"$f":"MATCH(D669,$D643:$D668,0)","v":8},{"$f":"MATCH(E669,$D643:$D668,0)","v":21}]
[null,null,"column",{"$f":"MATCH(OFFSET($D643,MATCH(D669,$D643:$D668,0)-2,0),OFFSET($D643,MATCH(D669,$D643:$D668,0)-2,1,1,11),0)+1","v":2},{"$f":"MATCH(OFFSET($D643,MATCH(E669,$D643:$D668,0)-2,0),OFFSET($D643,MATCH(E669,$D643:$D668,0)-2,1,1,11),0)+1","v":2}]
[null,null,"Size",{"$f":"OFFSET($D643,MATCH(D669,$D643:$D668,0)-2,0,)","v":0},{"$f":"OFFSET($D643,MATCH(E669,$D643:$D668,0)-2,0,)","v":0}]
[null,null,"Test →","1.2m (47\")","No clip"]
[null,null,"Data Validation Name",{"$f":"\"L_\"&SUBSTITUTE(D669,\" \",\"\")","v":"L_GearArmLength"},{"$f":"\"L_\"&SUBSTITUTE(E669,\" \",\"\")","v":"L_GearHandleClip"}]
[]
[]
[]
[]
[]
[null,null,"Enter DEPENDENCIES","SELECTION OPTIONS","CONFIGURATIONS"]
[null,null,"Ref Position →",{"$f":"COUNTA(D682:D691)","v":1},{"$f":"SUM(COUNTIF(E682:E691,$C$682:$C$691))","v":0},{"$f":"SUM(COUNTIF(F682:F691,$C$682:$C$691))","v":0},{"$f":"SUM(COUNTIF(G682:G691,$C$682:$C$691))","v":0},{"$f":"SUM(COUNTIF(H682:H691,$C$682:$C$691))","v":0},{"$f":"SUM(COUNTIF(I682:I691,$C$682:$C$691))","v":0},{"$f":"SUM(COUNTIF(J682:J691,$C$682:$C$691))","v":0},{"$f":"SUM(COUNTIF(K682:K691,$C$682:$C$691))","v":0},{"$f":"SUM(COUNTIF(L682:L691,$C$682:$C$691))","v":0},{"$f":"SUM(COUNTIF(M682:M691,$C$682:$C$691))","v":0},{"$f":"SUM(COUNTIF(N682:N691,$C$682:$C$691))","v":0}]
[null,"Enter Selection 1 ->",{"$f":"i_Location","v":0},"Location","AU"]
[null,null,null,null,"US"]
[]
[null,"Enter Selection 2->"]
[]
[]
[]
[]
[]
[]
[]
[null,null,null,{"$f":"MAX(E693:N693)","v":0},{"$f":"IF(E681<>$D681,0,COUNTA(E694:E698))","v":0},0,0,0,0,0,0,0,0,0]
[null,"Dependent (Output List) 1 -> ",null,"Finish","Powdercoat"]
[null,null,null,null,"Mill"]
[]
[]
[]
[null,null,null,"DO NOT FILL"]
[]
[null,null,null,{"$f":"MAX(E701:N701)","v":0},{"$f":"IF(E681<>$D681,0,COUNTA(E702:E706))","v":0},{"$f":"IF(F681<>$D681,0,COUNTA(F702:F706))","v":0},{"$f":"IF(G681<>$D681,0,COUNTA(G702:G706))","v":0},0,0,0,0,0,0,0]
[null,"Dependent (Output List) 1 -> ",null,"Pivot Arm","1.6m [5.25 ft]"]
[]
[]
[]
[]
[null,null,null,"DO NOT FILL"]
[]
[null,null,null,{"$f":"D694","v":"Finish"},{"$f":"D702","v":"Pivot Arm"},null,null,{"$f":"IFERROR(INDEX(#REF!, MATCH(0, COUNTIF($D$677:G709,#REF!) + ( COUNTIF(#REF!,#REF!)<>1), 0)), \"\")","v":""},{"$f":"IFERROR(INDEX(#REF!, MATCH(0, COUNTIF($D$677:H709,#REF!) + ( COUNTIF(#REF!,#REF!)<>1), 0)), \"\")","v":""}]
[null,null,"row",{"$f":"MATCH(D709,$D681:$D708,0)","v":14},{"$f":"MATCH(E709,$D681:$D708,0)","v":22}]
[null,null,"column",{"$f":"MATCH(OFFSET($D681,MATCH(D709,$D681:$D708,0)-2,0),OFFSET($D681,MATCH(D709,$D681:$D708,0)-2,1,1,11),0)+1","v":2},{"$f":"MATCH(OFFSET($D681,MATCH(E709,$D681:$D708,0)-2,0),OFFSET($D681,MATCH(E709,$D681:$D708,0)-2,1,1,11),0)+1","v":2}]
[null,null,"Size",{"$f":"OFFSET($D681,MATCH(D709,$D681:$D708,0)-2,0,)","v":0},{"$f":"OFFSET($D681,MATCH(E709,$D681:$D708,0)-2,0,)","v":0}]
[null,null,"Test →","White","1.0 m"]
[null,null,"Data Validation Name",{"$f":"\"L_\"&SUBSTITUTE(D709,\" \",\"\")","v":"L_Finish"},{"$f":"\"L_\"&SUBSTITUTE(E709,\" \",\"\")","v":"L_PivotArm"}]
[]
[]
[]
[null,null,"Enter DEPENDENCIES","SELECTION OPTIONS","CONFIGURATIONS"]
[null,null,"Ref Position →",{"$f":"COUNTA(D720:D725)","v":1},{"$f":"SUM(COUNTIF(E720:E730,$C$720:$C$730))","v":0},{"$f":"SUM(COUNTIF(F720:F730,$C$720:$C$730))","v":0},{"$f":"SUM(COUNTIF(G720:G730,$C$720:$C$730))","v":0},{"$f":"SUM(COUNTIF(H720:H730,$C$720:$C$730))","v":0},{"$f":"SUM(COUNTIF(I720:I730,$C$720:$C$730))","v":0},{"$f":"SUM(COUNTIF(J720:J730,$C$720:$C$730))","v":0},{"$f":"SUM(COUNTIF(K720:K730,$C$720:$C$730))","v":0},{"$f":"SUM(COUNTIF(L720:L730,$C$720:$C$730))","v":0},{"$f":"SUM(COUNTIF(M720:M730,$C$720:$C$730))","v":0},{"$f":"SUM(COUNTIF(N720:N730,$C$720:$C$730))","v":0}]
[null,"Enter Selection 1 ->",{"$f":"i_Tube","v":0},"Tube","63 AL","78 AL STD","78 STEEL","110mm STD | S100 "]
[null,null,null,null,null,"78 AL HD",null,"130mm HD | S100"]
[null,null,null,null,null,null,null,"160mm XHD | S100"]
[]
[]
[null,"Enter Selection 3->"]
[]
[]
[]
[]
[null,"Enter Selection 4->"]
[]
[null,null,null,{"$f":"MAX(E732:N732)","v":0},{"$f":"IF(E719<>$D719,0,COUNTA(E733:E737))","v":0},{"$f":"IF(F719<>$D719,0,COUNTA(F733:F737))","v":0},0,{"$f":"IF(H719<>$D719,0,COUNTA(H733:H737))","v":0},0,0,0,0,0,0]
[null,"Dependent (Output List) 1 -> ",null,"TubeExtras","#6 Zip","#6 Zip","7mm Fabric Spline","7mm Fabric Spline"]
[null,null,null,null,"5mm Fabric Spline","7mm Fabric Spline","7.2mm PVC Spline","7.2mm PVC Spline"]
[null,null,null,null,null,"7.2mm PVC Spline"]
[]
[]
[null,null,null,"DO NOT FILL"]
[]
[null,null,null,{"$f":"D733","v":"TubeExtras"},null,null,null,{"$f":"IFERROR(INDEX(#REF!, MATCH(0, COUNTIF($D$677:G740,#REF!) + ( COUNTIF(#REF!,#REF!)<>1), 0)), \"\")","v":""},{"$f":"IFERROR(INDEX(#REF!, MATCH(0, COUNTIF($D$677:H740,#REF!) + ( COUNTIF(#REF!,#REF!)<>1), 0)), \"\")","v":""}]
[null,null,"row",{"$f":"MATCH(D740,$D719:$D739,0)","v":15}]
[null,null,"column",{"$f":"MATCH(OFFSET($D719,MATCH(D740,$D719:$D739,0)-2,0),OFFSET($D719,MATCH(D740,$D719:$D739,0)-2,1,1,11),0)+1","v":2}]
[null,null,"Size",{"$f":"OFFSET($D719,MATCH(D740,$D719:$D739,0)-2,0,)","v":0}]
[null,null,"Test →"]
[null,null,"Data Validation Name",{"$f":"\"L_\"&SUBSTITUTE(D740,\" \",\"\")","v":"L_TubeExtras"}]
[]
[]
[null,null,"Enter DEPENDENCIES","SELECTION OPTIONS","CONFIGURATIONS"]
[null,null,"Ref Position →",{"$f":"COUNTA(D750:D760)-IF(i_ControlType=\"Chain\",1,0)","v":2},{"$f":"SUM(COUNTIF(E750:E760,$C$750:$C$760))","v":0},{"$f":"SUM(COUNTIF(F750:F760,$C$750:$C$760))","v":0},{"$f":"SUM(COUNTIF(G750:G760,$C$750:$C$760))","v":0},{"$f":"SUM(COUNTIF(H750:H760,$C$750:$C$760))","v":0},{"$f":"SUM(COUNTIF(I750:I760,$C$750:$C$760))","v":0},{"$f":"SUM(COUNTIF(J750:J760,$C$750:$C$760))","v":0},{"$f":"SUM(COUNTIF(K750:K760,$C$750:$C$760))","v":0},{"$f":"SUM(COUNTIF(L750:L760,$C$750:$C$760))","v":0},{"$f":"SUM(COUNTIF(M750:M760,$C$750:$C$760))","v":0},{"$f":"SUM(COUNTIF(N750:N760,$C$750:$C$760))","v":0}]
[null,"Enter Selection 1 ->",{"$f":"i_SystemType","v":0},"System Type","Zipscreen","Pivot Arm","Wire Guide","Zipscreen","Straight Drop"]
[null,null,null,null,null,null,"Channel Guide","Wire Guide"]
[]
[null,"Enter Selection 3->",{"$f":"i_InstallationType","v":0},"Installation Type","Box 120 (Full Cover)","Box 120 (Full Cover)","Box 120 (Full Cover)","Box 190","Box 120 (Full Cover)"]
[null,null,null,null,"Box 120 (Semi Cover)","Box 120 (Semi Cover)","Box 120 (Semi Cover)","Extreme Open Brackets (Top/Face Fix)","Box 120 (Semi Cover)"]
[null,null,null,null,"Open","Open","Open","Extreme Open Brackets (Recess Fix)","Open"]
[null,null,null,null,null,null,null,"Zipscreen Extreme Open Bracket"]
[]
[]
[]
[null,"Enter Selection 4->"]
[]
[null,null,null,{"$f":"MAX(E762:N762)","v":0},{"$f":"IF(E749<>$D749,0,COUNTA(E763:E767))","v":0},0,0,0,0,0,0,0,0,0]
[null,"Dependent (Output List) 1 -> ",null,"Weight Bar","F56","Pivot Arm Terminal Bar","F56","F72","F56"]
[null,null,null,null,"F72",null,null,null,"F72"]
[]
[]
[]
[null,null,null,"DO NOT FILL"]
[]
[null,null,null,{"$f":"D763","v":"Weight Bar"},null,null,null,{"$f":"IFERROR(INDEX(#REF!, MATCH(0, COUNTIF($D$677:G770,#REF!) + ( COUNTIF(#REF!,#REF!)<>1), 0)), \"\")","v":""},{"$f":"IFERROR(INDEX(#REF!, MATCH(0, COUNTIF($D$677:H770,#REF!) + ( COUNTIF(#REF!,#REF!)<>1), 0)), \"\")","v":""}]
[null,null,"row",{"$f":"MATCH(D770,$D749:$D769,0)","v":15}]
[null,null,"column",{"$f":"MATCH(OFFSET($D749,MATCH(D770,$D749:$D769,0)-2,0),OFFSET($D749,MATCH(D770,$D749:$D769,0)-2,1,1,11),0)+1","v":2}]
[null,null,"Size",{"$f":"OFFSET($D749,MATCH(D770,$D749:$D769,0)-2,0,)","v":0}]
[null,null,"Test →"]
[null,null,"Data Validation Name",{"$f":"\"L_\"&SUBSTITUTE(D770,\" \",\"\")","v":"L_WeightBar"}]
[]
[]
[]
[]
[null,null,"Enter DEPENDENCIES","SELECTION OPTIONS","CONFIGURATIONS"]
[null,null,"Ref Position →",{"$f":"COUNTA(D782:D795)","v":4},{"$f":"SUM(COUNTIF(E782:E797,$C782:$C797))","v":0},{"$f":"SUM(COUNTIF(F782:F797,$C782:$C797))","v":0},{"$f":"SUM(COUNTIF(G782:G797,$C782:$C797))","v":0},{"$f":"SUM(COUNTIF(H782:H797,$C782:$C797))","v":0},{"$f":"SUM(COUNTIF(I782:I797,$C782:$C797))","v":0},{"$f":"SUM(COUNTIF(J782:J797,$C782:$C797))","v":0},{"$f":"SUM(COUNTIF(K782:K797,$C782:$C797))","v":0},{"$f":"SUM(COUNTIF(L782:L797,$C782:$C797))","v":0},{"$f":"SUM(COUNTIF(M782:M797,$C782:$C797))","v":0},{"$f":"SUM(COUNTIF(N782:N797,$C782:$C797))","v":0}]
[{"$f":"IF(G782=C782,1,0)","v":0},"Enter Selection 1 ->",{"$f":"i_SystemType","v":0},"System Type","Wire Guide","Zipscreen","Straight Drop","Channel Guide","Zipscreen","Straight Drop","Wire Guide"]
[{"$f":"IF(G783=C783,1,0)","v":1},"Enter Selection 2->",null,null,null,null,null,null,"Wire Guide"]
[null,null,{"$f":"i_InstallationType","v":0},"Install Type",{"$f":"L_InstallType_WG_120","v":"Box 120 (Full Cover)"},{"$f":"L_InstallType_ZS_120","v":"Box 120 (Full Cover)"},{"$f":"L_InstallType_VEUE","v":"Box 120 (Full Cover)"},{"$f":"L_InstallType_VEUE","v":"Box 120 (Full Cover)"},{"$f":"L_InstallType_190","v":"Box 190"}]
[null,null,null,null,"Box 120 (Semi Cover)","Box 120 (Semi Cover)","Box 120 (Semi Cover)","Box 120 (Semi Cover)","Extreme Open Brackets (Top/Face Fix)"]
[null,null,null,null,"Open","Open","Open","Open","Extreme Open Brackets (Recess Fix)"]
[null,null,null,null,null,null,null,null,"Zipscreen Extreme Open Bracket"]
[]
[]
[]
[]
[0,"Enter Selection 3->",{"$f":"i_WeightBar","v":0},"Weight Bar","F56","F56","F56","F56","F72","F56","F56"]
[0,null,null,null,null,"F72","F72",null,null,"F72"]
[1]
[0,"Enter Selection 4->",{"$f":"i_Location","v":0},"Region","AU","AU","AU","AU","AU","US","US"]
[1,null,null,null,null,"US",null,"US","US"]
[1]
[]
[null,null,null,{"$f":"MAX(E799:N799)","v":0},{"$f":"IF(E781<>$D781,0,COUNTA(E800:E804))","v":0},0,0,0,0,0,0,0,0,0]
[null,"Dependent (Output List) 1 -> ",null,"wbLock","No Lock","No Lock","No Lock","No Lock","No Lock","No Lock","No Lock"]
[null,null,null,null,"Eye Saddle","Ultra-Lock Zipscreen","Eye Saddle","SB07 Bolt Lock",null,"Eye Saddle","Eye Saddle"]
[null,null,null,null,"Flush Mount","SB07 Bolt Lock","Flush Mount",null,null,"Footman Loop","Footman Loop"]
[null,null,null,null,"Footman Loop",null,"Footman Loop"]
[]
[null,null,null,"DO NOT FILL"]
[]
[null,null,null,{"$f":"MAX(E807:N807)","v":0},{"$f":"IF(E781<>$D781,0,COUNTA(E808:E812))","v":0},0,0,0,0,0,0,0,0,0]
[null,"Dependent (Output List) 1 -> "]
[]
[]
[]
[]
[null,null,null,"DO NOT FILL"]
[]
[null,null,null,{"$f":"D800","v":"wbLock"},{"$f":"D808","v":0},null,{"$f":"SUBSTITUTE(\" \",\"\",$D782)","v":" "},{"$f":"IFERROR(INDEX(#REF!, MATCH(0, COUNTIF($D$677:G815,#REF!) + ( COUNTIF(#REF!,#REF!)<>1), 0)), \"\")","v":""},{"$f":"IFERROR(INDEX(#REF!, MATCH(0, COUNTIF($D$677:H815,#REF!) + ( COUNTIF(#REF!,#REF!)<>1), 0)), \"\")","v":""}]
[null,null,"row",{"$f":"MATCH(D815,$D781:$D806,0)","v":20},{"$f":"MATCH(E815,$D781:$D813,0)","v":19}]
[null,null,"column",{"$f":"MATCH(OFFSET($D781,MATCH(D815,$D781:$D812,0)-2,0),OFFSET($D781,MATCH(D815,$D781:$D806,0)-2,1,1,11),0)+1","v":2},{"$f":"MATCH(OFFSET($D781,MATCH(E815,$D781:$D812,0)-2,0),OFFSET($D781,MATCH(E815,$D781:$D812,0)-2,1,1,11),0)+1","v":{"$error":"#N/A"}}]
[null,null,"Size",{"$f":"OFFSET($D781,MATCH(D815,$D781:$D806,0)-2,0,)","v":0},{"$f":"OFFSET($D781,MATCH(E815,$D781:$D812,0)-2,0,)","v":0}]
[null,null,"Test →"]
[null,null,"Data Validation Name",{"$f":"\"L_\"&SUBSTITUTE(D815,\" \",\"\")","v":"L_wbLock"},{"$f":"\"L_\"&SUBSTITUTE(E815,\" \",\"\")","v":"L_0"}]
[]
[null,null,"Enter DEPENDENCIES","SELECTION OPTIONS","CONFIGURATIONS"]
[null,null,"Ref Position →",{"$f":"COUNTA(D824:D836)","v":1},{"$f":"SUM(COUNTIF(E824:E836,$C824:$C836))","v":0},{"$f":"SUM(COUNTIF(F824:F836,$C824:$C836))","v":0},{"$f":"SUM(COUNTIF(G824:G836,$C824:$C836))","v":0},{"$f":"SUM(COUNTIF(H824:H836,$C824:$C836))","v":0},{"$f":"SUM(COUNTIF(I824:I836,$C824:$C836))","v":0},{"$f":"SUM(COUNTIF(J824:J836,$C824:$C836))","v":0},{"$f":"SUM(COUNTIF(K824:K836,$C824:$C836))","v":0},{"$f":"SUM(COUNTIF(L824:L836,$C824:$C836))","v":0},{"$f":"SUM(COUNTIF(M824:M836,$C824:$C836))","v":0},{"$f":"SUM(COUNTIF(N824:N836,$C824:$C836))","v":0}]
[{"$f":"IF(G824=C824,1,0)","v":0},"Enter Selection 1 ->",{"$f":"i_wbLock","v":0},"Weight Bar Lock","Eye Saddle","Flush Mount","Footman Loop"]
[{"$f":"IF(G825=C825,1,0)","v":1},"Enter Selection 2->"]
[1,"Enter Selection 3->"]
[1]
[1]
[1,"Enter Selection 4->"]
[1]
[1]
[1,"Enter Selection 5->"]
[1]
[1]
[1]
[1]
[]
[null,null,null,{"$f":"MAX(E838:N838)","v":0},{"$f":"IF(E823<>$D823,0,COUNTA(E839:E843))","v":0},0,0,0,0,0,0,0,0,0]
[null,"Dependent (Output List) 1 -> ",null,"wbStrap","Clip","Strap","Strap"]
[]
[]
[]
[]
[null,null,null,"DO NOT FILL"]
[]
[null,null,null,{"$f":"MAX(E846:N846)","v":0},{"$f":"IF(E823<>$D823,0,COUNTA(E847:E851))","v":0},0,0,0,0,0,0,0,0,0]
[null,"Dependent (Output List) 1 -> "]
[]
[]
[]
[]
[null,null,null,"DO NOT FILL"]
[]
[null,null,null,{"$f":"D839","v":"wbStrap"},{"$f":"D847","v":0},null,{"$f":"SUBSTITUTE(\" \",\"\",$D824)","v":" "},{"$f":"IFERROR(INDEX(#REF!, MATCH(0, COUNTIF($D$677:G854,#REF!) + ( COUNTIF(#REF!,#REF!)<>1), 0)), \"\")","v":""},{"$f":"IFERROR(INDEX(#REF!, MATCH(0, COUNTIF($D$677:H854,#REF!) + ( COUNTIF(#REF!,#REF!)<>1), 0)), \"\")","v":""}]
[null,null,"row",{"$f":"MATCH(D854,$D823:$D845,0)","v":17},{"$f":"MATCH(E854,$D823:$D852,0)","v":16}]
[null,null,"column",{"$f":"MATCH(OFFSET($D823,MATCH(D854,$D823:$D851,0)-2,0),OFFSET($D823,MATCH(D854,$D823:$D845,0)-2,1,1,11),0)+1","v":2},{"$f":"MATCH(OFFSET($D823,MATCH(E854,$D823:$D851,0)-2,0),OFFSET($D823,MATCH(E854,$D823:$D851,0)-2,1,1,11),0)+1","v":{"$error":"#N/A"}}]
[null,null,"Size",{"$f":"OFFSET($D823,MATCH(D854,$D823:$D845,0)-2,0,)","v":0},{"$f":"OFFSET($D823,MATCH(E854,$D823:$D851,0)-2,0,)","v":0}]
[null,null,"Test →"]
[null,null,"Data Validation Name",{"$f":"\"L_\"&SUBSTITUTE(D854,\" \",\"\")","v":"L_wbStrap"},{"$f":"\"L_\"&SUBSTITUTE(E854,\" \",\"\")","v":"L_0"}]
[]
[]
[]
[null,null,"Enter DEPENDENCIES","SELECTION OPTIONS","CONFIGURATIONS"]
[null,null,"Ref Position →",{"$f":"COUNTA(D865:D880)","v":3},{"$f":"SUM(COUNTIF(E865:E880,$C865:$C880))","v":1},{"$f":"SUM(COUNTIF(F865:F880,$C865:$C880))","v":0},{"$f":"SUM(COUNTIF(G865:G880,$C865:$C880))","v":1},{"$f":"SUM(COUNTIF(H865:H880,$C865:$C880))","v":0},{"$f":"SUM(COUNTIF(I865:I880,$C865:$C880))","v":0},{"$f":"SUM(COUNTIF(J865:J880,$C865:$C880))","v":0},{"$f":"SUM(COUNTIF(K865:K880,$C865:$C880))","v":0},{"$f":"SUM(COUNTIF(L865:L880,$C865:$C880))","v":0},{"$f":"SUM(COUNTIF(M865:M880,$C865:$C880))","v":0},{"$f":"SUM(COUNTIF(N865:N880,$C865:$C880))","v":0}]
[null,"Enter Selection 1 ->",{"$f":"i_SystemType","v":0},"System Type","Wire Guide","Zipscreen","Wire Guide"]
[null,null,null,null,"Zipscreen",null,"Zipscreen"]
[null,null,null,null,"Straight Drop",null,"Straight Drop"]
[]
[]
[]
[null,"Enter Selection 3->",{"$f":"IF(i_wbLock=\"\",\"empty\",i_wbLock)","v":"empty"},"wbLock","No Lock","Ultra-Lock Zipscreen","No Lock"]
[null,null,null,null,"Eye Saddle",null,"Eye Saddle"]
[null,null,null,null,"Flush Mount",null,"Flush Mount"]
[null,null,null,null,"SB07 Bolt Lock",null,"SB07 Bolt Lock"]
[null,null,null,null,"Footman Loop",null,"Footman Loop"]
[null,null,null,null,"empty",null,"empty"]
[]
[null,null,{"$f":"i_WeightBar","v":0},"Weight Bar","F56","F56","F72"]
[null,null,null,null,null,"F72"]
[null,"Enter Selection 4->"]
[]
[null,null,null,{"$f":"MAX(E882:N882)","v":0},{"$f":"IF(E864<>$D864,0,SUMPRODUCT(--(E883:E890<>\"\")))","v":0},{"$f":"IF(F864<>$D864,0,SUMPRODUCT(--(F883:F890<>\"\")))","v":0},{"$f":"IF(G864<>$D864,0,SUMPRODUCT(--(G883:G890<>\"\")))","v":0},{"$f":"IF(H864<>$D864,0,COUNTA(H883:H890))","v":0},0,0,0,0,0,0]
[null,"Dependent (Output List) 1 -> ",null,"wbSeal","No Seal","Ultra-Lock Seal | 40mm","No Seal"]
[null,null,null,null,"Ultra-Lock Seal | 40mm",null,"Ultra-Lock Seal | 40mm"]
[null,null,null,null,"Bubble Seal Strip F56 | 8mm",null,"Bubble Seal Push Fit | 8mm (x1)"]
[null,null,null,null,"Bubble Seal Push Fit | 8mm (x1)",null,"Bubble Seal Push Fit | 8mm (x2)"]
[null,null,null,null,"Bubble Seal Push Fit | 8mm (x2)",null,{"$f":"IF(i_Location=\"AU\",\"Bubble Seal F72 | 16mm\",\"\")","v":""}]
[null,null,null,null,{"$f":"IF(i_Location=\"AU\",\"Bubble Seal Strip F56 | 16mm\",\"\")","v":""}]
[]
[]
[null,null,null,"DO NOT FILL"]
[]
[null,null,null,{"$f":"D883","v":"wbSeal"},null,{"$f":"IF(i_wbLock=\"\",_xlfn._xlws.FILTER(Ctrl_Selections!$E$883:$E$888,Ctrl_Selections!$E$883:$E$888<>\"\"),OFFSET(Ctrl_Selections!$D$864,Ctrl_Selections!$D$894-1,Ctrl_Selections!$D$895-1,Ctrl_Selections!$D$896))","v":"No Seal"},{"$f":"SUBSTITUTE(\" \",\"\",$D865)","v":" "},{"$f":"_xlfn._xlws.FILTER(Ctrl_Selections!$F$893:$F$897,Ctrl_Selections!$F$893:$F$897<>\"\")","v":"No Seal"}]
[null,null,"row",{"$f":"MATCH(D893,$D864:$D892,0)","v":20},null,"Ultra-Lock Seal | 40mm",null,"Ultra-Lock Seal | 40mm"]
[null,null,"column",{"$f":"MATCH(OFFSET($D864,MATCH(D893,$D864:$D892,0)-2,0),OFFSET($D864,MATCH(D893,$D864:$D892,0)-2,1,1,11),0)+1","v":2},null,"Bubble Seal Strip F56 | 8mm",null,"Bubble Seal Strip F56 | 8mm"]
[null,null,"Size",{"$f":"OFFSET($D864,MATCH(D893,$D864:$D892,0)-2,0,)","v":0},null,"Bubble Seal Push Fit | 8mm (x1)",null,"Bubble Seal Push Fit | 8mm (x1)"]
[null,null,"Test →",null,null,"Bubble Seal Push Fit | 8mm (x2)",null,"Bubble Seal Push Fit | 8mm (x2)"]
[null,null,"Data Validation Name",{"$f":"\"L_\"&SUBSTITUTE(D893,\" \",\"\")","v":"L_wbSeal"}]
[]
[]
[]
[]
[null,null,"Enter DEPENDENCIES","SELECTION OPTIONS","CONFIGURATIONS"]
[null,null,"Ref Position →",{"$f":"COUNTA(D905:D913)","v":2},{"$f":"SUM(COUNTIF(E905:E913,$C905:$C913))","v":0},{"$f":"SUM(COUNTIF(F905:F913,$C905:$C913))","v":0},{"$f":"SUM(COUNTIF(G905:G913,$C905:$C913))","v":0},{"$f":"SUM(COUNTIF(H905:H913,$C905:$C913))","v":0},{"$f":"SUM(COUNTIF(I905:I913,$C905:$C913))","v":0},{"$f":"SUM(COUNTIF(J905:J913,$C905:$C913))","v":0},{"$f":"SUM(COUNTIF(K905:K913,$C905:$C913))","v":0},{"$f":"SUM(COUNTIF(L905:L913,$C905:$C913))","v":0},{"$f":"SUM(COUNTIF(M905:M913,$C905:$C913))","v":0},{"$f":"SUM(COUNTIF(N905:N913,$C905:$C913))","v":0}]
[null,"Enter Selection 1 ->",{"$f":"i_SystemType","v":0},"System Type",null,"Wire Guide"]
[]
[null,"Enter Selection 2 ->",{"$f":"i_InstallationType","v":0},"Install Type",null,{"$f":"L_InstallType_WG_190","v":"Box 190"}]
[null,null,null,null,null,"Extreme Open Brackets (Top/Face Fix)"]
[null,null,null,null,null,"Extreme Open Brackets (Recess Fix)"]
[]
[null,"Enter Selection 3 ->"]
[]
[]
[]
[null,null,null,{"$f":"MAX(E915:N915)","v":0},{"$f":"IF(E904<>$D904,0,COUNTA(E916:E920))","v":0},{"$f":"IF(F904<>$D904,0,COUNTA(F916:F920))","v":0},null,null,null,{"$f":"IF(J904<>$D904,0,COUNTA(J916:J920))","v":0},{"$f":"IF(K904<>$D904,0,COUNTA(K916:K920))","v":0},{"$f":"IF(L904<>$D904,0,COUNTA(L916:L920))","v":0},{"$f":"IF(M904<>$D904,0,COUNTA(M916:M920))","v":0},{"$f":"IF(N904<>$D904,0,COUNTA(N916:N920))","v":0}]
[null,"Dependent (Output List) 1 -> ",null,"WGBTOption",null,"Tensioning Terminal (Floor Fix)"]
[null,null,null,null,null,"Threaded Stud Terminal (Face/Side Fix)"]
[]
[]
[]
[null,null,null,"DO NOT FILL"]
[]
[null,null,null,{"$f":"D916","v":"WGBTOption"},null,null,{"$f":"SUBSTITUTE(\" \",\"\",$D905)","v":" "},{"$f":"IFERROR(INDEX(#REF!, MATCH(0, COUNTIF($D$677:G923,#REF!) + ( COUNTIF(#REF!,#REF!)<>1), 0)), \"\")","v":""},{"$f":"IFERROR(INDEX(#REF!, MATCH(0, COUNTIF($D$677:H923,#REF!) + ( COUNTIF(#REF!,#REF!)<>1), 0)), \"\")","v":""}]
[null,null,"row",{"$f":"MATCH(D923,$D904:$D922,0)","v":13}]
[null,null,"column",{"$f":"MATCH(OFFSET($D904,MATCH(D923,$D904:$D922,0)-2,0),OFFSET($D904,MATCH(D923,$D904:$D922,0)-2,1,1,11),0)+1","v":2}]
[null,null,"Size",{"$f":"OFFSET($D904,MATCH(D923,$D904:$D922,0)-2,0,)","v":0}]
[null,null,"Test →"]
[null,null,"Data Validation Name",{"$f":"\"L_\"&SUBSTITUTE(D923,\" \",\"\")","v":"L_WGBTOption"}]
[]
[]
[]
[null,null,"Enter DEPENDENCIES","SELECTION OPTIONS","CONFIGURATIONS"]
[null,null,"Ref Position →",{"$f":"COUNTA(D934:D945)","v":3},{"$f":"SUM(COUNTIF(E934:E945,$C934:$C945))","v":0},{"$f":"SUM(COUNTIF(F934:F945,$C934:$C945))","v":0},{"$f":"SUM(COUNTIF(G934:G945,$C934:$C945))","v":0},{"$f":"SUM(COUNTIF(H934:H945,$C934:$C945))","v":0},{"$f":"SUM(COUNTIF(I934:I945,$C934:$C945))","v":0},{"$f":"SUM(COUNTIF(J934:J945,$C934:$C945))","v":0},{"$f":"SUM(COUNTIF(K934:K945,$C934:$C945))","v":0},{"$f":"SUM(COUNTIF(L934:L945,$C934:$C945))","v":0},{"$f":"SUM(COUNTIF(M934:M945,$C934:$C945))","v":0},{"$f":"SUM(COUNTIF(N934:N945,$C934:$C945))","v":0}]
[null,"Enter Selection 1 ->",{"$f":"i_SystemType","v":0},"System Type","Wire Guide","Wire Guide","Wire Guide"]
[]
[null,null,{"$f":"i_InstallationType","v":0},"Install Type",{"$f":"L_InstallType_WG_120","v":"Box 120 (Full Cover)"},{"$f":"L_InstallType_WG_190","v":"Box 190"}]
[null,null,null,null,"Box 120 (Semi Cover)","Extreme Open Brackets (Top/Face Fix)"]
[null,null,null,null,"Open","Extreme Open Brackets (Recess Fix)"]
[]
[]
[]
[]
[null,"Enter Selection 3 ->",{"$f":"i_WGBTOption","v":0},"Wire Bottom Terminal","Wire Guide Swivel Bracket","Tensioning Terminal","Threaded Stud Terminal"]
[]
[]
[]
[null,null,null,{"$f":"MAX(E947:N947)","v":0},{"$f":"IF(E933<>$D933,0,COUNTA(E948:E952))","v":0},{"$f":"IF(F933<>$D933,0,COUNTA(F948:F952))","v":0},{"$f":"IF(G933<>$D933,0,COUNTA(G948:G952))","v":0},null,null,{"$f":"IF(J933<>$D933,0,COUNTA(J948:J952))","v":0},{"$f":"IF(K933<>$D933,0,COUNTA(K948:K952))","v":0},{"$f":"IF(L933<>$D933,0,COUNTA(L948:L952))","v":0},{"$f":"IF(M933<>$D933,0,COUNTA(M948:M952))","v":0},{"$f":"IF(N933<>$D933,0,COUNTA(N948:N952))","v":0}]
[null,"Dependent (Output List) 1 -> ",null,"WGBTBOption",null,"No Bracket","L Bracket (Face/Side Fix) + Tension Spring"]
[null,null,null,null,null,"L Bracket (Face/Side Fix)"]
[]
[]
[]
[null,null,null,"DO NOT FILL"]
[]
[null,null,null,{"$f":"D948","v":"WGBTBOption"},null,null,{"$f":"SUBSTITUTE(\" \",\"\",$D934)","v":" "},{"$f":"IFERROR(INDEX(#REF!, MATCH(0, COUNTIF($D$677:G955,#REF!) + ( COUNTIF(#REF!,#REF!)<>1), 0)), \"\")","v":""},{"$f":"IFERROR(INDEX(#REF!, MATCH(0, COUNTIF($D$677:H955,#REF!) + ( COUNTIF(#REF!,#REF!)<>1), 0)), \"\")","v":""}]
[null,null,"row",{"$f":"MATCH(D955,$D933:$D954,0)","v":16}]
[null,null,"column",{"$f":"MATCH(OFFSET($D933,MATCH(D955,$D933:$D954,0)-2,0),OFFSET($D933,MATCH(D955,$D933:$D954,0)-2,1,1,11),0)+1","v":2}]
[null,null,"Size",{"$f":"OFFSET($D933,MATCH(D955,$D933:$D954,0)-2,0,)","v":0}]
[null,null,"Test →"]
[null,null,"Data Validation Name",{"$f":"\"L_\"&SUBSTITUTE(D955,\" \",\"\")","v":"L_WGBTBOption"}]
[]
[null,null,null,{"$f":"OFFSET($D$933,$D$956-1,$D$957-1,$D$958)","v":{"$error":"#REF!"}}]
[]
[]
[null,null,"Enter DEPENDENCIES","SELECTION OPTIONS","CONFIGURATIONS"]
[null,null,"Ref Position →",{"$f":"COUNTA(D967:D970)","v":1},{"$f":"SUM(COUNTIF(E967:E970,$C967:$C970))","v":0},{"$f":"SUM(COUNTIF(F967:F970,$C967:$C970))","v":0},{"$f":"SUM(COUNTIF(G967:G970,$C967:$C970))","v":0},{"$f":"SUM(COUNTIF(H967:H970,$C967:$C970))","v":0},{"$f":"SUM(COUNTIF(I967:I970,$C967:$C970))","v":0},{"$f":"SUM(COUNTIF(J967:J970,$C967:$C970))","v":0},{"$f":"SUM(COUNTIF(K967:K970,$C967:$C970))","v":0},{"$f":"SUM(COUNTIF(L967:L970,$C967:$C970))","v":0},{"$f":"SUM(COUNTIF(M967:M970,$C967:$C970))","v":0},{"$f":"SUM(COUNTIF(N967:N970,$C967:$C970))","v":0}]
[null,"Enter Selection 1 ->",{"$f":"i_WeightBar","v":0},"Weight Bar","F56","F72"]
[]
[null,"Enter Selection 2->"]
[null,"Enter Selection 4->"]
[]
[null,null,null,{"$f":"MAX(E972:N972)","v":0},{"$f":"IF(E966<>$D966,0,COUNTA(E973:E977))","v":0},0,0,0,0,0,0,0,0,0]
[null,"Dependent (Output List) 1 -> ",null,"wbBallast","No Ballast","No Ballast"]
[null,null,null,null,"20 x 5 mm Flat Bar (x1) - 0.8 kg/m","25 x 8 mm Flat Bar (x1) - 1.6 kg/m"]
[null,null,null,null,"20 x 5 mm Flat Bar (x2) - 1.6 kg/m","25 x 8 mm Flat Bar (x2) - 3.2 kg/m"]
[]
[]
[null,null,null,"DO NOT FILL"]
[]
[null,null,null,{"$f":"D973","v":"wbBallast"},null,null,{"$f":"SUBSTITUTE(\" \",\"\",$D967)","v":" "},{"$f":"IFERROR(INDEX(#REF!, MATCH(0, COUNTIF($D$677:G980,#REF!) + ( COUNTIF(#REF!,#REF!)<>1), 0)), \"\")","v":""},{"$f":"IFERROR(INDEX(#REF!, MATCH(0, COUNTIF($D$677:H980,#REF!) + ( COUNTIF(#REF!,#REF!)<>1), 0)), \"\")","v":""}]
[null,null,"row",{"$f":"MATCH(D980,$D966:$D979,0)","v":8}]
[null,null,"column",{"$f":"MATCH(OFFSET($D966,MATCH(D980,$D966:$D979,0)-2,0),OFFSET($D966,MATCH(D980,$D966:$D979,0)-2,1,1,11),0)+1","v":2}]
[null,null,"Size",{"$f":"OFFSET($D966,MATCH(D980,$D966:$D979,0)-2,0,)","v":0}]
[null,null,"Test →"]
[null,null,"Data Validation Name",{"$f":"\"L_\"&SUBSTITUTE(D980,\" \",\"\")","v":"L_wbBallast"}]
[]
[]
[]
[]
[]
[]
[null,null,"Enter DEPENDENCIES","SELECTION OPTIONS","CONFIGURATIONS"]
[null,null,"Ref Position →",{"$f":"COUNTA(D994:D997)","v":0},{"$f":"SUM(COUNTIF(E994:E997,$C994:$C997))","v":0},{"$f":"SUM(COUNTIF(F994:F997,$C994:$C997))","v":0},{"$f":"SUM(COUNTIF(G994:G997,$C994:$C997))","v":0},{"$f":"SUM(COUNTIF(H994:H997,$C994:$C997))","v":0},{"$f":"SUM(COUNTIF(I994:I997,$C994:$C997))","v":0},{"$f":"SUM(COUNTIF(J994:J997,$C994:$C997))","v":0},{"$f":"SUM(COUNTIF(K994:K997,$C994:$C997))","v":0},{"$f":"SUM(COUNTIF(L994:L997,$C994:$C997))","v":0},{"$f":"SUM(COUNTIF(M994:M997,$C994:$C997))","v":0},{"$f":"SUM(COUNTIF(N994:N997,$C994:$C997))","v":0}]
[null,"Enter Selection 1 ->"]
[null,"Enter Selection 2->"]
[null,"Enter Selection 3->"]
[null,"Enter Selection 4->"]
[]
[null,null,null,{"$f":"MAX(E999:N999)","v":0},{"$f":"IF(E993<>$D993,0,COUNTA(E1000:E1004))","v":0},0,0,0,0,0,0,0,0,0]
[null,"Dependent (Output List) 1 -> ",null,"Option 1"]
[]
[]
[]
[]
[null,null,null,"DO NOT FILL"]
[]
[null,null,null,{"$f":"MAX(E1007:N1007)","v":0},{"$f":"IF(E993<>$D993,0,COUNTA(E1008:E1012))","v":0},{"$f":"IF(F993<>$D993,0,COUNTA(F1008:F1012))","v":0},0,0,0,0,0,0,0,0]
[null,"Dependent (Output List) 2 -> ",null,"Option 2"]
[]
[]
[]
[]
[null,null,null,"DO NOT FILL"]
[]
[null,null,null,{"$f":"MAX(E1015:N1015)","v":0},{"$f":"IF(E993<>$D993,0,COUNTA(E1016:E1020))","v":0},{"$f":"IF(F993<>$D993,0,COUNTA(F1016:F1020))","v":0},0,0,0,0,0,0,0,0]
[null,"Dependent (Output List) 3 -> ",null,"Option 3"]
[]
[]
[]
[]
[null,null,null,"DO NOT FILL"]
[]
[null,null,null,{"$f":"D1000","v":"Option 1"},{"$f":"D1008","v":"Option 2"},{"$f":"D1016","v":"Option 3"},null,{"$f":"IFERROR(INDEX(#REF!, MATCH(0, COUNTIF($D$677:G1023,#REF!) + ( COUNTIF(#REF!,#REF!)<>1), 0)), \"\")","v":""},{"$f":"IFERROR(INDEX(#REF!, MATCH(0, COUNTIF($D$677:H1023,#REF!) + ( COUNTIF(#REF!,#REF!)<>1), 0)), \"\")","v":""}]
[null,null,"row",{"$f":"MATCH(D1023,$D993:$D1021,0)","v":8},{"$f":"MATCH(E1023,$D993:$D1021,0)","v":16},{"$f":"MATCH(F1023,$D993:$D1021,0)","v":24}]
[null,null,"column",{"$f":"MATCH(OFFSET($D993,MATCH(D1023,$D993:$D1021,0)-2,0),OFFSET($D993,MATCH(D1023,$D993:$D1021,0)-2,1,1,11),0)+1","v":2},{"$f":"MATCH(OFFSET($D993,MATCH(E1023,$D993:$D1021,0)-2,0),OFFSET($D993,MATCH(E1023,$D993:$D1021,0)-2,1,1,11),0)+1","v":2},{"$f":"MATCH(OFFSET($D993,MATCH(F1023,$D993:$D1021,0)-2,0),OFFSET($D993,MATCH(F1023,$D993:$D1021,0)-2,1,1,11),0)+1","v":2}]
[null,null,"Size",{"$f":"OFFSET($D993,MATCH(D1023,$D993:$D1021,0)-2,0,)","v":0},{"$f":"OFFSET($D993,MATCH(E1023,$D993:$D1021,0)-2,0,)","v":0},{"$f":"OFFSET($D993,MATCH(F1023,$D993:$D1021,0)-2,0,)","v":0}]
[null,null,"Test →"]
[null,null,"Data Validation Name",{"$f":"\"L_\"&SUBSTITUTE(D1023,\" \",\"\")","v":"L_Option1"},{"$f":"\"L_\"&SUBSTITUTE(E1023,\" \",\"\")","v":"L_Option2"},{"$f":"\"L_\"&SUBSTITUTE(F1023,\" \",\"\")","v":"L_Option3"}]

{"sheet":"Ctrl_Deductions","index":8,"n_rows":76,"n_cols":48,"rows_kept":76,"cut":false,"hidden":true,"merged":[[14,24,18,24],[14,25,18,25],[1,26,1,27],[2,26,2,47],[9,24,13,24],[4,24,8,24],[9,25,13,25],[4,25,8,25]]}
[null,null,null,null,null,null,null,null,null,null,null,null,null,null,null,null,null,null,null,null,null,null,null,null,null,null,null,null,null,null,null,null,null,null,null,null,null,null,{"$f":"i_BktFixType","v":0}]
[null,null,null,"Does",null,"Apply to ",null,null,null,null,null,null,null,null,null,null,null,null,null,null,null,null,null,null,null,null,"assumes RECESS/side fix baseline",null,null,null,null,null,null,null,null,null,null,null,{"$f":"i_ZipscreenSideGuideFix","v":0}]
[null,null,null,null,null,null,null,null,null,null,null,null,null,null,null,null,null,null,null,null,null,null,null,null,"Enter DEPENDENCIES","SELECTION OPTIONS","CONFIGURATIONS"]
[null,null,null,null,null,null,null,null,null,null,null,null,null,null,null,null,null,null,null,null,null,null,null,null,null,{"$f":"MAX(AA4:AV4)","v":0},{"$f":"SUM(COUNTIF(AA5:AA19,$Y$5:$Y$19))","v":0},{"$f":"SUM(COUNTIF(AB5:AB19,$Y$5:$Y$19))","v":0},{"$f":"SUM(COUNTIF(AC5:AC19,$Y$5:$Y$19))","v":0},{"$f":"SUM(COUNTIF(AD5:AD19,$Y$5:$Y$19))","v":0},{"$f":"SUM(COUNTIF(AE5:AE19,$Y$5:$Y$19))","v":0},{"$f":"SUM(COUNTIF(AF5:AF19,$Y$5:$Y$19))","v":0},{"$f":"SUM(COUNTIF(AG5:AG19,$Y$5:$Y$19))","v":0},{"$f":"SUM(COUNTIF(AH5:AH19,$Y$5:$Y$19))","v":0},{"$f":"SUM(COUNTIF(AI5:AI19,$Y$5:$Y$19))","v":0},{"$f":"SUM(COUNTIF(AJ5:AJ19,$Y$5:$Y$19))","v":0},{"$f":"SUM(COUNTIF(AK5:AK19,$Y$5:$Y$19))","v":0},{"$f":"SUM(COUNTIF(AL5:AL19,$Y$5:$Y$19))","v":0},{"$f":"SUM(COUNTIF(AM5:AM19,$Y$5:$Y$19))","v":0},{"$f":"SUM(COUNTIF(AN5:AN19,$Y$5:$Y$19))","v":0},{"$f":"SUM(COUNTIF(AO5:AO19,$Y$5:$Y$19))","v":0},{"$f":"SUM(COUNTIF(AP5:AP19,$Y$5:$Y$19))","v":0},{"$f":"SUM(COUNTIF(AQ5:AQ19,$Y$5:$Y$19))","v":0},{"$f":"SUM(COUNTIF(AR5:AR19,$Y$5:$Y$19))","v":0},{"$f":"SUM(COUNTIF(AS5:AS19,$Y$5:$Y$19))","v":0},{"$f":"SUM(COUNTIF(AT5:AT19,$Y$5:$Y$19))","v":0},{"$f":"SUM(COUNTIF(AU5:AU19,$Y$5:$Y$19))","v":0},{"$f":"SUM(COUNTIF(AV5:AV19,$Y$5:$Y$19))","v":0}]
[null,null,null,null,null,null,null,null,null,null,null,null,null,null,null,null,null,null,null,null,null,null,null,null,{"$f":"INDIRECT(\"i_\"&SUBSTITUTE($Z5,\" \",\"\"))","v":0},"System Type","Zipscreen","Zipscreen","Straight Drop","Pivot Arm","Straight Drop","Pivot Arm","Wire Guide","Wire Guide","Channel Guide","Channel Guide","Zipscreen","Zipscreen","Wire Guide","Wire Guide","Wire Guide"]
[]
[]
[]
[]
[null,null,null,null,null,null,null,null,null,null,null,null,null,null,null,null,null,null,null,null,null,null,"Open",null,{"$f":"INDIRECT(\"i_\"&SUBSTITUTE($Z10,\" \",\"\"))","v":0},"Installation Type","Box 120 (Full Cover)","Open","Box 120 (Full Cover)","Box 120 (Full Cover)","Open","Open","Box 120 (Full Cover)","Open","Box 120 (Full Cover)","Open","Zipscreen Extreme Open Bracket","Box 190","Box 190","Extreme Open Brackets (Top/Face Fix)","Extreme Open Brackets (Recess Fix)"]
[null,null,null,null,null,null,null,null,null,null,null,null,null,null,null,null,null,null,null,null,null,null,"Extreme Recess Open Bracket",null,null,null,"Box 120 (Semi Cover)",null,"Box 120 (Semi Cover)","Box 120 (Semi Cover)",null,null,"Box 120 (Semi Cover)",null,"Box 120 (Semi Cover)"]
[null,null,null,null,null,null,null,null,null,null,null,null,null,null,null,null,null,null,null,null,null,null,"Extreme Top/Face Fix Open Bracket"]
[]
[]
[]
[]
[]
[]
[]
[]
[null,null,null,null,null,null,null,null,null,null,null,null,null,null,null,null,null,null,null,null,null,null,null,null,null,null,null,null,null,null,null,null,null,null,null,null,"open bkt assumes FACE FIX for heights, modifier for TOP fix"]
[null,null,null,null,null,null,null,null,null,null,null,null,null,null,null,null,null,null,null,null,null,null,null,null,null,null,"Recess Fix, F56, 16mm Bubble Seal/8mm Bubble Strip as baseline",null,null,null,null,null,null,null,null,null,"assumes RECESS is BASELINE for box190- modifier subtracts 5mm (accounts for L fixing side channels"]
[]
[null,null,null,null,null,null,null,null,null,null,null,null,null,null,null,null,null,null,null,null,null,null,null,null,"Type","Deduction",{"$f":"IF(AA4<>$Z$4,0,1)","v":1},1,1,{"$f":"IF(AD4<>$Z$4,0,1)","v":1},1,1,1,1,1,1,1,1,1,{"$f":"IF(AN4<>$Z$4,0,1)","v":1},1,1,1,1,1,1,1,1]
[null,null,null,null,null,null,null,null,null,null,null,null,null,null,null,null,null,null,null,null,null,null,null,null,"Fabric",{"$f":"INDEX(AA25:AV25,0,MATCH(1,$AA$24:$AV$24,0))","v":82},82,82,70,70,70,70,92,92,70,70,82,82,120,115,96]
[null,null,null,"HAS FORMULAS",null,null,null,null,null,null,null,null,null,null,null,null,null,null,null,null,null,null,null,null,"Tube",118,118,114,68,68,68,68,68,68,68,68,114,124,110,115,96]
[null,null,null,null,null,null,null,null,null,null,null,null,null,null,null,null,null,null,null,null,null,null,null,null,"Box",66,66,0,66,66,null,null,66,null,66,0,null,24,24]
[null,null,null,null,null,null,null,null,null,null,null,null,null,null,null,null,null,null,null,null,null,null,null,null,"InnerRail",143,143,143,0,null,null,null,null,null,131,131,193,186]
[null,null,null,null,null,null,null,null,null,null,null,null,null,null,null,null,null,null,null,null,null,null,"U Mounting",null,"FixingRail",125,125,125,0,null,null,null,null,null,null,null,175,183]
[null,null,null,null,null,null,null,null,null,null,null,null,null,null,null,null,null,null,null,null,null,null,null,null,"wb",121,121,121,{"$f":"$AC$25","v":70},70,{"$f":"$AE$25","v":70},{"$f":"$AF$25","v":70},92,92,168,168,121,121,120,115,96]
[null,null,null,null,null,null,null,null,null,null,null,null,null,null,null,null,null,null,null,null,null,null,null,null,"Ballast",150,150,150,{"$f":"$AC$25","v":70},{"$f":"$AD$30","v":70},{"$f":"$AE$25","v":70},{"$f":"$AF$30","v":70},92,92,168,168,150,150,150,140,130]
[null,null,null,null,null,null,null,null,null,null,null,null,null,null,null,null,null,null,null,null,null,null,null,null,"TubeSpline",82,{"$f":"AA25","v":82},{"$f":"AB25","v":82},70,{"$f":"$AD$30","v":70},70,{"$f":"$AF$30","v":70},92,92,70,70,{"$f":"AK25","v":82},82,{"$f":"AM25","v":120},{"$f":"AN25","v":115},96]
[null,null,null,null,null,null,null,null,null,null,null,null,null,null,null,null,null,null,null,null,null,null,null,null,"wbSpline",82,{"$f":"AA25","v":82},{"$f":"AB25","v":82},70,70,70,{"$f":"$AF$30","v":70},92,92,{"$f":"AI25","v":70},70,{"$f":"AK25","v":82},82,{"$f":"AM25","v":120},{"$f":"AN25","v":115},96]
[null,null,null,{"$f":"COUNTA(D44:D62)","v":15},null,null,null,null,null,null,null,null,null,null,null,null,null,null,null,null,null,null,null,null,"wbSeal",121,{"$f":"AA30","v":121},{"$f":"AB30","v":121},70,70,70,70,92,92,{"$f":"AI30","v":168},{"$f":"AJ30","v":168},{"$f":"AK30","v":121},{"$f":"AL30","v":121},{"$f":"AM30","v":120},{"$f":"AN30","v":115},96]
[null,null,null,null,null,null,null,null,null,null,null,null,null,null,null,null,null,null,null,null,null,null,null,null,"Brush",0,null,null,null,null,null,null,null,null,null,null,null,-170,-176]
[null,null,null,null,null,null,null,null,null,null,null,null,null,null,null,null,null,null,null,null,null,null,null,null,"FixingRailExtreme",0,null,null,null,null,null,null,null,null,null,null,191,191]
[null,null,null,null,null,null,null,null,null,null,null,null,null,null,null,null,null,null,null,null,null,null,null,null,"FabricDrop",-250,-250,-250,-250,-3450,-250,-3450,-250,-250,-250,-250,-350,-350,-350,-350,-350]
[]
[null,null,null,null,null,null,null,null,null,null,null,null,null,null,null,null,null,null,null,null,null,null,null,null,null,null,null,null,null,null,null,null,null,null,null,null,"Open Bkt top stop flush","Box 190 top stop raised 15mm"]
[]
[null,null,null,null,null,null,null,null,null,null,null,null,null,null,null,null,null,"Lookup",null,null,null,null,null,null,null,null,"Applicable modifiers for system configurations"]
[null,null,null,null,null,null,null,null,null,null,null,null,null,null,null,null,null,"Deduction"]
[null,null,null,{"$f":"Y25","v":"Fabric"},{"$f":"Y26","v":"Tube"},{"$f":"Y27","v":"Box"},{"$f":"Y28","v":"InnerRail"},{"$f":"Y29","v":"FixingRail"},{"$f":"Y30","v":"wb"},{"$f":"Y31","v":"Ballast"},{"$f":"Y32","v":"TubeSpline"},{"$f":"Y33","v":"wbSpline"},{"$f":"Y34","v":"wbSeal"},{"$f":"Y35","v":"Brush"},{"$f":"Y36","v":"FixingRailExtreme"},{"$f":"Y37","v":"FabricDrop"},null,"Modifiers",null,"QTY","ON/OFF",null,"Comments",null,"↓Input Selection Type","↓Applicable Input Selection",{"$f":"IF(AA4<>$Z$4,0,1)","v":1},1,1,{"$f":"IF(AD4<>$Z$4,0,1)","v":1},1,1,1,1,1,1,1,1,1,{"$f":"IF(AN4<>$Z$4,0,1)","v":1},1,1,1,1,1,1,1,1]
[null,null,null,1,1,1,0,0,1,1,1,1,1,0,0,0,null,{"$f":"INDEX($AA$44:$AV$59,0,MATCH(1,$AA$43:$AV$43,0))","v":5},null,1,{"$f":"IFERROR(IF(ISBLANK(Y44),\"\",IF(FIND(Z44,INDIRECT(\"i_\"&$Y44))>0,1,0)),0)","v":0},null,"Box Deduc. WIDTHS",null,"ZipscreenSideGuideFix","Face Fix",5,5,null,null,null,null,null,null,null,null,5,5]
[null,null,null,0,0,0,1,1,0,0,0,0,0,0,0,0,null,0,null,1,{"$f":"IFERROR(IF(ISBLANK(Y45),\"\",IF(FIND(Z45,INDIRECT(\"i_\"&$Y45))>0,1,0)),0)","v":0},null,"For Open face fix, reduced height deduction",null,"BktFixType","Face Fix",null,null,null,null,null,null,null,null,null,{"$f":"IF(i_OpenBktStyle=\"Open Brackets | ROUND\", -5, 5)","v":5}]
[null,null,null,1,1,1,0,0,1,1,1,1,1,0,0,0,null,-5,null,1,0,null,"Open Face Fix",null,"ZipscreenSideGuideType","Face Fix U-Rail",-5,-5]
[null,null,null,0,0,0,0,0,0,0,0,0,1,0,0,0,null,-17,null,1,0,null,null,null,"wbSeal","Ultra-Lock Seal",-17,-17]
[null,null,null,0,0,0,0,0,0,0,0,null,1,0,0,0,null,-17,null,1,{"$f":"IFERROR(IF(ISBLANK(Y48),\"\",IF(FIND(Z48,INDIRECT(\"i_\"&$Y48))>0,1,0)),0)","v":0},null,"F72 16mm fits into end cap 9mm/side",null,"wbSeal","Bubble Seal F72 | 16mm",-17,-17]
[null,null,null,0,0,0,0,0,0,0,0,0,0,0,0,1,null,0,null,1,{"$f":"IFERROR(IF(ISBLANK(Y49),\"\",IF(FIND(Z49,INDIRECT(\"i_\"&$Y49))>0,1,0)),0)","v":0},null,"extreme extra fabric",null,"Tube",130,null,null,null,null,null,null,null,null,null,null,-80,-80,-80,-80,-80]
[null,null,null,0,0,0,0,0,0,0,0,0,0,0,0,1,null,0,null,1,{"$f":"IFERROR(IF(ISBLANK(Y50),\"\",IF(FIND(Z50,INDIRECT(\"i_\"&$Y50))>0,1,0)),0)","v":0},null,"extreme extra fabric",null,"Tube",160,null,null,null,null,null,null,null,null,null,null,-170,-170,-170,-170,-170]
[null,null,null,0,0,0,0,0,0,1,0,0,0,0,0,0,null,300,null,1,0,null,null,null,"wbLock","Ultra-Lock",300,300]
[null,null,null,0,0,0,1,0,0,0,0,0,0,0,0,0,null,67,null,1,0,null,null,null,"wbLock","Ultra-Lock",67,67]
[null,null,null,0,0,0,1,1,0,0,0,0,0,0,1,0,null,0,null,1,{"$f":"IFERROR(IF(ISBLANK(Y53),\"\",IF(FIND(Z53,INDIRECT(\"i_\"&$Y53))>0,1,0)),0)","v":0},null,"top vs. face fix for ZSextreme - HEIGHT changes 5mm",null,"bktFixType","Top",null,null,null,null,null,null,null,null,null,null,5]
[null,null,null,0,0,0,0,0,0,0,0,0,1,0,0,0,null,-32,null,1,0,null,null,null,"wbseal","Strip",-32,-32,null,null,null,null,null,null,null,null,-32,-32]
[null,null,null,0,0,0,0,0,0,0,0,0,0,0,0,0,null,0,null,1,1,null,null,null,"wbseal"]
[null,null,null,0,0,0,0,0,0,0,0,0,0,0,0,0,null,0,null,1,""]
[null,null,null,0,0,0,0,0,0,0,0,0,0,0,0,0,null,0,null,1,""]
[null,null,null,0,0,0,0,0,0,0,0,0,0,0,0,0,null,0,null,1,""]
[]
[]
[]
[]
[null,null,null,null,null,null,null,null,null,null,null,null,null,null,null,null,null,null,null,null,null,null,null,null,"Type","Deduction",{"$f":"IF(AA4<>$Z$4,0,1)","v":1},1,1,1,1,1,1,1,1,1,1,1,1,1,1,1,1,1,1,1,1,1]
[null,null,null,null,null,null,null,null,null,null,null,null,null,null,null,null,null,null,null,null,null,null,null,null,"Fabric",{"$f":"INDEX(AA64:AV64,0,MATCH(1,$AA$24:$AV$24,0))","v":82},{"$f":"IFERROR(IF(AA$63=0,\"\",AA25+SUMPRODUCT($U$44:$U$58,$T$44:$T$58,$R$44:$R$58,OFFSET($D$43,1,MATCH($Y64,$D$43:$P$43,0)-1,$D$34,1))),\"\")","v":82},82,70,70,70,70,92,92,70,70,82,82,120,115,96,0,0,0,0,0,0,0]
[null,null,null,null,null,null,null,null,null,null,null,null,null,null,null,null,null,null,null,null,null,null,null,null,"Tube",{"$f":"INDEX(AA65:AV65,0,MATCH(1,$AA$24:$AV$24,0))","v":118},{"$f":"IFERROR(IF(AA$63=0,\"\",AA26+SUMPRODUCT($U$44:$U$58,$T$44:$T$58,$R$44:$R$58,OFFSET($D$43,1,MATCH($Y65,$D$43:$P$43,0)-1,$D$34,1))),\"\")","v":118},114,68,68,68,68,68,68,68,68,114,124,110,115,96,0,0,0,0,0,0,0]
[null,null,null,null,null,null,null,null,null,null,null,null,null,null,null,null,null,null,null,null,null,null,null,null,"Box",{"$f":"INDEX(AA66:AV66,0,MATCH(1,$AA$24:$AV$24,0))","v":66},{"$f":"IFERROR(IF(AA$63=0,\"\",AA27+SUMPRODUCT($U$44:$U$58,$T$44:$T$58,$R$44:$R$58,OFFSET($D$43,1,MATCH($Y66,$D$43:$P$43,0)-1,$D$34,1))),\"\")","v":66},0,66,66,0,0,66,0,66,0,0,24,24,0,0,0,0,0,0,0,0,0]
[null,null,null,null,null,null,null,null,null,null,null,null,null,null,null,null,null,null,null,null,null,null,null,null,"InnerRail",{"$f":"INDEX(AA67:AV67,0,MATCH(1,$AA$24:$AV$24,0))","v":143},{"$f":"IFERROR(IF(AA$63=0,\"\",AA28+SUMPRODUCT($U$44:$U$58,$T$44:$T$58,$R$44:$R$58,OFFSET($D$43,1,MATCH($Y67,$D$43:$P$43,0)-1,$D$34,1))),\"\")","v":143},143,0,0,0,0,0,0,131,131,193,186,0,0,0,0,0,0,0,0,0,0]
[null,null,null,null,null,null,null,null,null,null,null,null,null,null,null,null,null,null,null,null,null,null,null,null,"FixingRail",{"$f":"INDEX(AA68:AV68,0,MATCH(1,$AA$24:$AV$24,0))","v":125},{"$f":"IFERROR(IF(AA$63=0,\"\",AA29+SUMPRODUCT($U$44:$U$58,$T$44:$T$58,$R$44:$R$58,OFFSET($D$43,1,MATCH($Y68,$D$43:$P$43,0)-1,$D$34,1))),\"\")","v":125},125,0,0,0,0,0,0,0,0,175,183,0,0,0,0,0,0,0,0,0,0]
[null,null,null,null,null,null,null,null,null,null,null,null,null,null,null,null,null,null,null,null,null,null,null,null,"wb",{"$f":"INDEX(AA69:AV69,0,MATCH(1,$AA$24:$AV$24,0))","v":121},{"$f":"IFERROR(IF(AA$63=0,\"\",AA30+SUMPRODUCT($U$44:$U$58,$T$44:$T$58,$R$44:$R$58,OFFSET($D$43,1,MATCH($Y69,$D$43:$P$43,0)-1,$D$34,1))),\"\")","v":121},121,70,70,70,70,92,92,168,168,121,121,120,115,96,0,0,0,0,0,0,0]
[null,null,null,null,null,null,null,null,null,null,null,null,null,null,null,null,null,null,null,null,null,null,null,null,"Ballast",{"$f":"INDEX(AA70:AV70,0,MATCH(1,$AA$24:$AV$24,0))","v":150},{"$f":"IFERROR(IF(AA$63=0,\"\",AA31+SUMPRODUCT($U$44:$U$58,$T$44:$T$58,$R$44:$R$58,OFFSET($D$43,1,MATCH($Y70,$D$43:$P$43,0)-1,$D$34,1))),\"\")","v":150},150,70,70,70,70,92,92,168,168,150,150,150,140,130,0,0,0,0,0,0,0]
[null,null,null,null,null,null,null,null,null,null,null,null,null,null,null,null,null,null,null,null,null,null,null,null,"TubeSpline",{"$f":"INDEX(AA71:AV71,0,MATCH(1,$AA$24:$AV$24,0))","v":82},{"$f":"IFERROR(IF(AA$63=0,\"\",AA32+SUMPRODUCT($U$44:$U$58,$T$44:$T$58,$R$44:$R$58,OFFSET($D$43,1,MATCH($Y71,$D$43:$P$43,0)-1,$D$34,1))),\"\")","v":82},82,70,70,70,70,92,92,70,70,82,82,120,115,96,0,0,0,0,0,0,0]
[null,null,null,null,null,null,null,null,null,null,null,null,null,null,null,null,null,null,null,null,null,null,null,null,"wbSpline",{"$f":"INDEX(AA72:AV72,0,MATCH(1,$AA$24:$AV$24,0))","v":82},{"$f":"IFERROR(IF(AA$63=0,\"\",AA33+SUMPRODUCT($U$44:$U$58,$T$44:$T$58,$R$44:$R$58,OFFSET($D$43,1,MATCH($Y72,$D$43:$P$43,0)-1,$D$34,1))),\"\")","v":82},82,70,70,70,70,92,92,70,70,82,82,120,115,96,0,0,0,0,0,0,0]
[null,null,null,null,null,null,null,null,null,null,null,null,null,null,null,null,null,null,null,null,null,null,null,null,"wbSeal",{"$f":"INDEX(AA73:AV73,0,MATCH(1,$AA$24:$AV$24,0))","v":121},{"$f":"IFERROR(IF(AA$63=0,\"\",AA34+SUMPRODUCT($U$44:$U$58,$T$44:$T$58,$R$44:$R$58,OFFSET($D$43,1,MATCH($Y73,$D$43:$P$43,0)-1,$D$34,1))),\"\")","v":121},121,70,70,70,70,92,92,168,168,121,121,120,115,96,0,0,0,0,0,0,0]
[null,null,null,null,null,null,null,null,null,null,null,null,null,null,null,null,null,null,null,null,null,null,null,null,"Brush",{"$f":"INDEX(AA74:AV74,0,MATCH(1,$AA$24:$AV$24,0))","v":0},null,null,null,null,null,null,null,null,null,null,{"$f":"IFERROR(IF(AK$63=0,\"\",AK35+SUMPRODUCT($U$44:$U$58,$T$44:$T$58,$R$44:$R$58,OFFSET($D$43,1,MATCH($Y74,$D$43:$P$43,0)-1,$D$34,1))),\"\")","v":0},-170,-176,0,0,0,0,0,0,0,0,0]
[null,null,null,null,null,null,null,null,null,null,null,null,null,null,null,null,null,null,null,null,null,null,null,null,"FixingRailExtreme",{"$f":"INDEX(AA75:AV75,0,MATCH(1,$AA$24:$AV$24,0))","v":0},{"$f":"IFERROR(IF(AA$63=0,\"\",AA36+SUMPRODUCT($U$44:$U$58,$T$44:$T$58,$R$44:$R$58,OFFSET($D$43,1,MATCH($Y75,$D$43:$P$43,0)-1,$D$34,1))),\"\")","v":0},0,0,0,0,0,0,0,0,0,{"$f":"IFERROR(IF(AK$63=0,\"\",AK36+SUMPRODUCT($U$44:$U$58,$T$44:$T$58,$R$44:$R$58,OFFSET($D$43,1,MATCH($Y75,$D$43:$P$43,0)-1,$D$34,1))),\"\")","v":191},191,0,0,0,0,0,0,0,0,0,0]
[null,null,null,null,null,null,null,null,null,null,null,null,null,null,null,null,null,null,null,null,null,null,null,null,"FabricDrop",{"$f":"INDEX(AA76:AV76,0,MATCH(1,$AA$24:$AV$24,0))","v":-250},{"$f":"IFERROR(IF(AA$63=0,\"\",AA37+SUMPRODUCT($U$44:$U$58,$T$44:$T$58,$R$44:$R$58,OFFSET($D$43,1,MATCH($Y76,$D$43:$P$43,0)-1,$D$34,1))),\"\")","v":-250},-250,-250,-3450,-250,-3450,-250,-250,-250,-250,{"$f":"IFERROR(IF(AK$63=0,\"\",AK37+SUMPRODUCT($U$44:$U$58,$T$44:$T$58,$R$44:$R$58,OFFSET($D$43,1,MATCH($Y76,$D$43:$P$43,0)-1,$D$34,1))),\"\")","v":-350},-350,-350,-350,-350,0,0,0,0,0,0,0]

{"sheet":"Ctrl_Recommendations","index":9,"n_rows":77,"n_cols":135,"rows_kept":77,"cut":false,"hidden":true,"merged":[[65,74,65,79],[74,1,74,2],[63,38,63,43],[64,38,64,43],[65,38,65,43],[62,38,62,43],[62,44,62,57],[62,80,62,93],[63,74,63,79],[64,74,64,79],[62,74,62,79],[1,6,2,6],[1,7,2,7],[58,1,58,2],[65,1,65,3],[1,2,1,3],[1,4,1,5],[19,1,20,1],[22,1,23,1],[12,2,12,3],[6,1,6,3],[16,1,17,1],[29,2,29,3],[30,2,30,3],[62,107,62,112],[62,113,62,126],[63,107,63,112],[64,107,64,112],[65,107,65,112]]}
[]
[null,null,"Absolute Min",null,"Absolute Max",null,{"$f":"\"Current Value (\"&i_Units&\")\"","v":"Current Value ()"},"Outside Specs\n(0 = No, 1 = Yes)",null,null,null,null,null,null,null,null,null,null,null,null,null,"sorted by priority"]
[null,null,"mm",{"$f":"\"Min (\"&i_Units&\")\"","v":"Min ()"},"mm",{"$f":"\"Max (\"&i_Units&\")\"","v":"Max ()"},null,null,null,null,null,null,"FORMULA drive min-max",null,null,"Input 1",null,"Input 2",null,null,null,"Warning cells are NAMED.",null,null,null,null,null,null,"Spring_F56_Range",null,null,null,null,null,"updated 28-Sep-2023",null,null,null,null,null,null,null,null,null,null,null,null,null,null,null,null,null,null,null,null,null,null,null,null,null,null,null,null,null,null,null,"Spring_F72_Range",null,null,null,null,null,"updated 28-Sep-2023"]
[null,"Width",500,{"$f":"IF(i_Units=\"Metric\",C4,CONVERT(C4,\"mm\",\"in\"))","v":19.685039370078741},{"$f":"IFERROR(((INDEX(T_Limit[Limit],MATCH(\"Width_Max\",T_Limit[Type],0),0))),\"\")","v":7000},{"$f":"IF(i_Units=\"Metric\",E4,CONVERT(E4,\"mm\",\"in\"))","v":275.59055118110234},{"$f":"i_Width","v":0},{"$f":"IF(AND(AND(i_Width<>\"\",i_Width>=0),OR(i_Width<MinWidth,i_Width>MaxWidth)),1,0)","v":0},null,null,null,null,null,null,null,null,null,null,null,null,null,null,null,null,null,null,null,null,null,"--->up to",null,null,null,null,null,null,null,null,null,null,null,null,null,null,null,null,null,null,null,null,null,null,null,null,null,null,null,null,null,null,null,null,null,null,null,null,null,"--->up to"]
[null,"Drop",500,{"$f":"IF(i_Units=\"Metric\",C5,CONVERT(C5,\"mm\",\"in\"))","v":19.685039370078741},{"$f":"IFERROR(((INDEX(T_Limit[Limit],MATCH(\"Drop_Max\",T_Limit[Type],0),0))),\"\")","v":5000},{"$f":"IF(i_Units=\"Metric\",E5,CONVERT(E5,\"mm\",\"in\"))","v":196.85039370078741},{"$f":"i_Drop","v":0},{"$f":"IF(AND(AND(i_Drop<>\"\",i_Drop>=0),OR(i_Drop<MinDrop,i_Drop>MaxDrop)),1,0)","v":0},null,null,"#","Dim","Min","Max",null,null,null,null,null,null,null,"on / off","Warning",null,null,null,null,null,null,"Width (m)",null,null,null,null,null,null,null,null,null,null,null,null,null,null,null,null,null,null,null,null,null,null,null,null,null,null,null,null,null,null,null,null,null,null,null,null,null,"Width (m)"]
[null,null,null,null,null,null,null,null,null,null,"w_BlindDrop","o_dropmm",{"$f":"C5","v":500},null,null,null,null,null,null,null,null,{"$f":"IFERROR(IF(AND(i_SystemType<>\"Pivot Arm\",o_Dropmm<M6),\"on\",\"off\"),\"-\")","v":"on"},{"$f":"\"Warning! Blind drop recommended to be greater than \"&IF(i_Units=\"Metric\",ROUND(M6,2) &\" mm\", ROUND(CONVERT(M6,\"mm\",\"in\"),1)&\" in\")&\".\"","v":"Warning! Blind drop recommended to be greater than 19.7 in."},null,null,null,null,null,"Drop (m)",0.55000000000000004,0.72899999999999998,0.73,0.92900000000000005,0.93,1.2,1.4,1.5999999999999999,1.7999999999999998,1.9999999999999998,2.1999999999999997,2.4,2.6,2.8000000000000003,3.0000000000000004,3.2000000000000006,3.4000000000000008,3.600000000000001,3.8000000000000012,4.0000000000000009,4.2000000000000011,4.4000000000000012,4.6000000000000014,4.8000000000000016,5.0000000000000018,5.200000000000002,5.4000000000000021,5.6000000000000023,5.8000000000000025,6,6.2,6.4,6.6,6.8,7,null,null,"Drop (m)",0.55000000000000004,0.72899999999999998,0.73,0.92900000000000005,0.93,1.2,1.4,1.5999999999999999,1.7999999999999998,1.9999999999999998,2.1999999999999997,2.4,2.6,2.8000000000000003,3.0000000000000004,3.2000000000000006,3.4000000000000008,3.600000000000001,3.8000000000000012,4.0000000000000009,4.2000000000000011,4.4000000000000012,4.6000000000000014,4.8000000000000016,5.0000000000000018,5.200000000000002,5.4000000000000021,5.6000000000000023,5.8000000000000025,6,6.2,6.4,6.6,6.8,7]
[null,null,null,null,null,null,null,null,null,null,"w_BlindDrop","o_dropmm",null,{"$f":"IFERROR(INDEX(T_Limit[Limit],MATCH(\"Drop_Max_hard\",T_Limit[Type],0),0),\"\")","v":5000},null,null,null,null,null,null,null,{"$f":"IFERROR(IF(o_Dropmm>N7,\"on\",\"off\"),\"-\")","v":"off"},{"$f":"\"Warning! Blind Drop is too large, limit is \"&IF(i_Units=\"Metric\",ROUND(N7/1000,2) &\" m\", ROUND(CONVERT(N7,\"mm\",\"in\"),1)&\" in\")&\". Refer Product Specifications chart.\"","v":"Warning! Blind Drop is too large, limit is 196.9 in. Refer Product Specifications chart."},null,null,null,null,null,0.6,"A7.5","A7.5","B6.5","B6.5","C6.5","C7.5","C8.5","C9.5","C10.5","C11.5","C13","C14","D10.5","D11.5","D12","D13","D14","D14.5","D15.5","D16","D17","D17.5","E12.5","E13","E13.5","E14","E14.5","F12","F12",null,null,null,null,null,null,null,null,0.6,"A11","A11","B9","B9","C9.5","C11","C12.5","C14.5","C16","C17.5","C19.5","C21","C23","C24.5","C26","D20","D21","D22","D23.5","D24.5","D26","E18","E19","E19.5","E20.5","E21.5","E22","E23","E23.5"]
[null,null,null,null,null,null,null,null,null,null,null,null,null,null,null,null,null,null,null,null,null,"w_BlindDrop",null,null,null,null,null,null,0.8,"A7.5","A7.5","B6.5","B6.5","C6.5","C7.5","C8.5","C9.5","C11","C12","C13","C14","D11","D11.5","D12.5","D13","D14","D14.5","D15.5","D16.5","D17","E12","E12.5","E13","E13.5","E14","F11.5","F12","F12.5",null,null,null,null,null,null,null,null,0.8,"A11","A11","B9.5","B9.5","C9.5","C11","C13","C14.5","C16.5","C18","C19.5","C21.5","C23","C25","D19","D20","D21.5","D22.5","D23.5","D25","E17.5","E18.5","E19","E20","E21","E21.5","E22.5","E23","E24"]
[null,null,null,null,null,null,null,null,null,null,null,null,null,null,null,null,null,null,null,null,null,null,null,null,null,null,null,null,1,"A7.5","A7.5","B6.5","B6.5","C6.5","C7.5","C8.5","C10","C11","C12","C13","D10","D11","D12","D12.5","D13.5","D14","D15","D15.5","D16.5","E11.5","E12","E12.5","E13","E13.5","E14.5","F11.5","F12","F12.5",null,null,null,null,null,null,null,null,1,"A11","A11","B9.5","B9.5","C9.5","C11.5","C13","C15","C16.5","C18.5","C20","C21.5","C23.5","C25","D19","D20.5","D21.5","D23","D24","E17","E18","E18.5","E19.5","E20","E21","E22","E22.5","E23.5","E24.5"]
[null,null,null,null,null,null,null,null,null,null,null,null,null,null,null,null,null,null,null,null,null,null,null,null,null,null,null,null,1.2,"A8","A8","B6.5","B6.5","C6.5","C7.5","C9","C10","C11","C12","C13.5","D10.5","D11","D12","D12.5","D13.5","D14.5","D15","D16","D17","E12","E12.5","E13","E13.5","E14","F11.5","F12","F12.5","F12.5",null,null,null,null,null,null,null,null,1.2,"A11","A11","B9.5","B9.5","C9.5","C11.5","C13","C15","C16.5","C18.5","C20.5","C22","C24","D18","D19.5","D20.5","D22","D23","D24.5","E17","E18","E19","E19.5","E20.5","E21.5","E22","E23","E24","F19.5"]
[null,null,null,null,null,null,null,null,null,null,"w_BlindWidth","o_widthmm",500,null,null,null,null,null,null,null,null,{"$f":"IFERROR(IF(o_Widthmm<M11,\"on\",\"off\"),\"-\")","v":"on"},{"$f":"\"Warning! Blind Width is too narrow, minimum is \"&IF(i_Units=\"Metric\",ROUND(M11,2) &\" mm\", ROUND(CONVERT(M11,\"mm\",\"in\"),1)&\" in\")&\". Refer Product Specifications chart.\"","v":"Warning! Blind Width is too narrow, minimum is 19.7 in. Refer Product Specifications chart."},null,null,null,null,null,1.4,"A8","A8","B6.5","B6.5","C6.5","C8","C9","C10","C11","C12.5","C13.5","D10.5","D11.5","D12","D13","D13.5","D14.5","D15.5","D16","D17","E12","E12.5","E13","E13.5","E14","F11.5","F12","F12.5","F13",null,null,null,null,null,null,null,null,1.4,"A11.5","A11.5","B9.5","B9.5","C10","C11.5","C13.5","C15","C17","C18.5","C20.5","C22.5","D17","D18.5","D19.5","D21","D22","D23.5","E16.5","E17.5","E18","E19","E20","E21","E21.5","E22.5","E23.5","F19","F19.5"]
[null,null,null,null,null,null,null,null,null,null,"w_BlindWidth","o_widthmm",null,{"$f":"IFERROR(INDEX(T_Limit[Limit],MATCH(\"Width_Max\",T_Limit[Type],0),0),\"\")","v":7000},null,null,null,null,null,null,null,{"$f":"IFERROR(IF(o_Widthmm>N12,\"on\",\"off\"),\"-\")","v":"off"},{"$f":"\"Warning! Blind Width is too wide, limit is \"&IF(i_Units=\"Metric\",ROUND(N12/1000,2) &\" m\", ROUND(CONVERT(N12,\"mm\",\"in\"),1)&\" in\")&\". Refer Product Specifications chart.\"","v":"Warning! Blind Width is too wide, limit is 275.6 in. Refer Product Specifications chart."},null,null,null,null,null,1.5999999999999999,"A8","A8","B6.5","B6.5","C6.5","C8","C9","C10","C11.5","C12.5","C13.5","D10.5","D11.5","D12.5","D13","D14","D14.5","D15.5","D16.5","E11.5","E12","E12.5","E13","E13.5","F11.5","F11.5","F12","F12.5","F13",null,null,null,null,null,null,null,null,1.5999999999999999,"A11.5","A11.5","B9.5","B9.5","C10","C12","C13.5","C15.5","C17","C19","C21","C22.5","D17.5","D18.5","D20","D21","D22.5","E16","E17","E17.5","E18.5","E19.5","E20","E21","E22","E22.5","F18.5","F19.5","F20"]
[null,null,"Zipscreen",null,null,null,null,null,null,null,null,null,null,null,null,null,null,null,null,null,null,"w_BlindWidth",null,null,null,null,null,null,1.7999999999999998,"A8","A8","B7","B7","C7","C8","C9","C10.5","C11.5","C12.5","C14","D10.5","D11.5","D12.5","D13","D14","D15","D15.5","D16.5","E11.5","E12","E13","E13.5","E14","F11.5","F12","F12.5","F12.5","F13",null,null,null,null,null,null,null,null,1.7999999999999998,"A11.5","A11.5","B10","B10","C10","C12","C13.5","C15.5","C17.5","C19","C21","D16.5","D17.5","D19","D20","D21.5","E15","E16","E17","E18","E18.5","E19.5","E20.5","E21.5","E22","F18","F19","F19.5","F20"]
[null,"Width Range","800mm - 5800mm","31.5in - 228.3in",null,null,null,null,null,null,"w_ControlWidth","o_widthmm",{"$f":"o_MinWidthReqd","v":{"$error":"#N/A"}},null,null,null,null,null,null,null,null,{"$f":"IFERROR(IF(AND(i_ControlType<>\"\",o_Widthmm<M14,i_ControlType=\"Gear\"),\"on\",\"off\"),\"-\")","v":"-"},{"$f":"\"Warning! Blind width too small for selected Control Type. Minimum Width: \"&IF(i_Units=\"Imperial\",ROUND(CONVERT(o_MinWidthReqd,\"mm\",\"in\"),1)&\" in\",o_MinWidthReqd&\" mm\")","v":{"$error":"#N/A"}},null,null,null,null,null,1.9999999999999998,"A8","A8","B7","B7","C7","C8","C9.5","C10.5","C11.5","C13","C14","D11","D11.5","D12.5","D13.5","D14","D15","D16","D17","E12","E12.5","E13","E13.5","E14","F11.5","F12","F12.5","F13","F13.5",null,null,null,null,null,null,null,null,1.9999999999999998,"A12","A12","B10","B10","C10","C12","C14","C15.5","C17.5","C19.5","C21.5","D16.5","D18","D19","D20.5","E14.5","E15.5","E16.5","E17","E18","E19","E20","E20.5","F17","F17.5","F18.5","F19","F19.5","F20.5"]
[null,"Drop Range","600mm - 4000mm","23.6in - 157.5in",null,null,null,null,null,null,null,null,null,null,null,null,null,null,null,null,null,null,null,null,null,null,null,null,2.1999999999999997,"A8.5","A8.5","B7","B7","C7","C8","C9.5","C10.5","C12","C13","D10","D11","D12","D12.5","D13.5","D14.5","D15.5","D16","D17","E12","E12.5","E13","E13.5","E14.5","F11.5","F12","F12.5","F13","F13.5",null,null,null,null,null,null,null,null,2.1999999999999997,"A12","A12","B10","B10","C10.5","C12","C14","C16","C18","C19.5","D15.5","D16.5","D18","D19.5","D20.5","E14.5","E15.5","E16.5","E17.5","E18.5","E19","E20","F16.5","F17","F18","F18.5","F19.5","F20","F20.5"]
[null,null,null,null,null,null,null,null,null,null,"w_MaxArea","Area",null,{"$f":"IFERROR(INDEX(T_Limit[Limit],MATCH(\"Area_Max\",T_Limit[Type],0),0),\"\")","v":35},null,null,null,null,null,null,null,{"$f":"IF(o_BlindDropm*o_BlindWidthm>o_MaxArea,\"on\",\"off\")","v":"off"},{"$f":"\"Warning! Blind size is larger than maximum recommended area of \"&IF(i_Units=\"metric\",N16&\" m²\",ROUND(CONVERT(N16,\"m^2\",\"yd^2\"),2)&\" yd²\")&\". Current Area: \"&IF(i_Units=\"metric\",C24&\" m²\",D24&\" yd²\")&\". Refer Product Specifications chart.\"","v":"Warning! Blind size is larger than maximum recommended area of 41.86 yd². Current Area: 0 yd². Refer Product Specifications chart."},null,null,null,null,null,2.4,"A8.5","A8.5","B7","B7","C7","C8.5","C9.5","C10.5","C12","C13","D10.5","D11","D12","D13","D13.5","D14.5","D15.5","D16.5","D17.5","E12","E12.5","E13.5","E14","F11.5","F12","F12.5","F12.5","F13","F14",null,null,null,null,null,null,null,null,2.4,"A12","A12","B10","B10","C10.5","C12.5","C14","C16","C18","C20","D15.5","D17","D18","D19.5","E14","E15","E16","E16.5","E17.5","E18.5","E19.5","E20.5","F16.5","F17.5","F18","F19","F19.5","F20"]
[null,"Blind Width","mm","in",null,null,null,null,null,null,null,null,null,null,null,null,null,null,null,null,null,null,null,null,null,null,null,null,2.6,null,null,"B7","B7","C7","C8.5","C9.5","C11","C12","C13.5","D10.5","D11","D12","D13","D14","D14.5","D15.5","D16.5","E11.5","E12","E13","E13.5","E14","F11.5","F12","F12.5","F13",null,null,null,null,null,null,null,null,null,null,2.6,null,null,"B10.5","B10.5","C10.5","C12.5","C14.5","C16.5","C18","D14.5","D15.5","D17","D18.5","D20","E14","E15","E16","E17","E18","E18.5","E19.5","F16","F17","F17.5","F18.5","F19"]
[null,null,{"$f":"IF(i_Units=\"Metric\",i_Width,CONVERT(i_Width,\"in\",\"mm\"))","v":0},{"$f":"IF(i_Units=\"Imperial\",i_Width,CONVERT(i_Width,\"mm\",\"in\"))","v":0},null,null,null,null,null,null,"o_BoosterWarning",null,null,null,null,null,null,null,null,{"$f":"IFERROR(IF(o_Widthmm>=o_MinWidthReqd,0,1),0)","v":0},null,null,{"$f":"\"Warning! Blind width too small for selected Booster. Minimum Width: \"&IF(i_Units=\"Imperial\",ROUND(CONVERT(o_MinWidthReqd,\"mm\",\"in\"),1)&\" in\",o_MinWidthReqd&\" mm\")","v":{"$error":"#N/A"}},null,null,null,null,null,2.8000000000000003,null,null,"B7","B7","C7","C8.5","C9.5","C11","C12","C13.5","D10.5","D11.5","D12.5","D13","D14","D15","D16","D17","E12","E12.5","E13","E13.5","E14","F11.5","F12",null,null,null,null,null,null,null,null,null,null,null,null,2.8000000000000003,null,null,"B10.5","B10.5","C10.5","C12.5","C14.5","C16.5","C18.5","D14.5","D16","D17","D18.5","E13.5","E14.5","E15","E16","E17","E18","E19","F15.5","F16.5","F17","F18","F18.5"]
[null,null,null,null,null,null,null,null,null,null,"o_BoosterTextRec",null,null,null,null,null,null,null,null,null,0,null,{"$f":"IF(U19=1,\"Warning! Blind width too small.\",\"*Recommended Booster Size: \"&o_BoosterRec&\", Estimated Pre-turns: \"&o_BoosterPreturnRec)","v":{"$error":"#REF!"}},null,null,null,null,null,3.0000000000000004,null,null,"B7","B7","C7.5","C8.5","C10","C11","C12.5","C13.5","D10.5","D11.5","D12.5","D13.5","D14","D15","D16","E11.5","E12","E12.5","E13","E13.5","E14.5","F12",null,null,null,null,null,null,null,null,null,null,null,null,null,3.0000000000000004,null,null,"B10.5","B10.5","C11","C12.5","C14.5","C16.5","C18.5","D14.5","D16","D17.5","E12.5","E13.5","E14.5","E15.5","E16.5","E17.5","E18","F15","F16","F16.5","F17","F18"]
[null,"Blind Drop","mm","in",null,null,null,null,null,null,"w_SystemChart",null,null,null,null,null,null,null,null,null,null,"on","Product Specification chart available for reference.",null,null,null,null,null,3.2000000000000006,null,null,null,null,"C7.5","C8.5","C10","C11","C12.5","C13.5","D10.5","D11.5","D12.5","D13.5","D14.5","D15","E11","E11.5","E12","E12.5","E13","E14",null,null,null,null,null,null,null,null,null,null,null,null,null,null,null,3.2000000000000006,null,null,null,null,"C11","C13","C15","C17","D13.5","D15","D16","D17.5","E13","E13.5","E14.5","E15.5","E16.5","E17.5","F14.5","F15","F16","F16.5"]
[null,null,{"$f":"IF(i_Units=\"Metric\",i_Drop,CONVERT(i_Drop,\"in\",\"mm\"))","v":0},{"$f":"IF(i_Units=\"Imperial\",i_Drop,CONVERT(i_Drop,\"mm\",\"in\"))","v":0},null,null,null,null,null,null,"w_ZipscreenBox120","o_dropmm",null,3000,null,"Zipscreen",null,"Box 120",null,null,null,{"$f":"IF(AND(i_SystemType=P21,INDIRECT(L21)>N21,ISNUMBER(FIND(\"Box 120\",i_InstallationType))),\"on\",\"off\")","v":"off"},"Warning! Blind drop is too large, limit is 3 m. Refer Product Specifications chart.",null,null,null,null,null,3.4000000000000008,null,null,null,null,"C7.5","C8.5","C10","C11.5","C12.5","C14","D11","D11.5","D12.5","D13.5","D14.5","E10.5","E11","E11.5","E12","E13","E13.5",null,null,null,null,null,null,null,null,null,null,null,null,null,null,null,null,3.4000000000000008,null,null,null,null,"C11","C13","C15","C17","D13.5","D15","D16.5","E12","E13","E14","E15","E15.5","E16.5","F14","F14.5","F15.5","F16"]
[null,null,null,null,null,{"$f":"LEN(i_Booster)","v":0},null,null,null,null,"w_TubeChart",{"$f":"i_SystemType","v":0},null,{"$f":"i_InstallationType","v":0},null,{"$f":"Ctrl_Selections!C408","v":2},null,null,null,null,null,{"$f":"IF(AND(LEN(L22)>1,LEN(N22)>1,ISERROR(L_Tube)),\"on\",\"off\")","v":"off"},"Warning! Blind drop is larger than recommended. Refer Product Specifications chart.",null,null,null,null,null,3.600000000000001,null,null,null,null,"C7.5","C9","C10","C11.5","C12.5","C14","D11","D12","D13","D13.5","E10","E10.5","E11","E11.5","E12.5","E13",null,null,null,null,null,null,null,null,null,null,null,null,null,null,null,null,null,3.600000000000001,null,null,null,null,"C11","C13","C15","C17","D13.5","D15","D16.5","E12","E13","E14","E15","E16","E17","F14","F15","F15.5"]
[null,"Blind Area","m²","yd²",null,null,null,null,null,null,"w_MotorWarning",null,{"$f":"_xlfn.XLOOKUP(i_motor,T_MinWidth[Description],T_MinWidth[MinWidth])","v":0},null,null,null,null,null,null,null,null,{"$f":"IF(i_motor<>\"\",IF(o_BlindWidthm*1000>=_xlfn.XLOOKUP(i_motor,T_MinWidth[Description],T_MinWidth[MinWidth]),\"off\",\"on\"),0)","v":0},{"$f":"\"Warning! Blind width too small for selected Motor. Minimum Width: \"&IF(i_Units=\"Imperial\",ROUND(CONVERT(M23,\"mm\",\"in\"),1)&\" in\",M23&\" mm\")","v":"Warning! Blind width too small for selected Motor. Minimum Width: 0 mm"},null,null,null,null,null,3.8000000000000012,null,null,null,null,"C7.5","C9","C10","C11.5","C13","C14","D11","D12","D13","D14","E10","E10.5","E11","E12","E12.5",null,null,null,null,null,null,null,null,null,null,null,null,null,null,null,null,null,null,3.8000000000000012,null,null,null,null,"C11","C13.5","C15.5","D12.5","D14","D15.5","D16.5","E12","E13","E14","E15","E16","F13.5","F14","F15"]
[null,null,{"$f":"ROUND((o_Widthmm*o_Dropmm)/(1000*1000),2)","v":0},{"$f":"ROUND((D18*D21)*0.000772,2)","v":0},null,null,null,null,null,null,null,null,null,null,null,null,null,null,null,null,null,null,null,null,null,null,null,null,4.0000000000000009,null,null,null,null,"C7.5","C9","C10.5","C11.5","C13","D10","D11","D12","D13","E9.5","E10","E10.5","E11.5","E12",null,null,null,null,null,null,null,null,null,null,null,null,null,null,null,null,null,null,null,4.0000000000000009,null,null,null,null,"C11.5","C13.5","C15.5","D12.5","D14","D15.5","E11.5","E12.5","E13.5","E14.5","E15","F13","F13.5","F14.5"]
[null,null,null,null,null,null,null,null,null,null,null,null,null,null,null,null,null,null,null,null,null,null,null,null,null,null,null,null,4.2000000000000011,null,null,null,null,null,null,null,null,null,null,null,null,null,null,null,null,null,null,null,null,null,null,null,null,null,null,null,null,null,null,null,null,null,null,null,null,null,4.2000000000000011]
[null,null,null,null,null,null,null,null,null,null,null,null,null,null,null,null,null,null,null,null,null,null,null,null,null,null,null,null,4.4000000000000012,null,null,null,null,null,null,null,null,null,null,null,null,null,null,null,null,null,null,null,null,null,null,null,null,null,null,null,null,null,null,null,null,null,null,null,null,null,4.4000000000000012]
[null,"Min Width Required",{"$f":"INDEX(T_MinWidth[MinWidth],MATCH(1,T_MinWidth[Booster_In],0))","v":{"$error":"#N/A"}},"mm",null,{"$f":"\"Chart_Spring\"&\"_\"&i_WeightBar","v":"Chart_Spring_"},{"$f":"INDEX(INDIRECT(\"Chart_Spring\"&\"_\"&i_WeightBar),MATCH(TRUE,EXACT(C33,INDIRECT(\"Chart_Spring\"&\"_\"&i_WeightBar&\"_drop_lookup\")),0),MATCH(TRUE, EXACT(C32,INDIRECT(\"Chart_Spring\"&\"_\"&i_WeightBar&\"_Width_lookup\")),0))","v":{"$error":"#REF!"}},null,null,null,null,null,null,null,null,null,null,null,null,null,null,null,null,null,null,null,null,null,4.6000000000000014,null,null,null,null,null,null,null,null,null,null,null,null,null,null,null,null,null,null,null,null,null,null,null,null,null,null,null,null,null,null,null,null,null,null,null,null,null,4.6000000000000014]
[null,null,null,null,null,null,null,null,null,null,null,null,null,null,null,null,null,null,null,null,null,null,null,null,null,null,null,null,4.8000000000000016,null,null,null,null,null,null,null,null,null,null,null,null,null,null,null,null,null,null,null,null,null,null,null,null,null,null,null,null,null,null,null,null,null,null,null,null,null,4.8000000000000016]
[null,null,null,null,null,null,null,null,null,null,null,null,null,null,null,null,null,null,null,null,null,null,null,null,null,null,null,null,5.0000000000000018,null,null,null,null,null,null,null,null,null,null,null,null,null,null,null,null,null,null,null,null,null,null,null,null,null,null,null,null,null,null,null,null,null,null,null,null,null,5.0000000000000018]
[null,"Control Selection",{"$f":"i_ControlType","v":0}]
[null,"Tube Selection",{"$f":"i_Tube","v":0}]
[null,"Width Input",{"$f":"INDEX(INDIRECT(\"Chart_Spring\"&\"_\"&i_WeightBar&\"_width_lookup\"),1,IFERROR(MATCH(TRUE,EXACT(o_BlindWidthm,INDIRECT(\"Chart_Spring\"&\"_\"&i_WeightBar&\"_width_lookup\")),0),MATCH(o_BlindWidthm,INDIRECT(\"Chart_Spring\"&\"_\"&i_WeightBar&\"_width_lookup\"),1)+1))","v":{"$error":"#REF!"}},"m",null,null,null," "]
[null,"Drop Input",{"$f":"INDEX(INDIRECT(\"Chart_Spring\"&\"_\"&i_WeightBar&\"_Drop_lookup\"),IFERROR(MATCH(TRUE,EXACT(o_BlindDropm,INDIRECT(\"Chart_Spring\"&\"_\"&i_WeightBar&\"_drop_lookup\")),0),MATCH(o_BlindDropm,INDIRECT(\"Chart_Spring\"&\"_\"&i_WeightBar&\"_drop_lookup\"),1)+1),1)","v":{"$error":"#REF!"}},"m",null,null,null,null,null,null,null,null,null,null,null,null,null,null,null,null,null,null,null,null,null,null,null,null,null,null,null,null,null,null,null,null,null,null,null,null,null,null,null,null,null,null,null,4.0999999999999996,"Box 160 + 110mm"]
[null,null,null,null,"Selected Booster:","Booster match?",null,null,null,null,null,null,null,null,null,null,null,null,null,null,null,null,null,null,null,null,null,null,"ZS_range_lookup",null,null,null,null,null,null,null,null,null,null,null,null,null,null,null,null,null,null,null,null,null,null,null,null,null,null,null,null,null,null,null,null,null,null,null,"WG_Range_Lookup",null,null,null,null,null,null,null,null,null,null,null,null,null,null,null,null,null,null,null,null,null,null,null,null,null,null,null,null,null,null,null,null,null,null,null,"VEUE_Range_Lookup"]
[null,"Rec. Booster",{"$f":"INDEX(T_ConvertBooster[D_Show],MATCH(LEFT(INDEX(INDIRECT(\"Chart_Spring\"&\"_\"&i_WeightBar),MATCH(TRUE,EXACT(C33,INDIRECT(\"Chart_Spring\"&\"_\"&i_WeightBar&\"_drop_lookup\")),0),MATCH(TRUE,EXACT(C32,INDIRECT(\"Chart_Spring\"&\"_\"&i_WeightBar&\"_width_lookup\")),0)),1),T_ConvertBooster[ID],0))","v":{"$error":"#REF!"}},null,{"$f":"i_Booster","v":0},{"$f":"IFERROR(IF(i_Booster=\"\",\"\",IF(AND(LEN(i_Booster>2),i_Booster=o_BoosterRec),\"Y\",\"N\")),\"x\")","v":""}]
[null,"Rec. preturns",{"$f":"ROUNDUP(MID(INDEX(INDIRECT(\"Chart_Spring\"&\"_\"&i_WeightBar),MATCH(TRUE,EXACT(C33,INDIRECT(\"Chart_Spring\"&\"_\"&i_WeightBar&\"_drop_lookup\")),0),MATCH(TRUE, EXACT(C32,INDIRECT(\"Chart_Spring\"&\"_\"&i_WeightBar&\"_Width_lookup\")),0)),2,4),0)","v":{"$error":"#REF!"}},null,null,null,null,null,null,null,null,null,null,null,null,null,null,null,null,null,null,null,null,null,null,null,null,null,"m",0.5,0.7,0.8,1,1.2,1.4,1.5999999999999999,1.7999999999999998,1.9999999999999998,2.1999999999999997,2.4,2.6,2.8000000000000003,3.0000000000000004,3.2000000000000006,3.4000000000000008,3.600000000000001,3.8000000000000012,4.0000000000000009,4.2000000000000011,4.4000000000000012,4.6000000000000014,4.8000000000000016,5.0000000000000018,5.200000000000002,5.4000000000000021,5.6000000000000023,5.8000000000000025,6,6.2,6.4,6.6,6.8,7,null,"m",0.5,0.7,0.8,1,1.2,1.4,1.5999999999999999,1.7999999999999998,1.9999999999999998,2.1999999999999997,2.4,2.6,2.8000000000000003,3.0000000000000004,3.2000000000000006,3.4000000000000008,3.600000000000001,3.8000000000000012,4.0000000000000009,4.2000000000000011,4.4000000000000012,4.6000000000000014,4.8000000000000016,5.0000000000000018,5.200000000000002,5.4000000000000021,5.6000000000000023,5.8000000000000025,6,6.2,6.4,6.6,6.8,7,null,"m",0.5,0.7,0.8,1,1.2,1.4,1.5999999999999999,1.7999999999999998,1.9999999999999998,2.1999999999999997,2.4,2.6,2.8000000000000003,3.0000000000000004,3.2000000000000006,3.4000000000000008,3.600000000000001,3.8000000000000012,4.0000000000000009,4.2000000000000011,4.4000000000000012,4.6000000000000014,4.8000000000000016,5.0000000000000018,5.200000000000002,5.4000000000000021,5.6000000000000023,5.8000000000000025,6,6.2,6.4,6.6,6.8,7]
[null,null,null,null,null,null,null,null,null,null,null,null,null,null,null,null,null,null,null,null,null,null,null,null,null,null,null,null,1,2,2,2,2,2,2,2,2,2,2,2,2,2,2,2,2,2,2,2,2,2,2,2,2,3,3,3,3,4.0999999999999996,4.0999999999999996,4.0999999999999996,4.0999999999999996,4.0999999999999996,4.0999999999999996,null,1,2,2,2,2,2,2,2,2,2,2,2,2,2,2,2,2,2,2,2,2,3,3,3,3,4,4,4,4,4,4,5,5,5,5,null,1,2,2,2,2,2,2,2,2,2,2,2,2,2,2,2,2,2,2,2,2,3,3,3,3,1,1,1,1,1,1,1,1,1,1]
[null,"T_MinWidth",null,null,null,null,null,null,null,null,null,null,null,null,null,null,null,null,null,null,null,null,null,null,null,null,null,null,1.2,2,2,2,2,2,2,2,2,2,2,2,2,2,2,2,2,2,2,2,2,2,2,2,2,3,3,3,3,4.0999999999999996,4.0999999999999996,4.0999999999999996,4.0999999999999996,4.0999999999999996,4.0999999999999996,null,1.2,2,2,2,2,2,2,2,2,2,2,2,2,2,2,2,2,2,2,2,2,3,3,3,3,4,4,4,4,4,4,5,5,5,5,null,1.2,2,2,2,2,2,2,2,2,2,2,2,2,2,2,2,2,2,2,2,2,3,3,3,3,1,1,1,1,1,1,1,1,1,1]
[null,"Description","ControlType","Booster_In","BoosterID","MinWidth1","MinWidth","Region","System",null,null,null,null,null,null,null,null,null,null,null,null,null,null,null,null,null,null,null,1.4,2,2,2,2,2,2,2,2,2,2,2,2,2,2,2,2,2,2,2,2,2,2,2,2,3,3,3,3,4.0999999999999996,4.0999999999999996,4.0999999999999996,4.0999999999999996,4.0999999999999996,4.0999999999999996,null,1.4,2,2,2,2,2,2,2,2,2,2,2,2,2,2,2,2,2,2,2,2,3,3,3,3,4,4,4,4,4,4,5,5,5,5,null,1.4,2,2,2,2,2,2,2,2,2,2,2,2,2,2,2,2,2,2,2,2,3,3,3,3,1,1,1,1,1,1,1,1,1,1]
[null,"Compact","Spring",{"$f":"IFERROR(IF(AND(T_MinWidth[[#This Row],[System]]=1,FIND(T_MinWidth[[#This Row],[Description]],i_Booster)>0),1,\"\"),\"\")","v":""},{"$f":"IF(ISNUMBER(FIND(B40,i_Booster)),\"X\",0)","v":0},550,{"$f":"IF(OR(T_MinWidth[[#This Row],[Region]]=\"Global\",T_MinWidth[[#This Row],[Region]]=i_Location),T_MinWidth[[#This Row],[MinWidth1]],9999)","v":550},"Global",{"$f":"IFERROR(IF(OR(i_SystemType=\"Zipscreen\",IF(FIND(\"VEUE\",i_SystemType)>0,TRUE())),1,0),IF(i_SystemType=\"Zipscreen\",1,0))","v":0},null,"Zipscreen / VEUE",null,null,null,"AUTOMATE | FT Motor | 15Nm | Short Conn.",null,null,null,null,null,null,null,null,null,null,null,null,null,1.6,2,2,2,2,2,2,2,2,2,2,2,2,2,2,2,2,2,2,2,2,2,2,2,2,3,3,3,3,4.0999999999999996,4.0999999999999996,4.0999999999999996,4.0999999999999996,4.0999999999999996,4.0999999999999996,null,1.5999999999999999,2,2,2,2,2,2,2,2,2,2,2,2,2,2,2,2,2,2,2,3,3,3,3,3,4,4,4,4,4,4,5,5,5,5,null,1.5999999999999999,2,2,2,2,2,2,2,2,2,2,2,2,2,2,2,2,2,2,2,3,3,3,3,3,1,1,1,1,1,1,1,1,1,1]
[null,"Light","Spring",{"$f":"IFERROR(IF(AND(T_MinWidth[[#This Row],[System]]=1,FIND(T_MinWidth[[#This Row],[Description]],i_Booster)>0),1,\"\"),\"\")","v":""},{"$f":"IF(ISNUMBER(FIND(B41,i_Booster)),\"A\",0)","v":0},730,{"$f":"IF(OR(T_MinWidth[[#This Row],[Region]]=\"Global\",T_MinWidth[[#This Row],[Region]]=i_Location),T_MinWidth[[#This Row],[MinWidth1]],9999)","v":730},"Global",0,null,"Zipscreen / VEUE",null,null,null,"AUTOMATE | FT Motor | 15Nm | Long Conn.",null,null,null,null,null,null,null,null,null,null,null,null,null,1.8,2,2,2,2,2,2,2,2,2,2,2,2,2,2,2,2,2,2,2,2,2,2,2,2,3,3,3,3,4.0999999999999996,4.0999999999999996,4.0999999999999996,4.0999999999999996,4.0999999999999996,4.0999999999999996,null,1.7999999999999998,2,2,2,2,2,2,2,2,2,2,2,2,2,2,2,2,2,2,2,3,3,3,3,3,4,4,4,4,4,4,5,5,5,5,null,1.7999999999999998,2,2,2,2,2,2,2,2,2,2,2,2,2,2,2,2,2,2,2,3,3,3,3,3,1,1,1,1,1,1,1,1,1,1]
[null,"Standard","Spring",{"$f":"IFERROR(IF(AND(T_MinWidth[[#This Row],[System]]=1,FIND(T_MinWidth[[#This Row],[Description]],i_Booster)>0),1,\"\"),\"\")","v":""},{"$f":"IF(ISNUMBER(FIND(B42,i_Booster)),\"C\",0)","v":0},930,{"$f":"IF(OR(T_MinWidth[[#This Row],[Region]]=\"Global\",T_MinWidth[[#This Row],[Region]]=i_Location),T_MinWidth[[#This Row],[MinWidth1]],9999)","v":930},"Global",0,null,"Zipscreen / VEUE",null,null,null,"AUTOMATE | DCFT Motor + Battery |15Nm",null,null,null,null,null,null,null,null,null,null,null,null,null,2,2,2,2,2,2,2,2,2,2,2,2,2,2,2,2,2,2,2,2,2,2,2,2,2,3,3,3,3,4.0999999999999996,4.0999999999999996,4.0999999999999996,4.0999999999999996,4.0999999999999996,4.0999999999999996,null,1.9999999999999998,2,2,2,2,2,2,2,2,2,2,2,2,2,2,2,2,2,2,2,3,3,3,3,3,4,4,4,4,4,5,5,5,5,5,null,1.9999999999999998,2,2,2,2,2,2,2,2,2,2,2,2,2,2,2,2,2,2,2,3,3,3,3,3,1,1,1,1,1,1,1,1,1,1]
[null,"Heavy","Spring",{"$f":"IFERROR(IF(AND(T_MinWidth[[#This Row],[System]]=1,FIND(T_MinWidth[[#This Row],[Description]],i_Booster)>0),1,\"\"),\"\")","v":""},{"$f":"IF(ISNUMBER(FIND(B43,i_Booster)),\"D\",0)","v":0},1080,{"$f":"IF(OR(T_MinWidth[[#This Row],[Region]]=\"Global\",T_MinWidth[[#This Row],[Region]]=i_Location),T_MinWidth[[#This Row],[MinWidth1]],9999)","v":1080},"Global",0,null,"Zipscreen / VEUE",null,null,null,"AUTOMATE | AX30 | 30Nm",null,null,null,null,null,null,null,null,null,null,null,null,null,2.2000000000000002,2,2,2,2,2,2,2,2,2,2,2,2,2,2,2,2,2,2,2,2,2,2,2,2,3,3,3,3,4.0999999999999996,4.0999999999999996,4.0999999999999996,4.0999999999999996,4.0999999999999996,4.0999999999999996,null,2.1999999999999997,2,2,2,2,2,2,2,2,2,2,2,2,2,2,2,2,2,2,2,3,3,3,3,3,4,4,4,4,4,5,5,5,5,5,null,2.1999999999999997,2,2,2,2,2,2,2,2,2,2,2,2,2,2,2,2,2,2,2,3,3,3,3,3,1,1,1,1,1,1,1,1,1,1]
[null,"Extra Heavy","Spring",{"$f":"IFERROR(IF(AND(T_MinWidth[[#This Row],[System]]=1,FIND(T_MinWidth[[#This Row],[Description]],i_Booster)>0),1,\"\"),\"\")","v":""},{"$f":"IF(ISNUMBER(FIND(B44,i_Booster)),\"E\",0)","v":0},1290,{"$f":"IF(OR(T_MinWidth[[#This Row],[Region]]=\"Global\",T_MinWidth[[#This Row],[Region]]=i_Location),T_MinWidth[[#This Row],[MinWidth1]],9999)","v":1290},"Global",0,null,"Zipscreen / VEUE",null,null,null,"AUTOMATE | AX50 | 50Nm",null,null,null,null,null,null,null,null,null,null,null,null,null,2.4,2,2,2,2,2,2,2,2,2,2,2,2,2,2,2,2,2,2,2,2,2,2,2,2,3,3,3,3,4.0999999999999996,4.0999999999999996,4.0999999999999996,4.0999999999999996,4.0999999999999996,4.0999999999999996,null,2.4,2,2,2,2,2,2,2,2,2,2,2,2,2,2,2,2,2,2,2,3,3,3,3,3,4,4,4,4,4,5,5,5,5,5,null,2.4,2,2,2,2,2,2,2,2,2,2,2,2,2,2,2,2,2,2,2,3,3,3,3,3,1,1,1,1,1,1,1,1,1,1]
[null,"Ultra Heavy","Spring",{"$f":"IFERROR(IF(AND(T_MinWidth[[#This Row],[System]]=1,FIND(T_MinWidth[[#This Row],[Description]],i_Booster)>0),1,\"\"),\"\")","v":""},{"$f":"IF(ISNUMBER(FIND(B45,i_Booster)),\"F\",0)","v":0},1460,{"$f":"IF(OR(T_MinWidth[[#This Row],[Region]]=\"Global\",T_MinWidth[[#This Row],[Region]]=i_Location),T_MinWidth[[#This Row],[MinWidth1]],9999)","v":1460},"Global",0,null,"Zipscreen / VEUE",null,null,null,null,null,null,null,null,null,null,null,null,null,null,null,null,null,2.6,2,2,2,2,2,2,2,2,2,2,2,2,2,2,2,2,2,2,2,2,2,2,3,3,3,4.0999999999999996,4.0999999999999996,4.0999999999999996,4.0999999999999996,4.0999999999999996,4.0999999999999996,4.0999999999999996,4.0999999999999996,4.0999999999999996,null,2.6,2,2,2,2,2,2,2,2,2,2,2,2,2,2,2,2,2,2,3,3,3,3,3,4,4,4,4,4,4,5,5,5,5,5,null,2.6,2,2,2,2,2,2,2,2,2,2,2,2,2,2,2,2,2,2,3,3,3,3,3,1,1,1,1,1,1,1,1,1,1,1]
[null,"Gear","Gear",{"$f":"IFERROR(IF(AND(T_MinWidth[[#This Row],[System]]=1,FIND(T_MinWidth[[#This Row],[Description]],i_ControlType)>0),1,\"\"),\"\")","v":""},null,500,{"$f":"IF(OR(T_MinWidth[[#This Row],[Region]]=\"Global\",T_MinWidth[[#This Row],[Region]]=i_Location),T_MinWidth[[#This Row],[MinWidth1]],9999)","v":500},"Global",0,null,"Zipscreen / VEUE",null,null,null,null,null,null,null,null,null,null,null,null,null,null,null,null,null,2.8,2,2,2,2,2,2,2,2,2,2,2,2,2,2,2,2,2,2,2,2,3,3,3,3,4.0999999999999996,4.0999999999999996,4.0999999999999996,4.0999999999999996,4.0999999999999996,4.0999999999999996,4.0999999999999996,4.0999999999999996,4.0999999999999996,4.0999999999999996,null,2.8000000000000003,2,2,2,2,2,2,2,2,2,2,2,2,2,2,2,2,2,2,3,3,3,3,3,4,4,4,4,4,4,5,5,5,5,5,null,2.8000000000000003,2,2,2,2,2,2,2,2,2,2,2,2,2,2,2,2,2,2,3,3,3,3,3,1,1,1,1,1,1,1,1,1,1,1]
[null,"Motor","Motor",{"$f":"IFERROR(IF(AND(T_MinWidth[[#This Row],[System]]=1,FIND(T_MinWidth[[#This Row],[Description]],i_ControlType)>0),1,\"\"),\"\")","v":""},null,{"$f":"_xlfn.MINIFS(G48:G56,C48:C56,\"=Motor\")","v":955},{"$f":"IF(OR(T_MinWidth[[#This Row],[Region]]=\"Global\",T_MinWidth[[#This Row],[Region]]=i_Location),T_MinWidth[[#This Row],[MinWidth1]],9999)","v":955},"Global",{"$f":"IFERROR(IF(OR(i_SystemType=\"Zipscreen\",IF(FIND(\"VEUE\",i_SystemType)>0,TRUE())),1,0),IF(i_SystemType=\"Zipscreen\",1,0))","v":0},null,"Zipscreen / VEUE",null,null,null,null,null,null,null,null,null,null,null,null,null,null,null,null,null,3,2,2,2,2,2,2,2,2,2,2,2,2,2,2,2,2,2,2,2,3,3,3,4.0999999999999996,4.0999999999999996,4.0999999999999996,4.0999999999999996,4.0999999999999996,4.0999999999999996,4.0999999999999996,4.0999999999999996,4.0999999999999996,4.0999999999999996,4.0999999999999996,4.0999999999999996,null,3.0000000000000004,2,2,2,2,2,2,2,2,2,2,2,2,2,2,2,2,2,2,3,3,3,3,4,4,4,4,4,4,4,5,5,5,5,5,null,3.0000000000000004,2,2,2,2,2,2,2,2,2,2,2,2,2,2,2,2,2,2,3,3,3,3,1,1,1,1,1,1,1,1,1,1,1,1]
[null,"AUTOMATE | FT Motor | 15Nm | Short Conn.","Motor",null,null,780,{"$f":"IF(OR(T_MinWidth[[#This Row],[Region]]=\"Global\",T_MinWidth[[#This Row],[Region]]=i_Location),T_MinWidth[[#This Row],[MinWidth1]],9999)","v":9999},"AU",null,null,"Zipscreen / VEUE 78",null,null,null,null,null,null,null,null,null,null,null,null,null,null,null,null,null,3.2,2.5,2.5,2.5,2.5,2.5,2.5,2.5,2.5,2.5,2.5,2.5,2.5,2.5,2.5,2.5,2.5,2.5,3.5,3.5,3.5,4.2,4.2,4.2,4.2,4.2,4.2,4.2,4.2,4.2,4.2,4.2,4.2,4.2,5,null,3.2,2,2,2,2,2,2,2,2,2,2,2,2,2,2,2,2,2,3,3,3,4,4,4,4,4,4,4,4,5,5,5,5,5,5,null,3.0000000000000004,2,2,2,2,2,2,2,2,2,2,2,2,2,2,2,2,2,3,3,3,1,1,1,1,1,1,1,1,1,1,1,1,1,1]
[null,"AUTOMATE | FT Motor | 15Nm | Long Conn.","Motor",null,null,780,{"$f":"IF(OR(T_MinWidth[[#This Row],[Region]]=\"Global\",T_MinWidth[[#This Row],[Region]]=i_Location),T_MinWidth[[#This Row],[MinWidth1]],9999)","v":9999},"AU",null,null,"Zipscreen / VEUE 78",null,null,null,null,null,null,null,null,null,null,null,null,null,null,null,null,null,3.4,2.5,2.5,2.5,2.5,2.5,2.5,2.5,2.5,2.5,2.5,2.5,2.5,2.5,2.5,2.5,2.5,3.5,3.5,3.5,4.2,4.2,4.2,4.2,4.2,4.2,4.2,4.2,4.2,4.2,4.2,4.2,4.2,4.2,5,null,3.4000000000000008,2,2,2,2,2,2,2,2,2,2,2,2,2,2,2,2,3,3,3,4,4,4,4,4,4,4,4,4,5,5,5,5,5,5,null,3.4000000000000008,2,2,2,2,2,2,2,2,2,2,2,2,2,2,2,2,3,3,3,1,1,1,1,1,1,1,1,1,1,1,1,1,1,1]
[null,"AUTOMATE | DCFT Motor + Battery |15Nm","Motor",null,null,715,{"$f":"IF(OR(T_MinWidth[[#This Row],[Region]]=\"Global\",T_MinWidth[[#This Row],[Region]]=i_Location),T_MinWidth[[#This Row],[MinWidth1]],9999)","v":9999},"AU",null,null,"Zipscreen / VEUE 78",null,null,null,null,null,null,null,null,null,null,null,null,null,null,null,null,null,3.6,2.5,2.5,2.5,2.5,2.5,2.5,2.5,2.5,2.5,2.5,2.5,2.5,2.5,2.5,2.5,3.5,3.5,3.5,4.2,4.2,4.2,4.2,4.2,4.2,4.2,4.2,4.2,4.2,4.2,4.2,4.2,4.2,4.2,5,null,3.600000000000001,2,2,2,2,2,2,2,2,2,2,2,2,2,2,2,3,3,3,4,4,4,4,4,4,4,4,4,4,5,5,5,5,5,5,null,3.600000000000001,2,2,2,2,2,2,2,2,2,2,2,2,2,2,2,3,3,3,1,1,1,1,1,1,1,1,1,1,1,1,1,1,1,1]
[null,"AUTOMATE | AX30 | 30Nm","Motor",null,null,955,{"$f":"IF(OR(T_MinWidth[[#This Row],[Region]]=\"Global\",T_MinWidth[[#This Row],[Region]]=i_Location),T_MinWidth[[#This Row],[MinWidth1]],9999)","v":955},"Global",null,null,"EXTREME (Box 160 & 190)",null,null,null,null,null,null,null,null,null,null,null,null,null,null,null,null,null,3.8,2.5,2.5,2.5,2.5,2.5,2.5,2.5,2.5,2.5,2.5,2.5,2.5,2.5,2.5,3.5,3.5,3.5,4.2,4.2,4.2,4.2,4.2,4.2,4.2,4.2,4.2,4.2,4.2,4.2,4.2,4.2,4.2,5,5,null,3.8000000000000012,2,2,2,2,2,2,2,2,2,2,2,2,2,2,3,3,3,4,4,4,4,4,4,4,4,4,4,4,5,5,5,5,5,5,null,3.8000000000000012,2,2,2,2,2,2,2,2,2,2,2,2,2,2,3,3,3,1,1,1,1,1,1,1,1,1,1,1,1,1,1,1,1,1]
[null,"AUTOMATE | AX50 | 50Nm","Motor",null,null,955,{"$f":"IF(OR(T_MinWidth[[#This Row],[Region]]=\"Global\",T_MinWidth[[#This Row],[Region]]=i_Location),T_MinWidth[[#This Row],[MinWidth1]],9999)","v":955},"Global",null,null,"EXTREME (Box 160 & 190)",null,null,null,null,null,null,null,null,null,null,null,null,null,null,null,null,null,4,2.5,2.5,2.5,2.5,2.5,2.5,2.5,2.5,2.5,2.5,2.5,2.5,2.5,2.5,3.5,3.5,4.2,4.2,4.2,4.2,4.2,4.2,4.2,4.2,4.2,4.2,4.2,4.2,4.2,4.2,4.2,4.2,5,5,null,4.0000000000000009,2,2,2,2,2,2,2,2,2,2,2,2,2,2,3,3,4,4,4,4,4,4,4,4,4,4,4,4,5,5,5,5,5,5,null,4.0000000000000009,2,2,2,2,2,2,2,2,2,2,2,2,2,2,3,3,1,1,1,1,1,1,1,1,1,1,1,1,1,1,1,1,1,1]
[null,"AUTOMATE | FT Motor | 15Nm","Motor",null,null,805,{"$f":"IF(OR(T_MinWidth[[#This Row],[Region]]=\"Global\",T_MinWidth[[#This Row],[Region]]=i_Location),T_MinWidth[[#This Row],[MinWidth1]],9999)","v":9999},"US",null,null,null,null,null,null,null,null,null,null,null,null,null,null,null,null,null,null,null,null,4.2,4.3,4.3,4.3,4.3,4.3,4.3,4.3,4.3,4.3,4.3,4.3,4.3,4.3,4.3,4.3,4.3,4.3,4.3,4.3,4.3,4.3,4.3,4.3,4.3,4.3,4.3,4.3,4.3,4.3,4.3,4.3,4.3,6,6,null,4.2000000000000011,4,4,4,4,4,4,4,4,4,4,4,4,4,4,4,4,4,4,4,4,4,4,4,4,4,4,4,4,5,5,5,5,5,5,null,4.2000000000000011,1,1,1,1,1,1,1,1,1,1,1,1,1,1,1,1,1,1,1,1,1,1,1,1,1,1,1,1,1,1,1,1,1,1]
[null,null,null,{"$f":"IFERROR(IF(AND(i_SystemType=T_MinWidth[[#This Row],[System]],FIND(T_MinWidth[[#This Row],[Description]],i_Control)>0),1,\"\"),\"\")","v":""},null,null,{"$f":"IF(OR(T_MinWidth[[#This Row],[Region]]=\"Global\",T_MinWidth[[#This Row],[Region]]=i_Location),T_MinWidth[[#This Row],[MinWidth1]],9999)","v":0},null,null,null,"*Unified min width per control should reflect Face Fix ",null,null,null,null,null,null,null,null,null,null,null,null,null,null,null,null,null,4.4000000000000004,4.3,4.3,4.3,4.3,4.3,4.3,4.3,4.3,4.3,4.3,4.3,4.3,4.3,4.3,4.3,4.3,4.3,4.3,4.3,4.3,4.3,4.3,4.3,4.3,4.3,4.3,4.3,4.3,4.3,4.3,4.3,4.3,6,6,null,4.4000000000000012,4,4,4,4,4,4,4,4,4,4,4,4,4,4,4,4,4,4,4,4,4,4,4,4,4,4,4,5,5,5,5,5,5,5,null,4.4000000000000012,1,1,1,1,1,1,1,1,1,1,1,1,1,1,1,1,1,1,1,1,1,1,1,1,1,1,1,1,1,1,1,1,1,1]
[null,null,null,null,null,null,{"$f":"IF(OR(T_MinWidth[[#This Row],[Region]]=\"Global\",T_MinWidth[[#This Row],[Region]]=i_Location),T_MinWidth[[#This Row],[MinWidth1]],9999)","v":0},null,null,null,null,null,null,null,null,null,null,null,null,null,null,null,null,null,null,null,null,null,4.5999999999999996,4.3,4.3,4.3,4.3,4.3,4.3,4.3,4.3,4.3,4.3,4.3,4.3,4.3,4.3,4.3,4.3,4.3,4.3,4.3,4.3,4.3,4.3,4.3,4.3,4.3,4.3,4.3,4.3,4.3,4.3,4.3,4.3,6,6,null,4.6000000000000014,4,4,4,4,4,4,4,4,4,4,4,4,4,4,4,4,4,4,4,4,4,4,4,4,4,4,4,5,5,5,5,5,5,5,null,4.6000000000000014,1,1,1,1,1,1,1,1,1,1,1,1,1,1,1,1,1,1,1,1,1,1,1,1,1,1,1,1,1,1,1,1,1,1]
[null,null,null,{"$f":"IFERROR(IF(AND(i_SystemType=T_MinWidth[[#This Row],[System]],FIND(T_MinWidth[[#This Row],[Description]],i_Control)>0),1,\"\"),\"\")","v":""},null,null,{"$f":"IF(OR(T_MinWidth[[#This Row],[Region]]=\"Global\",T_MinWidth[[#This Row],[Region]]=i_Location),T_MinWidth[[#This Row],[MinWidth1]],9999)","v":0},null,null,null,null,null,null,null,null,null,null,null,null,null,null,null,null,null,null,null,null,null,4.8,4.3,4.3,4.3,4.3,4.3,4.3,4.3,4.3,4.3,4.3,4.3,4.3,4.3,4.3,4.3,4.3,4.3,4.3,4.3,4.3,4.3,4.3,4.3,4.3,4.3,4.3,4.3,4.3,4.3,4.3,4.3,4.3,6,6,null,4.8000000000000016,4,4,4,4,4,4,4,4,4,4,4,4,4,4,4,4,4,4,4,4,4,4,4,4,4,4,4,5,5,5,5,5,5,5,null,4.8000000000000016,1,1,1,1,1,1,1,1,1,1,1,1,1,1,1,1,1,1,1,1,1,1,1,1,1,1,1,1,1,1,1,1,1,1]
[null,null,null,null,null,null,null,null,null,null,null,null,null,null,null,null,null,null,null,null,null,null,null,null,null,null,null,null,5,4.3,4.3,4.3,4.3,4.3,4.3,4.3,4.3,4.3,4.3,4.3,4.3,4.3,4.3,4.3,4.3,4.3,4.3,4.3,4.3,4.3,4.3,4.3,4.3,4.3,4.3,4.3,4.3,4.3,4.3,4.3,4.3,6,6,null,5.0000000000000018,4,4,4,4,4,4,4,4,4,4,4,4,4,4,4,4,4,4,4,4,4,4,4,4,4,4,4,5,5,5,5,5,5,5,null,5.0000000000000018,1,1,1,1,1,1,1,1,1,1,1,1,1,1,1,1,1,1,1,1,1,1,1,1,1,1,1,1,1,1,1,1,1,1]
[]
[null,"T_ConvertTube"]
[null,"Input","Output"]
[null,null,null,null,null,null,null,null,null,null,null,null,null,null,null,null,null,null,null,null,null,null,null,null,null,null,null,null,"ZS",null,null,null,null,null,null,null,null,null,null,null,null,null,null,null,null,null,null,null,null,null,null,null,null,null,null,null,null,null,null,null,null,null,null,null,"WG"]
[null,null,null,null,null,null,null,null,null,null,null,null,null,null,null,null,null,null,null,null,null,null,null,null,null,null,null,null,"MACRO INPUTS",null,null,null,null,null,null,null,null,null,null,null,null,null,null,null,null,null,null,null,null,null,null,null,null,null,null,null,null,null,null,null,null,null,null,null,"MACRO INPUTS"]
[null,null,null,null,null,null,null,null,null,null,null,null,null,null,null,null,null,null,null,null,null,null,null,null,null,null,null,null,null,"startCol",{"$f":"COLUMN(AD36)","v":30},null,null,null,"Cell Colours",null,null,null,"LEGEND",null,null,null,null,null,"DESCRIPTION",null,null,null,null,null,null,null,null,null,null,null,null,null,null,null,null,null,null,null,null,"startCol",{"$f":"COLUMN(BN36)","v":66},null,null,null,"Cell Colours",null,null,null,"LEGEND",null,null,null,null,null,"DESCRIPTION",null,null,null,null,null,null,null,null,null,null,null,null,null,null,null,null,null,null,null,null,null,null,null,"Cell Colours",null,null,"LEGEND",null,null,null,null,null,"DESCRIPTION"]
[null,null,null,null,null,null,null,null,null,null,null,null,null,null,null,null,null,null,null,null,null,null,null,null,null,null,null,null,null,"startRow",{"$f":"ROW(AC37)","v":37},null,null,null,"1","808080",null,null,null,null,null,null,null,null,"Outside Product Specifications",null,null,null,null,null,null,null,null,null,null,null,null,null,null,null,null,null,null,null,null,"startRow",{"$f":"ROW(BM37)","v":37},null,null,null,null,"808080",null,null,null,null,null,null,null,null,"Outside Product Specifications",null,null,null,null,null,null,null,null,null,null,null,null,null,null,null,null,null,null,null,null,null,null,null,1,"808080",null,null,null,null,null,null,null,"Outside Product Specifications"]
[null,null,null,null,null,null,null,null,null,null,null,null,null,null,null,null,null,null,null,null,null,null,null,null,null,null,null,null,null,"endCol",{"$f":"COLUMN(BK36)","v":63},null,null,null,"2","A3FFFB",null,null,null,null,null,null,null,null,"78mm AL STD / STEEL Tube ",null,null,null,null,null,null,null,null,null,null,null,null,null,null,null,null,null,null,null,null,"endCol",{"$f":"COLUMN(CU36)","v":99},null,null,null,"2","A3FFFB",null,null,null,null,null,null,null,null,"78mm AL STD / STEEL Tube",null,null,null,null,null,null,null,null,null,null,null,null,null,null,null,null,null,null,null,null,null,null,null,2,"A3FFFB",null,null,null,null,null,null,null,"78 STEEL / 78 AL STD / 78 AL HD Tubes"]
[null,"T_ConvertBooster",null,null,null,null,null,null,null,null,null,null,null,null,null,null,null,null,null,null,null,null,null,null,null,null,null,null,null,"endRow",{"$f":"ROW(AC57)","v":57},null,null,null,"3","00FFFF",null,null,null,null,null,null,null,null,"78mm AL HD Tube",null,null,null,null,null,null,null,null,null,null,null,null,null,null,null,null,null,null,null,null,"endRow",{"$f":"ROW(BM57)","v":57},null,null,null,"3","00FFFF",null,null,null,null,null,null,null,null,"78mm AL HD Tube",null,null,null,null,null,null,null,null,null,null,null,null,null,null,null,null,null,null,null,null,null,null,null,3,"00FFFF",null,null,null,null,null,null,null,"78 AL HD Tube"]
[null,"ID","D_Show","D_Booster",null,null,null,null,null,null,null,null,null,null,null,null,null,null,null,null,null,null,null,null,null,null,null,null,null,null,null,null,null,null,"4","006272",null,null,null,null,null,null,null,null,"110mm Tube",null,null,null,null,null,null,null,null,null,null,null,null,null,null,null,null,null,null,null,null,null,null,null,null,null,"4","006272",null,null,null,null,null,null,null,null,"110mm Tube",null,null,null,null,null,null,null,null,null,null,null,null,null,null,null,null,null,null,null,null,null,null,null,null,null,null,"Need"]
[null,"A","Compact","Compact",null,null,null,null,null,null,null,null,null,null,null,null,null,null,null,null,null,null,null,null,null,null,null,null,null,null,null,null,null,null,"5","ABD890",null,null,null,null,null,null,null,null,"130mm Tube (Box 190 / Extreme Open)",null,null,null,null,null,null,null,null,null,null,null,null,null,null,null,null,null,null,null,null,null,null,null,null,null,"5","ABD890",null,null,null,null,null,null,null,null,"130mm Tube",null,null,null,null,null,null,null,null,null,null,null,null,null,null,null,null,null,null,null,null,null,null,null,null,null,null,"Zone for Box 120 vs Open"]
[null,"B","Light","Light",null,null,null,null,null,null,null,null,null,null,null,null,null,null,null,null,null,null,null,null,null,null,null,null,null,null,null,null,null,null,"6","6CB33F",null,null,null,null,null,null,null,null,"130mm Tube (Extreme Open)",null,null,null,null,null,null,null,null,null,null,null,null,null,null,null,null,null,null,null,null,null,null,null,null,null,null,"3399FF"]
[null,"C","Standard","Standard"]
[null,"D","Heavy","Heavy"]
[null,"E","Extra Heavy","Extra Heavy"]
[null,"F","Ultra Heavy","Ultra Heavy"]
[]
[null,"T_ConvertSystemType"]
[null,"Input","Output"]
[null,"Zipscreen","_Zipscreen_"]

{"sheet":"Ctrl_Limitations","index":10,"n_rows":76,"n_cols":44,"rows_kept":76,"cut":false,"hidden":true,"merged":[[1,26,1,27],[2,26,2,43],[4,24,8,24],[4,25,8,25],[9,24,13,24],[9,25,13,25]]}
[]
[null,null,null,"Does",null,"Apply to ",null,null,null,null,null,null,null,null,null,null,null,null,null,null,null,null,null,null,null,null,"Columns used for ZS & WG Max Size Only"]
[null,null,null,null,null,null,null,null,null,null,null,null,null,null,null,null,null,null,null,null,null,null,null,null,"Enter DEPENDENCIES","SELECTION OPTIONS","CONFIGURATIONS"]
[null,null,null,null,null,null,null,null,null,null,null,null,null,null,null,null,null,null,null,null,null,null,null,null,null,{"$f":"MAX(AA4:AR4)","v":0},{"$f":"SUM(COUNTIF(AA5:AA19,$Y$5:$Y$19))","v":0},{"$f":"SUM(COUNTIF(AB5:AB19,$Y$5:$Y$19))","v":0},{"$f":"SUM(COUNTIF(AC5:AC19,$Y$5:$Y$19))","v":0},{"$f":"SUM(COUNTIF(AD5:AD19,$Y$5:$Y$19))","v":0},{"$f":"SUM(COUNTIF(AE5:AE19,$Y$5:$Y$19))","v":0},{"$f":"SUM(COUNTIF(AF5:AF19,$Y$5:$Y$19))","v":0},{"$f":"SUM(COUNTIF(AG5:AG19,$Y$5:$Y$19))","v":0},{"$f":"SUM(COUNTIF(AH5:AH19,$Y$5:$Y$19))","v":0},{"$f":"SUM(COUNTIF(AI5:AI19,$Y$5:$Y$19))","v":0},{"$f":"SUM(COUNTIF(AJ5:AJ19,$Y$5:$Y$19))","v":0},{"$f":"SUM(COUNTIF(AK5:AK19,$Y$5:$Y$19))","v":0},{"$f":"SUM(COUNTIF(AL5:AL19,$Y$5:$Y$19))","v":0},{"$f":"SUM(COUNTIF(AM5:AM19,$Y$5:$Y$19))","v":0},{"$f":"SUM(COUNTIF(AN5:AN19,$Y$5:$Y$19))","v":0},{"$f":"SUM(COUNTIF(AO5:AO19,$Y$5:$Y$19))","v":0},{"$f":"SUM(COUNTIF(AP5:AP19,$Y$5:$Y$19))","v":0},{"$f":"SUM(COUNTIF(AQ5:AQ19,$Y$5:$Y$19))","v":0},{"$f":"SUM(COUNTIF(AR5:AR19,$Y$5:$Y$19))","v":0}]
[null,null,null,null,null,null,null,null,null,null,null,null,null,null,null,null,null,null,null,null,null,null,null,null,{"$f":"INDIRECT(\"i_\"&SUBSTITUTE($Z5,\" \",\"\"))","v":0},"System Type","Zipscreen","Wire Guide","Zipscreen","Straight Drop","Pivot Arm",null,"Zipscreen",null,"Wire Guide"]
[null,null,null,null,null,null,null,null,null,null,null,null,null,null,null,null,null,null,null,null,null,null,null,null,null,null,null,null,null,"Wire Guide"]
[null,null,null,null,null,null,null,null,null,null,null,null,null,null,null,null,null,null,null,null,null,null,null,null,null,null,null,null,null,"Channel Guide"]
[]
[]
[null,null,null,null,null,null,null,null,null,null,null,null,null,null,null,null,null,null,null,null,null,null,null,null,{"$f":"INDIRECT(\"i_\"&SUBSTITUTE($Z10,\" \",\"\"))","v":0},"Installation Type",null,null,{"$f":"L_InstallType_ZS_120","v":"Box 120 (Full Cover)"},{"$f":"L_InstallType_WG_120","v":"Box 120 (Full Cover)"},"Box 120 (Semi Cover)",null,{"$f":"L_InstallType_ZS_190","v":"Box 190"},null,{"$f":"L_InstallType_WG_190","v":"Box 190"}]
[null,null,null,null,null,null,null,null,null,null,null,null,null,null,null,null,null,null,null,null,null,null,null,null,null,null,null,null,"Box 120 (Semi Cover)","Box 120 (Semi Cover)","Open",null,"Zipscreen Extreme Open Bracket",null,"Extreme Open Brackets (Top/Face Fix)"]
[null,null,null,null,null,null,null,null,null,null,null,null,null,null,null,null,null,null,null,null,null,null,null,null,null,null,null,null,"Open","Open",null,null,null,null,"Extreme Open Brackets (Recess Fix)"]
[]
[]
[]
[]
[]
[]
[]
[]
[]
[]
[]
[null,null,null,null,null,null,null,null,null,null,null,null,null,null,null,null,null,null,null,null,null,null,null,null,"Type","Limitation Value",{"$f":"IF(AA4<>$Z$4,0,1)","v":1},{"$f":"IF(AB4<>$Z$4,0,1)","v":1},1,1,1,1,1,1,1,1,1,1,1,1,1,1,1,1]
[null,null,null,null,null,null,null,null,null,null,null,null,null,null,null,null,null,null,null,null,null,null,null,null,"Width_Max",{"$f":"INDEX(AA25:AR25,0,MATCH(1,$AA$24:$AR$24,0))","v":7000},7000,7000,5800,5000,5000,null,7000,null,7000]
[null,null,null,null,null,null,null,null,null,null,null,null,null,null,null,null,null,null,null,null,null,null,null,null,"Drop_Max",5000,5000,5000,4000,4000,1600,null,5000,null,5000]
[null,null,null,null,null,null,null,null,null,null,null,null,null,null,null,null,null,null,null,null,null,null,null,null,"Area_Max",35,35,35,12,12,12,null,35,null,35]
[null,null,null,null,null,null,null,null,null,null,null,null,null,null,null,null,null,null,null,null,null,null,null,null,"Drop_Max_hard",5000,5000,5000,4000,4000,1600,null,5000,null,5000]
[null,null,null,null,null,null,null,null,null,null,null,null,null,null,null,null,null,null,null,null,null,null,null,null,null,0]
[null,null,null,null,null,null,null,null,null,null,null,null,null,null,null,null,null,null,null,null,null,null,null,null,null,0]
[null,null,null,null,null,null,null,null,null,null,null,null,null,null,null,null,null,null,null,null,null,null,null,null,null,0]
[null,null,null,null,null,null,null,null,null,null,null,null,null,null,null,null,null,null,null,null,null,null,null,null,null,0]
[null,null,null,null,null,null,null,null,null,null,null,null,null,null,null,null,null,null,null,null,null,null,null,null,null,0]
[null,null,null,{"$f":"COUNTA($D$44:$D$69)","v":16},null,null,null,null,null,null,null,null,null,null,null,null,null,null,null,null,null,null,null,null,null,0]
[null,null,null,null,null,null,null,null,null,null,null,null,null,null,null,null,null,null,null,null,null,null,null,null,null,0]
[null,null,null,null,null,null,null,null,null,null,null,null,null,null,null,null,null,null,null,null,null,null,null,null,null,0]
[null,null,null,null,null,null,null,null,null,null,null,null,null,null,null,null,null,null,null,null,null,null,"weight bar, ",null,null,0]
[null,null,null,null,null,null,null,null,null,null,null,null,null,null,null,null,null,null,null,null,null,null,"tubes?"]
[]
[]
[null,null,null,null,null,null,null,null,null,null,null,null,null,null,null,null,null,"Lookup",null,null,null,null,null,null,"Recommendations?"]
[null,null,null,null,null,null,null,null,null,null,null,null,null,null,null,null,null,"Deduction"]
[null,null,null,{"$f":"Y25","v":"Width_Max"},{"$f":"Y26","v":"Drop_Max"},{"$f":"Y27","v":"Area_Max"},{"$f":"Y28","v":"Drop_Max_hard"},{"$f":"Y29","v":0},{"$f":"Y30","v":0},{"$f":"Y31","v":0},{"$f":"Y32","v":0},{"$f":"Y33","v":0},{"$f":"Y34","v":0},{"$f":"Y35","v":0},{"$f":"Y36","v":0},{"$f":"Y37","v":0},null,"Modifiers",null,"QTY","ON/OFF",null,"Comments",null,null,null,{"$f":"IF(AA4<>$Z$4,0,1)","v":1},{"$f":"IF(AB4<>$Z$4,0,1)","v":1},1,1,1,1,1,1,1,1,1,1,1,1,1,1,1,1]
[null,null,null,0,0,1,0,0,0,0,0,0,0,0,0,0,null,{"$f":"INDEX($AA$44:$AR$59,0,MATCH(1,$AA$43:$AR$43,0))","v":2},null,1,{"$f":"IFERROR(IF(ISBLANK(Y44),\"\",IF(FIND(Z44,INDIRECT(\"i_\"&$Y44))>0,1,0)),0)","v":0},null,null,null,"Tube","AL HD",2,null,2,2]
[null,null,null,0,1,0,0,0,0,0,0,0,0,0,0,0,null,-1000,null,1,0,null,"if box120 cover",null,"InstallationType","Cover",-1000,null,-1000,-1000]
[null,null,null,0,1,0,0,0,0,0,0,0,0,0,0,0,null,0,null,1,0,null,null,null,"InstallationType","Box 190",null,null,null,null,null,null,null,null,-3500]
[null,null,null,0,1,0,0,0,0,0,0,0,0,0,0,0,null,0,null,1,0,null,null,null,"InstallationType","Box 190",null,null,null,null,null,null,{"$f":"IFERROR(IF(SEARCH(\"130\",i_Tube)>0,-1000,0),\"\")","v":""}]
[null,null,null,0,0,0,0,0,0,0,0,0,0,0,0,0,null,0,null,1,""]
[null,null,null,0,0,0,0,0,0,0,0,0,0,0,0,0,null,0,null,1,""]
[null,null,null,0,0,0,0,0,0,0,0,0,0,0,0,0,null,0,null,1,""]
[null,null,null,0,0,0,0,0,0,0,0,0,0,0,0,0,null,0,null,1,""]
[null,null,null,0,0,0,0,0,0,0,0,0,0,0,0,0,null,0,null,1,""]
[null,null,null,0,0,0,0,0,0,0,0,0,0,0,0,0,null,0,null,1,""]
[null,null,null,0,0,0,0,0,0,0,0,0,0,0,0,0,null,0,null,1,""]
[null,null,null,0,0,0,0,0,0,0,0,0,0,0,0,0,null,0,null,1,""]
[null,null,null,0,0,0,0,0,0,0,0,0,0,0,0,0,null,0,null,1,""]
[null,null,null,0,0,0,0,0,0,0,0,0,0,0,0,0,null,0,null,1,""]
[null,null,null,0,0,0,0,0,0,0,0,0,0,0,0,0,null,0,null,1,""]
[null,null,null,0,0,0,0,0,0,0,0,0,0,0,0,0,null,0,null,1,""]
[]
[]
[]
[null,null,null,null,null,null,null,null,null,null,null,null,null,null,null,null,null,null,null,null,null,null,null,null,"Type","Limit",{"$f":"IF(AA4<>$Z$4,0,1)","v":1},{"$f":"IF(AB4<>$Z$4,0,1)","v":1},1,1,1,1,1,1,1,1,1,1,1,1,1,1,1,1]
[null,null,null,null,null,null,null,null,null,null,null,null,null,null,null,null,null,null,null,null,null,null,null,null,{"$f":"Y25","v":"Width_Max"},{"$f":"INDEX(AA64:AR64,0,MATCH(1,$AA$24:$AR$24,0))","v":7000},{"$f":"IFERROR(IF(AA$63=0,\"\",AA25+SUMPRODUCT($U$44:$U$59,$T$44:$T$59,$R$44:$R$59,OFFSET($D$43,1,MATCH($Y64,$D$43:$P$43,0)-1,$D$34,1))),\"\")","v":7000},{"$f":"IFERROR(IF(AB$63=0,\"\",AB25+SUMPRODUCT($U$44:$U$59,$T$44:$T$59,$R$44:$R$59,OFFSET($D$43,1,MATCH($Y64,$D$43:$P$43,0)-1,$D$34,1))),\"\")","v":7000},5800,5000,5000,0,7000,0,7000,0,0,0,0,0,0,0,0,0]
[null,null,null,null,null,null,null,null,null,null,null,null,null,null,null,null,null,null,null,null,null,null,null,null,"Drop_Max",{"$f":"INDEX(AA65:AR65,0,MATCH(1,$AA$24:$AR$24,0))","v":5000},{"$f":"IFERROR(IF(AA$63=0,\"\",AA26+SUMPRODUCT($U$44:$U$59,$T$44:$T$59,$R$44:$R$59,OFFSET($D$43,1,MATCH($Y65,$D$43:$P$43,0)-1,$D$34,1))),\"\")","v":5000},{"$f":"IFERROR(IF(AB$63=0,\"\",AB26+SUMPRODUCT($U$44:$U$59,$T$44:$T$59,$R$44:$R$59,OFFSET($D$43,1,MATCH($Y65,$D$43:$P$43,0)-1,$D$34,1))),\"\")","v":5000},4000,4000,1600,0,5000,0,5000,0,0,0,0,0,0,0,0,0]
[null,null,null,null,null,null,null,null,null,null,null,null,null,null,null,null,null,null,null,null,null,null,null,null,"Area_Max",{"$f":"INDEX(AA66:AR66,0,MATCH(1,$AA$24:$AR$24,0))","v":35},{"$f":"IFERROR(IF(AA$63=0,\"\",AA27+SUMPRODUCT($U$44:$U$59,$T$44:$T$59,$R$44:$R$59,OFFSET($D$43,1,MATCH($Y66,$D$43:$P$43,0)-1,$D$34,1))),\"\")","v":35},{"$f":"IFERROR(IF(AB$63=0,\"\",AB27+SUMPRODUCT($U$44:$U$59,$T$44:$T$59,$R$44:$R$59,OFFSET($D$43,1,MATCH($Y66,$D$43:$P$43,0)-1,$D$34,1))),\"\")","v":35},12,12,12,0,35,0,35,0,0,0,0,0,0,0,0,0]
[null,null,null,null,null,null,null,null,null,null,null,null,null,null,null,null,null,null,null,null,null,null,null,null,"Drop_Max_hard",{"$f":"INDEX(AA67:AR67,0,MATCH(1,$AA$24:$AR$24,0))","v":5000},{"$f":"IFERROR(IF(AA$63=0,\"\",AA28+SUMPRODUCT($U$44:$U$59,$T$44:$T$59,$R$44:$R$59,OFFSET($D$43,1,MATCH($Y67,$D$43:$P$43,0)-1,$D$34,1))),\"\")","v":5000},{"$f":"IFERROR(IF(AB$63=0,\"\",AB28+SUMPRODUCT($U$44:$U$59,$T$44:$T$59,$R$44:$R$59,OFFSET($D$43,1,MATCH($Y67,$D$43:$P$43,0)-1,$D$34,1))),\"\")","v":5000},4000,4000,1600,0,5000,0,5000,0,0,0,0,0,0,0,0,0]
[null,null,null,null,null,null,null,null,null,null,null,null,null,null,null,null,null,null,null,null,null,null,null,null,0,{"$f":"INDEX(AA68:AR68,0,MATCH(1,$AA$24:$AR$24,0))","v":0},{"$f":"IFERROR(IF(AA$63=0,\"\",AA29+SUMPRODUCT($U$44:$U$59,$T$44:$T$59,$R$44:$R$59,OFFSET($D$43,1,MATCH($Y68,$D$43:$P$43,0)-1,$D$34,1))),\"\")","v":0},{"$f":"IFERROR(IF(AB$63=0,\"\",AB29+SUMPRODUCT($U$44:$U$59,$T$44:$T$59,$R$44:$R$59,OFFSET($D$43,1,MATCH($Y68,$D$43:$P$43,0)-1,$D$34,1))),\"\")","v":0},0,0,0,0,0,0,0,0,0,0,0,0,0,0,0,0]
[null,null,null,null,null,null,null,null,null,null,null,null,null,null,null,null,null,null,null,null,null,null,null,null,0,{"$f":"INDEX(AA69:AR69,0,MATCH(1,$AA$24:$AR$24,0))","v":0},{"$f":"IFERROR(IF(AA$63=0,\"\",AA30+SUMPRODUCT($U$44:$U$59,$T$44:$T$59,$R$44:$R$59,OFFSET($D$43,1,MATCH($Y69,$D$43:$P$43,0)-1,$D$34,1))),\"\")","v":0},{"$f":"IFERROR(IF(AB$63=0,\"\",AB30+SUMPRODUCT($U$44:$U$59,$T$44:$T$59,$R$44:$R$59,OFFSET($D$43,1,MATCH($Y69,$D$43:$P$43,0)-1,$D$34,1))),\"\")","v":0},0,0,0,0,0,0,0,0,0,0,0,0,0,0,0,0]
[null,null,null,null,null,null,null,null,null,null,null,null,null,null,null,null,null,null,null,null,null,null,null,null,0,{"$f":"INDEX(AA70:AR70,0,MATCH(1,$AA$24:$AR$24,0))","v":0},{"$f":"IFERROR(IF(AA$63=0,\"\",AA31+SUMPRODUCT($U$44:$U$59,$T$44:$T$59,$R$44:$R$59,OFFSET($D$43,1,MATCH($Y70,$D$43:$P$43,0)-1,$D$34,1))),\"\")","v":0},{"$f":"IFERROR(IF(AB$63=0,\"\",AB31+SUMPRODUCT($U$44:$U$59,$T$44:$T$59,$R$44:$R$59,OFFSET($D$43,1,MATCH($Y70,$D$43:$P$43,0)-1,$D$34,1))),\"\")","v":0},0,0,0,0,0,0,0,0,0,0,0,0,0,0,0,0]
[null,null,null,null,null,null,null,null,null,null,null,null,null,null,null,null,null,null,null,null,null,null,null,null,0,{"$f":"INDEX(AA71:AR71,0,MATCH(1,$AA$24:$AR$24,0))","v":0},{"$f":"IFERROR(IF(AA$63=0,\"\",AA32+SUMPRODUCT($U$44:$U$59,$T$44:$T$59,$R$44:$R$59,OFFSET($D$43,1,MATCH($Y71,$D$43:$P$43,0)-1,$D$34,1))),\"\")","v":0},{"$f":"IFERROR(IF(AB$63=0,\"\",AB32+SUMPRODUCT($U$44:$U$59,$T$44:$T$59,$R$44:$R$59,OFFSET($D$43,1,MATCH($Y71,$D$43:$P$43,0)-1,$D$34,1))),\"\")","v":0},0,0,0,0,0,0,0,0,0,0,0,0,0,0,0,0]
[null,null,null,null,null,null,null,null,null,null,null,null,null,null,null,null,null,null,null,null,null,null,null,null,0,{"$f":"INDEX(AA72:AR72,0,MATCH(1,$AA$24:$AR$24,0))","v":0},{"$f":"IFERROR(IF(AA$63=0,\"\",AA33+SUMPRODUCT($U$44:$U$59,$T$44:$T$59,$R$44:$R$59,OFFSET($D$43,1,MATCH($Y72,$D$43:$P$43,0)-1,$D$34,1))),\"\")","v":0},{"$f":"IFERROR(IF(AB$63=0,\"\",AB33+SUMPRODUCT($U$44:$U$59,$T$44:$T$59,$R$44:$R$59,OFFSET($D$43,1,MATCH($Y72,$D$43:$P$43,0)-1,$D$34,1))),\"\")","v":0},0,0,0,0,0,0,0,0,0,0,0,0,0,0,0,0]
[null,null,null,null,null,null,null,null,null,null,null,null,null,null,null,null,null,null,null,null,null,null,null,null,0,{"$f":"INDEX(AA73:AR73,0,MATCH(1,$AA$24:$AR$24,0))","v":0},{"$f":"IFERROR(IF(AA$63=0,\"\",AA34+SUMPRODUCT($U$44:$U$59,$T$44:$T$59,$R$44:$R$59,OFFSET($D$43,1,MATCH($Y73,$D$43:$P$43,0)-1,$D$34,1))),\"\")","v":0},{"$f":"IFERROR(IF(AB$63=0,\"\",AB34+SUMPRODUCT($U$44:$U$59,$T$44:$T$59,$R$44:$R$59,OFFSET($D$43,1,MATCH($Y73,$D$43:$P$43,0)-1,$D$34,1))),\"\")","v":0},0,0,0,0,0,0,0,0,0,0,0,0,0,0,0,0]
[null,null,null,null,null,null,null,null,null,null,null,null,null,null,null,null,null,null,null,null,null,null,null,null,{"$f":"Y36","v":0},{"$f":"INDEX(AA74:AR74,0,MATCH(1,$AA$24:$AR$24,0))","v":0},{"$f":"IFERROR(IF(AA$63=0,\"\",AA36+SUMPRODUCT($U$44:$U$59,$T$44:$T$59,$R$44:$R$59,OFFSET($D$43,1,MATCH($Y74,$D$43:$P$43,0)-1,$D$34,1))),\"\")","v":0},{"$f":"IFERROR(IF(AB$63=0,\"\",AB36+SUMPRODUCT($U$44:$U$59,$T$44:$T$59,$R$44:$R$59,OFFSET($D$43,1,MATCH($Y74,$D$43:$P$43,0)-1,$D$34,1))),\"\")","v":0},0,0,0,0,0,0,0,0,0,0,0,0,0,0,0,0]
[null,null,null,null,null,null,null,null,null,null,null,null,null,null,null,null,null,null,null,null,null,null,null,null,{"$f":"Y37","v":0},{"$f":"INDEX(AA75:AR75,0,MATCH(1,$AA$24:$AR$24,0))","v":0},{"$f":"IFERROR(IF(AA$63=0,\"\",AA37+SUMPRODUCT($U$44:$U$59,$T$44:$T$59,$R$44:$R$59,OFFSET($D$43,1,MATCH($Y75,$D$43:$P$43,0)-1,$D$34,1))),\"\")","v":0},{"$f":"IFERROR(IF(AB$63=0,\"\",AB37+SUMPRODUCT($U$44:$U$59,$T$44:$T$59,$R$44:$R$59,OFFSET($D$43,1,MATCH($Y75,$D$43:$P$43,0)-1,$D$34,1))),\"\")","v":0},0,0,0,0,0,0,0,0,0,0,0,0,0,0,0,0]
[null,null,null,null,null,null,null,null,null,null,null,null,null,null,null,null,null,null,null,null,null,null,null,null,{"$f":"Y38","v":0}]

{"sheet":"Calc_Reference","index":11,"n_rows":54,"n_cols":65,"rows_kept":54,"cut":false,"hidden":true,"merged":[[1,1,1,3],[6,16,6,18],[6,13,6,14],[8,1,8,3],[9,1,9,3],[52,1,52,3],[6,25,6,27],[6,29,6,32],[6,34,6,38],[6,40,6,43],[10,1,10,3],[11,1,11,3],[13,1,13,3],[6,20,6,23],[47,51,48,51],[44,51,45,51],[6,45,6,46],[30,1,30,3],[45,1,45,3]]}
[]
[null,"Input Constants"]
[null,"Maximum User Effort",null,"kg",null,null,null,null,null,null,null,null,null,null,null,null,null,null,null,null,null,null,null,null,null,null,null,null,null,null,null,null,null,null,null,null,null,null,null,null,null,null,null,null,null,null,null,null,null,null,null,"Selected Fabric",{"$f":"i_FabricSelection","v":0}]
[null,"Tube Deflection Limit (internal)",null,"mm/m",null,null,null,null,null,null,null,null,null,null,null,null,null,null,null,null,null,null,null,null,null,null,null,null,null,null,null,null,null,null,null,null,null,null,null,null,null,null,null,null,null,null,null,null,null,null,null,"lookup thickness",null,"mm",null,null,null,null,null,null,null,null,"#6 zip",1.45,"mm"]
[null,"Tube Deflection Limit (external)",null,"mm/m",null,{"$f":"OR(CurrentRevision=VALUE(F7),CurrentRevision>=VALUE(F7))","v":true},null,null,null,null,null,null,null,null,null,null,null,null,null,null,null,null,null,null,null,null,null,null,null,null,null,null,null,null,null,null,null,null,null,null,null,null,null,null,null,null,null,null,null,null,null,"lookup density",null,"gsm"]
[null,"Zip Thickness",null,"mm",null,4.08,"CurrentRevision","UPDATE THIS BEFORE RELEASE"]
[null,null,null,null,null,{"$f":"LookupRevision","v":"4.07"},"LookupRevision",null,null,null,null,null,null,"Live Data",null,null,"Bottom Tube",null,null,null,"Top Tube",null,null,null,null,"Boosters",null,null,null,"No Boosters",null,null,null,null,"Bottom Booster Only (motor)",null,null,null,null,null,"Including Both Boosters \n(as nominated in inputs)",null,null,null,null,"* Safety Factor",null,null,null,null,null,"Deflection Limit internal",{"$f":"o_BlindWidthm*Deflection_Limit_Int","v":0},"mm"]
[null,null,null,null,null,null,null,null,null,null,null,null,null,"Bottom Tube # Rotations","Lift Height \n(m)",null,"Load \n(N)","Active Diameter (mm)","Radius \n(mm)",null,"Top Tube # Rotations","Load \n(N)","Active Spool Diameter\n(mm)","Spool Radius\n(mm)",null,"Spring Booster Top Torque (Nm)","Spring Booster Bottom Torque (Nm)","Booster Equivalent Force \n(N)",null,"Top Tube/Spool Torque Required \n(Nm)","Control Torque Required @ Ratio + FRICTION\n(Nm)","User Effort\nLIFTING\n(kg)","User Effort\nLOWERING\n(kg)",null,"Top Tube Load \n(N)","Top Tube Torque\n(Nm)","Control Torque Required (Nm)","User Effort\nLIFTING\n(kg)","User Effort\nLOWERING\n(kg)",null,"Top Tube/Spool Torque Required \n(Nm)","Control Torque Required @ Ratio\n(Nm)","User Effort\nLIFTING\n(kg)","User Effort\nLOWERING\n(kg)",null,"User Effort\nLIFTING\n(kg)","User Effort\nLOWERING\n(kg)",null,null,null,null,"Deflection Limit external",{"$f":"o_BlindWidthm*Deflection_Limit_Ext","v":0},"mm"]
[null,"Material Data",null,null,"kg/m³","GPa",null,null,null,null,null,null,null,0,0,null,{"$f":"9.81*((BT_UnitMass*o_BlindWidthm)+Fabric_TotalMass-Fabric_UnitMassLift*N9)","v":{"$error":"#NAME?"}},{"$f":"S9*2","v":{"$error":"#N/A"}},{"$f":"(Fabric_Roll_Diameter*0.5)-Fabric_Thickness*N9","v":{"$error":"#N/A"}},null,{"$f":"N9*(Spool_OD/R9)","v":{"$error":"#NAME?"}},{"$f":"9.81*((wb_UnitMass*o_BlindWidthm)+Fabric_UnitMassLift*N9)","v":0},{"$f":"IF(D12>2.14,Spool_OD+8.4,IF(D12>1.38,Spool_OD+5.6,IF(D12>0.67,Spool_OD+2.8,Spool_OD)))","v":{"$error":"#NAME?"}},{"$f":"W9/2","v":{"$error":"#NAME?"}},null,{"$f":"(BoosterTop_Preturns+Rotations_Max-U9)*Booster_k","v":{"$error":"#NAME?"}},{"$f":"(Booster_PreTurns+N9)*BoosterBottom_k","v":{"$error":"#VALUE!"}},{"$f":"(Z9/(X9/1000)-(AA9/(S9/1000)))","v":{"$error":"#NAME?"}},null,{"$f":"V9*X9/1000","v":{"$error":"#NAME?"}},{"$f":"(AD9/Control_Ratio)+Control_Friction","v":{"$error":"#NAME?"}},{"$f":"(AE9/((Control_D/1000)/2))/9.81","v":{"$error":"#NAME?"}},{"$f":"(Control_Friction/(Control_D/2/1000))/9.81","v":{"$error":"#NAME?"}},null,{"$f":"(V9+((Booster_PreTurns+N9)*BoosterBottom_k/(S9/1000)))","v":{"$error":"#VALUE!"}},{"$f":"(AI9*X9/1000)","v":{"$error":"#VALUE!"}},{"$f":"IF(AJ9<0,Control_Friction,(AJ9/Control_Ratio)+Control_Friction)","v":{"$error":"#VALUE!"}},{"$f":"(AJ9/((Control_D/1000)/2))/9.81","v":{"$error":"#VALUE!"}},{"$f":"(Control_Friction/(Control_D/2/1000))/9.81","v":{"$error":"#NAME?"}},null,{"$f":"(V9-AB9)*X9/1000","v":{"$error":"#NAME?"}},{"$f":"IF(AO9<0,Control_Friction,(AO9/Control_Ratio)+Control_Friction)","v":{"$error":"#NAME?"}},{"$f":"(AP9/((Control_D/1000)/2))/9.81","v":{"$error":"#NAME?"}},{"$f":"IF((((Control_Friction-(AO9/Control_Ratio))/(Control_D/2/1000)))/9.81<(Control_Friction/(Control_D/2/1000))/9.81,(Control_Friction/(Control_D/2/1000))/9.81,(((Control_Friction-(AO9/Control_Ratio))/(Control_D/2/1000)))/9.81)","v":{"$error":"#NAME?"}},null,null,null,null,null,null,null,"Fabric Thickness",{"$f":"IF(i_Units=\"Metric\",i_FabricThickness,CONVERT(i_FabricThickness,\"in\",\"mm\"))","v":0},"mm"]
[null,"Material",null,null,"Density","Young's Modulus",null,null,null,null,null,null,null,{"$f":"Rotations_Bottom_Max","v":{"$error":"#NAME?"}},{"$f":"(PI()/1000)*($N$10*BT_OD+Fabric_Thickness*$N$10^2)","v":{"$error":"#NAME?"}},null,{"$f":"9.81*((BT_UnitMass*o_BlindWidthm)+Fabric_TotalMass-Fabric_UnitMassLift*O10)","v":{"$error":"#NAME?"}},{"$f":"S10*2","v":{"$error":"#N/A"}},{"$f":"(Fabric_Roll_Diameter*0.5)-Fabric_Thickness*N10","v":{"$error":"#N/A"}},null,{"$f":"N10*(Spool_OD/R10)","v":{"$error":"#NAME?"}},{"$f":"9.81*((wb_UnitMass*o_BlindWidthm)+Fabric_UnitMassLift*O10)","v":{"$error":"#NAME?"}},{"$f":"IF(O10>2.14,Spool_OD+8.4,IF(O10>1.38,Spool_OD+5.6,IF(O10>0.67,Spool_OD+2.8,Spool_OD)))","v":{"$error":"#NAME?"}},{"$f":"W10/2","v":{"$error":"#NAME?"}},null,{"$f":"(BoosterTop_Preturns+Rotations_Max-U10)*Booster_k","v":{"$error":"#NAME?"}},{"$f":"(Booster_PreTurns+N10)*BoosterBottom_k","v":{"$error":"#VALUE!"}},{"$f":"(Z10/(X10/1000)-(AA10/(S10/1000)))","v":{"$error":"#NAME?"}},null,{"$f":"V10*X10/1000","v":{"$error":"#NAME?"}},{"$f":"(AD10/Control_Ratio)+Control_Friction","v":{"$error":"#NAME?"}},{"$f":"(AE10/((Control_D/1000)/2))/9.81","v":{"$error":"#NAME?"}},{"$f":"(Control_Friction/(Control_D/2/1000))/9.81","v":{"$error":"#NAME?"}},null,{"$f":"(V10+((Booster_PreTurns+N10)*BoosterBottom_k/(S10/1000)))","v":{"$error":"#NAME?"}},{"$f":"(AI10*X10/1000)","v":{"$error":"#NAME?"}},{"$f":"IF(AJ10<0,Control_Friction,(AJ10/Control_Ratio)+Control_Friction)","v":{"$error":"#NAME?"}},{"$f":"(AJ10/((Control_D/1000)/2))/9.81","v":{"$error":"#NAME?"}},{"$f":"(Control_Friction/(Control_D/2/1000))/9.81","v":{"$error":"#NAME?"}},null,{"$f":"(V10-AB10)*X10/1000","v":{"$error":"#NAME?"}},{"$f":"IF(AB12<0,Control_Friction,(AO10/Control_Ratio)+Control_Friction)","v":{"$error":"#NAME?"}},{"$f":"(AP10/((Control_D/1000)/2))/9.81","v":{"$error":"#NAME?"}},{"$f":"IF((((Control_Friction-(AO10/Control_Ratio))/(Control_D/2/1000)))/9.81<(Control_Friction/(Control_D/2/1000))/9.81,(Control_Friction/(Control_D/2/1000))/9.81,(((Control_Friction-(AO10/Control_Ratio))/(Control_D/2/1000)))/9.81)","v":{"$error":"#NAME?"}},null,null,null,null,null,null,null,"Fabric Density",{"$f":"i_FabricDensity/1000","v":0},"kg/m²"]
[null,"Aluminium",null,null,2710,{"$f":"68*10^9","v":68000000000},null,null,null,null,null,null,null,null,null,null,null,null,null,null,null,null,null,null,null,null,null,null,null,null,null,null,null,null,null,null,null,null,null,null,null,null,null,null,null,null,null,null,null,null,null,null,null,null,null,null,null,null,"Tube"]
[null,"Steel",null,null,7860,{"$f":"2*10^11","v":200000000000},null,null,null,null,null,null,null,null,null,null,null,null,null,null,null,null,null,null,null,null,null,null,null,null,null,null,null,null,null,null,null,null,null,null,null,null,null,null,null,null,null,null,null,null,null,null,null,null,null,null,null,null,"Unit Mass",{"$f":"INDEX(T_refTubes[Mass/m],MATCH(i_Tube,T_refTubes[OptionCode],0))","v":{"$error":"#N/A"}},"kg/m"]
[null,null,null,null,null,null,null,null,null,null,null,null,null,null,null,null,null,null,null,null,null,null,null,null,null,null,null,null,null,null,null,null,null,null,null,null,null,null,null,null,null,null,null,null,null,null,null,null,null,null,null,"Blind width (m)",{"$f":"o_Widthmm/1000","v":0},"m",null,null,null,null,"OD",{"$f":"INDEX(T_refTubes[Tube OD],MATCH(i_Tube,T_refTubes[OptionCode],0))","v":{"$error":"#N/A"}},"mm"]
[null,"Tubes",null,null,"mm","kg/m","(mm⁴)","(Nm²)",null,null,null,null,null,null,null,null,null,null,null,null,null,null,null,null,null,null,null,null,null,null,null,null,null,null,null,null,null,null,null,null,null,null,null,null,null,null,null,null,null,null,null,"Blind Drop (m)",{"$f":"o_Dropmm/1000","v":0},"m","o_BlindSizeCompare",null,null,null,"IE",{"$f":"INDEX(T_refTubes[EI],MATCH(i_Tube,T_refTubes[OptionCode],0))","v":{"$error":"#N/A"}},"Nm²"]
[null,"OptionCode","Codes","Description","Tube OD","Mass/m","I_min","EI",null,null,null,null,null,null,null,null,null,null,null,null,null,null,null,null,null,null,null,null,null,null,null,null,null,null,null,null,null,null,null,null,null,null,null,null,null,null,null,null,null,null,null,"Previous Blind width (m)",8,"m",{"$f":"EXACT(o_BlindSize,o_BlindSize_prev)","v":false}]
[null,null,null,null,null,null,null,null,null,null,null,null,null,null,null,null,null,null,null,null,null,null,null,null,null,null,null,null,null,null,null,null,null,null,null,null,null,null,null,null,null,null,null,null,null,null,null,null,null,null,null,"Previous Blind Drop (m)",4,"m",false]
[]
[null,"78 AL STD","RE01-0378","78 STD Aluminium Tube - 80mm",null,null,null,null,null,null,null,null,null,null,null,null,null,null,null,null,null,null,null,null,null,null,null,null,null,null,null,null,null,null,null,null,null,null,null,null,null,null,null,null,null,null,null,null,null,null,null,"Tube Max Rotations",{"$f":"(-Tube_OD+SQRT(Tube_OD^2+4*Fabric_Thickness*o_BlindDropm*1000/PI()))/(2*Fabric_Thickness)","v":{"$error":"#N/A"}}]
[null,"78 AL HD","RE01-0379","78 HD Aluminium Tube - 81.6mm",null,null,null,null,null,null,null,null,null,null,null,null,null,null,null,null,null,null,null,null,null,null,null,null,null,null,null,null,null,null,null,null,null,null,null,null,null,null,null,null,null,null,null,null,null,null,null,"Max Roll Diameter",{"$f":"(Rotations_Max)*Fabric_Thickness*2+Tube_OD","v":{"$error":"#N/A"}},"mm","no prewrap"]
[null,"78 STEEL","AW92-0901","78 STEEL Tube - 78mm",null,null,null,null,null,null,null,null,null,null,null,null,null,null,null,null,null,null,null,null,null,null,null,null,null,null,null,null,null,null,null,null,null,null,null,null,null,null,null,null,null,null,null,null,null,null,null,"Max Zip Diameter",{"$f":"((-Tube_OD+SQRT(Tube_OD^2+4*ZipThickness*o_BlindDropm*1000/PI()))/(2*ZipThickness))*ZipThickness*2+Tube_OD","v":{"$error":"#N/A"}},"mm"]
[null,"S100 110 STD","RB93-0110","S100 Aluminium Tube - 110 STD"]
[null,"S100 130 HD","RB93-0130","S100 Aluminium Tube - 130 HD",null,null,null,null,null,null,null,null,null,null,null,null,null,null,null,null,null,null,null,null,null,null,null,null,null,null,null,null,null,null,null,null,null,null,null,null,null,null,null,null,null,null,null,null,null,null,null,null,null,null,null,null,null,null,"Weight Bar & Ballast"]
[null,null,null,null,null,null,null,null,null,null,null,null,null,null,null,null,null,null,null,null,null,null,null,null,null,null,null,null,null,null,null,null,null,null,null,null,null,null,null,null,null,null,null,null,null,null,null,null,null,null,null,"Booster Max Preturns",{"$f":"ROUNDDOWN(BH28-Rotations_Max,0)","v":{"$error":"#N/A"}},"Turns",null,null,null,null,"Unit Mass",{"$f":"IFERROR(INDEX(T_refWeightBar[Mass/m],MATCH(1,T_refWeightBar[Codes],0)),0.00001)","v":1.0000000000000001E-5},"kg/m"]
[]
[]
[null,null,null,null,null,null,null,null,null,null,null,null,null,null,null,null,null,null,null,null,null,null,null,null,null,null,null,null,null,null,null,null,null,null,null,null,null,null,null,null,null,null,null,null,null,null,null,null,null,null,null,null,null,null,null,null,null,null,"Booster"]
[null,null,null,null,null,null,null,null,null,null,null,null,null,null,null,null,null,null,null,null,null,null,null,null,null,null,null,null,null,null,null,null,null,null,null,null,null,null,null,null,null,null,null,null,null,null,null,null,null,null,null,null,null,null,null,null,null,null,"k",{"$f":"IFERROR(INDEX(T_refBoosters[Spring Rate],MATCH(i_Booster,T_refBoosters[Input],0)),0.00001)","v":1.0000000000000001E-5},"Nm/Turn"]
[null,null,null,null,null,null,null,null,null,null,null,null,null,null,null,null,null,null,null,null,null,null,null,null,null,null,null,null,null,null,null,null,null,null,null,null,null,null,null,null,null,null,null,null,null,null,null,null,null,null,null,"Fabric Lift Unit Mass",{"$f":"o_BlindWidthm*Fabric_Density","v":0},"kg/m",null,null,null,null,"Max Turns",{"$f":"IFERROR(INDEX(T_refBoosters[Max Turns],MATCH(i_Booster,T_refBoosters[Input],0)),0.00001)","v":1.0000000000000001E-5},"Turns"]
[null,null,null,null,null,null,null,null,null,null,null,null,null,null,null,null,null,null,null,null,null,null,null,null,null,null,null,null,null,null,null,null,null,null,null,null,null,null,null,null,null,null,null,null,null,null,null,null,null,null,null,"Fabric Total Mass",{"$f":"Fabric_UnitMassLift*o_BlindDropm","v":0},"kg"]
[]
[null,"Boosters",null,null,"(Nm/Turn)",null,"(Nm)"]
[null,"Input","Codes","Description","Spring Rate","Max Turns","T_Max","MinWidth","BoosterCount",null,null,null,null,null,null,null,null,null,null,null,null,null,null,null,null,null,null,null,null,null,null,null,null,null,null,null,null,null,null,null,null,null,null,null,null,null,null,null,null,null,null,"Fabric Area Mass",{"$f":"Fabric_Density*(o_Dropmm/1000)*(o_Widthmm/1000)","v":0},"kg/m²"]
[]
[]
[]
[null,null,null,null,null,null,null,null,null,null,null,null,null,null,null,null,null,null,null,null,null,null,null,null,null,null,null,null,null,null,null,null,null,null,null,null,null,null,null,null,null,null,null,null,null,null,null,null,null,null,null,"Torque @ Midpoint",{"$f":"(((((g*(wb_UnitMass*o_BlindWidthm+Fabric_Density*o_BlindWidthm*((o_BlindDropm-((PI()/1000)*((Rotations_Max/2)*Tube_OD+Fabric_Thickness*(Rotations_Max/2)^2)))))*((((Fabric_Roll_Diameter*0.5)-Fabric_Thickness*(Rotations_Max/2)))/1000))))))","v":{"$error":"#N/A"}},"Nm"]
[]
[]
[]
[]
[]
[]
[]
[]
[]
[null,"Weight Bar",null,null,"(mm²)","kg/m","(mm⁴)","(mm⁴)","(Nm²)"]
[null,"Column1","Codes","Description","CSA","Mass/m","I_y","I_x","EI"]
[null,null,{"$f":"IF(AND(i_WeightBar=\"F56\",i_wbBallast=\"No\"),1,\"\")","v":""},"F56 HD External Weight Bar"]
[null,null,{"$f":"IF(AND(i_WeightBar=\"F56\",i_wbBallast=\"Yes\"),1,\"\")","v":""},"F56 HD External Weight Bar + 1x12mm Ballast"]
[null,null,{"$f":"IF(AND(i_WeightBar=\"F72\",i_wbBallast=\"No\"),1,\"\")","v":""},"F72 HD External Weight Bar"]
[null,null,{"$f":"IF(AND(i_WeightBar=\"F72\",i_wbBallast=\"Yes\"),1,\"\")","v":""},"F72 HD External Weight Bar + 1x12mm Ballast"]
[]
[null,"Controls",null,null,"(mm)","(Nm)",null,"(Nm)"]
[null,"Selection","Codes","Description","Diameter","Holding Capacity","Gear Ratio","Friction"]

{"sheet":"PriceList_AU","index":12,"n_rows":172,"n_cols":21,"rows_kept":172,"cut":false,"hidden":true,"merged":[]}
[null,"HIDE","HIDE","HIDE",null,null,"HIDE","HIDE","HIDE",null,"Custom Currency:",null,"HIDE"]
[null,"No.","ColourOptions","Part Number_Formula","Part Number","Description","Colour Code","Colour Description","Colour_formula","Colour","Unit of Measure","AU","AUD_Original","CustomPricing","QTY_Inner","QTY_Outer",null,null,null,"Last Update:","2022-06-29"]
[null,"AW05-0701-069160","Y",{"$f":"IF(AND(OR(T_NAV_AU[[#This Row],[ColourOptions]]=\"M\",T_NAV_AU[[#This Row],[ColourOptions]]=\"Y\"),MID(T_NAV_AU[[#This Row],[No.]],11,3)=\"069\"),REPLACE(T_NAV_AU[[#This Row],[No.]],11,3,\"xxx\"),T_NAV_AU[[#This Row],[No.]])","v":"AW05-0701-xxx160"},"AW05-0701-xxx160","Pivot Arms - 1.6m | 2 Arms LH + RH","069","Pure White",{"$f":"IF(T_NAV_AU[[#This Row],[ColourOptions]]=\"Y\",\"Refer catalogue\", T_NAV_AU[[#This Row],[Colour Description]])","v":"Refer catalogue"},"Refer catalogue","PAIR",{"$f":"IF(T_NAV_AU[[#This Row],[CustomPricing]]<>\"\",T_NAV_AU[[#This Row],[CustomPricing]],T_NAV_AU[[#This Row],[AUD_Original]])","v":373.41},373.41,null,1,0]
[null,"AW05-0801-064000","Y",{"$f":"IF(AND(OR(T_NAV_AU[[#This Row],[ColourOptions]]=\"M\",T_NAV_AU[[#This Row],[ColourOptions]]=\"Y\"),MID(T_NAV_AU[[#This Row],[No.]],11,3)=\"069\"),REPLACE(T_NAV_AU[[#This Row],[No.]],11,3,\"xxx\"),T_NAV_AU[[#This Row],[No.]])","v":"AW05-0801-064000"},"AW05-0801-xxx000","Pivot Arm Cover Cap for Terminal Bar","055","Black, Shadelab",{"$f":"IF(T_NAV_AU[[#This Row],[ColourOptions]]=\"Y\",\"Refer catalogue\", T_NAV_AU[[#This Row],[Colour Description]])","v":"Refer catalogue"},"Refer catalogue","KIT",{"$f":"IF(T_NAV_AU[[#This Row],[CustomPricing]]<>\"\",T_NAV_AU[[#This Row],[CustomPricing]],T_NAV_AU[[#This Row],[AUD_Original]])","v":6.43},6.43,null,1,0]
[null,"AW91-1501-050000","N",{"$f":"IF(AND(OR(T_NAV_AU[[#This Row],[ColourOptions]]=\"M\",T_NAV_AU[[#This Row],[ColourOptions]]=\"Y\"),MID(T_NAV_AU[[#This Row],[No.]],11,3)=\"069\"),REPLACE(T_NAV_AU[[#This Row],[No.]],11,3,\"xxx\"),T_NAV_AU[[#This Row],[No.]])","v":"AW91-1501-050000"},"AW91-1501-050000","Fabric Brush T Slot Fit - 7 x 4.8mm | 350m Roll","050","Black, Satin",{"$f":"IF(T_NAV_AU[[#This Row],[ColourOptions]]=\"Y\",\"Refer catalogue\", T_NAV_AU[[#This Row],[Colour Description]])","v":"Black, Satin"},"Black, Satin","METRE",{"$f":"IF(T_NAV_AU[[#This Row],[CustomPricing]]<>\"\",T_NAV_AU[[#This Row],[CustomPricing]],T_NAV_AU[[#This Row],[AUD_Original]])","v":1.59},1.59,null,350,1400]
[null,"AW92-0901-000480","N",{"$f":"IF(AND(OR(T_NAV_AU[[#This Row],[ColourOptions]]=\"M\",T_NAV_AU[[#This Row],[ColourOptions]]=\"Y\"),MID(T_NAV_AU[[#This Row],[No.]],11,3)=\"069\"),REPLACE(T_NAV_AU[[#This Row],[No.]],11,3,\"xxx\"),T_NAV_AU[[#This Row],[No.]])","v":"AW92-0901-000480"},"AW92-0901-000480","78mm Awning Tube - 4.8m","000","Mill Finish",{"$f":"IF(T_NAV_AU[[#This Row],[ColourOptions]]=\"Y\",\"Refer catalogue\", T_NAV_AU[[#This Row],[Colour Description]])","v":"Mill Finish"},"Mill Finish","LENGTH",{"$f":"IF(T_NAV_AU[[#This Row],[CustomPricing]]<>\"\",T_NAV_AU[[#This Row],[CustomPricing]],T_NAV_AU[[#This Row],[AUD_Original]])","v":95.42},95.42,null,0,28]
[null,"AW92-0901-000700","N",{"$f":"IF(AND(OR(T_NAV_AU[[#This Row],[ColourOptions]]=\"M\",T_NAV_AU[[#This Row],[ColourOptions]]=\"Y\"),MID(T_NAV_AU[[#This Row],[No.]],11,3)=\"069\"),REPLACE(T_NAV_AU[[#This Row],[No.]],11,3,\"xxx\"),T_NAV_AU[[#This Row],[No.]])","v":"AW92-0901-000700"},"AW92-0901-000700","78mm Awning Tube - 7m","000","Mill Finish",{"$f":"IF(T_NAV_AU[[#This Row],[ColourOptions]]=\"Y\",\"Refer catalogue\", T_NAV_AU[[#This Row],[Colour Description]])","v":"Mill Finish"},"Mill Finish","LENGTH",{"$f":"IF(T_NAV_AU[[#This Row],[CustomPricing]]<>\"\",T_NAV_AU[[#This Row],[CustomPricing]],T_NAV_AU[[#This Row],[AUD_Original]])","v":140.15},140.15,null,0,28]
[null,"HD82-1923-050013","Y",{"$f":"IF(AND(OR(T_NAV_AU[[#This Row],[ColourOptions]]=\"M\",T_NAV_AU[[#This Row],[ColourOptions]]=\"Y\"),MID(T_NAV_AU[[#This Row],[No.]],11,3)=\"069\"),REPLACE(T_NAV_AU[[#This Row],[No.]],11,3,\"xxx\"),T_NAV_AU[[#This Row],[No.]])","v":"HD82-1923-050013"},"HD82-1923-xxx013","Self-Drilling 8Gx1/2\" Pan, C4 Galv, Painted","050","Black, Satin",{"$f":"IF(T_NAV_AU[[#This Row],[ColourOptions]]=\"Y\",\"Refer catalogue\", T_NAV_AU[[#This Row],[Colour Description]])","v":"Refer catalogue"},"Refer catalogue","PIECE",{"$f":"IF(T_NAV_AU[[#This Row],[CustomPricing]]<>\"\",T_NAV_AU[[#This Row],[CustomPricing]],T_NAV_AU[[#This Row],[AUD_Original]])","v":0.13},0.13]
[null,"MT01-1145-050001","N",{"$f":"IF(AND(OR(T_NAV_AU[[#This Row],[ColourOptions]]=\"M\",T_NAV_AU[[#This Row],[ColourOptions]]=\"Y\"),MID(T_NAV_AU[[#This Row],[No.]],11,3)=\"069\"),REPLACE(T_NAV_AU[[#This Row],[No.]],11,3,\"xxx\"),T_NAV_AU[[#This Row],[No.]])","v":"MT01-1145-050001"},"MT01-1145-050001","AUTOMATE | FT 15Nm Motor [Ø45/240V/15rpm]","050","Black, Satin",{"$f":"IF(T_NAV_AU[[#This Row],[ColourOptions]]=\"Y\",\"Refer catalogue\", T_NAV_AU[[#This Row],[Colour Description]])","v":"Black, Satin"},"Black, Satin","PIECE",{"$f":"IF(T_NAV_AU[[#This Row],[CustomPricing]]<>\"\",T_NAV_AU[[#This Row],[CustomPricing]],T_NAV_AU[[#This Row],[AUD_Original]])","v":263.72000000000003},263.72000000000003,null,1,10]
[null,"MT01-1145-050012","N",{"$f":"IF(AND(OR(T_NAV_AU[[#This Row],[ColourOptions]]=\"M\",T_NAV_AU[[#This Row],[ColourOptions]]=\"Y\"),MID(T_NAV_AU[[#This Row],[No.]],11,3)=\"069\"),REPLACE(T_NAV_AU[[#This Row],[No.]],11,3,\"xxx\"),T_NAV_AU[[#This Row],[No.]])","v":"MT01-1145-050012"},"MT01-1145-050012","AUTOMATE | FT 15Nm Motor LC [Ø45/240V/15rpm]","050","Black, Satin",{"$f":"IF(T_NAV_AU[[#This Row],[ColourOptions]]=\"Y\",\"Refer catalogue\", T_NAV_AU[[#This Row],[Colour Description]])","v":"Black, Satin"},"Black, Satin","PIECE",{"$f":"IF(T_NAV_AU[[#This Row],[CustomPricing]]<>\"\",T_NAV_AU[[#This Row],[CustomPricing]],T_NAV_AU[[#This Row],[AUD_Original]])","v":263.72000000000003},263.72000000000003,null,1,10]
[null,"MT01-1145-069013","N",{"$f":"IF(AND(OR(T_NAV_AU[[#This Row],[ColourOptions]]=\"M\",T_NAV_AU[[#This Row],[ColourOptions]]=\"Y\"),MID(T_NAV_AU[[#This Row],[No.]],11,3)=\"069\"),REPLACE(T_NAV_AU[[#This Row],[No.]],11,3,\"xxx\"),T_NAV_AU[[#This Row],[No.]])","v":"MT01-1145-069013"},"MT01-1145-069013","AUTOMATE | AX30 30Nm Motor AU [Ø45/240V/15rpm]","069","Pure White",{"$f":"IF(T_NAV_AU[[#This Row],[ColourOptions]]=\"Y\",\"Refer catalogue\", T_NAV_AU[[#This Row],[Colour Description]])","v":"Pure White"},"Pure White","PIECE",{"$f":"IF(T_NAV_AU[[#This Row],[CustomPricing]]<>\"\",T_NAV_AU[[#This Row],[CustomPricing]],T_NAV_AU[[#This Row],[AUD_Original]])","v":256.62},256.62,null,1,10]
[null,"MT01-1145-069015","N",{"$f":"IF(AND(OR(T_NAV_AU[[#This Row],[ColourOptions]]=\"M\",T_NAV_AU[[#This Row],[ColourOptions]]=\"Y\"),MID(T_NAV_AU[[#This Row],[No.]],11,3)=\"069\"),REPLACE(T_NAV_AU[[#This Row],[No.]],11,3,\"xxx\"),T_NAV_AU[[#This Row],[No.]])","v":"MT01-1145-069015"},"MT01-1145-069015","AUTOMATE | AX50 50Nm Motor AU [Ø45/240V/12rpm]","069","Pure White",{"$f":"IF(T_NAV_AU[[#This Row],[ColourOptions]]=\"Y\",\"Refer catalogue\", T_NAV_AU[[#This Row],[Colour Description]])","v":"Pure White"},"Pure White","PIECE",{"$f":"IF(T_NAV_AU[[#This Row],[CustomPricing]]<>\"\",T_NAV_AU[[#This Row],[CustomPricing]],T_NAV_AU[[#This Row],[AUD_Original]])","v":325.42},325.42,null,1,10]
[null,"MT01-1245-069001","N",{"$f":"IF(AND(OR(T_NAV_AU[[#This Row],[ColourOptions]]=\"M\",T_NAV_AU[[#This Row],[ColourOptions]]=\"Y\"),MID(T_NAV_AU[[#This Row],[No.]],11,3)=\"069\"),REPLACE(T_NAV_AU[[#This Row],[No.]],11,3,\"xxx\"),T_NAV_AU[[#This Row],[No.]])","v":"MT01-1245-069001"},"MT01-1245-069001","AUTOMATE | DCFT 15Nm ARC Motor [Ø45/12V/10rpm]","069","Pure White",{"$f":"IF(T_NAV_AU[[#This Row],[ColourOptions]]=\"Y\",\"Refer catalogue\", T_NAV_AU[[#This Row],[Colour Description]])","v":"Pure White"},"Pure White","PIECE",{"$f":"IF(T_NAV_AU[[#This Row],[CustomPricing]]<>\"\",T_NAV_AU[[#This Row],[CustomPricing]],T_NAV_AU[[#This Row],[AUD_Original]])","v":258},258]
[null,"MT03-0301-050017","N",{"$f":"IF(AND(OR(T_NAV_AU[[#This Row],[ColourOptions]]=\"M\",T_NAV_AU[[#This Row],[ColourOptions]]=\"Y\"),MID(T_NAV_AU[[#This Row],[No.]],11,3)=\"069\"),REPLACE(T_NAV_AU[[#This Row],[No.]],11,3,\"xxx\"),T_NAV_AU[[#This Row],[No.]])","v":"MT03-0301-050017"},"MT03-0301-050017","AUTOMATE | Battery Charger for External Battery Pack","050","Black, Satin",{"$f":"IF(T_NAV_AU[[#This Row],[ColourOptions]]=\"Y\",\"Refer catalogue\", T_NAV_AU[[#This Row],[Colour Description]])","v":"Black, Satin"},"Black, Satin","PIECE",{"$f":"IF(T_NAV_AU[[#This Row],[CustomPricing]]<>\"\",T_NAV_AU[[#This Row],[CustomPricing]],T_NAV_AU[[#This Row],[AUD_Original]])","v":35.200000000000003},35.200000000000003]
[null,"MT03-0305-050011","N",{"$f":"IF(AND(OR(T_NAV_AU[[#This Row],[ColourOptions]]=\"M\",T_NAV_AU[[#This Row],[ColourOptions]]=\"Y\"),MID(T_NAV_AU[[#This Row],[No.]],11,3)=\"069\"),REPLACE(T_NAV_AU[[#This Row],[No.]],11,3,\"xxx\"),T_NAV_AU[[#This Row],[No.]])","v":"MT03-0305-050011"},"MT03-0305-050011","AUTOMATE | 5.1Ah EXTERNAL BATTERY PACK (BLACK)","050","Black, Satin",{"$f":"IF(T_NAV_AU[[#This Row],[ColourOptions]]=\"Y\",\"Refer catalogue\", T_NAV_AU[[#This Row],[Colour Description]])","v":"Black, Satin"},"Black, Satin","PIECE",{"$f":"IF(T_NAV_AU[[#This Row],[CustomPricing]]<>\"\",T_NAV_AU[[#This Row],[CustomPricing]],T_NAV_AU[[#This Row],[AUD_Original]])","v":214},214]
[null,"MT02-0101-050010","N",{"$f":"IF(AND(OR(T_NAV_AU[[#This Row],[ColourOptions]]=\"M\",T_NAV_AU[[#This Row],[ColourOptions]]=\"Y\"),MID(T_NAV_AU[[#This Row],[No.]],11,3)=\"069\"),REPLACE(T_NAV_AU[[#This Row],[No.]],11,3,\"xxx\"),T_NAV_AU[[#This Row],[No.]])","v":"MT02-0101-050010"},"MT02-0101-050010","AUTOMATE | PUSH 1 Channel Remote | Black","050","Black, Satin",{"$f":"IF(T_NAV_AU[[#This Row],[ColourOptions]]=\"Y\",\"Refer catalogue\", T_NAV_AU[[#This Row],[Colour Description]])","v":"Black, Satin"},"Black, Satin","PIECE",{"$f":"IF(T_NAV_AU[[#This Row],[CustomPricing]]<>\"\",T_NAV_AU[[#This Row],[CustomPricing]],T_NAV_AU[[#This Row],[AUD_Original]])","v":55},55,null,1,100]
[null,"MT02-0101-050004","N",{"$f":"IF(AND(OR(T_NAV_AU[[#This Row],[ColourOptions]]=\"M\",T_NAV_AU[[#This Row],[ColourOptions]]=\"Y\"),MID(T_NAV_AU[[#This Row],[No.]],11,3)=\"069\"),REPLACE(T_NAV_AU[[#This Row],[No.]],11,3,\"xxx\"),T_NAV_AU[[#This Row],[No.]])","v":"MT02-0101-050004"},"MT02-0101-050004","AUTOMATE | PUSH 5 Channel Remote | Black","050","Black, Satin",{"$f":"IF(T_NAV_AU[[#This Row],[ColourOptions]]=\"Y\",\"Refer catalogue\", T_NAV_AU[[#This Row],[Colour Description]])","v":"Black, Satin"},"Black, Satin","PIECE",{"$f":"IF(T_NAV_AU[[#This Row],[CustomPricing]]<>\"\",T_NAV_AU[[#This Row],[CustomPricing]],T_NAV_AU[[#This Row],[AUD_Original]])","v":60.06},60.06,null,1,100]
[null,"MT02-0101-050008","N",{"$f":"IF(AND(OR(T_NAV_AU[[#This Row],[ColourOptions]]=\"M\",T_NAV_AU[[#This Row],[ColourOptions]]=\"Y\"),MID(T_NAV_AU[[#This Row],[No.]],11,3)=\"069\"),REPLACE(T_NAV_AU[[#This Row],[No.]],11,3,\"xxx\"),T_NAV_AU[[#This Row],[No.]])","v":"MT02-0101-050008"},"MT02-0101-050008","AUTOMATE | PUSH 15 Channel Remote | Black","050","Black, Satin",{"$f":"IF(T_NAV_AU[[#This Row],[ColourOptions]]=\"Y\",\"Refer catalogue\", T_NAV_AU[[#This Row],[Colour Description]])","v":"Black, Satin"},"Black, Satin","PIECE",{"$f":"IF(T_NAV_AU[[#This Row],[CustomPricing]]<>\"\",T_NAV_AU[[#This Row],[CustomPricing]],T_NAV_AU[[#This Row],[AUD_Original]])","v":67.05},67.05,null,1,100]
[null,"MT02-0101-067010","N",{"$f":"IF(AND(OR(T_NAV_AU[[#This Row],[ColourOptions]]=\"M\",T_NAV_AU[[#This Row],[ColourOptions]]=\"Y\"),MID(T_NAV_AU[[#This Row],[No.]],11,3)=\"069\"),REPLACE(T_NAV_AU[[#This Row],[No.]],11,3,\"xxx\"),T_NAV_AU[[#This Row],[No.]])","v":"MT02-0101-067010"},"MT02-0101-067010","AUTOMATE | PUSH 1 Channel Remote | White","067","White / Platinum",{"$f":"IF(T_NAV_AU[[#This Row],[ColourOptions]]=\"Y\",\"Refer catalogue\", T_NAV_AU[[#This Row],[Colour Description]])","v":"White / Platinum"},"White / Platinum","PIECE",{"$f":"IF(T_NAV_AU[[#This Row],[CustomPricing]]<>\"\",T_NAV_AU[[#This Row],[CustomPricing]],T_NAV_AU[[#This Row],[AUD_Original]])","v":55},55,null,1,100]
[null,"MT02-0101-067004","N",{"$f":"IF(AND(OR(T_NAV_AU[[#This Row],[ColourOptions]]=\"M\",T_NAV_AU[[#This Row],[ColourOptions]]=\"Y\"),MID(T_NAV_AU[[#This Row],[No.]],11,3)=\"069\"),REPLACE(T_NAV_AU[[#This Row],[No.]],11,3,\"xxx\"),T_NAV_AU[[#This Row],[No.]])","v":"MT02-0101-067004"},"MT02-0101-067004","AUTOMATE | PUSH 5 Channel Remote | White","067","White / Platinum",{"$f":"IF(T_NAV_AU[[#This Row],[ColourOptions]]=\"Y\",\"Refer catalogue\", T_NAV_AU[[#This Row],[Colour Description]])","v":"White / Platinum"},"White / Platinum","PIECE",{"$f":"IF(T_NAV_AU[[#This Row],[CustomPricing]]<>\"\",T_NAV_AU[[#This Row],[CustomPricing]],T_NAV_AU[[#This Row],[AUD_Original]])","v":60.06},60.06,null,1,100]
[null,"MT02-0101-067008","N",{"$f":"IF(AND(OR(T_NAV_AU[[#This Row],[ColourOptions]]=\"M\",T_NAV_AU[[#This Row],[ColourOptions]]=\"Y\"),MID(T_NAV_AU[[#This Row],[No.]],11,3)=\"069\"),REPLACE(T_NAV_AU[[#This Row],[No.]],11,3,\"xxx\"),T_NAV_AU[[#This Row],[No.]])","v":"MT02-0101-067008"},"MT02-0101-067008","AUTOMATE | PUSH 15 Channel Remote | White","067","White / Platinum",{"$f":"IF(T_NAV_AU[[#This Row],[ColourOptions]]=\"Y\",\"Refer catalogue\", T_NAV_AU[[#This Row],[Colour Description]])","v":"White / Platinum"},"White / Platinum","PIECE",{"$f":"IF(T_NAV_AU[[#This Row],[CustomPricing]]<>\"\",T_NAV_AU[[#This Row],[CustomPricing]],T_NAV_AU[[#This Row],[AUD_Original]])","v":67.05},67.05,null,1,100]
[null,"MT02-0301-072001","N",{"$f":"IF(AND(OR(T_NAV_AU[[#This Row],[ColourOptions]]=\"M\",T_NAV_AU[[#This Row],[ColourOptions]]=\"Y\"),MID(T_NAV_AU[[#This Row],[No.]],11,3)=\"069\"),REPLACE(T_NAV_AU[[#This Row],[No.]],11,3,\"xxx\"),T_NAV_AU[[#This Row],[No.]])","v":"MT02-0301-072001"},"MT02-0301-072001","AUTOMATE | Solar Powered Sun & Wind Sensor","072","Vivid White",{"$f":"IF(T_NAV_AU[[#This Row],[ColourOptions]]=\"Y\",\"Refer catalogue\", T_NAV_AU[[#This Row],[Colour Description]])","v":"Vivid White"},"Vivid White","PIECE",{"$f":"IF(T_NAV_AU[[#This Row],[CustomPricing]]<>\"\",T_NAV_AU[[#This Row],[CustomPricing]],T_NAV_AU[[#This Row],[AUD_Original]])","v":183.46},183.46,null,1,10]
[null,"MT02-0301-072003","N",{"$f":"IF(AND(OR(T_NAV_AU[[#This Row],[ColourOptions]]=\"M\",T_NAV_AU[[#This Row],[ColourOptions]]=\"Y\"),MID(T_NAV_AU[[#This Row],[No.]],11,3)=\"069\"),REPLACE(T_NAV_AU[[#This Row],[No.]],11,3,\"xxx\"),T_NAV_AU[[#This Row],[No.]])","v":"MT02-0301-072003"},"MT02-0301-072003","AUTOMATE | 240V Powered Sun & Wind Sensor\t","072","Vivid White",{"$f":"IF(T_NAV_AU[[#This Row],[ColourOptions]]=\"Y\",\"Refer catalogue\", T_NAV_AU[[#This Row],[Colour Description]])","v":"Vivid White"},"Vivid White","PIECE",{"$f":"IF(T_NAV_AU[[#This Row],[CustomPricing]]<>\"\",T_NAV_AU[[#This Row],[CustomPricing]],T_NAV_AU[[#This Row],[AUD_Original]])","v":183.46},183.46]
[null,"MT03-0106-050005","N",{"$f":"IF(AND(OR(T_NAV_AU[[#This Row],[ColourOptions]]=\"M\",T_NAV_AU[[#This Row],[ColourOptions]]=\"Y\"),MID(T_NAV_AU[[#This Row],[No.]],11,3)=\"069\"),REPLACE(T_NAV_AU[[#This Row],[No.]],11,3,\"xxx\"),T_NAV_AU[[#This Row],[No.]])","v":"MT03-0106-050005"},"MT03-0106-050005","Crown 45mm Motor to 78mm Tube w/ Screws","050","Black, Satin",{"$f":"IF(T_NAV_AU[[#This Row],[ColourOptions]]=\"Y\",\"Refer catalogue\", T_NAV_AU[[#This Row],[Colour Description]])","v":"Black, Satin"},"Black, Satin","PIECE",{"$f":"IF(T_NAV_AU[[#This Row],[CustomPricing]]<>\"\",T_NAV_AU[[#This Row],[CustomPricing]],T_NAV_AU[[#This Row],[AUD_Original]])","v":4.1399999999999997},4.1399999999999997]
[null,"MT03-0106-050006","N",{"$f":"IF(AND(OR(T_NAV_AU[[#This Row],[ColourOptions]]=\"M\",T_NAV_AU[[#This Row],[ColourOptions]]=\"Y\"),MID(T_NAV_AU[[#This Row],[No.]],11,3)=\"069\"),REPLACE(T_NAV_AU[[#This Row],[No.]],11,3,\"xxx\"),T_NAV_AU[[#This Row],[No.]])","v":"MT03-0106-050006"},"MT03-0106-050006","Drive 78mm - Single Piece","050","Black, Satin",{"$f":"IF(T_NAV_AU[[#This Row],[ColourOptions]]=\"Y\",\"Refer catalogue\", T_NAV_AU[[#This Row],[Colour Description]])","v":"Black, Satin"},"Black, Satin","PIECE",{"$f":"IF(T_NAV_AU[[#This Row],[CustomPricing]]<>\"\",T_NAV_AU[[#This Row],[CustomPricing]],T_NAV_AU[[#This Row],[AUD_Original]])","v":4.62},4.62]
[null,"MT03-0198-025008","N",{"$f":"IF(AND(OR(T_NAV_AU[[#This Row],[ColourOptions]]=\"M\",T_NAV_AU[[#This Row],[ColourOptions]]=\"Y\"),MID(T_NAV_AU[[#This Row],[No.]],11,3)=\"069\"),REPLACE(T_NAV_AU[[#This Row],[No.]],11,3,\"xxx\"),T_NAV_AU[[#This Row],[No.]])","v":"MT03-0198-025008"},"MT03-0198-025008","Drive AX Motor Adaptor kit for Extreme","025","Silver ZINC Plated",{"$f":"IF(T_NAV_AU[[#This Row],[ColourOptions]]=\"Y\",\"Refer catalogue\", T_NAV_AU[[#This Row],[Colour Description]])","v":"Silver ZINC Plated"},"Silver ZINC Plated","SET",{"$f":"IF(T_NAV_AU[[#This Row],[CustomPricing]]<>\"\",T_NAV_AU[[#This Row],[CustomPricing]],T_NAV_AU[[#This Row],[AUD_Original]])","v":7.64},7.64,null,1,100]
[null,"RB05-9101-050100","N",{"$f":"IF(AND(OR(T_NAV_AU[[#This Row],[ColourOptions]]=\"M\",T_NAV_AU[[#This Row],[ColourOptions]]=\"Y\"),MID(T_NAV_AU[[#This Row],[No.]],11,3)=\"069\"),REPLACE(T_NAV_AU[[#This Row],[No.]],11,3,\"xxx\"),T_NAV_AU[[#This Row],[No.]])","v":"RB05-9101-050100"},"RB05-9101-050100","Crank Control Arm | 100cm - Black","050","Black, Satin",{"$f":"IF(T_NAV_AU[[#This Row],[ColourOptions]]=\"Y\",\"Refer catalogue\", T_NAV_AU[[#This Row],[Colour Description]])","v":"Black, Satin"},"Black, Satin","PIECE",{"$f":"IF(T_NAV_AU[[#This Row],[CustomPricing]]<>\"\",T_NAV_AU[[#This Row],[CustomPricing]],T_NAV_AU[[#This Row],[AUD_Original]])","v":54.41},54.41]
[null,"RB05-9101-050150","N",{"$f":"IF(AND(OR(T_NAV_AU[[#This Row],[ColourOptions]]=\"M\",T_NAV_AU[[#This Row],[ColourOptions]]=\"Y\"),MID(T_NAV_AU[[#This Row],[No.]],11,3)=\"069\"),REPLACE(T_NAV_AU[[#This Row],[No.]],11,3,\"xxx\"),T_NAV_AU[[#This Row],[No.]])","v":"RB05-9101-050150"},"RB05-9101-050150","Crank Control Arm | 150cm - Black","050","Black, Satin",{"$f":"IF(T_NAV_AU[[#This Row],[ColourOptions]]=\"Y\",\"Refer catalogue\", T_NAV_AU[[#This Row],[Colour Description]])","v":"Black, Satin"},"Black, Satin","PIECE",{"$f":"IF(T_NAV_AU[[#This Row],[CustomPricing]]<>\"\",T_NAV_AU[[#This Row],[CustomPricing]],T_NAV_AU[[#This Row],[AUD_Original]])","v":58.95},58.95]
[null,"RB05-9101-050200","N",{"$f":"IF(AND(OR(T_NAV_AU[[#This Row],[ColourOptions]]=\"M\",T_NAV_AU[[#This Row],[ColourOptions]]=\"Y\"),MID(T_NAV_AU[[#This Row],[No.]],11,3)=\"069\"),REPLACE(T_NAV_AU[[#This Row],[No.]],11,3,\"xxx\"),T_NAV_AU[[#This Row],[No.]])","v":"RB05-9101-050200"},"RB05-9101-050200","Crank Control Arm | 200cm - Black","050","Black, Satin",{"$f":"IF(T_NAV_AU[[#This Row],[ColourOptions]]=\"Y\",\"Refer catalogue\", T_NAV_AU[[#This Row],[Colour Description]])","v":"Black, Satin"},"Black, Satin","PIECE",{"$f":"IF(T_NAV_AU[[#This Row],[CustomPricing]]<>\"\",T_NAV_AU[[#This Row],[CustomPricing]],T_NAV_AU[[#This Row],[AUD_Original]])","v":65.75},65.75]
[null,"RB05-9101-340100","N",{"$f":"IF(AND(OR(T_NAV_AU[[#This Row],[ColourOptions]]=\"M\",T_NAV_AU[[#This Row],[ColourOptions]]=\"Y\"),MID(T_NAV_AU[[#This Row],[No.]],11,3)=\"069\"),REPLACE(T_NAV_AU[[#This Row],[No.]],11,3,\"xxx\"),T_NAV_AU[[#This Row],[No.]])","v":"RB05-9101-340100"},"RB05-9101-340100","Crank Control Arm | 100cm - Grey","340","GREY",{"$f":"IF(T_NAV_AU[[#This Row],[ColourOptions]]=\"Y\",\"Refer catalogue\", T_NAV_AU[[#This Row],[Colour Description]])","v":"GREY"},"Grey","PIECE",{"$f":"IF(T_NAV_AU[[#This Row],[CustomPricing]]<>\"\",T_NAV_AU[[#This Row],[CustomPricing]],T_NAV_AU[[#This Row],[AUD_Original]])","v":44.64},44.64,null,5,100]
[null,"RB05-9101-340150","N",{"$f":"IF(AND(OR(T_NAV_AU[[#This Row],[ColourOptions]]=\"M\",T_NAV_AU[[#This Row],[ColourOptions]]=\"Y\"),MID(T_NAV_AU[[#This Row],[No.]],11,3)=\"069\"),REPLACE(T_NAV_AU[[#This Row],[No.]],11,3,\"xxx\"),T_NAV_AU[[#This Row],[No.]])","v":"RB05-9101-340150"},"RB05-9101-340150","Crank Control Arm | 150cm - Grey","340","GREY",{"$f":"IF(T_NAV_AU[[#This Row],[ColourOptions]]=\"Y\",\"Refer catalogue\", T_NAV_AU[[#This Row],[Colour Description]])","v":"GREY"},"Grey","PIECE",{"$f":"IF(T_NAV_AU[[#This Row],[CustomPricing]]<>\"\",T_NAV_AU[[#This Row],[CustomPricing]],T_NAV_AU[[#This Row],[AUD_Original]])","v":48.8},48.8,null,5,100]
[null,"RB05-9101-340200","N",{"$f":"IF(AND(OR(T_NAV_AU[[#This Row],[ColourOptions]]=\"M\",T_NAV_AU[[#This Row],[ColourOptions]]=\"Y\"),MID(T_NAV_AU[[#This Row],[No.]],11,3)=\"069\"),REPLACE(T_NAV_AU[[#This Row],[No.]],11,3,\"xxx\"),T_NAV_AU[[#This Row],[No.]])","v":"RB05-9101-340200"},"RB05-9101-340200","Crank Control Arm | 200cm - Grey","340","GREY",{"$f":"IF(T_NAV_AU[[#This Row],[ColourOptions]]=\"Y\",\"Refer catalogue\", T_NAV_AU[[#This Row],[Colour Description]])","v":"GREY"},"Grey","PIECE",{"$f":"IF(T_NAV_AU[[#This Row],[CustomPricing]]<>\"\",T_NAV_AU[[#This Row],[CustomPricing]],T_NAV_AU[[#This Row],[AUD_Original]])","v":55.83},55.83,null,5,100]
[null,"RB05-9102-050000","N",{"$f":"IF(AND(OR(T_NAV_AU[[#This Row],[ColourOptions]]=\"M\",T_NAV_AU[[#This Row],[ColourOptions]]=\"Y\"),MID(T_NAV_AU[[#This Row],[No.]],11,3)=\"069\"),REPLACE(T_NAV_AU[[#This Row],[No.]],11,3,\"xxx\"),T_NAV_AU[[#This Row],[No.]])","v":"RB05-9102-050000"},"RB05-9102-xxx000","Crank Arm Support","050","Black",{"$f":"IF(T_NAV_AU[[#This Row],[ColourOptions]]=\"Y\",\"Refer catalogue\", T_NAV_AU[[#This Row],[Colour Description]])","v":"Black"},"Black","PIECE",{"$f":"IF(T_NAV_AU[[#This Row],[CustomPricing]]<>\"\",T_NAV_AU[[#This Row],[CustomPricing]],T_NAV_AU[[#This Row],[AUD_Original]])","v":3.37},3.37,null,5,100]
[null,"RB05-9102-340000","N",{"$f":"IF(AND(OR(T_NAV_AU[[#This Row],[ColourOptions]]=\"M\",T_NAV_AU[[#This Row],[ColourOptions]]=\"Y\"),MID(T_NAV_AU[[#This Row],[No.]],11,3)=\"069\"),REPLACE(T_NAV_AU[[#This Row],[No.]],11,3,\"xxx\"),T_NAV_AU[[#This Row],[No.]])","v":"RB05-9102-340000"},"RB05-9102-xxx000","Crank Arm Support","340","GREY",{"$f":"IF(T_NAV_AU[[#This Row],[ColourOptions]]=\"Y\",\"Refer catalogue\", T_NAV_AU[[#This Row],[Colour Description]])","v":"GREY"},"Grey","PIECE",{"$f":"IF(T_NAV_AU[[#This Row],[CustomPricing]]<>\"\",T_NAV_AU[[#This Row],[CustomPricing]],T_NAV_AU[[#This Row],[AUD_Original]])","v":3.37},3.37,null,5,100]
[null,"RB56-0762-014050","N",{"$f":"IF(AND(OR(T_NAV_AU[[#This Row],[ColourOptions]]=\"M\",T_NAV_AU[[#This Row],[ColourOptions]]=\"Y\"),MID(T_NAV_AU[[#This Row],[No.]],11,3)=\"069\"),REPLACE(T_NAV_AU[[#This Row],[No.]],11,3,\"xxx\"),T_NAV_AU[[#This Row],[No.]])","v":"RB56-0762-014050"},"RB56-0762-014050","Univ Zamak Adap & Lock Ring & M8 x 16mm S/Screws","014","Cast Silver",{"$f":"IF(T_NAV_AU[[#This Row],[ColourOptions]]=\"Y\",\"Refer catalogue\", T_NAV_AU[[#This Row],[Colour Description]])","v":"Cast Silver"},"Cast Silver","SET",{"$f":"IF(T_NAV_AU[[#This Row],[CustomPricing]]<>\"\",T_NAV_AU[[#This Row],[CustomPricing]],T_NAV_AU[[#This Row],[AUD_Original]])","v":45.64},45.64,null,1,20]
[null,"RB56-0763-014050","N",{"$f":"IF(AND(OR(T_NAV_AU[[#This Row],[ColourOptions]]=\"M\",T_NAV_AU[[#This Row],[ColourOptions]]=\"Y\"),MID(T_NAV_AU[[#This Row],[No.]],11,3)=\"069\"),REPLACE(T_NAV_AU[[#This Row],[No.]],11,3,\"xxx\"),T_NAV_AU[[#This Row],[No.]])","v":"RB56-0763-014050"},"RB56-0763-014050","Univ Zamak Adap & Lock Ring & M6 x 10mm S/Screws","014","Cast Silver",{"$f":"IF(T_NAV_AU[[#This Row],[ColourOptions]]=\"Y\",\"Refer catalogue\", T_NAV_AU[[#This Row],[Colour Description]])","v":"Cast Silver"},"Cast Silver","SET",{"$f":"IF(T_NAV_AU[[#This Row],[CustomPricing]]<>\"\",T_NAV_AU[[#This Row],[CustomPricing]],T_NAV_AU[[#This Row],[AUD_Original]])","v":45.64},45.64,null,1,20]
[null,"RB56-0764-014050","N",{"$f":"IF(AND(OR(T_NAV_AU[[#This Row],[ColourOptions]]=\"M\",T_NAV_AU[[#This Row],[ColourOptions]]=\"Y\"),MID(T_NAV_AU[[#This Row],[No.]],11,3)=\"069\"),REPLACE(T_NAV_AU[[#This Row],[No.]],11,3,\"xxx\"),T_NAV_AU[[#This Row],[No.]])","v":"RB56-0764-014050"},"RB56-0764-014050","Univ Zamak Adap & Lock Ring & M6 x 12mm S/Screws","014","Cast Silver",{"$f":"IF(T_NAV_AU[[#This Row],[ColourOptions]]=\"Y\",\"Refer catalogue\", T_NAV_AU[[#This Row],[Colour Description]])","v":"Cast Silver"},"Cast Silver","SET",{"$f":"IF(T_NAV_AU[[#This Row],[CustomPricing]]<>\"\",T_NAV_AU[[#This Row],[CustomPricing]],T_NAV_AU[[#This Row],[AUD_Original]])","v":45.64},45.64,null,1,20]
[null,"RB80-0202-073100","N",{"$f":"IF(AND(OR(T_NAV_AU[[#This Row],[ColourOptions]]=\"M\",T_NAV_AU[[#This Row],[ColourOptions]]=\"Y\"),MID(T_NAV_AU[[#This Row],[No.]],11,3)=\"069\"),REPLACE(T_NAV_AU[[#This Row],[No.]],11,3,\"xxx\"),T_NAV_AU[[#This Row],[No.]])","v":"RB80-0202-073100"},"RB80-0202-073100","Extreme Bearing Idler | Universal | S100","073","Grey Cloud",{"$f":"IF(T_NAV_AU[[#This Row],[ColourOptions]]=\"Y\",\"Refer catalogue\", T_NAV_AU[[#This Row],[Colour Description]])","v":"Grey Cloud"},"Grey Cloud","PIECE",{"$f":"IF(T_NAV_AU[[#This Row],[CustomPricing]]<>\"\",T_NAV_AU[[#This Row],[CustomPricing]],T_NAV_AU[[#This Row],[AUD_Original]])","v":91.66},91.66,null,1,12]
[null,"RB80-0301-073100","N",{"$f":"IF(AND(OR(T_NAV_AU[[#This Row],[ColourOptions]]=\"M\",T_NAV_AU[[#This Row],[ColourOptions]]=\"Y\"),MID(T_NAV_AU[[#This Row],[No.]],11,3)=\"069\"),REPLACE(T_NAV_AU[[#This Row],[No.]],11,3,\"xxx\"),T_NAV_AU[[#This Row],[No.]])","v":"RB80-0301-073100"},"RB80-0301-073100","Extreme Universal Drive Wheel | S100","073","Grey Cloud",{"$f":"IF(T_NAV_AU[[#This Row],[ColourOptions]]=\"Y\",\"Refer catalogue\", T_NAV_AU[[#This Row],[Colour Description]])","v":"Grey Cloud"},"Grey Cloud","PIECE",{"$f":"IF(T_NAV_AU[[#This Row],[CustomPricing]]<>\"\",T_NAV_AU[[#This Row],[CustomPricing]],T_NAV_AU[[#This Row],[AUD_Original]])","v":15.37},15.37,null,1,8]
[null,"RB80-0411-025050","N",{"$f":"IF(AND(OR(T_NAV_AU[[#This Row],[ColourOptions]]=\"M\",T_NAV_AU[[#This Row],[ColourOptions]]=\"Y\"),MID(T_NAV_AU[[#This Row],[No.]],11,3)=\"069\"),REPLACE(T_NAV_AU[[#This Row],[No.]],11,3,\"xxx\"),T_NAV_AU[[#This Row],[No.]])","v":"RB80-0411-025050"},"RB80-0411-025050","Zamak Adaptor Spacer","025","Silver ZINC Plated",{"$f":"IF(T_NAV_AU[[#This Row],[ColourOptions]]=\"Y\",\"Refer catalogue\", T_NAV_AU[[#This Row],[Colour Description]])","v":"Silver ZINC Plated"},"Silver ZINC Plated","PIECE",{"$f":"IF(T_NAV_AU[[#This Row],[CustomPricing]]<>\"\",T_NAV_AU[[#This Row],[CustomPricing]],T_NAV_AU[[#This Row],[AUD_Original]])","v":16.75},16.75,null,1,20]
[null,"RB80-0476-025100","N",{"$f":"IF(AND(OR(T_NAV_AU[[#This Row],[ColourOptions]]=\"M\",T_NAV_AU[[#This Row],[ColourOptions]]=\"Y\"),MID(T_NAV_AU[[#This Row],[No.]],11,3)=\"069\"),REPLACE(T_NAV_AU[[#This Row],[No.]],11,3,\"xxx\"),T_NAV_AU[[#This Row],[No.]])","v":"RB80-0476-025100"},"RB80-0476-025100","MOTOR Ext Wire Guide Brkt. Adap Kit - Top/Face Fix","025","Silver ZINC Plated",{"$f":"IF(T_NAV_AU[[#This Row],[ColourOptions]]=\"Y\",\"Refer catalogue\", T_NAV_AU[[#This Row],[Colour Description]])","v":"Silver ZINC Plated"},"Silver ZINC Plated","KIT",{"$f":"IF(T_NAV_AU[[#This Row],[CustomPricing]]<>\"\",T_NAV_AU[[#This Row],[CustomPricing]],T_NAV_AU[[#This Row],[AUD_Original]])","v":51.66},51.66,null,1,20]
[null,"RB80-0476-069100","Y",{"$f":"IF(AND(OR(T_NAV_AU[[#This Row],[ColourOptions]]=\"M\",T_NAV_AU[[#This Row],[ColourOptions]]=\"Y\"),MID(T_NAV_AU[[#This Row],[No.]],11,3)=\"069\"),REPLACE(T_NAV_AU[[#This Row],[No.]],11,3,\"xxx\"),T_NAV_AU[[#This Row],[No.]])","v":"RB80-0476-xxx100"},"RB80-0476-xxx100","MOTOR Ext Wire Guide Brkt. Adap Kit - Top/Face Fix","069","Pure White",{"$f":"IF(T_NAV_AU[[#This Row],[ColourOptions]]=\"Y\",\"Refer catalogue\", T_NAV_AU[[#This Row],[Colour Description]])","v":"Refer catalogue"},"Refer catalogue","KIT",{"$f":"IF(T_NAV_AU[[#This Row],[CustomPricing]]<>\"\",T_NAV_AU[[#This Row],[CustomPricing]],T_NAV_AU[[#This Row],[AUD_Original]])","v":58.69},58.69,null,1,20]
[null,"RB80-0478-025100","N",{"$f":"IF(AND(OR(T_NAV_AU[[#This Row],[ColourOptions]]=\"M\",T_NAV_AU[[#This Row],[ColourOptions]]=\"Y\"),MID(T_NAV_AU[[#This Row],[No.]],11,3)=\"069\"),REPLACE(T_NAV_AU[[#This Row],[No.]],11,3,\"xxx\"),T_NAV_AU[[#This Row],[No.]])","v":"RB80-0478-025100"},"RB80-0478-025100","Motor Extreme Recess Fix Bracket Kit | S100","025","Silver ZINC Plated",{"$f":"IF(T_NAV_AU[[#This Row],[ColourOptions]]=\"Y\",\"Refer catalogue\", T_NAV_AU[[#This Row],[Colour Description]])","v":"Silver ZINC Plated"},"Silver ZINC Plated","KIT",{"$f":"IF(T_NAV_AU[[#This Row],[CustomPricing]]<>\"\",T_NAV_AU[[#This Row],[CustomPricing]],T_NAV_AU[[#This Row],[AUD_Original]])","v":94.04},94.04,null,1,10]
[null,"RB80-0478-069100","N",{"$f":"IF(AND(OR(T_NAV_AU[[#This Row],[ColourOptions]]=\"M\",T_NAV_AU[[#This Row],[ColourOptions]]=\"Y\"),MID(T_NAV_AU[[#This Row],[No.]],11,3)=\"069\"),REPLACE(T_NAV_AU[[#This Row],[No.]],11,3,\"xxx\"),T_NAV_AU[[#This Row],[No.]])","v":"RB80-0478-069100"},"RB80-0478-069100","Motor Extreme Recess Fix Bracket Kit | S100","069","Pure White",{"$f":"IF(T_NAV_AU[[#This Row],[ColourOptions]]=\"Y\",\"Refer catalogue\", T_NAV_AU[[#This Row],[Colour Description]])","v":"Pure White"},"Pure White","KIT",{"$f":"IF(T_NAV_AU[[#This Row],[CustomPricing]]<>\"\",T_NAV_AU[[#This Row],[CustomPricing]],T_NAV_AU[[#This Row],[AUD_Original]])","v":110.7},110.7,null,1,10]
[null,"RB80-0481-012000","N",{"$f":"IF(AND(OR(T_NAV_AU[[#This Row],[ColourOptions]]=\"M\",T_NAV_AU[[#This Row],[ColourOptions]]=\"Y\"),MID(T_NAV_AU[[#This Row],[No.]],11,3)=\"069\"),REPLACE(T_NAV_AU[[#This Row],[No.]],11,3,\"xxx\"),T_NAV_AU[[#This Row],[No.]])","v":"RB80-0481-012000"},"RB80-0481-012000","Box 190 Wire Guide Adaptor Plate with Screws","012","S/S 304, Satin",{"$f":"IF(T_NAV_AU[[#This Row],[ColourOptions]]=\"Y\",\"Refer catalogue\", T_NAV_AU[[#This Row],[Colour Description]])","v":"S/S 304, Satin"},"S/S 304, Satin","SET",{"$f":"IF(T_NAV_AU[[#This Row],[CustomPricing]]<>\"\",T_NAV_AU[[#This Row],[CustomPricing]],T_NAV_AU[[#This Row],[AUD_Original]])","v":14.28},14.28,null,2,100]
[null,"RB80-0501-050110","N",{"$f":"IF(AND(OR(T_NAV_AU[[#This Row],[ColourOptions]]=\"M\",T_NAV_AU[[#This Row],[ColourOptions]]=\"Y\"),MID(T_NAV_AU[[#This Row],[No.]],11,3)=\"069\"),REPLACE(T_NAV_AU[[#This Row],[No.]],11,3,\"xxx\"),T_NAV_AU[[#This Row],[No.]])","v":"RB80-0501-050110"},"RB80-0501-050110","Extreme Zipscreen Reducer Set + Screws | 110mm","050","Black, Satin",{"$f":"IF(T_NAV_AU[[#This Row],[ColourOptions]]=\"Y\",\"Refer catalogue\", T_NAV_AU[[#This Row],[Colour Description]])","v":"Black, Satin"},"Black, Satin","SET",{"$f":"IF(T_NAV_AU[[#This Row],[CustomPricing]]<>\"\",T_NAV_AU[[#This Row],[CustomPricing]],T_NAV_AU[[#This Row],[AUD_Original]])","v":9.2899999999999991},9.2899999999999991,null,2,100]
[null,"RB80-0501-050130","N",{"$f":"IF(AND(OR(T_NAV_AU[[#This Row],[ColourOptions]]=\"M\",T_NAV_AU[[#This Row],[ColourOptions]]=\"Y\"),MID(T_NAV_AU[[#This Row],[No.]],11,3)=\"069\"),REPLACE(T_NAV_AU[[#This Row],[No.]],11,3,\"xxx\"),T_NAV_AU[[#This Row],[No.]])","v":"RB80-0501-050130"},"RB80-0501-050130","Extreme Zipscreen Reducer Set + Screws | 130mm","050","Black, Satin",{"$f":"IF(T_NAV_AU[[#This Row],[ColourOptions]]=\"Y\",\"Refer catalogue\", T_NAV_AU[[#This Row],[Colour Description]])","v":"Black, Satin"},"Black, Satin","SET",{"$f":"IF(T_NAV_AU[[#This Row],[CustomPricing]]<>\"\",T_NAV_AU[[#This Row],[CustomPricing]],T_NAV_AU[[#This Row],[AUD_Original]])","v":11.28},11.28,null,2,100]
[null,"RB80-0601-073110","N",{"$f":"IF(AND(OR(T_NAV_AU[[#This Row],[ColourOptions]]=\"M\",T_NAV_AU[[#This Row],[ColourOptions]]=\"Y\"),MID(T_NAV_AU[[#This Row],[No.]],11,3)=\"069\"),REPLACE(T_NAV_AU[[#This Row],[No.]],11,3,\"xxx\"),T_NAV_AU[[#This Row],[No.]])","v":"RB80-0601-073110"},"RB80-0601-073110","Extreme W/G Tube End Plate Set + Screws | 110mm","073","Grey Cloud",{"$f":"IF(T_NAV_AU[[#This Row],[ColourOptions]]=\"Y\",\"Refer catalogue\", T_NAV_AU[[#This Row],[Colour Description]])","v":"Grey Cloud"},"Grey Cloud","SET",{"$f":"IF(T_NAV_AU[[#This Row],[CustomPricing]]<>\"\",T_NAV_AU[[#This Row],[CustomPricing]],T_NAV_AU[[#This Row],[AUD_Original]])","v":5.58},5.58,null,1,40]
[null,"RB80-0601-073130","N",{"$f":"IF(AND(OR(T_NAV_AU[[#This Row],[ColourOptions]]=\"M\",T_NAV_AU[[#This Row],[ColourOptions]]=\"Y\"),MID(T_NAV_AU[[#This Row],[No.]],11,3)=\"069\"),REPLACE(T_NAV_AU[[#This Row],[No.]],11,3,\"xxx\"),T_NAV_AU[[#This Row],[No.]])","v":"RB80-0601-073130"},"RB80-0601-073130","Extreme W/G Tube End Plate Set + Screws | 130mm","073","Grey Cloud",{"$f":"IF(T_NAV_AU[[#This Row],[ColourOptions]]=\"Y\",\"Refer catalogue\", T_NAV_AU[[#This Row],[Colour Description]])","v":"Grey Cloud"},"Grey Cloud","SET",{"$f":"IF(T_NAV_AU[[#This Row],[CustomPricing]]<>\"\",T_NAV_AU[[#This Row],[CustomPricing]],T_NAV_AU[[#This Row],[AUD_Original]])","v":8.36},8.36,null,1,40]
[null,"RB80-0601-073160","N",{"$f":"IF(AND(OR(T_NAV_AU[[#This Row],[ColourOptions]]=\"M\",T_NAV_AU[[#This Row],[ColourOptions]]=\"Y\"),MID(T_NAV_AU[[#This Row],[No.]],11,3)=\"069\"),REPLACE(T_NAV_AU[[#This Row],[No.]],11,3,\"xxx\"),T_NAV_AU[[#This Row],[No.]])","v":"RB80-0601-073160"},"RB80-0601-073160","Extreme W/G Tube End Plate Set + Screws | 160mm","073","Grey Cloud",{"$f":"IF(T_NAV_AU[[#This Row],[ColourOptions]]=\"Y\",\"Refer catalogue\", T_NAV_AU[[#This Row],[Colour Description]])","v":"Grey Cloud"},"Grey Cloud","SET",{"$f":"IF(T_NAV_AU[[#This Row],[CustomPricing]]<>\"\",T_NAV_AU[[#This Row],[CustomPricing]],T_NAV_AU[[#This Row],[AUD_Original]])","v":11.14},11.14,null,1,40]
[null,"RB80-0701-073100","N",{"$f":"IF(AND(OR(T_NAV_AU[[#This Row],[ColourOptions]]=\"M\",T_NAV_AU[[#This Row],[ColourOptions]]=\"Y\"),MID(T_NAV_AU[[#This Row],[No.]],11,3)=\"069\"),REPLACE(T_NAV_AU[[#This Row],[No.]],11,3,\"xxx\"),T_NAV_AU[[#This Row],[No.]])","v":"RB80-0701-073100"},"RB80-0701-073100","Extreme Universal Crown Wheel | S100","073","Grey Cloud",{"$f":"IF(T_NAV_AU[[#This Row],[ColourOptions]]=\"Y\",\"Refer catalogue\", T_NAV_AU[[#This Row],[Colour Description]])","v":"Grey Cloud"},"Grey Cloud","PIECE",{"$f":"IF(T_NAV_AU[[#This Row],[CustomPricing]]<>\"\",T_NAV_AU[[#This Row],[CustomPricing]],T_NAV_AU[[#This Row],[AUD_Original]])","v":28.62},28.62,null,1,12]
[null,"RB80-1201-000109","N",{"$f":"IF(AND(OR(T_NAV_AU[[#This Row],[ColourOptions]]=\"M\",T_NAV_AU[[#This Row],[ColourOptions]]=\"Y\"),MID(T_NAV_AU[[#This Row],[No.]],11,3)=\"069\"),REPLACE(T_NAV_AU[[#This Row],[No.]],11,3,\"xxx\"),T_NAV_AU[[#This Row],[No.]])","v":"RB80-1201-000109"},"RB80-1201-000109","Extreme Top/Face Fix Brkt Set 2pc + Adapter | S100","000","Mill Finish",{"$f":"IF(T_NAV_AU[[#This Row],[ColourOptions]]=\"Y\",\"Refer catalogue\", T_NAV_AU[[#This Row],[Colour Description]])","v":"Mill Finish"},"Mill Finish","SET",{"$f":"IF(T_NAV_AU[[#This Row],[CustomPricing]]<>\"\",T_NAV_AU[[#This Row],[CustomPricing]],T_NAV_AU[[#This Row],[AUD_Original]])","v":94.09},94.09,null,1,12]
[null,"RB80-1201-069109","Y",{"$f":"IF(AND(OR(T_NAV_AU[[#This Row],[ColourOptions]]=\"M\",T_NAV_AU[[#This Row],[ColourOptions]]=\"Y\"),MID(T_NAV_AU[[#This Row],[No.]],11,3)=\"069\"),REPLACE(T_NAV_AU[[#This Row],[No.]],11,3,\"xxx\"),T_NAV_AU[[#This Row],[No.]])","v":"RB80-1201-xxx109"},"RB80-1201-xxx109","Extreme Top/Face Fix Brkt Set 2pc + Adapter | S100","069","Pure White",{"$f":"IF(T_NAV_AU[[#This Row],[ColourOptions]]=\"Y\",\"Refer catalogue\", T_NAV_AU[[#This Row],[Colour Description]])","v":"Refer catalogue"},"Refer catalogue","SET",{"$f":"IF(T_NAV_AU[[#This Row],[CustomPricing]]<>\"\",T_NAV_AU[[#This Row],[CustomPricing]],T_NAV_AU[[#This Row],[AUD_Original]])","v":121.3},121.3,null,1,12]
[null,"RB80-1503-025110","N",{"$f":"IF(AND(OR(T_NAV_AU[[#This Row],[ColourOptions]]=\"M\",T_NAV_AU[[#This Row],[ColourOptions]]=\"Y\"),MID(T_NAV_AU[[#This Row],[No.]],11,3)=\"069\"),REPLACE(T_NAV_AU[[#This Row],[No.]],11,3,\"xxx\"),T_NAV_AU[[#This Row],[No.]])","v":"RB80-1503-025110"},"RB80-1503-025110","Extreme Bracket Adaptor Kit (Motor & Idler Plate)","025","Silver ZINC Plated",{"$f":"IF(T_NAV_AU[[#This Row],[ColourOptions]]=\"Y\",\"Refer catalogue\", T_NAV_AU[[#This Row],[Colour Description]])","v":"Silver ZINC Plated"},"Silver ZINC Plated","KIT",{"$f":"IF(T_NAV_AU[[#This Row],[CustomPricing]]<>\"\",T_NAV_AU[[#This Row],[CustomPricing]],T_NAV_AU[[#This Row],[AUD_Original]])","v":96.7},96.7,null,1,10]
[null,"RB80-1503-069110","Y",{"$f":"IF(AND(OR(T_NAV_AU[[#This Row],[ColourOptions]]=\"M\",T_NAV_AU[[#This Row],[ColourOptions]]=\"Y\"),MID(T_NAV_AU[[#This Row],[No.]],11,3)=\"069\"),REPLACE(T_NAV_AU[[#This Row],[No.]],11,3,\"xxx\"),T_NAV_AU[[#This Row],[No.]])","v":"RB80-1503-xxx110"},"RB80-1503-xxx110","Extreme Bracket Adaptor Kit (Motor & Idler Plate)","069","Pure White",{"$f":"IF(T_NAV_AU[[#This Row],[ColourOptions]]=\"Y\",\"Refer catalogue\", T_NAV_AU[[#This Row],[Colour Description]])","v":"Refer catalogue"},"Refer catalogue","KIT",{"$f":"IF(T_NAV_AU[[#This Row],[CustomPricing]]<>\"\",T_NAV_AU[[#This Row],[CustomPricing]],T_NAV_AU[[#This Row],[AUD_Original]])","v":112.46},112.46,null,1,10]
[null,"RB91-3602-006040","N",{"$f":"IF(AND(OR(T_NAV_AU[[#This Row],[ColourOptions]]=\"M\",T_NAV_AU[[#This Row],[ColourOptions]]=\"Y\"),MID(T_NAV_AU[[#This Row],[No.]],11,3)=\"069\"),REPLACE(T_NAV_AU[[#This Row],[No.]],11,3,\"xxx\"),T_NAV_AU[[#This Row],[No.]])","v":"RB91-3602-006040"},"RB91-3602-006040","Wire Tensioning Guide (1x19) - 4mm | 50m Roll","006","S/S 316, Natural",{"$f":"IF(T_NAV_AU[[#This Row],[ColourOptions]]=\"Y\",\"Refer catalogue\", T_NAV_AU[[#This Row],[Colour Description]])","v":"S/S 316, Natural"},"S/S 316, Natural","METRE",{"$f":"IF(T_NAV_AU[[#This Row],[CustomPricing]]<>\"\",T_NAV_AU[[#This Row],[CustomPricing]],T_NAV_AU[[#This Row],[AUD_Original]])","v":4.9000000000000004},4.9000000000000004,null,50,300]
[null,"RB91-3602-006041","N",{"$f":"IF(AND(OR(T_NAV_AU[[#This Row],[ColourOptions]]=\"M\",T_NAV_AU[[#This Row],[ColourOptions]]=\"Y\"),MID(T_NAV_AU[[#This Row],[No.]],11,3)=\"069\"),REPLACE(T_NAV_AU[[#This Row],[No.]],11,3,\"xxx\"),T_NAV_AU[[#This Row],[No.]])","v":"RB91-3602-006041"},"RB91-3602-006041","Wire Tensioning Guide (7x7) - 4mm PVC | 50m Roll","006","S/S 316, Natural",{"$f":"IF(T_NAV_AU[[#This Row],[ColourOptions]]=\"Y\",\"Refer catalogue\", T_NAV_AU[[#This Row],[Colour Description]])","v":"S/S 316, Natural"},"S/S 316, Natural","METRE",{"$f":"IF(T_NAV_AU[[#This Row],[CustomPricing]]<>\"\",T_NAV_AU[[#This Row],[CustomPricing]],T_NAV_AU[[#This Row],[AUD_Original]])","v":8.81},8.81,null,50,300]
[null,"RB91-3602-010032","N",{"$f":"IF(AND(OR(T_NAV_AU[[#This Row],[ColourOptions]]=\"M\",T_NAV_AU[[#This Row],[ColourOptions]]=\"Y\"),MID(T_NAV_AU[[#This Row],[No.]],11,3)=\"069\"),REPLACE(T_NAV_AU[[#This Row],[No.]],11,3,\"xxx\"),T_NAV_AU[[#This Row],[No.]])","v":"RB91-3602-010032"},"RB91-3602-010032","Wire Tensioning Guide (1x19) - 3.2mm | 50m Roll","006","S/S 316, Natural",{"$f":"IF(T_NAV_AU[[#This Row],[ColourOptions]]=\"Y\",\"Refer catalogue\", T_NAV_AU[[#This Row],[Colour Description]])","v":"S/S 316, Natural"},"S/S 316, Natural","METRE",{"$f":"IF(T_NAV_AU[[#This Row],[CustomPricing]]<>\"\",T_NAV_AU[[#This Row],[CustomPricing]],T_NAV_AU[[#This Row],[AUD_Original]])","v":3.91},3.91,null,50,300]
[null,"RB93-0110-000700","N",{"$f":"IF(AND(OR(T_NAV_AU[[#This Row],[ColourOptions]]=\"M\",T_NAV_AU[[#This Row],[ColourOptions]]=\"Y\"),MID(T_NAV_AU[[#This Row],[No.]],11,3)=\"069\"),REPLACE(T_NAV_AU[[#This Row],[No.]],11,3,\"xxx\"),T_NAV_AU[[#This Row],[No.]])","v":"RB93-0110-000700"},"RB93-0110-000700","S100 / STD Alum. Tube | 110mm x 7m","000","Mill Finish",{"$f":"IF(T_NAV_AU[[#This Row],[ColourOptions]]=\"Y\",\"Refer catalogue\", T_NAV_AU[[#This Row],[Colour Description]])","v":"Mill Finish"},"Mill Finish","LENGTH",{"$f":"IF(T_NAV_AU[[#This Row],[CustomPricing]]<>\"\",T_NAV_AU[[#This Row],[CustomPricing]],T_NAV_AU[[#This Row],[AUD_Original]])","v":453.9},453.9,null,2,12]
[null,"RB93-0130-000700","N",{"$f":"IF(AND(OR(T_NAV_AU[[#This Row],[ColourOptions]]=\"M\",T_NAV_AU[[#This Row],[ColourOptions]]=\"Y\"),MID(T_NAV_AU[[#This Row],[No.]],11,3)=\"069\"),REPLACE(T_NAV_AU[[#This Row],[No.]],11,3,\"xxx\"),T_NAV_AU[[#This Row],[No.]])","v":"RB93-0130-000700"},"RB93-0130-000700","S100 / HD Alum. Tube | 130mm x 7m","000","Mill Finish",{"$f":"IF(T_NAV_AU[[#This Row],[ColourOptions]]=\"Y\",\"Refer catalogue\", T_NAV_AU[[#This Row],[Colour Description]])","v":"Mill Finish"},"Mill Finish","LENGTH",{"$f":"IF(T_NAV_AU[[#This Row],[CustomPricing]]<>\"\",T_NAV_AU[[#This Row],[CustomPricing]],T_NAV_AU[[#This Row],[AUD_Original]])","v":711.64},711.64,null,1,9]
[null,"RB93-0160-000700","N",{"$f":"IF(AND(OR(T_NAV_AU[[#This Row],[ColourOptions]]=\"M\",T_NAV_AU[[#This Row],[ColourOptions]]=\"Y\"),MID(T_NAV_AU[[#This Row],[No.]],11,3)=\"069\"),REPLACE(T_NAV_AU[[#This Row],[No.]],11,3,\"xxx\"),T_NAV_AU[[#This Row],[No.]])","v":"RB93-0160-000700"},"RB93-0160-000700","S100 / XHD Alum. Tube | 160mm x 7m","000","Mill Finish",{"$f":"IF(T_NAV_AU[[#This Row],[ColourOptions]]=\"Y\",\"Refer catalogue\", T_NAV_AU[[#This Row],[Colour Description]])","v":"Mill Finish"},"Mill Finish","LENGTH",{"$f":"IF(T_NAV_AU[[#This Row],[CustomPricing]]<>\"\",T_NAV_AU[[#This Row],[CustomPricing]],T_NAV_AU[[#This Row],[AUD_Original]])","v":1072.3900000000001},1072.3900000000001,null,1,6]
[null,"RE01-0101-000580","N",{"$f":"IF(AND(OR(T_NAV_AU[[#This Row],[ColourOptions]]=\"M\",T_NAV_AU[[#This Row],[ColourOptions]]=\"Y\"),MID(T_NAV_AU[[#This Row],[No.]],11,3)=\"069\"),REPLACE(T_NAV_AU[[#This Row],[No.]],11,3,\"xxx\"),T_NAV_AU[[#This Row],[No.]])","v":"RE01-0101-000580"},"RE01-0101-000580","BOX 120 - Back Extrusion | 5.8m","000","Mill Finish",{"$f":"IF(T_NAV_AU[[#This Row],[ColourOptions]]=\"Y\",\"Refer catalogue\", T_NAV_AU[[#This Row],[Colour Description]])","v":"Mill Finish"},"Mill Finish","LENGTH",{"$f":"IF(T_NAV_AU[[#This Row],[CustomPricing]]<>\"\",T_NAV_AU[[#This Row],[CustomPricing]],T_NAV_AU[[#This Row],[AUD_Original]])","v":164.6},164.6,null,1,16]
[null,"RE01-0101-069580-PF","Y",{"$f":"IF(AND(OR(T_NAV_AU[[#This Row],[ColourOptions]]=\"M\",T_NAV_AU[[#This Row],[ColourOptions]]=\"Y\"),MID(T_NAV_AU[[#This Row],[No.]],11,3)=\"069\"),REPLACE(T_NAV_AU[[#This Row],[No.]],11,3,\"xxx\"),T_NAV_AU[[#This Row],[No.]])","v":"RE01-0101-xxx580-PF"},"RE01-0101-xxx580-PF","BOX 120 - Back Extrusion w/ PF | 5.8m","069","Pure White",{"$f":"IF(T_NAV_AU[[#This Row],[ColourOptions]]=\"Y\",\"Refer catalogue\", T_NAV_AU[[#This Row],[Colour Description]])","v":"Refer catalogue"},"Refer catalogue","LENGTH",{"$f":"IF(T_NAV_AU[[#This Row],[CustomPricing]]<>\"\",T_NAV_AU[[#This Row],[CustomPricing]],T_NAV_AU[[#This Row],[AUD_Original]])","v":199.51},199.51,null,1,16]
[null,"RE01-0102-000580","N",{"$f":"IF(AND(OR(T_NAV_AU[[#This Row],[ColourOptions]]=\"M\",T_NAV_AU[[#This Row],[ColourOptions]]=\"Y\"),MID(T_NAV_AU[[#This Row],[No.]],11,3)=\"069\"),REPLACE(T_NAV_AU[[#This Row],[No.]],11,3,\"xxx\"),T_NAV_AU[[#This Row],[No.]])","v":"RE01-0102-000580"},"RE01-0102-000580","BOX 120 - Front Cover FULL | 5.8m","000","Mill Finish",{"$f":"IF(T_NAV_AU[[#This Row],[ColourOptions]]=\"Y\",\"Refer catalogue\", T_NAV_AU[[#This Row],[Colour Description]])","v":"Mill Finish"},"Mill Finish","LENGTH",{"$f":"IF(T_NAV_AU[[#This Row],[CustomPricing]]<>\"\",T_NAV_AU[[#This Row],[CustomPricing]],T_NAV_AU[[#This Row],[AUD_Original]])","v":112.23},112.23,null,2,32]
[null,"RE01-0102-069580-PF","Y",{"$f":"IF(AND(OR(T_NAV_AU[[#This Row],[ColourOptions]]=\"M\",T_NAV_AU[[#This Row],[ColourOptions]]=\"Y\"),MID(T_NAV_AU[[#This Row],[No.]],11,3)=\"069\"),REPLACE(T_NAV_AU[[#This Row],[No.]],11,3,\"xxx\"),T_NAV_AU[[#This Row],[No.]])","v":"RE01-0102-xxx580-PF"},"RE01-0102-xxx580-PF","BOX 120 - Front Cover FULL w/ PF | 5.8m","069","Pure White",{"$f":"IF(T_NAV_AU[[#This Row],[ColourOptions]]=\"Y\",\"Refer catalogue\", T_NAV_AU[[#This Row],[Colour Description]])","v":"Refer catalogue"},"Refer catalogue","LENGTH",{"$f":"IF(T_NAV_AU[[#This Row],[CustomPricing]]<>\"\",T_NAV_AU[[#This Row],[CustomPricing]],T_NAV_AU[[#This Row],[AUD_Original]])","v":143.41},143.41,null,2,32]
[null,"RE01-0103-000580","N",{"$f":"IF(AND(OR(T_NAV_AU[[#This Row],[ColourOptions]]=\"M\",T_NAV_AU[[#This Row],[ColourOptions]]=\"Y\"),MID(T_NAV_AU[[#This Row],[No.]],11,3)=\"069\"),REPLACE(T_NAV_AU[[#This Row],[No.]],11,3,\"xxx\"),T_NAV_AU[[#This Row],[No.]])","v":"RE01-0103-000580"},"RE01-0103-000580","BOX 120 - Front Cover SEMI | 5.8m","000","Mill Finish",{"$f":"IF(T_NAV_AU[[#This Row],[ColourOptions]]=\"Y\",\"Refer catalogue\", T_NAV_AU[[#This Row],[Colour Description]])","v":"Mill Finish"},"Mill Finish","LENGTH",{"$f":"IF(T_NAV_AU[[#This Row],[CustomPricing]]<>\"\",T_NAV_AU[[#This Row],[CustomPricing]],T_NAV_AU[[#This Row],[AUD_Original]])","v":93.53},93.53,null,4,64]
[null,"RE01-0103-069580-PF","Y",{"$f":"IF(AND(OR(T_NAV_AU[[#This Row],[ColourOptions]]=\"M\",T_NAV_AU[[#This Row],[ColourOptions]]=\"Y\"),MID(T_NAV_AU[[#This Row],[No.]],11,3)=\"069\"),REPLACE(T_NAV_AU[[#This Row],[No.]],11,3,\"xxx\"),T_NAV_AU[[#This Row],[No.]])","v":"RE01-0103-xxx580-PF"},"RE01-0103-xxx580-PF","BOX 120 - Front Cover SEMI with P/F | 5.8m","069","Pure White",{"$f":"IF(T_NAV_AU[[#This Row],[ColourOptions]]=\"Y\",\"Refer catalogue\", T_NAV_AU[[#This Row],[Colour Description]])","v":"Refer catalogue"},"Refer catalogue","LENGTH",{"$f":"IF(T_NAV_AU[[#This Row],[CustomPricing]]<>\"\",T_NAV_AU[[#This Row],[CustomPricing]],T_NAV_AU[[#This Row],[AUD_Original]])","v":124.7},124.7,null,4,64]
[null,"RE01-0106-000700","N",{"$f":"IF(AND(OR(T_NAV_AU[[#This Row],[ColourOptions]]=\"M\",T_NAV_AU[[#This Row],[ColourOptions]]=\"Y\"),MID(T_NAV_AU[[#This Row],[No.]],11,3)=\"069\"),REPLACE(T_NAV_AU[[#This Row],[No.]],11,3,\"xxx\"),T_NAV_AU[[#This Row],[No.]])","v":"RE01-0106-000700"},"RE01-0106-000700","BOX 190 - Universal Extrusion | 7m","000","Mill Finish",{"$f":"IF(T_NAV_AU[[#This Row],[ColourOptions]]=\"Y\",\"Refer catalogue\", T_NAV_AU[[#This Row],[Colour Description]])","v":"Mill Finish"},"Mill Finish","LENGTH",{"$f":"IF(T_NAV_AU[[#This Row],[CustomPricing]]<>\"\",T_NAV_AU[[#This Row],[CustomPricing]],T_NAV_AU[[#This Row],[AUD_Original]])","v":249.39},249.39,null,1,24]
[null,"RE01-0106-069700-PF","Y",{"$f":"IF(AND(OR(T_NAV_AU[[#This Row],[ColourOptions]]=\"M\",T_NAV_AU[[#This Row],[ColourOptions]]=\"Y\"),MID(T_NAV_AU[[#This Row],[No.]],11,3)=\"069\"),REPLACE(T_NAV_AU[[#This Row],[No.]],11,3,\"xxx\"),T_NAV_AU[[#This Row],[No.]])","v":"RE01-0106-xxx700-PF"},"RE01-0106-xxx700-PF","BOX 190 - Universal Extrusion w/ PF | 7m","069","Pure White",{"$f":"IF(T_NAV_AU[[#This Row],[ColourOptions]]=\"Y\",\"Refer catalogue\", T_NAV_AU[[#This Row],[Colour Description]])","v":"Refer catalogue"},"Refer catalogue","LENGTH",{"$f":"IF(T_NAV_AU[[#This Row],[CustomPricing]]<>\"\",T_NAV_AU[[#This Row],[CustomPricing]],T_NAV_AU[[#This Row],[AUD_Original]])","v":311.74},311.74,null,1,24]
[null,"RE01-0107-000700","N",{"$f":"IF(AND(OR(T_NAV_AU[[#This Row],[ColourOptions]]=\"M\",T_NAV_AU[[#This Row],[ColourOptions]]=\"Y\"),MID(T_NAV_AU[[#This Row],[No.]],11,3)=\"069\"),REPLACE(T_NAV_AU[[#This Row],[No.]],11,3,\"xxx\"),T_NAV_AU[[#This Row],[No.]])","v":"RE01-0107-000700"},"RE01-0107-000700","BOX 190 - Front Cover | 7m","000","Mill Finish",{"$f":"IF(T_NAV_AU[[#This Row],[ColourOptions]]=\"Y\",\"Refer catalogue\", T_NAV_AU[[#This Row],[Colour Description]])","v":"Mill Finish"},"Mill Finish","LENGTH",{"$f":"IF(T_NAV_AU[[#This Row],[CustomPricing]]<>\"\",T_NAV_AU[[#This Row],[CustomPricing]],T_NAV_AU[[#This Row],[AUD_Original]])","v":342.92},342.92,null,1,12]
[null,"RE01-0107-069700-PF","Y",{"$f":"IF(AND(OR(T_NAV_AU[[#This Row],[ColourOptions]]=\"M\",T_NAV_AU[[#This Row],[ColourOptions]]=\"Y\"),MID(T_NAV_AU[[#This Row],[No.]],11,3)=\"069\"),REPLACE(T_NAV_AU[[#This Row],[No.]],11,3,\"xxx\"),T_NAV_AU[[#This Row],[No.]])","v":"RE01-0107-xxx700-PF"},"RE01-0107-xxx700-PF","BOX 190 - Front Cover w/ PF | 7m","069","Pure White",{"$f":"IF(T_NAV_AU[[#This Row],[ColourOptions]]=\"Y\",\"Refer catalogue\", T_NAV_AU[[#This Row],[Colour Description]])","v":"Refer catalogue"},"Refer catalogue","LENGTH",{"$f":"IF(T_NAV_AU[[#This Row],[CustomPricing]]<>\"\",T_NAV_AU[[#This Row],[CustomPricing]],T_NAV_AU[[#This Row],[AUD_Original]])","v":436.44},436.44,null,1,12]
[null,"RE01-0213-050045","N",{"$f":"IF(AND(OR(T_NAV_AU[[#This Row],[ColourOptions]]=\"M\",T_NAV_AU[[#This Row],[ColourOptions]]=\"Y\"),MID(T_NAV_AU[[#This Row],[No.]],11,3)=\"069\"),REPLACE(T_NAV_AU[[#This Row],[No.]],11,3,\"xxx\"),T_NAV_AU[[#This Row],[No.]])","v":"RE01-0213-050045"},"RE01-0203-050063","Bearing Idler | 45mm","050","Black, Satin",{"$f":"IF(T_NAV_AU[[#This Row],[ColourOptions]]=\"Y\",\"Refer catalogue\", T_NAV_AU[[#This Row],[Colour Description]])","v":"Black, Satin"},"Black, Satin","PIECE",{"$f":"IF(T_NAV_AU[[#This Row],[CustomPricing]]<>\"\",T_NAV_AU[[#This Row],[CustomPricing]],T_NAV_AU[[#This Row],[AUD_Original]])","v":20.239999999999998},20.239999999999998,null,10,50]
[null,"RE01-0214-050000","N",{"$f":"IF(AND(OR(T_NAV_AU[[#This Row],[ColourOptions]]=\"M\",T_NAV_AU[[#This Row],[ColourOptions]]=\"Y\"),MID(T_NAV_AU[[#This Row],[No.]],11,3)=\"069\"),REPLACE(T_NAV_AU[[#This Row],[No.]],11,3,\"xxx\"),T_NAV_AU[[#This Row],[No.]])","v":"RE01-0214-050000"},"RE01-0214-050000","External - Idler/Spring Adaptor Kit MKII","050","Black, Satin",{"$f":"IF(T_NAV_AU[[#This Row],[ColourOptions]]=\"Y\",\"Refer catalogue\", T_NAV_AU[[#This Row],[Colour Description]])","v":"Black, Satin"},"Black, Satin","SET",{"$f":"IF(T_NAV_AU[[#This Row],[CustomPricing]]<>\"\",T_NAV_AU[[#This Row],[CustomPricing]],T_NAV_AU[[#This Row],[AUD_Original]])","v":4.76},4.76,null,5,200]
[null,"RE01-0377-000580","N",{"$f":"IF(AND(OR(T_NAV_AU[[#This Row],[ColourOptions]]=\"M\",T_NAV_AU[[#This Row],[ColourOptions]]=\"Y\"),MID(T_NAV_AU[[#This Row],[No.]],11,3)=\"069\"),REPLACE(T_NAV_AU[[#This Row],[No.]],11,3,\"xxx\"),T_NAV_AU[[#This Row],[No.]])","v":"RE01-0377-000580"},"RE01-0377-000580","78 STD Alum. Tube w/ Screw Features | 80mm x 5.8m","000","Mill Finish",{"$f":"IF(T_NAV_AU[[#This Row],[ColourOptions]]=\"Y\",\"Refer catalogue\", T_NAV_AU[[#This Row],[Colour Description]])","v":"Mill Finish"},"Mill Finish","LENGTH",{"$f":"IF(T_NAV_AU[[#This Row],[CustomPricing]]<>\"\",T_NAV_AU[[#This Row],[CustomPricing]],T_NAV_AU[[#This Row],[AUD_Original]])","v":153.44999999999999},153.44999999999999,null,2,20]
[null,"RE01-0380-000580","N",{"$f":"IF(AND(OR(T_NAV_AU[[#This Row],[ColourOptions]]=\"M\",T_NAV_AU[[#This Row],[ColourOptions]]=\"Y\"),MID(T_NAV_AU[[#This Row],[No.]],11,3)=\"069\"),REPLACE(T_NAV_AU[[#This Row],[No.]],11,3,\"xxx\"),T_NAV_AU[[#This Row],[No.]])","v":"RE01-0380-000580"},"RE01-0380-000580","78 HD Alum. Tube w/ Screw Features | 82mm x 5.8m","000","Mill Finish",{"$f":"IF(T_NAV_AU[[#This Row],[ColourOptions]]=\"Y\",\"Refer catalogue\", T_NAV_AU[[#This Row],[Colour Description]])","v":"Mill Finish"},"Mill Finish","LENGTH",{"$f":"IF(T_NAV_AU[[#This Row],[CustomPricing]]<>\"\",T_NAV_AU[[#This Row],[CustomPricing]],T_NAV_AU[[#This Row],[AUD_Original]])","v":220.49},220.49,null,2,20]
[null,"RE01-0421-050001","N",{"$f":"IF(AND(OR(T_NAV_AU[[#This Row],[ColourOptions]]=\"M\",T_NAV_AU[[#This Row],[ColourOptions]]=\"Y\"),MID(T_NAV_AU[[#This Row],[No.]],11,3)=\"069\"),REPLACE(T_NAV_AU[[#This Row],[No.]],11,3,\"xxx\"),T_NAV_AU[[#This Row],[No.]])","v":"RE01-0421-050001"},"RE01-0421-050001","External Booster V2 | COMPACT","050","Black, Satin",{"$f":"IF(T_NAV_AU[[#This Row],[ColourOptions]]=\"Y\",\"Refer catalogue\", T_NAV_AU[[#This Row],[Colour Description]])","v":"Black, Satin"},"Black, Satin","PIECE",{"$f":"IF(T_NAV_AU[[#This Row],[CustomPricing]]<>\"\",T_NAV_AU[[#This Row],[CustomPricing]],T_NAV_AU[[#This Row],[AUD_Original]])","v":51},51,null,4,40]
[null,"RE01-0421-050002","N",{"$f":"IF(AND(OR(T_NAV_AU[[#This Row],[ColourOptions]]=\"M\",T_NAV_AU[[#This Row],[ColourOptions]]=\"Y\"),MID(T_NAV_AU[[#This Row],[No.]],11,3)=\"069\"),REPLACE(T_NAV_AU[[#This Row],[No.]],11,3,\"xxx\"),T_NAV_AU[[#This Row],[No.]])","v":"RE01-0421-050002"},"RE01-0421-050002","External Booster V2 | LIGHT","050","Black, Satin",{"$f":"IF(T_NAV_AU[[#This Row],[ColourOptions]]=\"Y\",\"Refer catalogue\", T_NAV_AU[[#This Row],[Colour Description]])","v":"Black, Satin"},"Black, Satin","PIECE",{"$f":"IF(T_NAV_AU[[#This Row],[CustomPricing]]<>\"\",T_NAV_AU[[#This Row],[CustomPricing]],T_NAV_AU[[#This Row],[AUD_Original]])","v":55},55,null,4,40]
[null,"RE01-0421-050003","N",{"$f":"IF(AND(OR(T_NAV_AU[[#This Row],[ColourOptions]]=\"M\",T_NAV_AU[[#This Row],[ColourOptions]]=\"Y\"),MID(T_NAV_AU[[#This Row],[No.]],11,3)=\"069\"),REPLACE(T_NAV_AU[[#This Row],[No.]],11,3,\"xxx\"),T_NAV_AU[[#This Row],[No.]])","v":"RE01-0421-050003"},"RE01-0421-050003","External Booster V2 | STANDARD","050","Black, Satin",{"$f":"IF(T_NAV_AU[[#This Row],[ColourOptions]]=\"Y\",\"Refer catalogue\", T_NAV_AU[[#This Row],[Colour Description]])","v":"Black, Satin"},"Black, Satin","PIECE",{"$f":"IF(T_NAV_AU[[#This Row],[CustomPricing]]<>\"\",T_NAV_AU[[#This Row],[CustomPricing]],T_NAV_AU[[#This Row],[AUD_Original]])","v":59},59,null,4,40]
[null,"RE01-0421-050004","N",{"$f":"IF(AND(OR(T_NAV_AU[[#This Row],[ColourOptions]]=\"M\",T_NAV_AU[[#This Row],[ColourOptions]]=\"Y\"),MID(T_NAV_AU[[#This Row],[No.]],11,3)=\"069\"),REPLACE(T_NAV_AU[[#This Row],[No.]],11,3,\"xxx\"),T_NAV_AU[[#This Row],[No.]])","v":"RE01-0421-050004"},"RE01-0421-050004","External Booster V2 | HEAVY DUTY","050","Black, Satin",{"$f":"IF(T_NAV_AU[[#This Row],[ColourOptions]]=\"Y\",\"Refer catalogue\", T_NAV_AU[[#This Row],[Colour Description]])","v":"Black, Satin"},"Black, Satin","PIECE",{"$f":"IF(T_NAV_AU[[#This Row],[CustomPricing]]<>\"\",T_NAV_AU[[#This Row],[CustomPricing]],T_NAV_AU[[#This Row],[AUD_Original]])","v":63},63,null,4,40]
[null,"RE01-0421-050005","N",{"$f":"IF(AND(OR(T_NAV_AU[[#This Row],[ColourOptions]]=\"M\",T_NAV_AU[[#This Row],[ColourOptions]]=\"Y\"),MID(T_NAV_AU[[#This Row],[No.]],11,3)=\"069\"),REPLACE(T_NAV_AU[[#This Row],[No.]],11,3,\"xxx\"),T_NAV_AU[[#This Row],[No.]])","v":"RE01-0421-050005"},"RE01-0421-050005","External Booster V2 | EXTRA HEAVY DUTY","050","Black, Satin",{"$f":"IF(T_NAV_AU[[#This Row],[ColourOptions]]=\"Y\",\"Refer catalogue\", T_NAV_AU[[#This Row],[Colour Description]])","v":"Black, Satin"},"Black, Satin","PIECE",{"$f":"IF(T_NAV_AU[[#This Row],[CustomPricing]]<>\"\",T_NAV_AU[[#This Row],[CustomPricing]],T_NAV_AU[[#This Row],[AUD_Original]])","v":77},77,null,4,40]
[null,"RE01-0421-050006","N",{"$f":"IF(AND(OR(T_NAV_AU[[#This Row],[ColourOptions]]=\"M\",T_NAV_AU[[#This Row],[ColourOptions]]=\"Y\"),MID(T_NAV_AU[[#This Row],[No.]],11,3)=\"069\"),REPLACE(T_NAV_AU[[#This Row],[No.]],11,3,\"xxx\"),T_NAV_AU[[#This Row],[No.]])","v":"RE01-0421-050006"},"RE01-0421-050006","External Booster V2 | ULTRA HEAVY DUTY","050","Black, Satin",{"$f":"IF(T_NAV_AU[[#This Row],[ColourOptions]]=\"Y\",\"Refer catalogue\", T_NAV_AU[[#This Row],[Colour Description]])","v":"Black, Satin"},"Black, Satin","PIECE",{"$f":"IF(T_NAV_AU[[#This Row],[CustomPricing]]<>\"\",T_NAV_AU[[#This Row],[CustomPricing]],T_NAV_AU[[#This Row],[AUD_Original]])","v":95},95,null,4,40]
[null,"RE01-0420-050000","N",{"$f":"IF(AND(OR(T_NAV_AU[[#This Row],[ColourOptions]]=\"M\",T_NAV_AU[[#This Row],[ColourOptions]]=\"Y\"),MID(T_NAV_AU[[#This Row],[No.]],11,3)=\"069\"),REPLACE(T_NAV_AU[[#This Row],[No.]],11,3,\"xxx\"),T_NAV_AU[[#This Row],[No.]])","v":"RE01-0420-050000"},"RE01-0420-050000","External Pull Stick | Adjustable w/ Wall Clip\t","050","Black, Satin",{"$f":"IF(T_NAV_AU[[#This Row],[ColourOptions]]=\"Y\",\"Refer catalogue\", T_NAV_AU[[#This Row],[Colour Description]])","v":"Black, Satin"},"Black, Satin","KIT",{"$f":"IF(T_NAV_AU[[#This Row],[CustomPricing]]<>\"\",T_NAV_AU[[#This Row],[CustomPricing]],T_NAV_AU[[#This Row],[AUD_Original]])","v":29.9},29.9]
[null,"RE01-0502-050045","N",{"$f":"IF(AND(OR(T_NAV_AU[[#This Row],[ColourOptions]]=\"M\",T_NAV_AU[[#This Row],[ColourOptions]]=\"Y\"),MID(T_NAV_AU[[#This Row],[No.]],11,3)=\"069\"),REPLACE(T_NAV_AU[[#This Row],[No.]],11,3,\"xxx\"),T_NAV_AU[[#This Row],[No.]])","v":"RE01-0502-050045"},"RE01-0502-050045","Crank Adaptor | 45mm","050","Black, Satin",{"$f":"IF(T_NAV_AU[[#This Row],[ColourOptions]]=\"Y\",\"Refer catalogue\", T_NAV_AU[[#This Row],[Colour Description]])","v":"Black, Satin"},"Black, Satin","PIECE",{"$f":"IF(T_NAV_AU[[#This Row],[CustomPricing]]<>\"\",T_NAV_AU[[#This Row],[CustomPricing]],T_NAV_AU[[#This Row],[AUD_Original]])","v":6.99},6.99,null,5,100]
[null,"RE01-0510-020000","N",{"$f":"IF(AND(OR(T_NAV_AU[[#This Row],[ColourOptions]]=\"M\",T_NAV_AU[[#This Row],[ColourOptions]]=\"Y\"),MID(T_NAV_AU[[#This Row],[No.]],11,3)=\"069\"),REPLACE(T_NAV_AU[[#This Row],[No.]],11,3,\"xxx\"),T_NAV_AU[[#This Row],[No.]])","v":"RE01-0510-020000"},"RE01-0510-020000","RE01 Gear | Universal Joint","020","Anodised 20",{"$f":"IF(T_NAV_AU[[#This Row],[ColourOptions]]=\"Y\",\"Refer catalogue\", T_NAV_AU[[#This Row],[Colour Description]])","v":"Anodised 20"},"Anodised 20","PIECE",{"$f":"IF(T_NAV_AU[[#This Row],[CustomPricing]]<>\"\",T_NAV_AU[[#This Row],[CustomPricing]],T_NAV_AU[[#This Row],[AUD_Original]])","v":15.4},15.4]
[null,"RE01-0513-000003","N",{"$f":"IF(AND(OR(T_NAV_AU[[#This Row],[ColourOptions]]=\"M\",T_NAV_AU[[#This Row],[ColourOptions]]=\"Y\"),MID(T_NAV_AU[[#This Row],[No.]],11,3)=\"069\"),REPLACE(T_NAV_AU[[#This Row],[No.]],11,3,\"xxx\"),T_NAV_AU[[#This Row],[No.]])","v":"RE01-0513-000003"},"RE01-0513-000003","Gear 5:1 (7.5Nm)+Screws","000","Mill Finish",{"$f":"IF(T_NAV_AU[[#This Row],[ColourOptions]]=\"Y\",\"Refer catalogue\", T_NAV_AU[[#This Row],[Colour Description]])","v":"Mill Finish"},"Mill Finish","SET",{"$f":"IF(T_NAV_AU[[#This Row],[CustomPricing]]<>\"\",T_NAV_AU[[#This Row],[CustomPricing]],T_NAV_AU[[#This Row],[AUD_Original]])","v":42.3},42.3,null,5,50]
[null,"RE01-0513-050003","Y",{"$f":"IF(AND(OR(T_NAV_AU[[#This Row],[ColourOptions]]=\"M\",T_NAV_AU[[#This Row],[ColourOptions]]=\"Y\"),MID(T_NAV_AU[[#This Row],[No.]],11,3)=\"069\"),REPLACE(T_NAV_AU[[#This Row],[No.]],11,3,\"xxx\"),T_NAV_AU[[#This Row],[No.]])","v":"RE01-0513-050003"},"RE01-0513-050003","Gear 5:1 (7.5Nm)+Screws","069","Black, Satin",{"$f":"IF(T_NAV_AU[[#This Row],[ColourOptions]]=\"Y\",\"Refer catalogue\", T_NAV_AU[[#This Row],[Colour Description]])","v":"Refer catalogue"},"Black, Satin","SET",{"$f":"IF(T_NAV_AU[[#This Row],[CustomPricing]]<>\"\",T_NAV_AU[[#This Row],[CustomPricing]],T_NAV_AU[[#This Row],[AUD_Original]])","v":48.1},48.1,null,5,50]
[null,"RE01-0517-000003","N",{"$f":"IF(AND(OR(T_NAV_AU[[#This Row],[ColourOptions]]=\"M\",T_NAV_AU[[#This Row],[ColourOptions]]=\"Y\"),MID(T_NAV_AU[[#This Row],[No.]],11,3)=\"069\"),REPLACE(T_NAV_AU[[#This Row],[No.]],11,3,\"xxx\"),T_NAV_AU[[#This Row],[No.]])","v":"RE01-0517-000003"},"RE01-0517-000003","Gear 8:1 (20Nm)+Screws","000","Mill Finish",{"$f":"IF(T_NAV_AU[[#This Row],[ColourOptions]]=\"Y\",\"Refer catalogue\", T_NAV_AU[[#This Row],[Colour Description]])","v":"Mill Finish"},"Mill Finish","SET",{"$f":"IF(T_NAV_AU[[#This Row],[CustomPricing]]<>\"\",T_NAV_AU[[#This Row],[CustomPricing]],T_NAV_AU[[#This Row],[AUD_Original]])","v":92},92,null,5,50]
[null,"RE01-0517-050003","N",{"$f":"IF(AND(OR(T_NAV_AU[[#This Row],[ColourOptions]]=\"M\",T_NAV_AU[[#This Row],[ColourOptions]]=\"Y\"),MID(T_NAV_AU[[#This Row],[No.]],11,3)=\"069\"),REPLACE(T_NAV_AU[[#This Row],[No.]],11,3,\"xxx\"),T_NAV_AU[[#This Row],[No.]])","v":"RE01-0517-050003"},"RE01-0517-050003","Gear 8:1 (20Nm)+Screws","050","Black, Satin",{"$f":"IF(T_NAV_AU[[#This Row],[ColourOptions]]=\"Y\",\"Refer catalogue\", T_NAV_AU[[#This Row],[Colour Description]])","v":"Black, Satin"},"Black, Satin","SET",{"$f":"IF(T_NAV_AU[[#This Row],[CustomPricing]]<>\"\",T_NAV_AU[[#This Row],[CustomPricing]],T_NAV_AU[[#This Row],[AUD_Original]])","v":108},108,null,5,50]
[null,"RE01-0601-025000","N",{"$f":"IF(AND(OR(T_NAV_AU[[#This Row],[ColourOptions]]=\"M\",T_NAV_AU[[#This Row],[ColourOptions]]=\"Y\"),MID(T_NAV_AU[[#This Row],[No.]],11,3)=\"069\"),REPLACE(T_NAV_AU[[#This Row],[No.]],11,3,\"xxx\"),T_NAV_AU[[#This Row],[No.]])","v":"RE01-0601-025000"},"RE01-0601-025000","UNIVERSAL | M50 Motor Bracket + Screws","025","Silver ZINC Plated",{"$f":"IF(T_NAV_AU[[#This Row],[ColourOptions]]=\"Y\",\"Refer catalogue\", T_NAV_AU[[#This Row],[Colour Description]])","v":"Silver ZINC Plated"},"Silver ZINC Plated","SET",{"$f":"IF(T_NAV_AU[[#This Row],[CustomPricing]]<>\"\",T_NAV_AU[[#This Row],[CustomPricing]],T_NAV_AU[[#This Row],[AUD_Original]])","v":4.59},4.59,null,5,100]
[null,"RE01-0602-025000","N",{"$f":"IF(AND(OR(T_NAV_AU[[#This Row],[ColourOptions]]=\"M\",T_NAV_AU[[#This Row],[ColourOptions]]=\"Y\"),MID(T_NAV_AU[[#This Row],[No.]],11,3)=\"069\"),REPLACE(T_NAV_AU[[#This Row],[No.]],11,3,\"xxx\"),T_NAV_AU[[#This Row],[No.]])","v":"RE01-0602-025000"},"RE01-0602-025000","SOMFY | Round Head Adaptor Set + screws","025","Silver ZINC Plated",{"$f":"IF(T_NAV_AU[[#This Row],[ColourOptions]]=\"Y\",\"Refer catalogue\", T_NAV_AU[[#This Row],[Colour Description]])","v":"Silver ZINC Plated"},"Silver ZINC Plated","SET",{"$f":"IF(T_NAV_AU[[#This Row],[CustomPricing]]<>\"\",T_NAV_AU[[#This Row],[CustomPricing]],T_NAV_AU[[#This Row],[AUD_Original]])","v":24.36},24.36,null,5,100]
[null,"RE01-0603-025000","N",{"$f":"IF(AND(OR(T_NAV_AU[[#This Row],[ColourOptions]]=\"M\",T_NAV_AU[[#This Row],[ColourOptions]]=\"Y\"),MID(T_NAV_AU[[#This Row],[No.]],11,3)=\"069\"),REPLACE(T_NAV_AU[[#This Row],[No.]],11,3,\"xxx\"),T_NAV_AU[[#This Row],[No.]])","v":"RE01-0603-025000"},"RE01-0603-025000","10mm Square Shaft + Screws","025","Silver ZINC Plated",{"$f":"IF(T_NAV_AU[[#This Row],[ColourOptions]]=\"Y\",\"Refer catalogue\", T_NAV_AU[[#This Row],[Colour Description]])","v":"Silver ZINC Plated"},"Silver ZINC Plated","SET",{"$f":"IF(T_NAV_AU[[#This Row],[CustomPricing]]<>\"\",T_NAV_AU[[#This Row],[CustomPricing]],T_NAV_AU[[#This Row],[AUD_Original]])","v":3.98},3.98,null,1,100]
[null,"RE01-0604-025000","N",{"$f":"IF(AND(OR(T_NAV_AU[[#This Row],[ColourOptions]]=\"M\",T_NAV_AU[[#This Row],[ColourOptions]]=\"Y\"),MID(T_NAV_AU[[#This Row],[No.]],11,3)=\"069\"),REPLACE(T_NAV_AU[[#This Row],[No.]],11,3,\"xxx\"),T_NAV_AU[[#This Row],[No.]])","v":"RE01-0604-025000"},"RE01-0604-025000","M50 Motor Bracket & Somfy Round H Adaptor + Screws","025","Silver ZINC Plated",{"$f":"IF(T_NAV_AU[[#This Row],[ColourOptions]]=\"Y\",\"Refer catalogue\", T_NAV_AU[[#This Row],[Colour Description]])","v":"Silver ZINC Plated"},"Silver ZINC Plated","SET",{"$f":"IF(T_NAV_AU[[#This Row],[CustomPricing]]<>\"\",T_NAV_AU[[#This Row],[CustomPricing]],T_NAV_AU[[#This Row],[AUD_Original]])","v":30.16},30.16,null,5,100]
[null,"RE01-0663-050003","N",{"$f":"IF(AND(OR(T_NAV_AU[[#This Row],[ColourOptions]]=\"M\",T_NAV_AU[[#This Row],[ColourOptions]]=\"Y\"),MID(T_NAV_AU[[#This Row],[No.]],11,3)=\"069\"),REPLACE(T_NAV_AU[[#This Row],[No.]],11,3,\"xxx\"),T_NAV_AU[[#This Row],[No.]])","v":"RE01-0663-050003"},"RE01-0663-050003","SOMFY | M50 Drive Wheel to 63mm Tube","050","Black, Satin",{"$f":"IF(T_NAV_AU[[#This Row],[ColourOptions]]=\"Y\",\"Refer catalogue\", T_NAV_AU[[#This Row],[Colour Description]])","v":"Black, Satin"},"Black, Satin","PIECE",{"$f":"IF(T_NAV_AU[[#This Row],[CustomPricing]]<>\"\",T_NAV_AU[[#This Row],[CustomPricing]],T_NAV_AU[[#This Row],[AUD_Original]])","v":11.36},11.36,null,5,100]
[null,"RE01-0664-050003","N",{"$f":"IF(AND(OR(T_NAV_AU[[#This Row],[ColourOptions]]=\"M\",T_NAV_AU[[#This Row],[ColourOptions]]=\"Y\"),MID(T_NAV_AU[[#This Row],[No.]],11,3)=\"069\"),REPLACE(T_NAV_AU[[#This Row],[No.]],11,3,\"xxx\"),T_NAV_AU[[#This Row],[No.]])","v":"RE01-0664-050003"},"RE01-0664-050003","SOMFY | M50 Crown Wheel to 63mm Tube","050","Black, Satin",{"$f":"IF(T_NAV_AU[[#This Row],[ColourOptions]]=\"Y\",\"Refer catalogue\", T_NAV_AU[[#This Row],[Colour Description]])","v":"Black, Satin"},"Black, Satin","PIECE",{"$f":"IF(T_NAV_AU[[#This Row],[CustomPricing]]<>\"\",T_NAV_AU[[#This Row],[CustomPricing]],T_NAV_AU[[#This Row],[AUD_Original]])","v":8.0299999999999994},8.0299999999999994,null,5,100]
[null,"RE01-0664-050508","N",{"$f":"IF(AND(OR(T_NAV_AU[[#This Row],[ColourOptions]]=\"M\",T_NAV_AU[[#This Row],[ColourOptions]]=\"Y\"),MID(T_NAV_AU[[#This Row],[No.]],11,3)=\"069\"),REPLACE(T_NAV_AU[[#This Row],[No.]],11,3,\"xxx\"),T_NAV_AU[[#This Row],[No.]])","v":"RE01-0664-050508"},"RE01-0664-050508","Drive Wheel 45mm Motor to 63mm Tube","050","Black, Satin",{"$f":"IF(T_NAV_AU[[#This Row],[ColourOptions]]=\"Y\",\"Refer catalogue\", T_NAV_AU[[#This Row],[Colour Description]])","v":"Black, Satin"},"Black, Satin","PIECE",{"$f":"IF(T_NAV_AU[[#This Row],[CustomPricing]]<>\"\",T_NAV_AU[[#This Row],[CustomPricing]],T_NAV_AU[[#This Row],[AUD_Original]])","v":4.13},4.13,null,5,50]
[null,"RE01-0666-050508","N",{"$f":"IF(AND(OR(T_NAV_AU[[#This Row],[ColourOptions]]=\"M\",T_NAV_AU[[#This Row],[ColourOptions]]=\"Y\"),MID(T_NAV_AU[[#This Row],[No.]],11,3)=\"069\"),REPLACE(T_NAV_AU[[#This Row],[No.]],11,3,\"xxx\"),T_NAV_AU[[#This Row],[No.]])","v":"RE01-0666-050508"},"RE01-0666-050508","Drive Wheel FT 45mm Motor to 63mm Tube | Impct Det","050","Black, Satin",{"$f":"IF(T_NAV_AU[[#This Row],[ColourOptions]]=\"Y\",\"Refer catalogue\", T_NAV_AU[[#This Row],[Colour Description]])","v":"Black, Satin"},"Black, Satin","PIECE",{"$f":"IF(T_NAV_AU[[#This Row],[CustomPricing]]<>\"\",T_NAV_AU[[#This Row],[CustomPricing]],T_NAV_AU[[#This Row],[AUD_Original]])","v":4.13},4.13,null,5,100]
[null,"RE01-0666-050518","N",{"$f":"IF(AND(OR(T_NAV_AU[[#This Row],[ColourOptions]]=\"M\",T_NAV_AU[[#This Row],[ColourOptions]]=\"Y\"),MID(T_NAV_AU[[#This Row],[No.]],11,3)=\"069\"),REPLACE(T_NAV_AU[[#This Row],[No.]],11,3,\"xxx\"),T_NAV_AU[[#This Row],[No.]])","v":"RE01-0666-050518"},"RE01-0666-050518","Drive Wheel & Insert 45mm Motor to 63mm Tube","050","Black, Satin",{"$f":"IF(T_NAV_AU[[#This Row],[ColourOptions]]=\"Y\",\"Refer catalogue\", T_NAV_AU[[#This Row],[Colour Description]])","v":"Black, Satin"},"Black, Satin","SET",{"$f":"IF(T_NAV_AU[[#This Row],[CustomPricing]]<>\"\",T_NAV_AU[[#This Row],[CustomPricing]],T_NAV_AU[[#This Row],[AUD_Original]])","v":5.04},5.04,null,5,100]
[null,"RE01-0678-050003","N",{"$f":"IF(AND(OR(T_NAV_AU[[#This Row],[ColourOptions]]=\"M\",T_NAV_AU[[#This Row],[ColourOptions]]=\"Y\"),MID(T_NAV_AU[[#This Row],[No.]],11,3)=\"069\"),REPLACE(T_NAV_AU[[#This Row],[No.]],11,3,\"xxx\"),T_NAV_AU[[#This Row],[No.]])","v":"RE01-0678-050003"},"RE01-0678-050003","SOMFY | Drive Wheel 78mm Tube","050","Black, Satin",{"$f":"IF(T_NAV_AU[[#This Row],[ColourOptions]]=\"Y\",\"Refer catalogue\", T_NAV_AU[[#This Row],[Colour Description]])","v":"Black, Satin"},"Black, Satin","PIECE",{"$f":"IF(T_NAV_AU[[#This Row],[CustomPricing]]<>\"\",T_NAV_AU[[#This Row],[CustomPricing]],T_NAV_AU[[#This Row],[AUD_Original]])","v":14.57},14.57,null,5,100]
[null,"RE01-0678-050508","N",{"$f":"IF(AND(OR(T_NAV_AU[[#This Row],[ColourOptions]]=\"M\",T_NAV_AU[[#This Row],[ColourOptions]]=\"Y\"),MID(T_NAV_AU[[#This Row],[No.]],11,3)=\"069\"),REPLACE(T_NAV_AU[[#This Row],[No.]],11,3,\"xxx\"),T_NAV_AU[[#This Row],[No.]])","v":"RE01-0678-050508"},"RE01-0678-050508","Crown Wheel 45mm Motor to 78mm Tube","050","Black, Satin",{"$f":"IF(T_NAV_AU[[#This Row],[ColourOptions]]=\"Y\",\"Refer catalogue\", T_NAV_AU[[#This Row],[Colour Description]])","v":"Black, Satin"},"Black, Satin","PIECE",{"$f":"IF(T_NAV_AU[[#This Row],[CustomPricing]]<>\"\",T_NAV_AU[[#This Row],[CustomPricing]],T_NAV_AU[[#This Row],[AUD_Original]])","v":1.78},1.78,null,5,50]
[null,"RE01-0680-050508","N",{"$f":"IF(AND(OR(T_NAV_AU[[#This Row],[ColourOptions]]=\"M\",T_NAV_AU[[#This Row],[ColourOptions]]=\"Y\"),MID(T_NAV_AU[[#This Row],[No.]],11,3)=\"069\"),REPLACE(T_NAV_AU[[#This Row],[No.]],11,3,\"xxx\"),T_NAV_AU[[#This Row],[No.]])","v":"RE01-0680-050508"},"RE01-0680-050508","Drive Wheel Impact Detect 45mm Motor to 78mm Tube","050","Black, Satin",{"$f":"IF(T_NAV_AU[[#This Row],[ColourOptions]]=\"Y\",\"Refer catalogue\", T_NAV_AU[[#This Row],[Colour Description]])","v":"Black, Satin"},"Black, Satin","PIECE",{"$f":"IF(T_NAV_AU[[#This Row],[CustomPricing]]<>\"\",T_NAV_AU[[#This Row],[CustomPricing]],T_NAV_AU[[#This Row],[AUD_Original]])","v":4.13},4.13,null,5,100]
[null,"RE01-1101-000120","N",{"$f":"IF(AND(OR(T_NAV_AU[[#This Row],[ColourOptions]]=\"M\",T_NAV_AU[[#This Row],[ColourOptions]]=\"Y\"),MID(T_NAV_AU[[#This Row],[No.]],11,3)=\"069\"),REPLACE(T_NAV_AU[[#This Row],[No.]],11,3,\"xxx\"),T_NAV_AU[[#This Row],[No.]])","v":"RE01-1101-000120"},"RE01-1101-000120","BOX 120 End Plate Set + Screws","000","Mill Finish",{"$f":"IF(T_NAV_AU[[#This Row],[ColourOptions]]=\"Y\",\"Refer catalogue\", T_NAV_AU[[#This Row],[Colour Description]])","v":"Mill Finish"},"Mill Finish","PAIR",{"$f":"IF(T_NAV_AU[[#This Row],[CustomPricing]]<>\"\",T_NAV_AU[[#This Row],[CustomPricing]],T_NAV_AU[[#This Row],[AUD_Original]])","v":40},40,null,4,16]
[null,"RE01-1101-069120","Y",{"$f":"IF(AND(OR(T_NAV_AU[[#This Row],[ColourOptions]]=\"M\",T_NAV_AU[[#This Row],[ColourOptions]]=\"Y\"),MID(T_NAV_AU[[#This Row],[No.]],11,3)=\"069\"),REPLACE(T_NAV_AU[[#This Row],[No.]],11,3,\"xxx\"),T_NAV_AU[[#This Row],[No.]])","v":"RE01-1101-xxx120"},"RE01-1101-xxx120","BOX 120 End Plate Set + Screws","069","Pure White",{"$f":"IF(T_NAV_AU[[#This Row],[ColourOptions]]=\"Y\",\"Refer catalogue\", T_NAV_AU[[#This Row],[Colour Description]])","v":"Refer catalogue"},"Refer catalogue","PAIR",{"$f":"IF(T_NAV_AU[[#This Row],[CustomPricing]]<>\"\",T_NAV_AU[[#This Row],[CustomPricing]],T_NAV_AU[[#This Row],[AUD_Original]])","v":43.74},43.74,null,4,16]
[null,"RE01-1105-000001","N",{"$f":"IF(AND(OR(T_NAV_AU[[#This Row],[ColourOptions]]=\"M\",T_NAV_AU[[#This Row],[ColourOptions]]=\"Y\"),MID(T_NAV_AU[[#This Row],[No.]],11,3)=\"069\"),REPLACE(T_NAV_AU[[#This Row],[No.]],11,3,\"xxx\"),T_NAV_AU[[#This Row],[No.]])","v":"RE01-1105-000001"},"RE01-1105-000001","BOX 190 – End Plates & Screws Only","000","Mill Finish",{"$f":"IF(T_NAV_AU[[#This Row],[ColourOptions]]=\"Y\",\"Refer catalogue\", T_NAV_AU[[#This Row],[Colour Description]])","v":"Mill Finish"},"Mill Finish","SET",{"$f":"IF(T_NAV_AU[[#This Row],[CustomPricing]]<>\"\",T_NAV_AU[[#This Row],[CustomPricing]],T_NAV_AU[[#This Row],[AUD_Original]])","v":261.86},261.86,null,1,5]
[null,"RE01-1105-020100","N",{"$f":"IF(AND(OR(T_NAV_AU[[#This Row],[ColourOptions]]=\"M\",T_NAV_AU[[#This Row],[ColourOptions]]=\"Y\"),MID(T_NAV_AU[[#This Row],[No.]],11,3)=\"069\"),REPLACE(T_NAV_AU[[#This Row],[No.]],11,3,\"xxx\"),T_NAV_AU[[#This Row],[No.]])","v":"RE01-1105-020100"},"RE01-1105-020100","BOX 190 - Universal Bracket Extrusion | 100mm","020","Anodised 15",{"$f":"IF(T_NAV_AU[[#This Row],[ColourOptions]]=\"Y\",\"Refer catalogue\", T_NAV_AU[[#This Row],[Colour Description]])","v":"Anodised 15"},"Anodised 15","PIECE",{"$f":"IF(T_NAV_AU[[#This Row],[CustomPricing]]<>\"\",T_NAV_AU[[#This Row],[CustomPricing]],T_NAV_AU[[#This Row],[AUD_Original]])","v":41.66},41.66,null,2,10]
[null,"RE01-1105-069001","Y",{"$f":"IF(AND(OR(T_NAV_AU[[#This Row],[ColourOptions]]=\"M\",T_NAV_AU[[#This Row],[ColourOptions]]=\"Y\"),MID(T_NAV_AU[[#This Row],[No.]],11,3)=\"069\"),REPLACE(T_NAV_AU[[#This Row],[No.]],11,3,\"xxx\"),T_NAV_AU[[#This Row],[No.]])","v":"RE01-1105-xxx001"},"RE01-1105-xxx001","BOX 190 – End Plates & Screws Only","069","Pure White",{"$f":"IF(T_NAV_AU[[#This Row],[ColourOptions]]=\"Y\",\"Refer catalogue\", T_NAV_AU[[#This Row],[Colour Description]])","v":"Refer catalogue"},"Refer catalogue","SET",{"$f":"IF(T_NAV_AU[[#This Row],[CustomPricing]]<>\"\",T_NAV_AU[[#This Row],[CustomPricing]],T_NAV_AU[[#This Row],[AUD_Original]])","v":267.81},267.81,null,1,5]
[null,"RE01-3020-025000","N",{"$f":"IF(AND(OR(T_NAV_AU[[#This Row],[ColourOptions]]=\"M\",T_NAV_AU[[#This Row],[ColourOptions]]=\"Y\"),MID(T_NAV_AU[[#This Row],[No.]],11,3)=\"069\"),REPLACE(T_NAV_AU[[#This Row],[No.]],11,3,\"xxx\"),T_NAV_AU[[#This Row],[No.]])","v":"RE01-3020-025000"},"RE01-3020-025000","Open Blind External Brackets","025","Silver ZINC Plated",{"$f":"IF(T_NAV_AU[[#This Row],[ColourOptions]]=\"Y\",\"Refer catalogue\", T_NAV_AU[[#This Row],[Colour Description]])","v":"Silver ZINC Plated"},"Silver ZINC Plated","SET",{"$f":"IF(T_NAV_AU[[#This Row],[CustomPricing]]<>\"\",T_NAV_AU[[#This Row],[CustomPricing]],T_NAV_AU[[#This Row],[AUD_Original]])","v":19.04},19.04,null,2,20]
[null,"RE01-3020-069000","Y",{"$f":"IF(AND(OR(T_NAV_AU[[#This Row],[ColourOptions]]=\"M\",T_NAV_AU[[#This Row],[ColourOptions]]=\"Y\"),MID(T_NAV_AU[[#This Row],[No.]],11,3)=\"069\"),REPLACE(T_NAV_AU[[#This Row],[No.]],11,3,\"xxx\"),T_NAV_AU[[#This Row],[No.]])","v":"RE01-3020-xxx000"},"RE01-3020-xxx000","Open Blind External Brackets","069","Pure White",{"$f":"IF(T_NAV_AU[[#This Row],[ColourOptions]]=\"Y\",\"Refer catalogue\", T_NAV_AU[[#This Row],[Colour Description]])","v":"Refer catalogue"},"Refer catalogue","SET",{"$f":"IF(T_NAV_AU[[#This Row],[CustomPricing]]<>\"\",T_NAV_AU[[#This Row],[CustomPricing]],T_NAV_AU[[#This Row],[AUD_Original]])","v":19.04},19.04,null,2,20]
[null,"RE01-3021-012000","N",{"$f":"IF(AND(OR(T_NAV_AU[[#This Row],[ColourOptions]]=\"M\",T_NAV_AU[[#This Row],[ColourOptions]]=\"Y\"),MID(T_NAV_AU[[#This Row],[No.]],11,3)=\"069\"),REPLACE(T_NAV_AU[[#This Row],[No.]],11,3,\"xxx\"),T_NAV_AU[[#This Row],[No.]])","v":"RE01-3021-012000"},"RE01-3021-012000","Open Blind External Brackets - Stainless 304","012","S/S 304, Satin",{"$f":"IF(T_NAV_AU[[#This Row],[ColourOptions]]=\"Y\",\"Refer catalogue\", T_NAV_AU[[#This Row],[Colour Description]])","v":"S/S 304, Satin"},"S/S 304, Satin","SET",{"$f":"IF(T_NAV_AU[[#This Row],[CustomPricing]]<>\"\",T_NAV_AU[[#This Row],[CustomPricing]],T_NAV_AU[[#This Row],[AUD_Original]])","v":47.61},47.61,null,2,20]
[null,"RE01-3030-025000","N",{"$f":"IF(AND(OR(T_NAV_AU[[#This Row],[ColourOptions]]=\"M\",T_NAV_AU[[#This Row],[ColourOptions]]=\"Y\"),MID(T_NAV_AU[[#This Row],[No.]],11,3)=\"069\"),REPLACE(T_NAV_AU[[#This Row],[No.]],11,3,\"xxx\"),T_NAV_AU[[#This Row],[No.]])","v":"RE01-3030-025000"},"RE01-3030-025000","Open Blind External Brackets | SQUARE","025","Silver ZINC Plated",{"$f":"IF(T_NAV_AU[[#This Row],[ColourOptions]]=\"Y\",\"Refer catalogue\", T_NAV_AU[[#This Row],[Colour Description]])","v":"Silver ZINC Plated"},"Silver ZINC Plated","SET",{"$f":"IF(T_NAV_AU[[#This Row],[CustomPricing]]<>\"\",T_NAV_AU[[#This Row],[CustomPricing]],T_NAV_AU[[#This Row],[AUD_Original]])","v":22.56},22.56,null,2,16]
[null,"RE01-3030-069000","Y",{"$f":"IF(AND(OR(T_NAV_AU[[#This Row],[ColourOptions]]=\"M\",T_NAV_AU[[#This Row],[ColourOptions]]=\"Y\"),MID(T_NAV_AU[[#This Row],[No.]],11,3)=\"069\"),REPLACE(T_NAV_AU[[#This Row],[No.]],11,3,\"xxx\"),T_NAV_AU[[#This Row],[No.]])","v":"RE01-3030-xxx000"},"RE01-3030-xxx000","Open Blind External Brackets | SQUARE","069","Pure White",{"$f":"IF(T_NAV_AU[[#This Row],[ColourOptions]]=\"Y\",\"Refer catalogue\", T_NAV_AU[[#This Row],[Colour Description]])","v":"Refer catalogue"},"Refer catalogue","SET",{"$f":"IF(T_NAV_AU[[#This Row],[CustomPricing]]<>\"\",T_NAV_AU[[#This Row],[CustomPricing]],T_NAV_AU[[#This Row],[AUD_Original]])","v":22.56},22.56,null,2,16]
[null,"RE01-3031-012000","N",{"$f":"IF(AND(OR(T_NAV_AU[[#This Row],[ColourOptions]]=\"M\",T_NAV_AU[[#This Row],[ColourOptions]]=\"Y\"),MID(T_NAV_AU[[#This Row],[No.]],11,3)=\"069\"),REPLACE(T_NAV_AU[[#This Row],[No.]],11,3,\"xxx\"),T_NAV_AU[[#This Row],[No.]])","v":"RE01-3031-012000"},"RE01-3031-012000","Open Blind External Brackets | SQUARE - SS304","012","S/S 304, Satin",{"$f":"IF(T_NAV_AU[[#This Row],[ColourOptions]]=\"Y\",\"Refer catalogue\", T_NAV_AU[[#This Row],[Colour Description]])","v":"S/S 304, Satin"},"S/S 304, Satin","SET",{"$f":"IF(T_NAV_AU[[#This Row],[CustomPricing]]<>\"\",T_NAV_AU[[#This Row],[CustomPricing]],T_NAV_AU[[#This Row],[AUD_Original]])","v":56.57},56.57,null,2,16]
[null,"RE15-0101-000580","N",{"$f":"IF(AND(OR(T_NAV_AU[[#This Row],[ColourOptions]]=\"M\",T_NAV_AU[[#This Row],[ColourOptions]]=\"Y\"),MID(T_NAV_AU[[#This Row],[No.]],11,3)=\"069\"),REPLACE(T_NAV_AU[[#This Row],[No.]],11,3,\"xxx\"),T_NAV_AU[[#This Row],[No.]])","v":"RE15-0101-000580"},"RE15-0101-000580","F56 HD Weight Bar | 26mm x 56mm x 5.8m","000","Mill Finish",{"$f":"IF(T_NAV_AU[[#This Row],[ColourOptions]]=\"Y\",\"Refer catalogue\", T_NAV_AU[[#This Row],[Colour Description]])","v":"Mill Finish"},"Mill Finish","LENGTH",{"$f":"IF(T_NAV_AU[[#This Row],[CustomPricing]]<>\"\",T_NAV_AU[[#This Row],[CustomPricing]],T_NAV_AU[[#This Row],[AUD_Original]])","v":118.47},118.47,null,2,48]
[null,"RE15-0101-069580-PF","Y",{"$f":"IF(AND(OR(T_NAV_AU[[#This Row],[ColourOptions]]=\"M\",T_NAV_AU[[#This Row],[ColourOptions]]=\"Y\"),MID(T_NAV_AU[[#This Row],[No.]],11,3)=\"069\"),REPLACE(T_NAV_AU[[#This Row],[No.]],11,3,\"xxx\"),T_NAV_AU[[#This Row],[No.]])","v":"RE15-0101-xxx580-PF"},"RE15-0101-xxx580-PF","F56 HD Weight Bar w/ PF | 26mm x 56mm x 5.8m","069","Pure White",{"$f":"IF(T_NAV_AU[[#This Row],[ColourOptions]]=\"Y\",\"Refer catalogue\", T_NAV_AU[[#This Row],[Colour Description]])","v":"Refer catalogue"},"Refer catalogue","LENGTH",{"$f":"IF(T_NAV_AU[[#This Row],[CustomPricing]]<>\"\",T_NAV_AU[[#This Row],[CustomPricing]],T_NAV_AU[[#This Row],[AUD_Original]])","v":162.1},162.1,null,2,48]
[null,"RE15-0112-000700","N",{"$f":"IF(AND(OR(T_NAV_AU[[#This Row],[ColourOptions]]=\"M\",T_NAV_AU[[#This Row],[ColourOptions]]=\"Y\"),MID(T_NAV_AU[[#This Row],[No.]],11,3)=\"069\"),REPLACE(T_NAV_AU[[#This Row],[No.]],11,3,\"xxx\"),T_NAV_AU[[#This Row],[No.]])","v":"RE15-0112-000700"},"RE15-0112-000700","F72 HD Weight Bar | 31mm x 72mm x 7m","000","Mill Finish",{"$f":"IF(T_NAV_AU[[#This Row],[ColourOptions]]=\"Y\",\"Refer catalogue\", T_NAV_AU[[#This Row],[Colour Description]])","v":"Mill Finish"},"Mill Finish","LENGTH",{"$f":"IF(T_NAV_AU[[#This Row],[CustomPricing]]<>\"\",T_NAV_AU[[#This Row],[CustomPricing]],T_NAV_AU[[#This Row],[AUD_Original]])","v":271.83999999999997},271.83999999999997,null,1,36]
[null,"RE15-0112-069700-PF","Y",{"$f":"IF(AND(OR(T_NAV_AU[[#This Row],[ColourOptions]]=\"M\",T_NAV_AU[[#This Row],[ColourOptions]]=\"Y\"),MID(T_NAV_AU[[#This Row],[No.]],11,3)=\"069\"),REPLACE(T_NAV_AU[[#This Row],[No.]],11,3,\"xxx\"),T_NAV_AU[[#This Row],[No.]])","v":"RE15-0112-xxx700-PF"},"RE15-0112-xxx700-PF","F72 HD Weight Bar w/ PF | 31mm x 72mm x 7m","069","Pure White",{"$f":"IF(T_NAV_AU[[#This Row],[ColourOptions]]=\"Y\",\"Refer catalogue\", T_NAV_AU[[#This Row],[Colour Description]])","v":"Refer catalogue"},"Refer catalogue","LENGTH",{"$f":"IF(T_NAV_AU[[#This Row],[CustomPricing]]<>\"\",T_NAV_AU[[#This Row],[CustomPricing]],T_NAV_AU[[#This Row],[AUD_Original]])","v":346.65},346.65,null,1,36]
[null,"RE15-0422-050001","N",{"$f":"IF(AND(OR(T_NAV_AU[[#This Row],[ColourOptions]]=\"M\",T_NAV_AU[[#This Row],[ColourOptions]]=\"Y\"),MID(T_NAV_AU[[#This Row],[No.]],11,3)=\"069\"),REPLACE(T_NAV_AU[[#This Row],[No.]],11,3,\"xxx\"),T_NAV_AU[[#This Row],[No.]])","v":"RE15-0422-050001"},"RE15-0422-050001","ULTRA Lock V2 - Kit Assembly (Pin & Latch Only)","050","Black, Satin",{"$f":"IF(T_NAV_AU[[#This Row],[ColourOptions]]=\"Y\",\"Refer catalogue\", T_NAV_AU[[#This Row],[Colour Description]])","v":"Black, Satin"},"Black, Satin","KIT",{"$f":"IF(T_NAV_AU[[#This Row],[CustomPricing]]<>\"\",T_NAV_AU[[#This Row],[CustomPricing]],T_NAV_AU[[#This Row],[AUD_Original]])","v":41.94},41.94,null,5,50]
[null,"RE15-0501-050000","N",{"$f":"IF(AND(OR(T_NAV_AU[[#This Row],[ColourOptions]]=\"M\",T_NAV_AU[[#This Row],[ColourOptions]]=\"Y\"),MID(T_NAV_AU[[#This Row],[No.]],11,3)=\"069\"),REPLACE(T_NAV_AU[[#This Row],[No.]],11,3,\"xxx\"),T_NAV_AU[[#This Row],[No.]])","v":"RE15-0501-050000"},"RE15-0501-050000","F56 Weight Bar Plain End Cap Set + Screws","050","Black, Satin",{"$f":"IF(T_NAV_AU[[#This Row],[ColourOptions]]=\"Y\",\"Refer catalogue\", T_NAV_AU[[#This Row],[Colour Description]])","v":"Black, Satin"},"Black, Satin","SET",{"$f":"IF(T_NAV_AU[[#This Row],[CustomPricing]]<>\"\",T_NAV_AU[[#This Row],[CustomPricing]],T_NAV_AU[[#This Row],[AUD_Original]])","v":2.98},2.98,null,5,200]
[null,"RE15-0512-069000","Y",{"$f":"IF(AND(OR(T_NAV_AU[[#This Row],[ColourOptions]]=\"M\",T_NAV_AU[[#This Row],[ColourOptions]]=\"Y\"),MID(T_NAV_AU[[#This Row],[No.]],11,3)=\"069\"),REPLACE(T_NAV_AU[[#This Row],[No.]],11,3,\"xxx\"),T_NAV_AU[[#This Row],[No.]])","v":"RE15-0512-xxx000"},"RE15-0512-xxx000","F72 Multi-Bar End Cap | Zip","069","Pure White",{"$f":"IF(T_NAV_AU[[#This Row],[ColourOptions]]=\"Y\",\"Refer catalogue\", T_NAV_AU[[#This Row],[Colour Description]])","v":"Refer catalogue"},"Refer catalogue","SET",{"$f":"IF(T_NAV_AU[[#This Row],[CustomPricing]]<>\"\",T_NAV_AU[[#This Row],[CustomPricing]],T_NAV_AU[[#This Row],[AUD_Original]])","v":11.34},11.34,null,5,200]
[null,"RE15-0522-069000","Y",{"$f":"IF(AND(OR(T_NAV_AU[[#This Row],[ColourOptions]]=\"M\",T_NAV_AU[[#This Row],[ColourOptions]]=\"Y\"),MID(T_NAV_AU[[#This Row],[No.]],11,3)=\"069\"),REPLACE(T_NAV_AU[[#This Row],[No.]],11,3,\"xxx\"),T_NAV_AU[[#This Row],[No.]])","v":"RE15-0522-xxx000"},"RE15-0522-xxx000","F72 Multi-Bar End Caps | Wire Guide + screws","069","Pure White",{"$f":"IF(T_NAV_AU[[#This Row],[ColourOptions]]=\"Y\",\"Refer catalogue\", T_NAV_AU[[#This Row],[Colour Description]])","v":"Refer catalogue"},"Refer catalogue","SET",{"$f":"IF(T_NAV_AU[[#This Row],[CustomPricing]]<>\"\",T_NAV_AU[[#This Row],[CustomPricing]],T_NAV_AU[[#This Row],[AUD_Original]])","v":45.23},45.23,null,5,200]
[null,"RE15-0540-050000","N",{"$f":"IF(AND(OR(T_NAV_AU[[#This Row],[ColourOptions]]=\"M\",T_NAV_AU[[#This Row],[ColourOptions]]=\"Y\"),MID(T_NAV_AU[[#This Row],[No.]],11,3)=\"069\"),REPLACE(T_NAV_AU[[#This Row],[No.]],11,3,\"xxx\"),T_NAV_AU[[#This Row],[No.]])","v":"RE15-0540-050000"},"RE15-0540-050000","F72 Plain End Cap Set + Screws","050","Black, Satin",{"$f":"IF(T_NAV_AU[[#This Row],[ColourOptions]]=\"Y\",\"Refer catalogue\", T_NAV_AU[[#This Row],[Colour Description]])","v":"Black, Satin"},"Black, Satin","SET",{"$f":"IF(T_NAV_AU[[#This Row],[CustomPricing]]<>\"\",T_NAV_AU[[#This Row],[CustomPricing]],T_NAV_AU[[#This Row],[AUD_Original]])","v":6.69},6.69,null,5,200]
[null,"RE15-0601-069001","Y",{"$f":"IF(AND(OR(T_NAV_AU[[#This Row],[ColourOptions]]=\"M\",T_NAV_AU[[#This Row],[ColourOptions]]=\"Y\"),MID(T_NAV_AU[[#This Row],[No.]],11,3)=\"069\"),REPLACE(T_NAV_AU[[#This Row],[No.]],11,3,\"xxx\"),T_NAV_AU[[#This Row],[No.]])","v":"RE15-0601-xxx001"},"RE15-0601-xxx001","F56 Wire Guide End Cap Set + screws","069","Pure White",{"$f":"IF(T_NAV_AU[[#This Row],[ColourOptions]]=\"Y\",\"Refer catalogue\", T_NAV_AU[[#This Row],[Colour Description]])","v":"Refer catalogue"},"Refer catalogue","SET",{"$f":"IF(T_NAV_AU[[#This Row],[CustomPricing]]<>\"\",T_NAV_AU[[#This Row],[CustomPricing]],T_NAV_AU[[#This Row],[AUD_Original]])","v":5.37},5.37,null,5,200]
[null,"RE20-0311-050178","N",{"$f":"IF(AND(OR(T_NAV_AU[[#This Row],[ColourOptions]]=\"M\",T_NAV_AU[[#This Row],[ColourOptions]]=\"Y\"),MID(T_NAV_AU[[#This Row],[No.]],11,3)=\"069\"),REPLACE(T_NAV_AU[[#This Row],[No.]],11,3,\"xxx\"),T_NAV_AU[[#This Row],[No.]])","v":"RE20-0311-050178"},"RE20-0311-050178","Reducer | 78mm to 45mm w/ Screws","050","Black, Satin",{"$f":"IF(T_NAV_AU[[#This Row],[ColourOptions]]=\"Y\",\"Refer catalogue\", T_NAV_AU[[#This Row],[Colour Description]])","v":"Black, Satin"},"Black, Satin","PIECE",5.24,4.76,null,4,100]
[null,"RE20-0303-069002","Y",{"$f":"IF(AND(OR(T_NAV_AU[[#This Row],[ColourOptions]]=\"M\",T_NAV_AU[[#This Row],[ColourOptions]]=\"Y\"),MID(T_NAV_AU[[#This Row],[No.]],11,3)=\"069\"),REPLACE(T_NAV_AU[[#This Row],[No.]],11,3,\"xxx\"),T_NAV_AU[[#This Row],[No.]])","v":"RE20-0303-xxx002"},"RE20-0303-xxx002","F56 | Zipscreen - Lock End Cap Set (2 piece)","069","Pure White",{"$f":"IF(T_NAV_AU[[#This Row],[ColourOptions]]=\"Y\",\"Refer catalogue\", T_NAV_AU[[#This Row],[Colour Description]])","v":"Refer catalogue"},"Refer catalogue","SET",{"$f":"IF(T_NAV_AU[[#This Row],[CustomPricing]]<>\"\",T_NAV_AU[[#This Row],[CustomPricing]],T_NAV_AU[[#This Row],[AUD_Original]])","v":4.53},4.53,null,10,200]
[null,"RE24-1312-009001","N",{"$f":"IF(AND(OR(T_NAV_AU[[#This Row],[ColourOptions]]=\"M\",T_NAV_AU[[#This Row],[ColourOptions]]=\"Y\"),MID(T_NAV_AU[[#This Row],[No.]],11,3)=\"069\"),REPLACE(T_NAV_AU[[#This Row],[No.]],11,3,\"xxx\"),T_NAV_AU[[#This Row],[No.]])","v":"RE24-1312-009001"},"RE24-1312-009001","Swaged RH Stud Terminal ONLY + Nuts & Washers","009","S/S 316, Polished",{"$f":"IF(T_NAV_AU[[#This Row],[ColourOptions]]=\"Y\",\"Refer catalogue\", T_NAV_AU[[#This Row],[Colour Description]])","v":"S/S 316, Polished"},"S/S 316, Polished","PIECE",{"$f":"IF(T_NAV_AU[[#This Row],[CustomPricing]]<>\"\",T_NAV_AU[[#This Row],[CustomPricing]],T_NAV_AU[[#This Row],[AUD_Original]])","v":6.78},6.78,null,10,50]
[null,"RE24-1312-009002","N",{"$f":"IF(AND(OR(T_NAV_AU[[#This Row],[ColourOptions]]=\"M\",T_NAV_AU[[#This Row],[ColourOptions]]=\"Y\"),MID(T_NAV_AU[[#This Row],[No.]],11,3)=\"069\"),REPLACE(T_NAV_AU[[#This Row],[No.]],11,3,\"xxx\"),T_NAV_AU[[#This Row],[No.]])","v":"RE24-1312-009002"},"RE24-1312-009002","Dome Head Terminal for 3.2mm Wire","009","S/S 316, Polished",{"$f":"IF(T_NAV_AU[[#This Row],[ColourOptions]]=\"Y\",\"Refer catalogue\", T_NAV_AU[[#This Row],[Colour Description]])","v":"S/S 316, Polished"},"S/S 316, Polished","PIECE",{"$f":"IF(T_NAV_AU[[#This Row],[CustomPricing]]<>\"\",T_NAV_AU[[#This Row],[CustomPricing]],T_NAV_AU[[#This Row],[AUD_Original]])","v":5.6},5.6,null,20,200]
[null,"RE24-1312-009420","N",{"$f":"IF(AND(OR(T_NAV_AU[[#This Row],[ColourOptions]]=\"M\",T_NAV_AU[[#This Row],[ColourOptions]]=\"Y\"),MID(T_NAV_AU[[#This Row],[No.]],11,3)=\"069\"),REPLACE(T_NAV_AU[[#This Row],[No.]],11,3,\"xxx\"),T_NAV_AU[[#This Row],[No.]])","v":"RE24-1312-009420"},"RE24-1312-009420","Swaged Dome Terminal + 4.2 metres Wire Rope","009","S/S 316, Polished",{"$f":"IF(T_NAV_AU[[#This Row],[ColourOptions]]=\"Y\",\"Refer catalogue\", T_NAV_AU[[#This Row],[Colour Description]])","v":"S/S 316, Polished"},"S/S 316, Polished","SET",{"$f":"IF(T_NAV_AU[[#This Row],[CustomPricing]]<>\"\",T_NAV_AU[[#This Row],[CustomPricing]],T_NAV_AU[[#This Row],[AUD_Original]])","v":29.75},29.75,null,4,40]
[null,"RE24-1314-009400","N",{"$f":"IF(AND(OR(T_NAV_AU[[#This Row],[ColourOptions]]=\"M\",T_NAV_AU[[#This Row],[ColourOptions]]=\"Y\"),MID(T_NAV_AU[[#This Row],[No.]],11,3)=\"069\"),REPLACE(T_NAV_AU[[#This Row],[No.]],11,3,\"xxx\"),T_NAV_AU[[#This Row],[No.]])","v":"RE24-1314-009400"},"RE24-1314-009400","Machined Swage Fork Terminal - 4mm S/Steel Wire","009","S/S 316, Polished",{"$f":"IF(T_NAV_AU[[#This Row],[ColourOptions]]=\"Y\",\"Refer catalogue\", T_NAV_AU[[#This Row],[Colour Description]])","v":"S/S 316, Polished"},"S/S 316, Polished","PIECE",{"$f":"IF(T_NAV_AU[[#This Row],[CustomPricing]]<>\"\",T_NAV_AU[[#This Row],[CustomPricing]],T_NAV_AU[[#This Row],[AUD_Original]])","v":88.08},88.08,null,2,40]
[null,"RE24-1401-009040","N",{"$f":"IF(AND(OR(T_NAV_AU[[#This Row],[ColourOptions]]=\"M\",T_NAV_AU[[#This Row],[ColourOptions]]=\"Y\"),MID(T_NAV_AU[[#This Row],[No.]],11,3)=\"069\"),REPLACE(T_NAV_AU[[#This Row],[No.]],11,3,\"xxx\"),T_NAV_AU[[#This Row],[No.]])","v":"RE24-1401-009040"},"RE24-1401-009040","Threaded Stud Terminal Kit - 4mm S/S Wire","009","S/S 316, Polished",{"$f":"IF(T_NAV_AU[[#This Row],[ColourOptions]]=\"Y\",\"Refer catalogue\", T_NAV_AU[[#This Row],[Colour Description]])","v":"S/S 316, Polished"},"S/S 316, Polished","SET",{"$f":"IF(T_NAV_AU[[#This Row],[CustomPricing]]<>\"\",T_NAV_AU[[#This Row],[CustomPricing]],T_NAV_AU[[#This Row],[AUD_Original]])","v":27.98},27.98,null,2,40]
[null,"RE24-2205-009000","N",{"$f":"IF(AND(OR(T_NAV_AU[[#This Row],[ColourOptions]]=\"M\",T_NAV_AU[[#This Row],[ColourOptions]]=\"Y\"),MID(T_NAV_AU[[#This Row],[No.]],11,3)=\"069\"),REPLACE(T_NAV_AU[[#This Row],[No.]],11,3,\"xxx\"),T_NAV_AU[[#This Row],[No.]])","v":"RE24-2205-009000"},"RE24-2205-009000","Bottom Wire Guide Swivel Bracket - Floor/Face Fix","009","S/S 316, Polished",{"$f":"IF(T_NAV_AU[[#This Row],[ColourOptions]]=\"Y\",\"Refer catalogue\", T_NAV_AU[[#This Row],[Colour Description]])","v":"S/S 316, Polished"},"S/S 316, Polished","SET",{"$f":"IF(T_NAV_AU[[#This Row],[CustomPricing]]<>\"\",T_NAV_AU[[#This Row],[CustomPricing]],T_NAV_AU[[#This Row],[AUD_Original]])","v":32.14},32.14,null,4,200]
[null,"RE24-2301-009090","N",{"$f":"IF(AND(OR(T_NAV_AU[[#This Row],[ColourOptions]]=\"M\",T_NAV_AU[[#This Row],[ColourOptions]]=\"Y\"),MID(T_NAV_AU[[#This Row],[No.]],11,3)=\"069\"),REPLACE(T_NAV_AU[[#This Row],[No.]],11,3,\"xxx\"),T_NAV_AU[[#This Row],[No.]])","v":"RE24-2301-009090"},"RE24-2301-009090","Wall Mounting 'L' Bracket - LH & RH Set 90 x 38mm","009","S/S 316, Polished",{"$f":"IF(T_NAV_AU[[#This Row],[ColourOptions]]=\"Y\",\"Refer catalogue\", T_NAV_AU[[#This Row],[Colour Description]])","v":"S/S 316, Polished"},"S/S 316, Polished","PAIR",{"$f":"IF(T_NAV_AU[[#This Row],[CustomPricing]]<>\"\",T_NAV_AU[[#This Row],[CustomPricing]],T_NAV_AU[[#This Row],[AUD_Original]])","v":127.36},127.36,null,1,40]
[null,"RE24-2601-009040","N",{"$f":"IF(AND(OR(T_NAV_AU[[#This Row],[ColourOptions]]=\"M\",T_NAV_AU[[#This Row],[ColourOptions]]=\"Y\"),MID(T_NAV_AU[[#This Row],[No.]],11,3)=\"069\"),REPLACE(T_NAV_AU[[#This Row],[No.]],11,3,\"xxx\"),T_NAV_AU[[#This Row],[No.]])","v":"RE24-2601-009040"},"RE24-2601-009040","Tensioning Bracket & Terminal - 4mm S/S Wire","009","S/S 316, Polished",{"$f":"IF(T_NAV_AU[[#This Row],[ColourOptions]]=\"Y\",\"Refer catalogue\", T_NAV_AU[[#This Row],[Colour Description]])","v":"S/S 316, Polished"},"S/S 316, Polished","SET",{"$f":"IF(T_NAV_AU[[#This Row],[CustomPricing]]<>\"\",T_NAV_AU[[#This Row],[CustomPricing]],T_NAV_AU[[#This Row],[AUD_Original]])","v":83.32},83.32,null,2,40]
[null,"RE24-2601-009902","N",{"$f":"IF(AND(OR(T_NAV_AU[[#This Row],[ColourOptions]]=\"M\",T_NAV_AU[[#This Row],[ColourOptions]]=\"Y\"),MID(T_NAV_AU[[#This Row],[No.]],11,3)=\"069\"),REPLACE(T_NAV_AU[[#This Row],[No.]],11,3,\"xxx\"),T_NAV_AU[[#This Row],[No.]])","v":"RE24-2601-009902"},"RE24-2601-009902","Flat Head Stud Terminal - 4mm S/Steel Wire","009","S/S 316, Polished",{"$f":"IF(T_NAV_AU[[#This Row],[ColourOptions]]=\"Y\",\"Refer catalogue\", T_NAV_AU[[#This Row],[Colour Description]])","v":"S/S 316, Polished"},"S/S 316, Polished","PIECE",{"$f":"IF(T_NAV_AU[[#This Row],[CustomPricing]]<>\"\",T_NAV_AU[[#This Row],[CustomPricing]],T_NAV_AU[[#This Row],[AUD_Original]])","v":6.8},6.8,null,0,1]
[null,"RE24-4004-010032","N",{"$f":"IF(AND(OR(T_NAV_AU[[#This Row],[ColourOptions]]=\"M\",T_NAV_AU[[#This Row],[ColourOptions]]=\"Y\"),MID(T_NAV_AU[[#This Row],[No.]],11,3)=\"069\"),REPLACE(T_NAV_AU[[#This Row],[No.]],11,3,\"xxx\"),T_NAV_AU[[#This Row],[No.]])","v":"RE24-4004-010032"},"RE24-4004-010032","Wire Guide Top Saddle Terminal Kit w/ Spring","010","S/S 304, Natural",{"$f":"IF(T_NAV_AU[[#This Row],[ColourOptions]]=\"Y\",\"Refer catalogue\", T_NAV_AU[[#This Row],[Colour Description]])","v":"S/S 304, Natural"},"S/S 304, Natural","SET",{"$f":"IF(T_NAV_AU[[#This Row],[CustomPricing]]<>\"\",T_NAV_AU[[#This Row],[CustomPricing]],T_NAV_AU[[#This Row],[AUD_Original]])","v":5.83},5.83,null,4,400]
[null,"RE24-9101-009050","N",{"$f":"IF(AND(OR(T_NAV_AU[[#This Row],[ColourOptions]]=\"M\",T_NAV_AU[[#This Row],[ColourOptions]]=\"Y\"),MID(T_NAV_AU[[#This Row],[No.]],11,3)=\"069\"),REPLACE(T_NAV_AU[[#This Row],[No.]],11,3,\"xxx\"),T_NAV_AU[[#This Row],[No.]])","v":"RE24-9101-009050"},"RE24-9101-009050","Spring Compression 14.5 ID x 50mm Long","009","S/S 316, Polished",{"$f":"IF(T_NAV_AU[[#This Row],[ColourOptions]]=\"Y\",\"Refer catalogue\", T_NAV_AU[[#This Row],[Colour Description]])","v":"S/S 316, Polished"},"S/S 316, Polished","PIECE",{"$f":"IF(T_NAV_AU[[#This Row],[CustomPricing]]<>\"\",T_NAV_AU[[#This Row],[CustomPricing]],T_NAV_AU[[#This Row],[AUD_Original]])","v":5.3},5.3,null,2,500]
[null,"RE29-0102-000500","N",{"$f":"IF(AND(OR(T_NAV_AU[[#This Row],[ColourOptions]]=\"M\",T_NAV_AU[[#This Row],[ColourOptions]]=\"Y\"),MID(T_NAV_AU[[#This Row],[No.]],11,3)=\"069\"),REPLACE(T_NAV_AU[[#This Row],[No.]],11,3,\"xxx\"),T_NAV_AU[[#This Row],[No.]])","v":"RE29-0102-000500"},"RE29-0102-000500","Pivot Arm Terminal Bar - 5.0 metre","000","Mill Finish",{"$f":"IF(T_NAV_AU[[#This Row],[ColourOptions]]=\"Y\",\"Refer catalogue\", T_NAV_AU[[#This Row],[Colour Description]])","v":"Mill Finish"},"Mill Finish","LENGTH",{"$f":"IF(T_NAV_AU[[#This Row],[CustomPricing]]<>\"\",T_NAV_AU[[#This Row],[CustomPricing]],T_NAV_AU[[#This Row],[AUD_Original]])","v":235.67},235.67,null,1,10]
[null,"RE29-0102-069500","Y",{"$f":"IF(AND(OR(T_NAV_AU[[#This Row],[ColourOptions]]=\"M\",T_NAV_AU[[#This Row],[ColourOptions]]=\"Y\"),MID(T_NAV_AU[[#This Row],[No.]],11,3)=\"069\"),REPLACE(T_NAV_AU[[#This Row],[No.]],11,3,\"xxx\"),T_NAV_AU[[#This Row],[No.]])","v":"RE29-0102-xxx500"},"RE29-0102-xxx500","Pivot Arm Terminal Bar | 5m","069","Pure White",{"$f":"IF(T_NAV_AU[[#This Row],[ColourOptions]]=\"Y\",\"Refer catalogue\", T_NAV_AU[[#This Row],[Colour Description]])","v":"Refer catalogue"},"Refer catalogue","LENGTH",{"$f":"IF(T_NAV_AU[[#This Row],[CustomPricing]]<>\"\",T_NAV_AU[[#This Row],[CustomPricing]],T_NAV_AU[[#This Row],[AUD_Original]])","v":243.16},243.16,null,1,10]
[null,"RE91-0100-025025","N",{"$f":"IF(AND(OR(T_NAV_AU[[#This Row],[ColourOptions]]=\"M\",T_NAV_AU[[#This Row],[ColourOptions]]=\"Y\"),MID(T_NAV_AU[[#This Row],[No.]],11,3)=\"069\"),REPLACE(T_NAV_AU[[#This Row],[No.]],11,3,\"xxx\"),T_NAV_AU[[#This Row],[No.]])","v":"RE91-0100-025025"},"RE91-0100-025025","25mm Cam Buckle & Strap Assembly","025","Silver ZINC Plated",{"$f":"IF(T_NAV_AU[[#This Row],[ColourOptions]]=\"Y\",\"Refer catalogue\", T_NAV_AU[[#This Row],[Colour Description]])","v":"Silver ZINC Plated"},"Silver ZINC Plated","PIECE",{"$f":"IF(T_NAV_AU[[#This Row],[CustomPricing]]<>\"\",T_NAV_AU[[#This Row],[CustomPricing]],T_NAV_AU[[#This Row],[AUD_Original]])","v":11.28},11.28,null,2,100]
[null,"RE91-1101-013025","N",{"$f":"IF(AND(OR(T_NAV_AU[[#This Row],[ColourOptions]]=\"M\",T_NAV_AU[[#This Row],[ColourOptions]]=\"Y\"),MID(T_NAV_AU[[#This Row],[No.]],11,3)=\"069\"),REPLACE(T_NAV_AU[[#This Row],[No.]],11,3,\"xxx\"),T_NAV_AU[[#This Row],[No.]])","v":"RE91-1101-013025"},"RE91-1101-013025","25mm Footmans Loop - S/Steel","013","S/S 304, Polished",{"$f":"IF(T_NAV_AU[[#This Row],[ColourOptions]]=\"Y\",\"Refer catalogue\", T_NAV_AU[[#This Row],[Colour Description]])","v":"S/S 304, Polished"},"S/S 304, Polished","PIECE",{"$f":"IF(T_NAV_AU[[#This Row],[CustomPricing]]<>\"\",T_NAV_AU[[#This Row],[CustomPricing]],T_NAV_AU[[#This Row],[AUD_Original]])","v":4.4800000000000004},4.4800000000000004,null,10,200]
[null,"RE91-1102-050025","N",{"$f":"IF(AND(OR(T_NAV_AU[[#This Row],[ColourOptions]]=\"M\",T_NAV_AU[[#This Row],[ColourOptions]]=\"Y\"),MID(T_NAV_AU[[#This Row],[No.]],11,3)=\"069\"),REPLACE(T_NAV_AU[[#This Row],[No.]],11,3,\"xxx\"),T_NAV_AU[[#This Row],[No.]])","v":"RE91-1102-050025"},"RE91-1102-050025","25mm Strap Down Loop | F56","050","Black, Satin",{"$f":"IF(T_NAV_AU[[#This Row],[ColourOptions]]=\"Y\",\"Refer catalogue\", T_NAV_AU[[#This Row],[Colour Description]])","v":"Black, Satin"},"Black, Satin","PIECE",{"$f":"IF(T_NAV_AU[[#This Row],[CustomPricing]]<>\"\",T_NAV_AU[[#This Row],[CustomPricing]],T_NAV_AU[[#This Row],[AUD_Original]])","v":2.38},2.38,null,10,1000]
[null,"RE91-1103-009050","N",{"$f":"IF(AND(OR(T_NAV_AU[[#This Row],[ColourOptions]]=\"M\",T_NAV_AU[[#This Row],[ColourOptions]]=\"Y\"),MID(T_NAV_AU[[#This Row],[No.]],11,3)=\"069\"),REPLACE(T_NAV_AU[[#This Row],[No.]],11,3,\"xxx\"),T_NAV_AU[[#This Row],[No.]])","v":"RE91-1103-009050"},"RE91-1103-009050","Strap Down Spring Clip - 50mm","009","S/S 316, Polished",{"$f":"IF(T_NAV_AU[[#This Row],[ColourOptions]]=\"Y\",\"Refer catalogue\", T_NAV_AU[[#This Row],[Colour Description]])","v":"S/S 316, Polished"},"S/S 316, Polished","PIECE",{"$f":"IF(T_NAV_AU[[#This Row],[CustomPricing]]<>\"\",T_NAV_AU[[#This Row],[CustomPricing]],T_NAV_AU[[#This Row],[AUD_Original]])","v":3.1},3.1,null,10,200]
[null,"RE91-1104-013030","N",{"$f":"IF(AND(OR(T_NAV_AU[[#This Row],[ColourOptions]]=\"M\",T_NAV_AU[[#This Row],[ColourOptions]]=\"Y\"),MID(T_NAV_AU[[#This Row],[No.]],11,3)=\"069\"),REPLACE(T_NAV_AU[[#This Row],[No.]],11,3,\"xxx\"),T_NAV_AU[[#This Row],[No.]])","v":"RE91-1104-013030"},"RE91-1104-013030","Strap Down Pad Eye Saddle - 30mm","009","S/S 316, Polished",{"$f":"IF(T_NAV_AU[[#This Row],[ColourOptions]]=\"Y\",\"Refer catalogue\", T_NAV_AU[[#This Row],[Colour Description]])","v":"S/S 316, Polished"},"S/S 316, Polished","PIECE",{"$f":"IF(T_NAV_AU[[#This Row],[CustomPricing]]<>\"\",T_NAV_AU[[#This Row],[CustomPricing]],T_NAV_AU[[#This Row],[AUD_Original]])","v":3.93},3.93,null,10,100]
[null,"RE91-1105-009000","N",{"$f":"IF(AND(OR(T_NAV_AU[[#This Row],[ColourOptions]]=\"M\",T_NAV_AU[[#This Row],[ColourOptions]]=\"Y\"),MID(T_NAV_AU[[#This Row],[No.]],11,3)=\"069\"),REPLACE(T_NAV_AU[[#This Row],[No.]],11,3,\"xxx\"),T_NAV_AU[[#This Row],[No.]])","v":"RE91-1105-009000"},"RE91-1105-009000","Flush Mount Strap Down Loop","009","S/S 316, Polished",{"$f":"IF(T_NAV_AU[[#This Row],[ColourOptions]]=\"Y\",\"Refer catalogue\", T_NAV_AU[[#This Row],[Colour Description]])","v":"S/S 316, Polished"},"S/S 316, Polished","PIECE",{"$f":"IF(T_NAV_AU[[#This Row],[CustomPricing]]<>\"\",T_NAV_AU[[#This Row],[CustomPricing]],T_NAV_AU[[#This Row],[AUD_Original]])","v":28.34},28.34,null,4,100]
[null,"RE91-1111-013025","N",{"$f":"IF(AND(OR(T_NAV_AU[[#This Row],[ColourOptions]]=\"M\",T_NAV_AU[[#This Row],[ColourOptions]]=\"Y\"),MID(T_NAV_AU[[#This Row],[No.]],11,3)=\"069\"),REPLACE(T_NAV_AU[[#This Row],[No.]],11,3,\"xxx\"),T_NAV_AU[[#This Row],[No.]])","v":"RE91-1111-013025"},"RE91-1111-013025","25mm Footmans Loop Kit | F72","013","S/S 304, Polished",{"$f":"IF(T_NAV_AU[[#This Row],[ColourOptions]]=\"Y\",\"Refer catalogue\", T_NAV_AU[[#This Row],[Colour Description]])","v":"S/S 304, Polished"},"S/S 304, Polished","KIT",{"$f":"IF(T_NAV_AU[[#This Row],[CustomPricing]]<>\"\",T_NAV_AU[[#This Row],[CustomPricing]],T_NAV_AU[[#This Row],[AUD_Original]])","v":9.07},9.07,null,5,100]
[null,"SB03-1301-009190","N",{"$f":"IF(AND(OR(T_NAV_AU[[#This Row],[ColourOptions]]=\"M\",T_NAV_AU[[#This Row],[ColourOptions]]=\"Y\"),MID(T_NAV_AU[[#This Row],[No.]],11,3)=\"069\"),REPLACE(T_NAV_AU[[#This Row],[No.]],11,3,\"xxx\"),T_NAV_AU[[#This Row],[No.]])","v":"SB03-1301-009190"},"SB03-1301-009190","Zipscreen Extreme Open Bracket Kit","009","S/S 316, Polished",{"$f":"IF(T_NAV_AU[[#This Row],[ColourOptions]]=\"Y\",\"Refer catalogue\", T_NAV_AU[[#This Row],[Colour Description]])","v":"S/S 316, Polished"},"S/S 316, Polished","SET",{"$f":"IF(T_NAV_AU[[#This Row],[CustomPricing]]<>\"\",T_NAV_AU[[#This Row],[CustomPricing]],T_NAV_AU[[#This Row],[AUD_Original]])","v":258.45999999999998},258.45999999999998,null,1,4]
[null,"SB04-0701-000550","N",{"$f":"IF(AND(OR(T_NAV_AU[[#This Row],[ColourOptions]]=\"M\",T_NAV_AU[[#This Row],[ColourOptions]]=\"Y\"),MID(T_NAV_AU[[#This Row],[No.]],11,3)=\"069\"),REPLACE(T_NAV_AU[[#This Row],[No.]],11,3,\"xxx\"),T_NAV_AU[[#This Row],[No.]])","v":"SB04-0701-000550"},"SB04-0701-000550","ZIPSCREEN - Zip Inner Rail | 5.5m","000","Mill Finish",{"$f":"IF(T_NAV_AU[[#This Row],[ColourOptions]]=\"Y\",\"Refer catalogue\", T_NAV_AU[[#This Row],[Colour Description]])","v":"Mill Finish"},"Mill Finish","LENGTH",{"$f":"IF(T_NAV_AU[[#This Row],[CustomPricing]]<>\"\",T_NAV_AU[[#This Row],[CustomPricing]],T_NAV_AU[[#This Row],[AUD_Original]])","v":48.63},48.63,null,10,120]
[null,"SB04-0701-069550","Y",{"$f":"IF(AND(OR(T_NAV_AU[[#This Row],[ColourOptions]]=\"M\",T_NAV_AU[[#This Row],[ColourOptions]]=\"Y\"),MID(T_NAV_AU[[#This Row],[No.]],11,3)=\"069\"),REPLACE(T_NAV_AU[[#This Row],[No.]],11,3,\"xxx\"),T_NAV_AU[[#This Row],[No.]])","v":"SB04-0701-xxx550"},"SB04-0701-xxx550","ZIPSCREEN - Zip Inner Rail | 5.5m","069","Pure White",{"$f":"IF(T_NAV_AU[[#This Row],[ColourOptions]]=\"Y\",\"Refer catalogue\", T_NAV_AU[[#This Row],[Colour Description]])","v":"Refer catalogue"},"Refer catalogue","LENGTH",{"$f":"IF(T_NAV_AU[[#This Row],[CustomPricing]]<>\"\",T_NAV_AU[[#This Row],[CustomPricing]],T_NAV_AU[[#This Row],[AUD_Original]])","v":63.6},63.6,null,10,120]
[null,"SB04-0702-000550","N",{"$f":"IF(AND(OR(T_NAV_AU[[#This Row],[ColourOptions]]=\"M\",T_NAV_AU[[#This Row],[ColourOptions]]=\"Y\"),MID(T_NAV_AU[[#This Row],[No.]],11,3)=\"069\"),REPLACE(T_NAV_AU[[#This Row],[No.]],11,3,\"xxx\"),T_NAV_AU[[#This Row],[No.]])","v":"SB04-0702-000550"},"SB04-0702-000550","ZIPSCREEN - U Mounting Rail | 5.5m","000","Mill Finish",{"$f":"IF(T_NAV_AU[[#This Row],[ColourOptions]]=\"Y\",\"Refer catalogue\", T_NAV_AU[[#This Row],[Colour Description]])","v":"Mill Finish"},"Mill Finish","LENGTH",{"$f":"IF(T_NAV_AU[[#This Row],[CustomPricing]]<>\"\",T_NAV_AU[[#This Row],[CustomPricing]],T_NAV_AU[[#This Row],[AUD_Original]])","v":52.75},52.75,null,10,120]
[null,"SB04-0702-069550-PF","Y",{"$f":"IF(AND(OR(T_NAV_AU[[#This Row],[ColourOptions]]=\"M\",T_NAV_AU[[#This Row],[ColourOptions]]=\"Y\"),MID(T_NAV_AU[[#This Row],[No.]],11,3)=\"069\"),REPLACE(T_NAV_AU[[#This Row],[No.]],11,3,\"xxx\"),T_NAV_AU[[#This Row],[No.]])","v":"SB04-0702-xxx550-PF"},"SB04-0702-xxx550-PF","ZIPSCREEN - U Mounting Rail w/ PF | 5.5m","069","Pure White",{"$f":"IF(T_NAV_AU[[#This Row],[ColourOptions]]=\"Y\",\"Refer catalogue\", T_NAV_AU[[#This Row],[Colour Description]])","v":"Refer catalogue"},"Refer catalogue","LENGTH",{"$f":"IF(T_NAV_AU[[#This Row],[CustomPricing]]<>\"\",T_NAV_AU[[#This Row],[CustomPricing]],T_NAV_AU[[#This Row],[AUD_Original]])","v":67.34},67.34,null,10,120]
[null,"SB04-0703-000550","N",{"$f":"IF(AND(OR(T_NAV_AU[[#This Row],[ColourOptions]]=\"M\",T_NAV_AU[[#This Row],[ColourOptions]]=\"Y\"),MID(T_NAV_AU[[#This Row],[No.]],11,3)=\"069\"),REPLACE(T_NAV_AU[[#This Row],[No.]],11,3,\"xxx\"),T_NAV_AU[[#This Row],[No.]])","v":"SB04-0703-000550"},"SB04-0703-000550","ZIPSCREEN - L Fixing Rail | 5.5m","000","Mill Finish",{"$f":"IF(T_NAV_AU[[#This Row],[ColourOptions]]=\"Y\",\"Refer catalogue\", T_NAV_AU[[#This Row],[Colour Description]])","v":"Mill Finish"},"Mill Finish","LENGTH",{"$f":"IF(T_NAV_AU[[#This Row],[CustomPricing]]<>\"\",T_NAV_AU[[#This Row],[CustomPricing]],T_NAV_AU[[#This Row],[AUD_Original]])","v":41.65},41.65,null,10,120]
[null,"SB04-0703-069550","Y",{"$f":"IF(AND(OR(T_NAV_AU[[#This Row],[ColourOptions]]=\"M\",T_NAV_AU[[#This Row],[ColourOptions]]=\"Y\"),MID(T_NAV_AU[[#This Row],[No.]],11,3)=\"069\"),REPLACE(T_NAV_AU[[#This Row],[No.]],11,3,\"xxx\"),T_NAV_AU[[#This Row],[No.]])","v":"SB04-0703-xxx550"},"SB04-0703-xxx550","ZIPSCREEN - L Fixing Rail | 5.5m","069","Pure White",{"$f":"IF(T_NAV_AU[[#This Row],[ColourOptions]]=\"Y\",\"Refer catalogue\", T_NAV_AU[[#This Row],[Colour Description]])","v":"Refer catalogue"},"Refer catalogue","LENGTH",{"$f":"IF(T_NAV_AU[[#This Row],[CustomPricing]]<>\"\",T_NAV_AU[[#This Row],[CustomPricing]],T_NAV_AU[[#This Row],[AUD_Original]])","v":50},50,null,10,120]
[null,"SB04-0705-000550","N",{"$f":"IF(AND(OR(T_NAV_AU[[#This Row],[ColourOptions]]=\"M\",T_NAV_AU[[#This Row],[ColourOptions]]=\"Y\"),MID(T_NAV_AU[[#This Row],[No.]],11,3)=\"069\"),REPLACE(T_NAV_AU[[#This Row],[No.]],11,3,\"xxx\"),T_NAV_AU[[#This Row],[No.]])","v":"SB04-0705-000550"},"SB04-0705-000550","ZIPSCREEN - Face Fix U Mounting Rail | 5.5m","000","Mill Finish",{"$f":"IF(T_NAV_AU[[#This Row],[ColourOptions]]=\"Y\",\"Refer catalogue\", T_NAV_AU[[#This Row],[Colour Description]])","v":"Mill Finish"},"Mill Finish","LENGTH",{"$f":"IF(T_NAV_AU[[#This Row],[CustomPricing]]<>\"\",T_NAV_AU[[#This Row],[CustomPricing]],T_NAV_AU[[#This Row],[AUD_Original]])","v":58.23},58.23,null,8,120]
[null,"SB04-0705-069550","Y",{"$f":"IF(AND(OR(T_NAV_AU[[#This Row],[ColourOptions]]=\"M\",T_NAV_AU[[#This Row],[ColourOptions]]=\"Y\"),MID(T_NAV_AU[[#This Row],[No.]],11,3)=\"069\"),REPLACE(T_NAV_AU[[#This Row],[No.]],11,3,\"xxx\"),T_NAV_AU[[#This Row],[No.]])","v":"SB04-0705-xxx550"},"SB04-0705-xxx550","ZIPSCREEN - Face Fix U Mounting Rail | 5.5m","069","Pure White",{"$f":"IF(T_NAV_AU[[#This Row],[ColourOptions]]=\"Y\",\"Refer catalogue\", T_NAV_AU[[#This Row],[Colour Description]])","v":"Refer catalogue"},"Refer catalogue","LENGTH",{"$f":"IF(T_NAV_AU[[#This Row],[CustomPricing]]<>\"\",T_NAV_AU[[#This Row],[CustomPricing]],T_NAV_AU[[#This Row],[AUD_Original]])","v":84.79},84.79,null,8,120]
[null,"SB04-0708-000550","N",{"$f":"IF(AND(OR(T_NAV_AU[[#This Row],[ColourOptions]]=\"M\",T_NAV_AU[[#This Row],[ColourOptions]]=\"Y\"),MID(T_NAV_AU[[#This Row],[No.]],11,3)=\"069\"),REPLACE(T_NAV_AU[[#This Row],[No.]],11,3,\"xxx\"),T_NAV_AU[[#This Row],[No.]])","v":"SB04-0708-000550"},"SB04-0708-000550","ZIPSCREEN - L Fixing Rail for Box 190 | 5.5m","000","Mill Finish",{"$f":"IF(T_NAV_AU[[#This Row],[ColourOptions]]=\"Y\",\"Refer catalogue\", T_NAV_AU[[#This Row],[Colour Description]])","v":"Mill Finish"},"Mill Finish","LENGTH",{"$f":"IF(T_NAV_AU[[#This Row],[CustomPricing]]<>\"\",T_NAV_AU[[#This Row],[CustomPricing]],T_NAV_AU[[#This Row],[AUD_Original]])","v":58},58,null,8,120]
[null,"SB04-0708-069550-PF","Y",{"$f":"IF(AND(OR(T_NAV_AU[[#This Row],[ColourOptions]]=\"M\",T_NAV_AU[[#This Row],[ColourOptions]]=\"Y\"),MID(T_NAV_AU[[#This Row],[No.]],11,3)=\"069\"),REPLACE(T_NAV_AU[[#This Row],[No.]],11,3,\"xxx\"),T_NAV_AU[[#This Row],[No.]])","v":"SB04-0708-xxx550-PF"},"SB04-0708-xxx550-PF","ZIPSCREEN - L Fixing Rail for Box 190 | 5.5m","069","Pure White",{"$f":"IF(T_NAV_AU[[#This Row],[ColourOptions]]=\"Y\",\"Refer catalogue\", T_NAV_AU[[#This Row],[Colour Description]])","v":"Refer catalogue"},"Refer catalogue","LENGTH",{"$f":"IF(T_NAV_AU[[#This Row],[CustomPricing]]<>\"\",T_NAV_AU[[#This Row],[CustomPricing]],T_NAV_AU[[#This Row],[AUD_Original]])","v":68},68,null,8,120]
[null,"SB05-1411-050001","N",{"$f":"IF(AND(OR(T_NAV_AU[[#This Row],[ColourOptions]]=\"M\",T_NAV_AU[[#This Row],[ColourOptions]]=\"Y\"),MID(T_NAV_AU[[#This Row],[No.]],11,3)=\"069\"),REPLACE(T_NAV_AU[[#This Row],[No.]],11,3,\"xxx\"),T_NAV_AU[[#This Row],[No.]])","v":"SB05-1411-050001"},"SB05-1411-050001","ZIPSCREEN - Inner Rail Funnel & Stop Set + Screws","050","Black, Satin",{"$f":"IF(T_NAV_AU[[#This Row],[ColourOptions]]=\"Y\",\"Refer catalogue\", T_NAV_AU[[#This Row],[Colour Description]])","v":"Black, Satin"},"Black, Satin","SET",{"$f":"IF(T_NAV_AU[[#This Row],[CustomPricing]]<>\"\",T_NAV_AU[[#This Row],[CustomPricing]],T_NAV_AU[[#This Row],[AUD_Original]])","v":4.9000000000000004},4.9000000000000004,null,10,500]
[null,"SB05-1412-050001","N",{"$f":"IF(AND(OR(T_NAV_AU[[#This Row],[ColourOptions]]=\"M\",T_NAV_AU[[#This Row],[ColourOptions]]=\"Y\"),MID(T_NAV_AU[[#This Row],[No.]],11,3)=\"069\"),REPLACE(T_NAV_AU[[#This Row],[No.]],11,3,\"xxx\"),T_NAV_AU[[#This Row],[No.]])","v":"SB05-1412-050001"},"SB05-1412-050001","ZIPSCREEN - Funnel w/ Integrated Top Stop + Screw\t","050","Black, Satin",{"$f":"IF(T_NAV_AU[[#This Row],[ColourOptions]]=\"Y\",\"Refer catalogue\", T_NAV_AU[[#This Row],[Colour Description]])","v":"Black, Satin"},"Black, Satin","SET",{"$f":"IF(T_NAV_AU[[#This Row],[CustomPricing]]<>\"\",T_NAV_AU[[#This Row],[CustomPricing]],T_NAV_AU[[#This Row],[AUD_Original]])","v":4.9000000000000004},4.9000000000000004,null,10,500]
[null,"SB05-1511-050001","N",{"$f":"IF(AND(OR(T_NAV_AU[[#This Row],[ColourOptions]]=\"M\",T_NAV_AU[[#This Row],[ColourOptions]]=\"Y\"),MID(T_NAV_AU[[#This Row],[No.]],11,3)=\"069\"),REPLACE(T_NAV_AU[[#This Row],[No.]],11,3,\"xxx\"),T_NAV_AU[[#This Row],[No.]])","v":"SB05-1511-050001"},"SB05-1511-050001","ZIPSCREEN - Inner Rail Bottom Cap Set + Screws","050","Black, Satin",{"$f":"IF(T_NAV_AU[[#This Row],[ColourOptions]]=\"Y\",\"Refer catalogue\", T_NAV_AU[[#This Row],[Colour Description]])","v":"Black, Satin"},"Black, Satin","SET",{"$f":"IF(T_NAV_AU[[#This Row],[CustomPricing]]<>\"\",T_NAV_AU[[#This Row],[CustomPricing]],T_NAV_AU[[#This Row],[AUD_Original]])","v":3.49},3.49,null,10,500]
[null,"SB07-2103-050001","N",{"$f":"IF(AND(OR(T_NAV_AU[[#This Row],[ColourOptions]]=\"M\",T_NAV_AU[[#This Row],[ColourOptions]]=\"Y\"),MID(T_NAV_AU[[#This Row],[No.]],11,3)=\"069\"),REPLACE(T_NAV_AU[[#This Row],[No.]],11,3,\"xxx\"),T_NAV_AU[[#This Row],[No.]])","v":"SB07-2103-050001"},"SB07-2103-050001","ZIPSCREEN - Weight Bar Lock Set + screws","050","Black, Satin",{"$f":"IF(T_NAV_AU[[#This Row],[ColourOptions]]=\"Y\",\"Refer catalogue\", T_NAV_AU[[#This Row],[Colour Description]])","v":"Black, Satin"},"Black, Satin","SET",{"$f":"IF(T_NAV_AU[[#This Row],[CustomPricing]]<>\"\",T_NAV_AU[[#This Row],[CustomPricing]],T_NAV_AU[[#This Row],[AUD_Original]])","v":11.5},11.5,null,10,100]
[null,"SB07-2202-013000","N",{"$f":"IF(AND(OR(T_NAV_AU[[#This Row],[ColourOptions]]=\"M\",T_NAV_AU[[#This Row],[ColourOptions]]=\"Y\"),MID(T_NAV_AU[[#This Row],[No.]],11,3)=\"069\"),REPLACE(T_NAV_AU[[#This Row],[No.]],11,3,\"xxx\"),T_NAV_AU[[#This Row],[No.]])","v":"SB07-2202-013000"},"SB07-2202-013000","External Weight Bar Handle + Screws MkII","013","S/S 304, Polished",{"$f":"IF(T_NAV_AU[[#This Row],[ColourOptions]]=\"Y\",\"Refer catalogue\", T_NAV_AU[[#This Row],[Colour Description]])","v":"S/S 304, Polished"},"S/S 304, Polished","SET",{"$f":"IF(T_NAV_AU[[#This Row],[CustomPricing]]<>\"\",T_NAV_AU[[#This Row],[CustomPricing]],T_NAV_AU[[#This Row],[AUD_Original]])","v":9.74},9.74,null,10,50]
[null,"SB07-2203-050001","N",{"$f":"IF(AND(OR(T_NAV_AU[[#This Row],[ColourOptions]]=\"M\",T_NAV_AU[[#This Row],[ColourOptions]]=\"Y\"),MID(T_NAV_AU[[#This Row],[No.]],11,3)=\"069\"),REPLACE(T_NAV_AU[[#This Row],[No.]],11,3,\"xxx\"),T_NAV_AU[[#This Row],[No.]])","v":"SB07-2203-050001"},"SB07-2203-050001","External Weight Bar Handle | Zipscreen\t","050","Black, Satin",{"$f":"IF(T_NAV_AU[[#This Row],[ColourOptions]]=\"Y\",\"Refer catalogue\", T_NAV_AU[[#This Row],[Colour Description]])","v":"Black, Satin"},"Black, Satin","KIT",{"$f":"IF(T_NAV_AU[[#This Row],[CustomPricing]]<>\"\",T_NAV_AU[[#This Row],[CustomPricing]],T_NAV_AU[[#This Row],[AUD_Original]])","v":6.5},6.5]
[null,"SB91-0001-050580","N",{"$f":"IF(AND(OR(T_NAV_AU[[#This Row],[ColourOptions]]=\"M\",T_NAV_AU[[#This Row],[ColourOptions]]=\"Y\"),MID(T_NAV_AU[[#This Row],[No.]],11,3)=\"069\"),REPLACE(T_NAV_AU[[#This Row],[No.]],11,3,\"xxx\"),T_NAV_AU[[#This Row],[No.]])","v":"SB91-0001-050580"},"SB91-0001-050580","Weight Bar Bubble Seal Strip 8 x 12mm x 5.8m","050","Black, Satin",{"$f":"IF(T_NAV_AU[[#This Row],[ColourOptions]]=\"Y\",\"Refer catalogue\", T_NAV_AU[[#This Row],[Colour Description]])","v":"Black, Satin"},"Black, Satin","LENGTH",{"$f":"IF(T_NAV_AU[[#This Row],[CustomPricing]]<>\"\",T_NAV_AU[[#This Row],[CustomPricing]],T_NAV_AU[[#This Row],[AUD_Original]])","v":27.74},27.74,null,10,30]
[null,"SB91-0008-050050","N",{"$f":"IF(AND(OR(T_NAV_AU[[#This Row],[ColourOptions]]=\"M\",T_NAV_AU[[#This Row],[ColourOptions]]=\"Y\"),MID(T_NAV_AU[[#This Row],[No.]],11,3)=\"069\"),REPLACE(T_NAV_AU[[#This Row],[No.]],11,3,\"xxx\"),T_NAV_AU[[#This Row],[No.]])","v":"SB91-0008-050050"},"SB91-0008-050050","Ultra Lock Seal V3 - 50 metre rolls","050","Black, Satin",{"$f":"IF(T_NAV_AU[[#This Row],[ColourOptions]]=\"Y\",\"Refer catalogue\", T_NAV_AU[[#This Row],[Colour Description]])","v":"Black, Satin"},"Black, Satin","METRE",{"$f":"IF(T_NAV_AU[[#This Row],[CustomPricing]]<>\"\",T_NAV_AU[[#This Row],[CustomPricing]],T_NAV_AU[[#This Row],[AUD_Original]])","v":4.21},4.21,null,50,500]
[null,"SB91-0012-050300","N",{"$f":"IF(AND(OR(T_NAV_AU[[#This Row],[ColourOptions]]=\"M\",T_NAV_AU[[#This Row],[ColourOptions]]=\"Y\"),MID(T_NAV_AU[[#This Row],[No.]],11,3)=\"069\"),REPLACE(T_NAV_AU[[#This Row],[No.]],11,3,\"xxx\"),T_NAV_AU[[#This Row],[No.]])","v":"SB91-0012-050300"},"SB91-0012-050300","Fabric Brush T Slot Fit 10mm x 4.8mm | 300 Lm roll","050","Black, Satin",{"$f":"IF(T_NAV_AU[[#This Row],[ColourOptions]]=\"Y\",\"Refer catalogue\", T_NAV_AU[[#This Row],[Colour Description]])","v":"Black, Satin"},"Black, Satin","METRE",{"$f":"IF(T_NAV_AU[[#This Row],[CustomPricing]]<>\"\",T_NAV_AU[[#This Row],[CustomPricing]],T_NAV_AU[[#This Row],[AUD_Original]])","v":2.5099999999999998},2.5099999999999998,null,300,1200]
[null,"SB91-0013-050150","N",{"$f":"IF(AND(OR(T_NAV_AU[[#This Row],[ColourOptions]]=\"M\",T_NAV_AU[[#This Row],[ColourOptions]]=\"Y\"),MID(T_NAV_AU[[#This Row],[No.]],11,3)=\"069\"),REPLACE(T_NAV_AU[[#This Row],[No.]],11,3,\"xxx\"),T_NAV_AU[[#This Row],[No.]])","v":"SB91-0013-050150"},"SB91-0013-050150","Weight Bar Bubble Seal Push Fit – 150m Roll","050","Black, Satin",{"$f":"IF(T_NAV_AU[[#This Row],[ColourOptions]]=\"Y\",\"Refer catalogue\", T_NAV_AU[[#This Row],[Colour Description]])","v":"Black, Satin"},"Black, Satin","METRE",{"$f":"IF(T_NAV_AU[[#This Row],[CustomPricing]]<>\"\",T_NAV_AU[[#This Row],[CustomPricing]],T_NAV_AU[[#This Row],[AUD_Original]])","v":3.78},3.78,null,150,1500]
[null,"SB91-0018-050040","N",{"$f":"IF(AND(OR(T_NAV_AU[[#This Row],[ColourOptions]]=\"M\",T_NAV_AU[[#This Row],[ColourOptions]]=\"Y\"),MID(T_NAV_AU[[#This Row],[No.]],11,3)=\"069\"),REPLACE(T_NAV_AU[[#This Row],[No.]],11,3,\"xxx\"),T_NAV_AU[[#This Row],[No.]])","v":"SB91-0018-050040"},"SB91-0018-050040","16mm Bubble Seal | F72 | 40 Lm Rolls","050","Black, Satin",{"$f":"IF(T_NAV_AU[[#This Row],[ColourOptions]]=\"Y\",\"Refer catalogue\", T_NAV_AU[[#This Row],[Colour Description]])","v":"Black, Satin"},"Black, Satin","METRE",{"$f":"IF(T_NAV_AU[[#This Row],[CustomPricing]]<>\"\",T_NAV_AU[[#This Row],[CustomPricing]],T_NAV_AU[[#This Row],[AUD_Original]])","v":5.67},5.67,null,40,2000]
[null,"SB91-0019-050580","N",{"$f":"IF(AND(OR(T_NAV_AU[[#This Row],[ColourOptions]]=\"M\",T_NAV_AU[[#This Row],[ColourOptions]]=\"Y\"),MID(T_NAV_AU[[#This Row],[No.]],11,3)=\"069\"),REPLACE(T_NAV_AU[[#This Row],[No.]],11,3,\"xxx\"),T_NAV_AU[[#This Row],[No.]])","v":"SB91-0019-050580"},"SB91-0019-050580","16mm Bubble Seal | F56 | 5.8 metre Lengths","050","Black, Satin",{"$f":"IF(T_NAV_AU[[#This Row],[ColourOptions]]=\"Y\",\"Refer catalogue\", T_NAV_AU[[#This Row],[Colour Description]])","v":"Black, Satin"},"Black, Satin","LENGTH",{"$f":"IF(T_NAV_AU[[#This Row],[CustomPricing]]<>\"\",T_NAV_AU[[#This Row],[CustomPricing]],T_NAV_AU[[#This Row],[AUD_Original]])","v":36.28},36.28,null,20,200]
[null,"SB91-0408-001015","N",{"$f":"IF(AND(OR(T_NAV_AU[[#This Row],[ColourOptions]]=\"M\",T_NAV_AU[[#This Row],[ColourOptions]]=\"Y\"),MID(T_NAV_AU[[#This Row],[No.]],11,3)=\"069\"),REPLACE(T_NAV_AU[[#This Row],[No.]],11,3,\"xxx\"),T_NAV_AU[[#This Row],[No.]])","v":"SB91-0408-001015"},"SB91-0408-001015","7.2mm spline with 15mm tail | 100m roll","001","Clear",{"$f":"IF(T_NAV_AU[[#This Row],[ColourOptions]]=\"Y\",\"Refer catalogue\", T_NAV_AU[[#This Row],[Colour Description]])","v":"Clear"},"Clear","ROLL",{"$f":"IF(T_NAV_AU[[#This Row],[CustomPricing]]<>\"\",T_NAV_AU[[#This Row],[CustomPricing]],T_NAV_AU[[#This Row],[AUD_Original]])","v":127.36},127.36,null,1,10]
[null,"SB91-0409-050015","N",{"$f":"IF(AND(OR(T_NAV_AU[[#This Row],[ColourOptions]]=\"M\",T_NAV_AU[[#This Row],[ColourOptions]]=\"Y\"),MID(T_NAV_AU[[#This Row],[No.]],11,3)=\"069\"),REPLACE(T_NAV_AU[[#This Row],[No.]],11,3,\"xxx\"),T_NAV_AU[[#This Row],[No.]])","v":"SB91-0409-050015"},"SB91-0409-050015","7mm Fabric Spline w/ 15mm Tail (100m rolls)","050","Black, Satin",{"$f":"IF(T_NAV_AU[[#This Row],[ColourOptions]]=\"Y\",\"Refer catalogue\", T_NAV_AU[[#This Row],[Colour Description]])","v":"Black, Satin"},"Black, Satin","ROLL",{"$f":"IF(T_NAV_AU[[#This Row],[CustomPricing]]<>\"\",T_NAV_AU[[#This Row],[CustomPricing]],T_NAV_AU[[#This Row],[AUD_Original]])","v":558.86},558.86,null,1,10]
[null,"SB91-0516-050009","N",{"$f":"IF(AND(OR(T_NAV_AU[[#This Row],[ColourOptions]]=\"M\",T_NAV_AU[[#This Row],[ColourOptions]]=\"Y\"),MID(T_NAV_AU[[#This Row],[No.]],11,3)=\"069\"),REPLACE(T_NAV_AU[[#This Row],[No.]],11,3,\"xxx\"),T_NAV_AU[[#This Row],[No.]])","v":"SB91-0516-050009"},"SB91-0516-050009","Foam Tape 1.6mm x 9.0mm | 45m Roll","050","Black, Satin",{"$f":"IF(T_NAV_AU[[#This Row],[ColourOptions]]=\"Y\",\"Refer catalogue\", T_NAV_AU[[#This Row],[Colour Description]])","v":"Black, Satin"},"Black, Satin","METRE",{"$f":"IF(T_NAV_AU[[#This Row],[CustomPricing]]<>\"\",T_NAV_AU[[#This Row],[CustomPricing]],T_NAV_AU[[#This Row],[AUD_Original]])","v":2.0299999999999998},2.0299999999999998,null,45,450]
[null,"SB91-1015-050200","N",{"$f":"IF(AND(OR(T_NAV_AU[[#This Row],[ColourOptions]]=\"M\",T_NAV_AU[[#This Row],[ColourOptions]]=\"Y\"),MID(T_NAV_AU[[#This Row],[No.]],11,3)=\"069\"),REPLACE(T_NAV_AU[[#This Row],[No.]],11,3,\"xxx\"),T_NAV_AU[[#This Row],[No.]])","v":"SB91-1015-050200"},"SB91-1015-050200","20 x 5mm Ballast x 2m (0.8kg/m) | Wrapped","050","Black, Satin",{"$f":"IF(T_NAV_AU[[#This Row],[ColourOptions]]=\"Y\",\"Refer catalogue\", T_NAV_AU[[#This Row],[Colour Description]])","v":"Black, Satin"},"Black, Satin","LENGTH",{"$f":"IF(T_NAV_AU[[#This Row],[CustomPricing]]<>\"\",T_NAV_AU[[#This Row],[CustomPricing]],T_NAV_AU[[#This Row],[AUD_Original]])","v":22.57},22.57,null,10,100]
[null,"SB91-1018-050200","N",{"$f":"IF(AND(OR(T_NAV_AU[[#This Row],[ColourOptions]]=\"M\",T_NAV_AU[[#This Row],[ColourOptions]]=\"Y\"),MID(T_NAV_AU[[#This Row],[No.]],11,3)=\"069\"),REPLACE(T_NAV_AU[[#This Row],[No.]],11,3,\"xxx\"),T_NAV_AU[[#This Row],[No.]])","v":"SB91-1018-050200"},"SB91-1018-050200","25 x 8mm Ballast x 2m (1.6kg/m) | Wrapped","033","Black, Satin",{"$f":"IF(T_NAV_AU[[#This Row],[ColourOptions]]=\"Y\",\"Refer catalogue\", T_NAV_AU[[#This Row],[Colour Description]])","v":"Black, Satin"},"Black, Satin","LENGTH",{"$f":"IF(T_NAV_AU[[#This Row],[CustomPricing]]<>\"\",T_NAV_AU[[#This Row],[CustomPricing]],T_NAV_AU[[#This Row],[AUD_Original]])","v":41.5},41.5,null,5,50]
[null,"SH91-0135-050200","N",{"$f":"IF(AND(OR(T_NAV_AU[[#This Row],[ColourOptions]]=\"M\",T_NAV_AU[[#This Row],[ColourOptions]]=\"Y\"),MID(T_NAV_AU[[#This Row],[No.]],11,3)=\"069\"),REPLACE(T_NAV_AU[[#This Row],[No.]],11,3,\"xxx\"),T_NAV_AU[[#This Row],[No.]])","v":"SH91-0135-050200"},"SH91-0135-050200","ZIP / No. 6 GAUGE - Double Sided | 200mt roll","050","Black, Satin",{"$f":"IF(T_NAV_AU[[#This Row],[ColourOptions]]=\"Y\",\"Refer catalogue\", T_NAV_AU[[#This Row],[Colour Description]])","v":"Black, Satin"},"Black, Satin","METRE",{"$f":"IF(T_NAV_AU[[#This Row],[CustomPricing]]<>\"\",T_NAV_AU[[#This Row],[CustomPricing]],T_NAV_AU[[#This Row],[AUD_Original]])","v":11.85},11.85,null,200,400]

{"sheet":"PriceList_US","index":13,"n_rows":153,"n_cols":21,"rows_kept":153,"cut":false,"hidden":true,"merged":[]}
[null,"HIDE","HIDE","HIDE",null,null,"HIDE","HIDE","HIDE",null,null,null,"HIDE"]
[null,"No.","ColourOptions","Part Number_Formula","Part Number","Description","Colour Code","Colour Description","Colour_formula","Colour","Unit of Measure","US","USD_Original","CustomPricing","QTY_Inner","QTY_Outer",null,null,null,"Last Update:","2022-06-29"]
[null,"AW05-0701-069160","Y",{"$f":"IF(AND(OR(T_NAV_US[[#This Row],[ColourOptions]]=\"M\",T_NAV_US[[#This Row],[ColourOptions]]=\"Y\"),MID(T_NAV_US[[#This Row],[No.]],11,3)=\"069\"),REPLACE(T_NAV_US[[#This Row],[No.]],11,3,\"xxx\"),T_NAV_US[[#This Row],[No.]])","v":"AW05-0701-xxx160"},"AW05-0701-xxx160","Pivot Arm - 1.6M (5.25 ft.) - Pure Wht","069","Pure White",{"$f":"IF(T_NAV_AU[[#This Row],[ColourOptions]]=\"Y\",\"Refer catalogue\", T_NAV_AU[[#This Row],[Colour Description]])","v":"Refer catalogue"},"Refer catalogue","PAIR",{"$f":"IF(T_NAV_US[[#This Row],[CustomPricing]]<>\"\",T_NAV_US[[#This Row],[CustomPricing]],T_NAV_US[[#This Row],[USD_Original]])","v":373.3},373.3,null,1,0]
[null,"AW05-0801-064000","Y",{"$f":"IF(AND(OR(T_NAV_US[[#This Row],[ColourOptions]]=\"M\",T_NAV_US[[#This Row],[ColourOptions]]=\"Y\"),MID(T_NAV_US[[#This Row],[No.]],11,3)=\"069\"),REPLACE(T_NAV_US[[#This Row],[No.]],11,3,\"xxx\"),T_NAV_US[[#This Row],[No.]])","v":"AW05-0801-064000"},"AW05-0801-xxx000","Pivot Arm Cover Cap for Terminal Bar Wht","055","Black, Shadelab",{"$f":"IF(T_NAV_AU[[#This Row],[ColourOptions]]=\"Y\",\"Refer catalogue\", T_NAV_AU[[#This Row],[Colour Description]])","v":"Refer catalogue"},"Refer catalogue","SET",{"$f":"IF(T_NAV_US[[#This Row],[CustomPricing]]<>\"\",T_NAV_US[[#This Row],[CustomPricing]],T_NAV_US[[#This Row],[USD_Original]])","v":4.43},4.43,null,1,0]
[null,"AW91-1501-050000","N",{"$f":"IF(AND(OR(T_NAV_US[[#This Row],[ColourOptions]]=\"M\",T_NAV_US[[#This Row],[ColourOptions]]=\"Y\"),MID(T_NAV_US[[#This Row],[No.]],11,3)=\"069\"),REPLACE(T_NAV_US[[#This Row],[No.]],11,3,\"xxx\"),T_NAV_US[[#This Row],[No.]])","v":"AW91-1501-050000"},"AW91-1501-050000","Fabric Brush T Slot Fit 7mmH x 4.8mmW 382yd (350m)","050","Black, Satin",{"$f":"IF(T_NAV_AU[[#This Row],[ColourOptions]]=\"Y\",\"Refer catalogue\", T_NAV_AU[[#This Row],[Colour Description]])","v":"Black, Satin"},"Black, Satin","METER",{"$f":"IF(T_NAV_US[[#This Row],[CustomPricing]]<>\"\",T_NAV_US[[#This Row],[CustomPricing]],T_NAV_US[[#This Row],[USD_Original]])","v":1.1000000000000001},1.1000000000000001,null,350,1400]
[null,"AW92-0901-000480","N",{"$f":"IF(AND(OR(T_NAV_US[[#This Row],[ColourOptions]]=\"M\",T_NAV_US[[#This Row],[ColourOptions]]=\"Y\"),MID(T_NAV_US[[#This Row],[No.]],11,3)=\"069\"),REPLACE(T_NAV_US[[#This Row],[No.]],11,3,\"xxx\"),T_NAV_US[[#This Row],[No.]])","v":"AW92-0901-000480"},"AW92-0901-000480","78mm Steel Awning Tube, 4.8m (16 ft.) Mill","000","Mill Finish",{"$f":"IF(T_NAV_AU[[#This Row],[ColourOptions]]=\"Y\",\"Refer catalogue\", T_NAV_AU[[#This Row],[Colour Description]])","v":"Mill Finish"},"Mill Finish","EA",{"$f":"IF(T_NAV_US[[#This Row],[CustomPricing]]<>\"\",T_NAV_US[[#This Row],[CustomPricing]],T_NAV_US[[#This Row],[USD_Original]])","v":62.57},62.57,null,0,28]
[null,"AW92-0901-000700","N",{"$f":"IF(AND(OR(T_NAV_US[[#This Row],[ColourOptions]]=\"M\",T_NAV_US[[#This Row],[ColourOptions]]=\"Y\"),MID(T_NAV_US[[#This Row],[No.]],11,3)=\"069\"),REPLACE(T_NAV_US[[#This Row],[No.]],11,3,\"xxx\"),T_NAV_US[[#This Row],[No.]])","v":"AW92-0901-000700"},"AW92-0901-000700","78mm Steel Awning Tube, 7m (22.9 ft.) Mill","000","Mill Finish",{"$f":"IF(T_NAV_AU[[#This Row],[ColourOptions]]=\"Y\",\"Refer catalogue\", T_NAV_AU[[#This Row],[Colour Description]])","v":"Mill Finish"},"Mill Finish","EA",{"$f":"IF(T_NAV_US[[#This Row],[CustomPricing]]<>\"\",T_NAV_US[[#This Row],[CustomPricing]],T_NAV_US[[#This Row],[USD_Original]])","v":145},145,null,0,28]
[null,"HD82-1923-050013","Y",{"$f":"IF(AND(OR(T_NAV_US[[#This Row],[ColourOptions]]=\"M\",T_NAV_US[[#This Row],[ColourOptions]]=\"Y\"),MID(T_NAV_US[[#This Row],[No.]],11,3)=\"069\"),REPLACE(T_NAV_US[[#This Row],[No.]],11,3,\"xxx\"),T_NAV_US[[#This Row],[No.]])","v":"HD82-1923-050013"},"HD82-1923-xxx013",{"$error":"#N/A"},"050","Black, Satin",{"$f":"IF(T_NAV_AU[[#This Row],[ColourOptions]]=\"Y\",\"Refer catalogue\", T_NAV_AU[[#This Row],[Colour Description]])","v":"Refer catalogue"},"Refer catalogue",{"$error":"#N/A"},{"$f":"IF(T_NAV_US[[#This Row],[CustomPricing]]<>\"\",T_NAV_US[[#This Row],[CustomPricing]],T_NAV_US[[#This Row],[USD_Original]])","v":{"$error":"#N/A"}},{"$error":"#N/A"}]
[null,"MT01-1145-069003","N",{"$f":"IF(AND(OR(T_NAV_US[[#This Row],[ColourOptions]]=\"M\",T_NAV_US[[#This Row],[ColourOptions]]=\"Y\"),MID(T_NAV_US[[#This Row],[No.]],11,3)=\"069\"),REPLACE(T_NAV_US[[#This Row],[No.]],11,3,\"xxx\"),T_NAV_US[[#This Row],[No.]])","v":"MT01-1145-069003"},"MT01-1145-069003","15NM FT ACRF MOTOR [Ø45/110V/32RPM] 10’ CORD PLUG","050","Black, Satin",{"$f":"IF(T_NAV_AU[[#This Row],[ColourOptions]]=\"Y\",\"Refer catalogue\", T_NAV_AU[[#This Row],[Colour Description]])","v":"Black, Satin"},"Black, Satin","EA",{"$f":"IF(T_NAV_US[[#This Row],[CustomPricing]]<>\"\",T_NAV_US[[#This Row],[CustomPricing]],T_NAV_US[[#This Row],[USD_Original]])","v":190.39},190.39,null,1,10]
[null,"MT01-1145-069018","N",{"$f":"IF(AND(OR(T_NAV_US[[#This Row],[ColourOptions]]=\"M\",T_NAV_US[[#This Row],[ColourOptions]]=\"Y\"),MID(T_NAV_US[[#This Row],[No.]],11,3)=\"069\"),REPLACE(T_NAV_US[[#This Row],[No.]],11,3,\"xxx\"),T_NAV_US[[#This Row],[No.]])","v":"MT01-1145-069018"},"MT01-1145-069013","AX30 ARC MOTOR [Ø45/110V/13RPM] 20’ CORD PLUG","069","Pure White",{"$f":"IF(T_NAV_AU[[#This Row],[ColourOptions]]=\"Y\",\"Refer catalogue\", T_NAV_AU[[#This Row],[Colour Description]])","v":"Black, Satin"},"Pure White","EA",{"$f":"IF(T_NAV_US[[#This Row],[CustomPricing]]<>\"\",T_NAV_US[[#This Row],[CustomPricing]],T_NAV_US[[#This Row],[USD_Original]])","v":297.44},297.44,null,1,10]
[null,"MT01-1145-069017","N",{"$f":"IF(AND(OR(T_NAV_US[[#This Row],[ColourOptions]]=\"M\",T_NAV_US[[#This Row],[ColourOptions]]=\"Y\"),MID(T_NAV_US[[#This Row],[No.]],11,3)=\"069\"),REPLACE(T_NAV_US[[#This Row],[No.]],11,3,\"xxx\"),T_NAV_US[[#This Row],[No.]])","v":"MT01-1145-069017"},"MT01-1145-069015","AX50 ARC MOTOR [Ø45/110V/13RPM] 20’ CORD PLUG","069","Pure White",{"$f":"IF(T_NAV_AU[[#This Row],[ColourOptions]]=\"Y\",\"Refer catalogue\", T_NAV_AU[[#This Row],[Colour Description]])","v":"Pure White"},"Pure White","EA",{"$f":"IF(T_NAV_US[[#This Row],[CustomPricing]]<>\"\",T_NAV_US[[#This Row],[CustomPricing]],T_NAV_US[[#This Row],[USD_Original]])","v":334.21},334.21,null,1,10]
[null,"MT02-0101-050004","N",{"$f":"IF(AND(OR(T_NAV_US[[#This Row],[ColourOptions]]=\"M\",T_NAV_US[[#This Row],[ColourOptions]]=\"Y\"),MID(T_NAV_US[[#This Row],[No.]],11,3)=\"069\"),REPLACE(T_NAV_US[[#This Row],[No.]],11,3,\"xxx\"),T_NAV_US[[#This Row],[No.]])","v":"MT02-0101-050004"},"MT02-0101-050004","AUTOMATE Push5 Black ARC Remote","050","Black, Satin",{"$f":"IF(T_NAV_AU[[#This Row],[ColourOptions]]=\"Y\",\"Refer catalogue\", T_NAV_AU[[#This Row],[Colour Description]])","v":"Pure White"},"Black, Satin","EA",{"$f":"IF(T_NAV_US[[#This Row],[CustomPricing]]<>\"\",T_NAV_US[[#This Row],[CustomPricing]],T_NAV_US[[#This Row],[USD_Original]])","v":67.33},67.33,null,1,100]
[null,"MT02-0101-050008","N",{"$f":"IF(AND(OR(T_NAV_US[[#This Row],[ColourOptions]]=\"M\",T_NAV_US[[#This Row],[ColourOptions]]=\"Y\"),MID(T_NAV_US[[#This Row],[No.]],11,3)=\"069\"),REPLACE(T_NAV_US[[#This Row],[No.]],11,3,\"xxx\"),T_NAV_US[[#This Row],[No.]])","v":"MT02-0101-050008"},"MT02-0101-050008","AUTOMATE Push15 Black ARC Remote","050","Black, Satin",{"$f":"IF(T_NAV_AU[[#This Row],[ColourOptions]]=\"Y\",\"Refer catalogue\", T_NAV_AU[[#This Row],[Colour Description]])","v":"Pure White"},"Black, Satin","EA",{"$f":"IF(T_NAV_US[[#This Row],[CustomPricing]]<>\"\",T_NAV_US[[#This Row],[CustomPricing]],T_NAV_US[[#This Row],[USD_Original]])","v":77.44},77.44,null,1,100]
[null,"MT02-0101-067004","N",{"$f":"IF(AND(OR(T_NAV_US[[#This Row],[ColourOptions]]=\"M\",T_NAV_US[[#This Row],[ColourOptions]]=\"Y\"),MID(T_NAV_US[[#This Row],[No.]],11,3)=\"069\"),REPLACE(T_NAV_US[[#This Row],[No.]],11,3,\"xxx\"),T_NAV_US[[#This Row],[No.]])","v":"MT02-0101-067004"},"MT02-0101-067004","AUTOMATE Push5 White ARC Remote","067","White / Platinum",{"$f":"IF(T_NAV_AU[[#This Row],[ColourOptions]]=\"Y\",\"Refer catalogue\", T_NAV_AU[[#This Row],[Colour Description]])","v":"Black, Satin"},"White / Platinum","EA",{"$f":"IF(T_NAV_US[[#This Row],[CustomPricing]]<>\"\",T_NAV_US[[#This Row],[CustomPricing]],T_NAV_US[[#This Row],[USD_Original]])","v":67.33},67.33,null,1,100]
[null,"MT02-0101-067008","N",{"$f":"IF(AND(OR(T_NAV_US[[#This Row],[ColourOptions]]=\"M\",T_NAV_US[[#This Row],[ColourOptions]]=\"Y\"),MID(T_NAV_US[[#This Row],[No.]],11,3)=\"069\"),REPLACE(T_NAV_US[[#This Row],[No.]],11,3,\"xxx\"),T_NAV_US[[#This Row],[No.]])","v":"MT02-0101-067008"},"MT02-0101-067008","AUTOMATE Push15 White ARC Remote","067","White / Platinum",{"$f":"IF(T_NAV_AU[[#This Row],[ColourOptions]]=\"Y\",\"Refer catalogue\", T_NAV_AU[[#This Row],[Colour Description]])","v":"Black, Satin"},"White / Platinum","EA",{"$f":"IF(T_NAV_US[[#This Row],[CustomPricing]]<>\"\",T_NAV_US[[#This Row],[CustomPricing]],T_NAV_US[[#This Row],[USD_Original]])","v":77.44},77.44,null,1,100]
[null,"MT02-0301-072001","N",{"$f":"IF(AND(OR(T_NAV_US[[#This Row],[ColourOptions]]=\"M\",T_NAV_US[[#This Row],[ColourOptions]]=\"Y\"),MID(T_NAV_US[[#This Row],[No.]],11,3)=\"069\"),REPLACE(T_NAV_US[[#This Row],[No.]],11,3,\"xxx\"),T_NAV_US[[#This Row],[No.]])","v":"MT02-0301-072001"},"MT02-0301-072001","ARC Sun & Wind Sensor","072","Vivid White",{"$f":"IF(T_NAV_AU[[#This Row],[ColourOptions]]=\"Y\",\"Refer catalogue\", T_NAV_AU[[#This Row],[Colour Description]])","v":"Black, Satin"},"Vivid White","EA",{"$f":"IF(T_NAV_US[[#This Row],[CustomPricing]]<>\"\",T_NAV_US[[#This Row],[CustomPricing]],T_NAV_US[[#This Row],[USD_Original]])","v":200.74},200.74,null,1,10]
[null,"MT03-0106-050005","N",{"$f":"IF(AND(OR(T_NAV_US[[#This Row],[ColourOptions]]=\"M\",T_NAV_US[[#This Row],[ColourOptions]]=\"Y\"),MID(T_NAV_US[[#This Row],[No.]],11,3)=\"069\"),REPLACE(T_NAV_US[[#This Row],[No.]],11,3,\"xxx\"),T_NAV_US[[#This Row],[No.]])","v":"MT03-0106-050005"},"MT03-0106-050005","AUTOMATE | 78mm Crown (NEW)","050","Black, Satin",{"$f":"IF(T_NAV_AU[[#This Row],[ColourOptions]]=\"Y\",\"Refer catalogue\", T_NAV_AU[[#This Row],[Colour Description]])","v":"Black, Satin"},"Black, Satin","SET",{"$f":"IF(T_NAV_US[[#This Row],[CustomPricing]]<>\"\",T_NAV_US[[#This Row],[CustomPricing]],T_NAV_US[[#This Row],[USD_Original]])","v":2.97},2.97]
[null,"MT03-0106-050006","N",{"$f":"IF(AND(OR(T_NAV_US[[#This Row],[ColourOptions]]=\"M\",T_NAV_US[[#This Row],[ColourOptions]]=\"Y\"),MID(T_NAV_US[[#This Row],[No.]],11,3)=\"069\"),REPLACE(T_NAV_US[[#This Row],[No.]],11,3,\"xxx\"),T_NAV_US[[#This Row],[No.]])","v":"MT03-0106-050006"},"MT03-0106-050006","AUTOMATE | 78mm Drive Single Piece (NEW)","050","Black, Satin",{"$f":"IF(T_NAV_AU[[#This Row],[ColourOptions]]=\"Y\",\"Refer catalogue\", T_NAV_AU[[#This Row],[Colour Description]])","v":"Black, Satin"},"Black, Satin","EA",{"$f":"IF(T_NAV_US[[#This Row],[CustomPricing]]<>\"\",T_NAV_US[[#This Row],[CustomPricing]],T_NAV_US[[#This Row],[USD_Original]])","v":6.99},6.99]
[null,"MT03-0198-025008","N",{"$f":"IF(AND(OR(T_NAV_US[[#This Row],[ColourOptions]]=\"M\",T_NAV_US[[#This Row],[ColourOptions]]=\"Y\"),MID(T_NAV_US[[#This Row],[No.]],11,3)=\"069\"),REPLACE(T_NAV_US[[#This Row],[No.]],11,3,\"xxx\"),T_NAV_US[[#This Row],[No.]])","v":"MT03-0198-025008"},"MT03-0198-025008","AUTOMATE | 50Nm Motor Drive Adaptor Kit","025","Silver ZINC Plated",{"$f":"IF(T_NAV_AU[[#This Row],[ColourOptions]]=\"Y\",\"Refer catalogue\", T_NAV_AU[[#This Row],[Colour Description]])","v":"White / Platinum"},"Silver ZINC Plated","SET",{"$f":"IF(T_NAV_US[[#This Row],[CustomPricing]]<>\"\",T_NAV_US[[#This Row],[CustomPricing]],T_NAV_US[[#This Row],[USD_Original]])","v":6.53},6.53,null,1,100]
[null,"MTCLIP-35-45","N",{"$f":"IF(AND(OR(T_NAV_US[[#This Row],[ColourOptions]]=\"M\",T_NAV_US[[#This Row],[ColourOptions]]=\"Y\"),MID(T_NAV_US[[#This Row],[No.]],11,3)=\"069\"),REPLACE(T_NAV_US[[#This Row],[No.]],11,3,\"xxx\"),T_NAV_US[[#This Row],[No.]])","v":"MTCLIP-35-45"},"MTCLIP-35-45","Motor Drive Clip For 35/45mm Motors","050","Black, Satin",{"$f":"IF(T_NAV_AU[[#This Row],[ColourOptions]]=\"Y\",\"Refer catalogue\", T_NAV_AU[[#This Row],[Colour Description]])","v":"White / Platinum"},"Black, Satin","EA",{"$f":"IF(T_NAV_US[[#This Row],[CustomPricing]]<>\"\",T_NAV_US[[#This Row],[CustomPricing]],T_NAV_US[[#This Row],[USD_Original]])","v":0.1},0.1]
[null,"RB05-9101-340100","N",{"$f":"IF(AND(OR(T_NAV_US[[#This Row],[ColourOptions]]=\"M\",T_NAV_US[[#This Row],[ColourOptions]]=\"Y\"),MID(T_NAV_US[[#This Row],[No.]],11,3)=\"069\"),REPLACE(T_NAV_US[[#This Row],[No.]],11,3,\"xxx\"),T_NAV_US[[#This Row],[No.]])","v":"RB05-9101-340100"},"RB05-9101-340100","Crank Control Arm 100cm  (3.2ft) Gray","340","GREY",{"$f":"IF(T_NAV_AU[[#This Row],[ColourOptions]]=\"Y\",\"Refer catalogue\", T_NAV_AU[[#This Row],[Colour Description]])","v":"White / Platinum"},"Grey","EA",{"$f":"IF(T_NAV_US[[#This Row],[CustomPricing]]<>\"\",T_NAV_US[[#This Row],[CustomPricing]],T_NAV_US[[#This Row],[USD_Original]])","v":66.16},66.16,null,5,100]
[null,"RB05-9101-340150","N",{"$f":"IF(AND(OR(T_NAV_US[[#This Row],[ColourOptions]]=\"M\",T_NAV_US[[#This Row],[ColourOptions]]=\"Y\"),MID(T_NAV_US[[#This Row],[No.]],11,3)=\"069\"),REPLACE(T_NAV_US[[#This Row],[No.]],11,3,\"xxx\"),T_NAV_US[[#This Row],[No.]])","v":"RB05-9101-340150"},"RB05-9101-340150","Crank Control Arm 150cm (4.9ft) Gray","340","GREY",{"$f":"IF(T_NAV_AU[[#This Row],[ColourOptions]]=\"Y\",\"Refer catalogue\", T_NAV_AU[[#This Row],[Colour Description]])","v":"Vivid White"},"Grey","EA",{"$f":"IF(T_NAV_US[[#This Row],[CustomPricing]]<>\"\",T_NAV_US[[#This Row],[CustomPricing]],T_NAV_US[[#This Row],[USD_Original]])","v":72.900000000000006},72.900000000000006,null,5,100]
[null,"RB05-9101-340200","N",{"$f":"IF(AND(OR(T_NAV_US[[#This Row],[ColourOptions]]=\"M\",T_NAV_US[[#This Row],[ColourOptions]]=\"Y\"),MID(T_NAV_US[[#This Row],[No.]],11,3)=\"069\"),REPLACE(T_NAV_US[[#This Row],[No.]],11,3,\"xxx\"),T_NAV_US[[#This Row],[No.]])","v":"RB05-9101-340200"},"RB05-9101-340200","Crank Control Arm 200cm (6.5ft) Gray","340","GREY",{"$f":"IF(T_NAV_AU[[#This Row],[ColourOptions]]=\"Y\",\"Refer catalogue\", T_NAV_AU[[#This Row],[Colour Description]])","v":"Vivid White"},"Grey","EA",{"$f":"IF(T_NAV_US[[#This Row],[CustomPricing]]<>\"\",T_NAV_US[[#This Row],[CustomPricing]],T_NAV_US[[#This Row],[USD_Original]])","v":85.06},85.06,null,5,100]
[null,"RB05-9102-340000","N",{"$f":"IF(AND(OR(T_NAV_US[[#This Row],[ColourOptions]]=\"M\",T_NAV_US[[#This Row],[ColourOptions]]=\"Y\"),MID(T_NAV_US[[#This Row],[No.]],11,3)=\"069\"),REPLACE(T_NAV_US[[#This Row],[No.]],11,3,\"xxx\"),T_NAV_US[[#This Row],[No.]])","v":"RB05-9102-340000"},"RB05-9102-xxx000","Crank Arm Support Gray","340","GREY",{"$f":"IF(T_NAV_AU[[#This Row],[ColourOptions]]=\"Y\",\"Refer catalogue\", T_NAV_AU[[#This Row],[Colour Description]])","v":"Black, Satin"},"Grey","EA",{"$f":"IF(T_NAV_US[[#This Row],[CustomPricing]]<>\"\",T_NAV_US[[#This Row],[CustomPricing]],T_NAV_US[[#This Row],[USD_Original]])","v":2.37},2.37,null,5,100]
[null,"RB56-0762-014050","N",{"$f":"IF(AND(OR(T_NAV_US[[#This Row],[ColourOptions]]=\"M\",T_NAV_US[[#This Row],[ColourOptions]]=\"Y\"),MID(T_NAV_US[[#This Row],[No.]],11,3)=\"069\"),REPLACE(T_NAV_US[[#This Row],[No.]],11,3,\"xxx\"),T_NAV_US[[#This Row],[No.]])","v":"RB56-0762-014050"},"RB56-0762-014050","Univeral Zamak adapter w/Lock ring &M8x12mm screw","014","Cast Silver",{"$f":"IF(T_NAV_AU[[#This Row],[ColourOptions]]=\"Y\",\"Refer catalogue\", T_NAV_AU[[#This Row],[Colour Description]])","v":"Black, Satin"},"Cast Silver","SET",{"$f":"IF(T_NAV_US[[#This Row],[CustomPricing]]<>\"\",T_NAV_US[[#This Row],[CustomPricing]],T_NAV_US[[#This Row],[USD_Original]])","v":46.28},46.28,null,1,20]
[null,"RB56-0763-014050","N",{"$f":"IF(AND(OR(T_NAV_US[[#This Row],[ColourOptions]]=\"M\",T_NAV_US[[#This Row],[ColourOptions]]=\"Y\"),MID(T_NAV_US[[#This Row],[No.]],11,3)=\"069\"),REPLACE(T_NAV_US[[#This Row],[No.]],11,3,\"xxx\"),T_NAV_US[[#This Row],[No.]])","v":"RB56-0763-014050"},"RB56-0763-014050","Univ Zamak Adap&Lock Ring & M6x10mm S/Screws Open","014","Cast Silver",{"$f":"IF(T_NAV_AU[[#This Row],[ColourOptions]]=\"Y\",\"Refer catalogue\", T_NAV_AU[[#This Row],[Colour Description]])","v":"Silver ZINC Plated"},"Cast Silver","SET",{"$f":"IF(T_NAV_US[[#This Row],[CustomPricing]]<>\"\",T_NAV_US[[#This Row],[CustomPricing]],T_NAV_US[[#This Row],[USD_Original]])","v":36.71},36.71,null,1,20]
[null,"RB56-0764-014050","N",{"$f":"IF(AND(OR(T_NAV_US[[#This Row],[ColourOptions]]=\"M\",T_NAV_US[[#This Row],[ColourOptions]]=\"Y\"),MID(T_NAV_US[[#This Row],[No.]],11,3)=\"069\"),REPLACE(T_NAV_US[[#This Row],[No.]],11,3,\"xxx\"),T_NAV_US[[#This Row],[No.]])","v":"RB56-0764-014050"},"RB56-0764-014050","Univ Zamak Adap&Lock Ring & M6x12mm S/Screws Box","014","Cast Silver",{"$f":"IF(T_NAV_AU[[#This Row],[ColourOptions]]=\"Y\",\"Refer catalogue\", T_NAV_AU[[#This Row],[Colour Description]])","v":"Black, Satin"},"Cast Silver","SET",{"$f":"IF(T_NAV_US[[#This Row],[CustomPricing]]<>\"\",T_NAV_US[[#This Row],[CustomPricing]],T_NAV_US[[#This Row],[USD_Original]])","v":33.03},33.03,null,1,20]
[null,"RB80-0202-073100","N",{"$f":"IF(AND(OR(T_NAV_US[[#This Row],[ColourOptions]]=\"M\",T_NAV_US[[#This Row],[ColourOptions]]=\"Y\"),MID(T_NAV_US[[#This Row],[No.]],11,3)=\"069\"),REPLACE(T_NAV_US[[#This Row],[No.]],11,3,\"xxx\"),T_NAV_US[[#This Row],[No.]])","v":"RB80-0202-073100"},"RB80-0202-073100","Extreme Bearing Idler | S100","073","Grey Cloud",{"$f":"IF(T_NAV_AU[[#This Row],[ColourOptions]]=\"Y\",\"Refer catalogue\", T_NAV_AU[[#This Row],[Colour Description]])","v":"Black, Satin"},"Grey Cloud","EA",{"$f":"IF(T_NAV_US[[#This Row],[CustomPricing]]<>\"\",T_NAV_US[[#This Row],[CustomPricing]],T_NAV_US[[#This Row],[USD_Original]])","v":66.05},66.05,null,1,12]
[null,"RB80-0301-073100","N",{"$f":"IF(AND(OR(T_NAV_US[[#This Row],[ColourOptions]]=\"M\",T_NAV_US[[#This Row],[ColourOptions]]=\"Y\"),MID(T_NAV_US[[#This Row],[No.]],11,3)=\"069\"),REPLACE(T_NAV_US[[#This Row],[No.]],11,3,\"xxx\"),T_NAV_US[[#This Row],[No.]])","v":"RB80-0301-073100"},"RB80-0301-073100","Extreme Universal Drive Wheel S100","073","Grey Cloud",{"$f":"IF(T_NAV_AU[[#This Row],[ColourOptions]]=\"Y\",\"Refer catalogue\", T_NAV_AU[[#This Row],[Colour Description]])","v":"Black, Satin"},"Grey Cloud","EA",{"$f":"IF(T_NAV_US[[#This Row],[CustomPricing]]<>\"\",T_NAV_US[[#This Row],[CustomPricing]],T_NAV_US[[#This Row],[USD_Original]])","v":10.08},10.08,null,1,8]
[null,"RB80-0411-025050","N",{"$f":"IF(AND(OR(T_NAV_US[[#This Row],[ColourOptions]]=\"M\",T_NAV_US[[#This Row],[ColourOptions]]=\"Y\"),MID(T_NAV_US[[#This Row],[No.]],11,3)=\"069\"),REPLACE(T_NAV_US[[#This Row],[No.]],11,3,\"xxx\"),T_NAV_US[[#This Row],[No.]])","v":"RB80-0411-025050"},"RB80-0411-025050","SOMFY Zamack Adapter Spacer","025","Silver ZINC Plated",{"$f":"IF(T_NAV_AU[[#This Row],[ColourOptions]]=\"Y\",\"Refer catalogue\", T_NAV_AU[[#This Row],[Colour Description]])","v":"GREY"},"Silver ZINC Plated","EA",{"$f":"IF(T_NAV_US[[#This Row],[CustomPricing]]<>\"\",T_NAV_US[[#This Row],[CustomPricing]],T_NAV_US[[#This Row],[USD_Original]])","v":12.15},12.15,null,1,20]
[null,"RB80-0476-025100","N",{"$f":"IF(AND(OR(T_NAV_US[[#This Row],[ColourOptions]]=\"M\",T_NAV_US[[#This Row],[ColourOptions]]=\"Y\"),MID(T_NAV_US[[#This Row],[No.]],11,3)=\"069\"),REPLACE(T_NAV_US[[#This Row],[No.]],11,3,\"xxx\"),T_NAV_US[[#This Row],[No.]])","v":"RB80-0476-025100"},"RB80-0476-025100","MOTOR Extr.WireGuide Bkt/adptr kit Ceilng/wall-Znc","025","Silver ZINC Plated",{"$f":"IF(T_NAV_AU[[#This Row],[ColourOptions]]=\"Y\",\"Refer catalogue\", T_NAV_AU[[#This Row],[Colour Description]])","v":"GREY"},"Silver ZINC Plated","EA",{"$f":"IF(T_NAV_US[[#This Row],[CustomPricing]]<>\"\",T_NAV_US[[#This Row],[CustomPricing]],T_NAV_US[[#This Row],[USD_Original]])","v":55.03},55.03,null,1,20]
[null,"RB80-0476-069100","Y",{"$f":"IF(AND(OR(T_NAV_US[[#This Row],[ColourOptions]]=\"M\",T_NAV_US[[#This Row],[ColourOptions]]=\"Y\"),MID(T_NAV_US[[#This Row],[No.]],11,3)=\"069\"),REPLACE(T_NAV_US[[#This Row],[No.]],11,3,\"xxx\"),T_NAV_US[[#This Row],[No.]])","v":"RB80-0476-xxx100"},"RB80-0476-xxx100","EXTREME Wire Guide Bracket Adaptor Set | Motor","069","Pure White",{"$f":"IF(T_NAV_AU[[#This Row],[ColourOptions]]=\"Y\",\"Refer catalogue\", T_NAV_AU[[#This Row],[Colour Description]])","v":"GREY"},"Refer catalogue","EA",{"$f":"IF(T_NAV_US[[#This Row],[CustomPricing]]<>\"\",T_NAV_US[[#This Row],[CustomPricing]],T_NAV_US[[#This Row],[USD_Original]])","v":69.12},69.12,null,1,20]
[null,"RB80-0478-069100","N",{"$f":"IF(AND(OR(T_NAV_US[[#This Row],[ColourOptions]]=\"M\",T_NAV_US[[#This Row],[ColourOptions]]=\"Y\"),MID(T_NAV_US[[#This Row],[No.]],11,3)=\"069\"),REPLACE(T_NAV_US[[#This Row],[No.]],11,3,\"xxx\"),T_NAV_US[[#This Row],[No.]])","v":"RB80-0478-069100"},"RB80-0478-069100","EXTREME Recess Bracket Kit | Motor","069","Pure White",{"$f":"IF(T_NAV_AU[[#This Row],[ColourOptions]]=\"Y\",\"Refer catalogue\", T_NAV_AU[[#This Row],[Colour Description]])","v":"Black"},"Pure White","EA",{"$f":"IF(T_NAV_US[[#This Row],[CustomPricing]]<>\"\",T_NAV_US[[#This Row],[CustomPricing]],T_NAV_US[[#This Row],[USD_Original]])","v":118.49},118.49,null,1,10]
[null,"RB80-0481-012000","N",{"$f":"IF(AND(OR(T_NAV_US[[#This Row],[ColourOptions]]=\"M\",T_NAV_US[[#This Row],[ColourOptions]]=\"Y\"),MID(T_NAV_US[[#This Row],[No.]],11,3)=\"069\"),REPLACE(T_NAV_US[[#This Row],[No.]],11,3,\"xxx\"),T_NAV_US[[#This Row],[No.]])","v":"RB80-0481-012000"},"RB80-0481-012000","Box 190 Wire Guide Adaptor Plate with Screws","012","S/S 304, Satin",{"$f":"IF(T_NAV_AU[[#This Row],[ColourOptions]]=\"Y\",\"Refer catalogue\", T_NAV_AU[[#This Row],[Colour Description]])","v":"GREY"},"S/S 304, Satin","SET",{"$f":"IF(T_NAV_US[[#This Row],[CustomPricing]]<>\"\",T_NAV_US[[#This Row],[CustomPricing]],T_NAV_US[[#This Row],[USD_Original]])","v":12.04},12.04,null,2,100]
[null,"RB80-0501-050110","N",{"$f":"IF(AND(OR(T_NAV_US[[#This Row],[ColourOptions]]=\"M\",T_NAV_US[[#This Row],[ColourOptions]]=\"Y\"),MID(T_NAV_US[[#This Row],[No.]],11,3)=\"069\"),REPLACE(T_NAV_US[[#This Row],[No.]],11,3,\"xxx\"),T_NAV_US[[#This Row],[No.]])","v":"RB80-0501-050110"},"RB80-0501-050110","Extreme Zip Reducer Endplates Set+screwS100/110STD","050","Black, Satin",{"$f":"IF(T_NAV_AU[[#This Row],[ColourOptions]]=\"Y\",\"Refer catalogue\", T_NAV_AU[[#This Row],[Colour Description]])","v":"Cast Silver"},"Black, Satin","EA",{"$f":"IF(T_NAV_US[[#This Row],[CustomPricing]]<>\"\",T_NAV_US[[#This Row],[CustomPricing]],T_NAV_US[[#This Row],[USD_Original]])","v":6.55},6.55,null,2,100]
[null,"RB80-0501-050130","N",{"$f":"IF(AND(OR(T_NAV_US[[#This Row],[ColourOptions]]=\"M\",T_NAV_US[[#This Row],[ColourOptions]]=\"Y\"),MID(T_NAV_US[[#This Row],[No.]],11,3)=\"069\"),REPLACE(T_NAV_US[[#This Row],[No.]],11,3,\"xxx\"),T_NAV_US[[#This Row],[No.]])","v":"RB80-0501-050130"},"RB80-0501-050130","ZIPSCREEN EXTREME REDUCER 2 PC SET+SCREW S100/130","050","Black, Satin",{"$f":"IF(T_NAV_AU[[#This Row],[ColourOptions]]=\"Y\",\"Refer catalogue\", T_NAV_AU[[#This Row],[Colour Description]])","v":"Cast Silver"},"Black, Satin","EA",{"$f":"IF(T_NAV_US[[#This Row],[CustomPricing]]<>\"\",T_NAV_US[[#This Row],[CustomPricing]],T_NAV_US[[#This Row],[USD_Original]])","v":7.95},7.95,null,2,100]
[null,"RB80-0601-073110","N",{"$f":"IF(AND(OR(T_NAV_US[[#This Row],[ColourOptions]]=\"M\",T_NAV_US[[#This Row],[ColourOptions]]=\"Y\"),MID(T_NAV_US[[#This Row],[No.]],11,3)=\"069\"),REPLACE(T_NAV_US[[#This Row],[No.]],11,3,\"xxx\"),T_NAV_US[[#This Row],[No.]])","v":"RB80-0601-073110"},"RB80-0601-073110","S100 Extreme Tube Endplate [2pc set+screw] 110STD","073","Grey Cloud",{"$f":"IF(T_NAV_AU[[#This Row],[ColourOptions]]=\"Y\",\"Refer catalogue\", T_NAV_AU[[#This Row],[Colour Description]])","v":"Cast Silver"},"Grey Cloud","EA",{"$f":"IF(T_NAV_US[[#This Row],[CustomPricing]]<>\"\",T_NAV_US[[#This Row],[CustomPricing]],T_NAV_US[[#This Row],[USD_Original]])","v":6.71},6.71,null,1,40]
[null,"RB80-0601-073130","N",{"$f":"IF(AND(OR(T_NAV_US[[#This Row],[ColourOptions]]=\"M\",T_NAV_US[[#This Row],[ColourOptions]]=\"Y\"),MID(T_NAV_US[[#This Row],[No.]],11,3)=\"069\"),REPLACE(T_NAV_US[[#This Row],[No.]],11,3,\"xxx\"),T_NAV_US[[#This Row],[No.]])","v":"RB80-0601-073130"},"RB80-0601-073130","S100 Extreme Tube Endplate [2pc set+screw] 130HD","073","Grey Cloud",{"$f":"IF(T_NAV_AU[[#This Row],[ColourOptions]]=\"Y\",\"Refer catalogue\", T_NAV_AU[[#This Row],[Colour Description]])","v":"Grey Cloud"},"Grey Cloud","SET",{"$f":"IF(T_NAV_US[[#This Row],[CustomPricing]]<>\"\",T_NAV_US[[#This Row],[CustomPricing]],T_NAV_US[[#This Row],[USD_Original]])","v":8.9499999999999993},8.9499999999999993,null,1,40]
[null,"RB80-0601-073160","N",{"$f":"IF(AND(OR(T_NAV_US[[#This Row],[ColourOptions]]=\"M\",T_NAV_US[[#This Row],[ColourOptions]]=\"Y\"),MID(T_NAV_US[[#This Row],[No.]],11,3)=\"069\"),REPLACE(T_NAV_US[[#This Row],[No.]],11,3,\"xxx\"),T_NAV_US[[#This Row],[No.]])","v":"RB80-0601-073160"},"RB80-0601-073160","S100 Extreme Tube Endplate [2pc set+screw] 160XHD","073","Grey Cloud",{"$f":"IF(T_NAV_AU[[#This Row],[ColourOptions]]=\"Y\",\"Refer catalogue\", T_NAV_AU[[#This Row],[Colour Description]])","v":"Grey Cloud"},"Grey Cloud","EA",{"$f":"IF(T_NAV_US[[#This Row],[CustomPricing]]<>\"\",T_NAV_US[[#This Row],[CustomPricing]],T_NAV_US[[#This Row],[USD_Original]])","v":10.08},10.08,null,1,40]
[null,"RB80-0701-073100","N",{"$f":"IF(AND(OR(T_NAV_US[[#This Row],[ColourOptions]]=\"M\",T_NAV_US[[#This Row],[ColourOptions]]=\"Y\"),MID(T_NAV_US[[#This Row],[No.]],11,3)=\"069\"),REPLACE(T_NAV_US[[#This Row],[No.]],11,3,\"xxx\"),T_NAV_US[[#This Row],[No.]])","v":"RB80-0701-073100"},"RB80-0701-073100","Extreme Universal Crown Wheel S100","073","Grey Cloud",{"$f":"IF(T_NAV_AU[[#This Row],[ColourOptions]]=\"Y\",\"Refer catalogue\", T_NAV_AU[[#This Row],[Colour Description]])","v":"Silver ZINC Plated"},"Grey Cloud","EA",{"$f":"IF(T_NAV_US[[#This Row],[CustomPricing]]<>\"\",T_NAV_US[[#This Row],[CustomPricing]],T_NAV_US[[#This Row],[USD_Original]])","v":23.5},23.5,null,1,12]
[null,"RB80-1201-069109","Y",{"$f":"IF(AND(OR(T_NAV_US[[#This Row],[ColourOptions]]=\"M\",T_NAV_US[[#This Row],[ColourOptions]]=\"Y\"),MID(T_NAV_US[[#This Row],[No.]],11,3)=\"069\"),REPLACE(T_NAV_US[[#This Row],[No.]],11,3,\"xxx\"),T_NAV_US[[#This Row],[No.]])","v":"RB80-1201-xxx109"},"RB80-1201-xxx109","Extreme Ceiling/wall mount Bkt Set+adptr S100-Wht","069","Pure White",{"$f":"IF(T_NAV_AU[[#This Row],[ColourOptions]]=\"Y\",\"Refer catalogue\", T_NAV_AU[[#This Row],[Colour Description]])","v":"Silver ZINC Plated"},"Refer catalogue","EA",{"$f":"IF(T_NAV_US[[#This Row],[CustomPricing]]<>\"\",T_NAV_US[[#This Row],[CustomPricing]],T_NAV_US[[#This Row],[USD_Original]])","v":97.34},97.34,null,1,12]
[null,"RB80-1503-025110","N",{"$f":"IF(AND(OR(T_NAV_US[[#This Row],[ColourOptions]]=\"M\",T_NAV_US[[#This Row],[ColourOptions]]=\"Y\"),MID(T_NAV_US[[#This Row],[No.]],11,3)=\"069\"),REPLACE(T_NAV_US[[#This Row],[No.]],11,3,\"xxx\"),T_NAV_US[[#This Row],[No.]])","v":"RB80-1503-025110"},"RB80-1503-025110","Extreme Bracket Adaptor Kit (Motor/Idler Plt)-Zinc","025","Silver ZINC Plated",{"$f":"IF(T_NAV_AU[[#This Row],[ColourOptions]]=\"Y\",\"Refer catalogue\", T_NAV_AU[[#This Row],[Colour Description]])","v":"Refer catalogue"},"Silver ZINC Plated","SET",{"$f":"IF(T_NAV_US[[#This Row],[CustomPricing]]<>\"\",T_NAV_US[[#This Row],[CustomPricing]],T_NAV_US[[#This Row],[USD_Original]])","v":60.67},60.67,null,1,10]
[null,"RB80-1503-069110","Y",{"$f":"IF(AND(OR(T_NAV_US[[#This Row],[ColourOptions]]=\"M\",T_NAV_US[[#This Row],[ColourOptions]]=\"Y\"),MID(T_NAV_US[[#This Row],[No.]],11,3)=\"069\"),REPLACE(T_NAV_US[[#This Row],[No.]],11,3,\"xxx\"),T_NAV_US[[#This Row],[No.]])","v":"RB80-1503-xxx110"},"RB80-1503-xxx110","Extreme Bracket Adaptor Kit (Motor/Idler Plt)-Wht","069","Pure White",{"$f":"IF(T_NAV_AU[[#This Row],[ColourOptions]]=\"Y\",\"Refer catalogue\", T_NAV_AU[[#This Row],[Colour Description]])","v":"Silver ZINC Plated"},"Refer catalogue","SET",{"$f":"IF(T_NAV_US[[#This Row],[CustomPricing]]<>\"\",T_NAV_US[[#This Row],[CustomPricing]],T_NAV_US[[#This Row],[USD_Original]])","v":60.67},60.67,null,1,10]
[null,"RB91-3602-006040","N",{"$f":"IF(AND(OR(T_NAV_US[[#This Row],[ColourOptions]]=\"M\",T_NAV_US[[#This Row],[ColourOptions]]=\"Y\"),MID(T_NAV_US[[#This Row],[No.]],11,3)=\"069\"),REPLACE(T_NAV_US[[#This Row],[No.]],11,3,\"xxx\"),T_NAV_US[[#This Row],[No.]])","v":"RB91-3602-006040"},"RB91-3602-006040","Wire Guide Tensioning Cable 4mm 50m (165 ft) Roll","006","S/S 316, Natural",{"$f":"IF(T_NAV_AU[[#This Row],[ColourOptions]]=\"Y\",\"Refer catalogue\", T_NAV_AU[[#This Row],[Colour Description]])","v":"Pure White"},"S/S 316, Natural","METER",{"$f":"IF(T_NAV_US[[#This Row],[CustomPricing]]<>\"\",T_NAV_US[[#This Row],[CustomPricing]],T_NAV_US[[#This Row],[USD_Original]])","v":5.93},5.93,null,50,300]
[null,"RB91-3602-006041","N",{"$f":"IF(AND(OR(T_NAV_US[[#This Row],[ColourOptions]]=\"M\",T_NAV_US[[#This Row],[ColourOptions]]=\"Y\"),MID(T_NAV_US[[#This Row],[No.]],11,3)=\"069\"),REPLACE(T_NAV_US[[#This Row],[No.]],11,3,\"xxx\"),T_NAV_US[[#This Row],[No.]])","v":"RB91-3602-006041"},"RB91-3602-006041","Wire Tensioning Guide (7x7) - 4mm w/ PVC Coating","006","S/S 316, Natural",{"$f":"IF(T_NAV_AU[[#This Row],[ColourOptions]]=\"Y\",\"Refer catalogue\", T_NAV_AU[[#This Row],[Colour Description]])","v":"S/S 304, Satin"},"S/S 316, Natural","METER",{"$f":"IF(T_NAV_US[[#This Row],[CustomPricing]]<>\"\",T_NAV_US[[#This Row],[CustomPricing]],T_NAV_US[[#This Row],[USD_Original]])","v":7.46},7.46,null,50,300]
[null,"RB91-3602-010032","N",{"$f":"IF(AND(OR(T_NAV_US[[#This Row],[ColourOptions]]=\"M\",T_NAV_US[[#This Row],[ColourOptions]]=\"Y\"),MID(T_NAV_US[[#This Row],[No.]],11,3)=\"069\"),REPLACE(T_NAV_US[[#This Row],[No.]],11,3,\"xxx\"),T_NAV_US[[#This Row],[No.]])","v":"RB91-3602-010032"},"RB91-3602-010032","Wire Tension Guide (1x19) 3.2mm 50m (164ft) Roll","006","S/S 316, Natural",{"$f":"IF(T_NAV_AU[[#This Row],[ColourOptions]]=\"Y\",\"Refer catalogue\", T_NAV_AU[[#This Row],[Colour Description]])","v":"Black, Satin"},"S/S 316, Natural","METER",{"$f":"IF(T_NAV_US[[#This Row],[CustomPricing]]<>\"\",T_NAV_US[[#This Row],[CustomPricing]],T_NAV_US[[#This Row],[USD_Original]])","v":2.76},2.76,null,50,300]
[null,"RB93-0110-000700","N",{"$f":"IF(AND(OR(T_NAV_US[[#This Row],[ColourOptions]]=\"M\",T_NAV_US[[#This Row],[ColourOptions]]=\"Y\"),MID(T_NAV_US[[#This Row],[No.]],11,3)=\"069\"),REPLACE(T_NAV_US[[#This Row],[No.]],11,3,\"xxx\"),T_NAV_US[[#This Row],[No.]])","v":"RB93-0110-000700"},"RB93-0110-000700","S100 Alum. Tube STD 110mm(4.33\") x7m(22.9 ft)-Mill","000","Mill Finish",{"$f":"IF(T_NAV_AU[[#This Row],[ColourOptions]]=\"Y\",\"Refer catalogue\", T_NAV_AU[[#This Row],[Colour Description]])","v":"Black, Satin"},"Mill Finish","EA",{"$f":"IF(T_NAV_US[[#This Row],[CustomPricing]]<>\"\",T_NAV_US[[#This Row],[CustomPricing]],T_NAV_US[[#This Row],[USD_Original]])","v":431.46},431.46,null,2,12]
[null,"RB93-0130-000700","N",{"$f":"IF(AND(OR(T_NAV_US[[#This Row],[ColourOptions]]=\"M\",T_NAV_US[[#This Row],[ColourOptions]]=\"Y\"),MID(T_NAV_US[[#This Row],[No.]],11,3)=\"069\"),REPLACE(T_NAV_US[[#This Row],[No.]],11,3,\"xxx\"),T_NAV_US[[#This Row],[No.]])","v":"RB93-0130-000700"},"RB93-0130-000700","S100 Alum. Tube HD 130mm(5.11\") x 7m(23 ft)-Mill","000","Mill Finish",{"$f":"IF(T_NAV_AU[[#This Row],[ColourOptions]]=\"Y\",\"Refer catalogue\", T_NAV_AU[[#This Row],[Colour Description]])","v":"Grey Cloud"},"Mill Finish","EA",{"$f":"IF(T_NAV_US[[#This Row],[CustomPricing]]<>\"\",T_NAV_US[[#This Row],[CustomPricing]],T_NAV_US[[#This Row],[USD_Original]])","v":963.93},963.93,null,1,9]
[null,"RB93-0160-000700","N",{"$f":"IF(AND(OR(T_NAV_US[[#This Row],[ColourOptions]]=\"M\",T_NAV_US[[#This Row],[ColourOptions]]=\"Y\"),MID(T_NAV_US[[#This Row],[No.]],11,3)=\"069\"),REPLACE(T_NAV_US[[#This Row],[No.]],11,3,\"xxx\"),T_NAV_US[[#This Row],[No.]])","v":"RB93-0160-000700"},"RB93-0160-000700","S100 Alum. Tube XHD 160mm(6.30\") x 7m(23 ft)-Mill","000","Mill Finish",{"$f":"IF(T_NAV_AU[[#This Row],[ColourOptions]]=\"Y\",\"Refer catalogue\", T_NAV_AU[[#This Row],[Colour Description]])","v":"Grey Cloud"},"Mill Finish","EA",{"$f":"IF(T_NAV_US[[#This Row],[CustomPricing]]<>\"\",T_NAV_US[[#This Row],[CustomPricing]],T_NAV_US[[#This Row],[USD_Original]])","v":1017.41},1017.41,null,1,6]
[null,"RE01-0101-000580","N",{"$f":"IF(AND(OR(T_NAV_US[[#This Row],[ColourOptions]]=\"M\",T_NAV_US[[#This Row],[ColourOptions]]=\"Y\"),MID(T_NAV_US[[#This Row],[No.]],11,3)=\"069\"),REPLACE(T_NAV_US[[#This Row],[No.]],11,3,\"xxx\"),T_NAV_US[[#This Row],[No.]])","v":"RE01-0101-000580"},"RE01-0101-000580","BOX 120 EXT -Back Extrusion x 5.8m (19ft) Mill","000","Mill Finish",{"$f":"IF(T_NAV_AU[[#This Row],[ColourOptions]]=\"Y\",\"Refer catalogue\", T_NAV_AU[[#This Row],[Colour Description]])","v":"Grey Cloud"},"Mill Finish","EA",{"$f":"IF(T_NAV_US[[#This Row],[CustomPricing]]<>\"\",T_NAV_US[[#This Row],[CustomPricing]],T_NAV_US[[#This Row],[USD_Original]])","v":166.35},166.35,null,1,16]
[null,"RE01-0101-069580-PF","Y",{"$f":"IF(AND(OR(T_NAV_US[[#This Row],[ColourOptions]]=\"M\",T_NAV_US[[#This Row],[ColourOptions]]=\"Y\"),MID(T_NAV_US[[#This Row],[No.]],11,3)=\"069\"),REPLACE(T_NAV_US[[#This Row],[No.]],11,3,\"xxx\"),T_NAV_US[[#This Row],[No.]])","v":"RE01-0101-xxx580-PF"},"RE01-0101-xxx580-PF","BOX 120EXT Back Extrusion w/P/Film 5.8m (19ft) Wht","069","Pure White",{"$f":"IF(T_NAV_AU[[#This Row],[ColourOptions]]=\"Y\",\"Refer catalogue\", T_NAV_AU[[#This Row],[Colour Description]])","v":"Grey Cloud"},"Refer catalogue","EA",{"$f":"IF(T_NAV_US[[#This Row],[CustomPricing]]<>\"\",T_NAV_US[[#This Row],[CustomPricing]],T_NAV_US[[#This Row],[USD_Original]])","v":207.93},207.93,null,1,16]
[null,"RE01-0102-000580","N",{"$f":"IF(AND(OR(T_NAV_US[[#This Row],[ColourOptions]]=\"M\",T_NAV_US[[#This Row],[ColourOptions]]=\"Y\"),MID(T_NAV_US[[#This Row],[No.]],11,3)=\"069\"),REPLACE(T_NAV_US[[#This Row],[No.]],11,3,\"xxx\"),T_NAV_US[[#This Row],[No.]])","v":"RE01-0102-000580"},"RE01-0102-000580","BOX 120 EXT -Front Cvr FULL x 5.8m (19ft) Mill","000","Mill Finish",{"$f":"IF(T_NAV_AU[[#This Row],[ColourOptions]]=\"Y\",\"Refer catalogue\", T_NAV_AU[[#This Row],[Colour Description]])","v":"Mill Finish"},"Mill Finish","EA",{"$f":"IF(T_NAV_US[[#This Row],[CustomPricing]]<>\"\",T_NAV_US[[#This Row],[CustomPricing]],T_NAV_US[[#This Row],[USD_Original]])","v":100.25},100.25,null,2,32]
[null,"RE01-0102-069580-PF","Y",{"$f":"IF(AND(OR(T_NAV_US[[#This Row],[ColourOptions]]=\"M\",T_NAV_US[[#This Row],[ColourOptions]]=\"Y\"),MID(T_NAV_US[[#This Row],[No.]],11,3)=\"069\"),REPLACE(T_NAV_US[[#This Row],[No.]],11,3,\"xxx\"),T_NAV_US[[#This Row],[No.]])","v":"RE01-0102-xxx580-PF"},"RE01-0102-xxx580-PF","BOX 120 EXT-Front Cvr FULL w/P/Filmx5.8m (19ft)Wht","069","Pure White",{"$f":"IF(T_NAV_AU[[#This Row],[ColourOptions]]=\"Y\",\"Refer catalogue\", T_NAV_AU[[#This Row],[Colour Description]])","v":"Refer catalogue"},"Refer catalogue","EA",{"$f":"IF(T_NAV_US[[#This Row],[CustomPricing]]<>\"\",T_NAV_US[[#This Row],[CustomPricing]],T_NAV_US[[#This Row],[USD_Original]])","v":135.16},135.16,null,2,32]
[null,"RE01-0103-000580","N",{"$f":"IF(AND(OR(T_NAV_US[[#This Row],[ColourOptions]]=\"M\",T_NAV_US[[#This Row],[ColourOptions]]=\"Y\"),MID(T_NAV_US[[#This Row],[No.]],11,3)=\"069\"),REPLACE(T_NAV_US[[#This Row],[No.]],11,3,\"xxx\"),T_NAV_US[[#This Row],[No.]])","v":"RE01-0103-000580"},"RE01-0103-000580","BOX 120 - Front Cover SEMI x 19ft (5.8m) Mill","000","Mill Finish",{"$f":"IF(T_NAV_AU[[#This Row],[ColourOptions]]=\"Y\",\"Refer catalogue\", T_NAV_AU[[#This Row],[Colour Description]])","v":"Silver ZINC Plated"},"Mill Finish","EA",{"$f":"IF(T_NAV_US[[#This Row],[CustomPricing]]<>\"\",T_NAV_US[[#This Row],[CustomPricing]],T_NAV_US[[#This Row],[USD_Original]])","v":83.55},83.55,null,4,64]
[null,"RE01-0103-069580-PF","Y",{"$f":"IF(AND(OR(T_NAV_US[[#This Row],[ColourOptions]]=\"M\",T_NAV_US[[#This Row],[ColourOptions]]=\"Y\"),MID(T_NAV_US[[#This Row],[No.]],11,3)=\"069\"),REPLACE(T_NAV_US[[#This Row],[No.]],11,3,\"xxx\"),T_NAV_US[[#This Row],[No.]])","v":"RE01-0103-xxx580-PF"},"RE01-0103-xxx580-PF","BOX 120-Front Cvr SEMI w/P/Filmx5.8m (19ft)Wht","069","Pure White",{"$f":"IF(T_NAV_AU[[#This Row],[ColourOptions]]=\"Y\",\"Refer catalogue\", T_NAV_AU[[#This Row],[Colour Description]])","v":"Refer catalogue"},"Refer catalogue","EA",{"$f":"IF(T_NAV_US[[#This Row],[CustomPricing]]<>\"\",T_NAV_US[[#This Row],[CustomPricing]],T_NAV_US[[#This Row],[USD_Original]])","v":111.4},111.4,null,4,64]
[null,"RE01-0106-000700","N",{"$f":"IF(AND(OR(T_NAV_US[[#This Row],[ColourOptions]]=\"M\",T_NAV_US[[#This Row],[ColourOptions]]=\"Y\"),MID(T_NAV_US[[#This Row],[No.]],11,3)=\"069\"),REPLACE(T_NAV_US[[#This Row],[No.]],11,3,\"xxx\"),T_NAV_US[[#This Row],[No.]])","v":"RE01-0106-000700"},"RE01-0106-000700","BOX 190 - Univ. Extr. x 22.9ft (7m) Mill","000","Mill Finish",{"$f":"IF(T_NAV_AU[[#This Row],[ColourOptions]]=\"Y\",\"Refer catalogue\", T_NAV_AU[[#This Row],[Colour Description]])","v":"S/S 316, Natural"},"Mill Finish","EA",{"$f":"IF(T_NAV_US[[#This Row],[CustomPricing]]<>\"\",T_NAV_US[[#This Row],[CustomPricing]],T_NAV_US[[#This Row],[USD_Original]])","v":216.04},216.04,null,1,24]
[null,"RE01-0106-069700-PF","Y",{"$f":"IF(AND(OR(T_NAV_US[[#This Row],[ColourOptions]]=\"M\",T_NAV_US[[#This Row],[ColourOptions]]=\"Y\"),MID(T_NAV_US[[#This Row],[No.]],11,3)=\"069\"),REPLACE(T_NAV_US[[#This Row],[No.]],11,3,\"xxx\"),T_NAV_US[[#This Row],[No.]])","v":"RE01-0106-xxx700-PF"},"RE01-0106-xxx700-PF","BOX 190 - Univ. Extr. w/P/Film x 22.9ft (7m) Wht.","069","Pure White",{"$f":"IF(T_NAV_AU[[#This Row],[ColourOptions]]=\"Y\",\"Refer catalogue\", T_NAV_AU[[#This Row],[Colour Description]])","v":"S/S 316, Natural"},"Refer catalogue","EA",{"$f":"IF(T_NAV_US[[#This Row],[CustomPricing]]<>\"\",T_NAV_US[[#This Row],[CustomPricing]],T_NAV_US[[#This Row],[USD_Original]])","v":270.04000000000002},270.04000000000002,null,1,24]
[null,"RE01-0107-000700","N",{"$f":"IF(AND(OR(T_NAV_US[[#This Row],[ColourOptions]]=\"M\",T_NAV_US[[#This Row],[ColourOptions]]=\"Y\"),MID(T_NAV_US[[#This Row],[No.]],11,3)=\"069\"),REPLACE(T_NAV_US[[#This Row],[No.]],11,3,\"xxx\"),T_NAV_US[[#This Row],[No.]])","v":"RE01-0107-000700"},"RE01-0107-000700","BOX 190 - Front Cover x 22.9 ft (7m) length Mill","000","Mill Finish",{"$f":"IF(T_NAV_AU[[#This Row],[ColourOptions]]=\"Y\",\"Refer catalogue\", T_NAV_AU[[#This Row],[Colour Description]])","v":"S/S 316, Natural"},"Mill Finish","EA",{"$f":"IF(T_NAV_US[[#This Row],[CustomPricing]]<>\"\",T_NAV_US[[#This Row],[CustomPricing]],T_NAV_US[[#This Row],[USD_Original]])","v":297.05},297.05,null,1,12]
[null,"RE01-0107-069700-PF","Y",{"$f":"IF(AND(OR(T_NAV_US[[#This Row],[ColourOptions]]=\"M\",T_NAV_US[[#This Row],[ColourOptions]]=\"Y\"),MID(T_NAV_US[[#This Row],[No.]],11,3)=\"069\"),REPLACE(T_NAV_US[[#This Row],[No.]],11,3,\"xxx\"),T_NAV_US[[#This Row],[No.]])","v":"RE01-0107-xxx700-PF"},"RE01-0107-xxx700-PF","BOX 190 - Front Cover w/P/Film x 22.9ft (7m) Wht.","069","Pure White",{"$f":"IF(T_NAV_AU[[#This Row],[ColourOptions]]=\"Y\",\"Refer catalogue\", T_NAV_AU[[#This Row],[Colour Description]])","v":"Mill Finish"},"Refer catalogue","EA",{"$f":"IF(T_NAV_US[[#This Row],[CustomPricing]]<>\"\",T_NAV_US[[#This Row],[CustomPricing]],T_NAV_US[[#This Row],[USD_Original]])","v":378.07},378.07,null,1,12]
[null,"RE01-0213-050045","N",{"$f":"IF(AND(OR(T_NAV_US[[#This Row],[ColourOptions]]=\"M\",T_NAV_US[[#This Row],[ColourOptions]]=\"Y\"),MID(T_NAV_US[[#This Row],[No.]],11,3)=\"069\"),REPLACE(T_NAV_US[[#This Row],[No.]],11,3,\"xxx\"),T_NAV_US[[#This Row],[No.]])","v":"RE01-0213-050045"},"RE01-0203-050063","Bearing Idler | 45mm","050","Black, Satin",{"$f":"IF(T_NAV_AU[[#This Row],[ColourOptions]]=\"Y\",\"Refer catalogue\", T_NAV_AU[[#This Row],[Colour Description]])","v":"Mill Finish"},"Black, Satin","EA",{"$f":"IF(T_NAV_US[[#This Row],[CustomPricing]]<>\"\",T_NAV_US[[#This Row],[CustomPricing]],T_NAV_US[[#This Row],[USD_Original]])","v":13.99},13.99,null,10,50]
[null,"RE01-0214-050000","N",{"$f":"IF(AND(OR(T_NAV_US[[#This Row],[ColourOptions]]=\"M\",T_NAV_US[[#This Row],[ColourOptions]]=\"Y\"),MID(T_NAV_US[[#This Row],[No.]],11,3)=\"069\"),REPLACE(T_NAV_US[[#This Row],[No.]],11,3,\"xxx\"),T_NAV_US[[#This Row],[No.]])","v":"RE01-0214-050000"},"RE01-0214-050000","External - Idler/Spring Adaptor Kit MKII","050","Black, Satin",{"$f":"IF(T_NAV_AU[[#This Row],[ColourOptions]]=\"Y\",\"Refer catalogue\", T_NAV_AU[[#This Row],[Colour Description]])","v":"Mill Finish"},"Black, Satin","SET",{"$f":"IF(T_NAV_US[[#This Row],[CustomPricing]]<>\"\",T_NAV_US[[#This Row],[CustomPricing]],T_NAV_US[[#This Row],[USD_Original]])","v":3.4},3.4,null,5,200]
[null,"RE01-0378-000580","N",{"$f":"IF(AND(OR(T_NAV_US[[#This Row],[ColourOptions]]=\"M\",T_NAV_US[[#This Row],[ColourOptions]]=\"Y\"),MID(T_NAV_US[[#This Row],[No.]],11,3)=\"069\"),REPLACE(T_NAV_US[[#This Row],[No.]],11,3,\"xxx\"),T_NAV_US[[#This Row],[No.]])","v":"RE01-0378-000580"},"RE01-0378-000580","78mm STD Alum. Tube - 80mm OD x 19ft (5.8m) mill","000","Mill Finish",{"$f":"IF(T_NAV_AU[[#This Row],[ColourOptions]]=\"Y\",\"Refer catalogue\", T_NAV_AU[[#This Row],[Colour Description]])","v":"Mill Finish"},"Mill Finish","EA",{"$f":"IF(T_NAV_US[[#This Row],[CustomPricing]]<>\"\",T_NAV_US[[#This Row],[CustomPricing]],T_NAV_US[[#This Row],[USD_Original]])","v":139.62},139.62,null,2,20]
[null,"RE01-0379-000700","N",{"$f":"IF(AND(OR(T_NAV_US[[#This Row],[ColourOptions]]=\"M\",T_NAV_US[[#This Row],[ColourOptions]]=\"Y\"),MID(T_NAV_US[[#This Row],[No.]],11,3)=\"069\"),REPLACE(T_NAV_US[[#This Row],[No.]],11,3,\"xxx\"),T_NAV_US[[#This Row],[No.]])","v":"RE01-0379-000700"},"RE01-0379-000700","78mm HD Alum. Tube - 81.6mm O.D x 22.9ft (7.0m)","000","Mill Finish",{"$f":"IF(T_NAV_AU[[#This Row],[ColourOptions]]=\"Y\",\"Refer catalogue\", T_NAV_AU[[#This Row],[Colour Description]])","v":"Refer catalogue"},"Mill Finish","EA",{"$f":"IF(T_NAV_US[[#This Row],[CustomPricing]]<>\"\",T_NAV_US[[#This Row],[CustomPricing]],T_NAV_US[[#This Row],[USD_Original]])","v":177.42},177.42,null,2,20]
[null,"RE01-0421-050001","N",{"$f":"IF(AND(OR(T_NAV_US[[#This Row],[ColourOptions]]=\"M\",T_NAV_US[[#This Row],[ColourOptions]]=\"Y\"),MID(T_NAV_US[[#This Row],[No.]],11,3)=\"069\"),REPLACE(T_NAV_US[[#This Row],[No.]],11,3,\"xxx\"),T_NAV_US[[#This Row],[No.]])","v":"RE01-0421-050001"},"RE01-0421-050001","External Booster V2 LH | COMPACT","050","Black, Satin",{"$f":"IF(T_NAV_AU[[#This Row],[ColourOptions]]=\"Y\",\"Refer catalogue\", T_NAV_AU[[#This Row],[Colour Description]])","v":"Mill Finish"},"Black, Satin","EA",{"$f":"IF(T_NAV_US[[#This Row],[CustomPricing]]<>\"\",T_NAV_US[[#This Row],[CustomPricing]],T_NAV_US[[#This Row],[USD_Original]])","v":33.15},33.15,null,4,40]
[null,"RE01-0421-050002","N",{"$f":"IF(AND(OR(T_NAV_US[[#This Row],[ColourOptions]]=\"M\",T_NAV_US[[#This Row],[ColourOptions]]=\"Y\"),MID(T_NAV_US[[#This Row],[No.]],11,3)=\"069\"),REPLACE(T_NAV_US[[#This Row],[No.]],11,3,\"xxx\"),T_NAV_US[[#This Row],[No.]])","v":"RE01-0421-050002"},"RE01-0421-050002","External Booster V2 LH | LIGHT","050","Black, Satin",{"$f":"IF(T_NAV_AU[[#This Row],[ColourOptions]]=\"Y\",\"Refer catalogue\", T_NAV_AU[[#This Row],[Colour Description]])","v":"Refer catalogue"},"Black, Satin","EA",{"$f":"IF(T_NAV_US[[#This Row],[CustomPricing]]<>\"\",T_NAV_US[[#This Row],[CustomPricing]],T_NAV_US[[#This Row],[USD_Original]])","v":37.200000000000003},37.200000000000003,null,4,40]
[null,"RE01-0421-050003","N",{"$f":"IF(AND(OR(T_NAV_US[[#This Row],[ColourOptions]]=\"M\",T_NAV_US[[#This Row],[ColourOptions]]=\"Y\"),MID(T_NAV_US[[#This Row],[No.]],11,3)=\"069\"),REPLACE(T_NAV_US[[#This Row],[No.]],11,3,\"xxx\"),T_NAV_US[[#This Row],[No.]])","v":"RE01-0421-050003"},"RE01-0421-050003","External Booster V2 LH | STANDARD","050","Black, Satin",{"$f":"IF(T_NAV_AU[[#This Row],[ColourOptions]]=\"Y\",\"Refer catalogue\", T_NAV_AU[[#This Row],[Colour Description]])","v":"Mill Finish"},"Black, Satin","EA",{"$f":"IF(T_NAV_US[[#This Row],[CustomPricing]]<>\"\",T_NAV_US[[#This Row],[CustomPricing]],T_NAV_US[[#This Row],[USD_Original]])","v":46.88},46.88,null,4,40]
[null,"RE01-0421-050004","N",{"$f":"IF(AND(OR(T_NAV_US[[#This Row],[ColourOptions]]=\"M\",T_NAV_US[[#This Row],[ColourOptions]]=\"Y\"),MID(T_NAV_US[[#This Row],[No.]],11,3)=\"069\"),REPLACE(T_NAV_US[[#This Row],[No.]],11,3,\"xxx\"),T_NAV_US[[#This Row],[No.]])","v":"RE01-0421-050004"},"RE01-0421-050004","External Booster V2 LH | HEAVY DUTY","050","Black, Satin",{"$f":"IF(T_NAV_AU[[#This Row],[ColourOptions]]=\"Y\",\"Refer catalogue\", T_NAV_AU[[#This Row],[Colour Description]])","v":"Refer catalogue"},"Black, Satin","EA",{"$f":"IF(T_NAV_US[[#This Row],[CustomPricing]]<>\"\",T_NAV_US[[#This Row],[CustomPricing]],T_NAV_US[[#This Row],[USD_Original]])","v":50.1},50.1,null,4,40]
[null,"RE01-0421-050005","N",{"$f":"IF(AND(OR(T_NAV_US[[#This Row],[ColourOptions]]=\"M\",T_NAV_US[[#This Row],[ColourOptions]]=\"Y\"),MID(T_NAV_US[[#This Row],[No.]],11,3)=\"069\"),REPLACE(T_NAV_US[[#This Row],[No.]],11,3,\"xxx\"),T_NAV_US[[#This Row],[No.]])","v":"RE01-0421-050005"},"RE01-0421-050005","External Booster V2 LH | EXTRA HEAVY DUTY","050","Black, Satin",{"$f":"IF(T_NAV_AU[[#This Row],[ColourOptions]]=\"Y\",\"Refer catalogue\", T_NAV_AU[[#This Row],[Colour Description]])","v":"Mill Finish"},"Black, Satin","EA",{"$f":"IF(T_NAV_US[[#This Row],[CustomPricing]]<>\"\",T_NAV_US[[#This Row],[CustomPricing]],T_NAV_US[[#This Row],[USD_Original]])","v":60.67},60.67,null,4,40]
[null,"RE01-0421-050006","N",{"$f":"IF(AND(OR(T_NAV_US[[#This Row],[ColourOptions]]=\"M\",T_NAV_US[[#This Row],[ColourOptions]]=\"Y\"),MID(T_NAV_US[[#This Row],[No.]],11,3)=\"069\"),REPLACE(T_NAV_US[[#This Row],[No.]],11,3,\"xxx\"),T_NAV_US[[#This Row],[No.]])","v":"RE01-0421-050006"},"RE01-0421-050006","External Booster V2 LH | ULTRA HEAVY DUTY","050","Black, Satin",{"$f":"IF(T_NAV_AU[[#This Row],[ColourOptions]]=\"Y\",\"Refer catalogue\", T_NAV_AU[[#This Row],[Colour Description]])","v":"Refer catalogue"},"Black, Satin","EA",{"$f":"IF(T_NAV_US[[#This Row],[CustomPricing]]<>\"\",T_NAV_US[[#This Row],[CustomPricing]],T_NAV_US[[#This Row],[USD_Original]])","v":72.760000000000005},72.760000000000005,null,4,40]
[null,"RE01-0502-050045","N",{"$f":"IF(AND(OR(T_NAV_US[[#This Row],[ColourOptions]]=\"M\",T_NAV_US[[#This Row],[ColourOptions]]=\"Y\"),MID(T_NAV_US[[#This Row],[No.]],11,3)=\"069\"),REPLACE(T_NAV_US[[#This Row],[No.]],11,3,\"xxx\"),T_NAV_US[[#This Row],[No.]])","v":"RE01-0502-050045"},"RE01-0502-050045","Crank Adaptor | 45mm","050","Black, Satin",{"$f":"IF(T_NAV_AU[[#This Row],[ColourOptions]]=\"Y\",\"Refer catalogue\", T_NAV_AU[[#This Row],[Colour Description]])","v":"Mill Finish"},"Black, Satin","EA",{"$f":"IF(T_NAV_US[[#This Row],[CustomPricing]]<>\"\",T_NAV_US[[#This Row],[CustomPricing]],T_NAV_US[[#This Row],[USD_Original]])","v":6.99},6.99,null,5,100]
[null,"RE01-0510-020000","N",{"$f":"IF(AND(OR(T_NAV_US[[#This Row],[ColourOptions]]=\"M\",T_NAV_US[[#This Row],[ColourOptions]]=\"Y\"),MID(T_NAV_US[[#This Row],[No.]],11,3)=\"069\"),REPLACE(T_NAV_US[[#This Row],[No.]],11,3,\"xxx\"),T_NAV_US[[#This Row],[No.]])","v":"RE01-0510-020000"},"RE01-0510-020000","RE01 Gear | Universal Joint","020","Anodised 20",{"$f":"IF(T_NAV_AU[[#This Row],[ColourOptions]]=\"Y\",\"Refer catalogue\", T_NAV_AU[[#This Row],[Colour Description]])","v":"Refer catalogue"},"Anodised 20","EA",{"$f":"IF(T_NAV_US[[#This Row],[CustomPricing]]<>\"\",T_NAV_US[[#This Row],[CustomPricing]],T_NAV_US[[#This Row],[USD_Original]])","v":13.93},13.93]
[null,"RE01-0513-000003","N",{"$f":"IF(AND(OR(T_NAV_US[[#This Row],[ColourOptions]]=\"M\",T_NAV_US[[#This Row],[ColourOptions]]=\"Y\"),MID(T_NAV_US[[#This Row],[No.]],11,3)=\"069\"),REPLACE(T_NAV_US[[#This Row],[No.]],11,3,\"xxx\"),T_NAV_US[[#This Row],[No.]])","v":"RE01-0513-000003"},"RE01-0513-000003","Gear 5:1 (7.5Nm) + Screws","000","Mill Finish",{"$f":"IF(T_NAV_AU[[#This Row],[ColourOptions]]=\"Y\",\"Refer catalogue\", T_NAV_AU[[#This Row],[Colour Description]])","v":"Black, Satin"},"Mill Finish","SET",{"$f":"IF(T_NAV_US[[#This Row],[CustomPricing]]<>\"\",T_NAV_US[[#This Row],[CustomPricing]],T_NAV_US[[#This Row],[USD_Original]])","v":36.07},36.07,null,5,50]
[null,"RE01-0513-050003","Y",{"$f":"IF(AND(OR(T_NAV_US[[#This Row],[ColourOptions]]=\"M\",T_NAV_US[[#This Row],[ColourOptions]]=\"Y\"),MID(T_NAV_US[[#This Row],[No.]],11,3)=\"069\"),REPLACE(T_NAV_US[[#This Row],[No.]],11,3,\"xxx\"),T_NAV_US[[#This Row],[No.]])","v":"RE01-0513-050003"},"RE01-0513-050003","Gear 5:1 (7.5Nm) + Screws","069","Black, Satin",{"$f":"IF(T_NAV_AU[[#This Row],[ColourOptions]]=\"Y\",\"Refer catalogue\", T_NAV_AU[[#This Row],[Colour Description]])","v":"Black, Satin"},"Black, Satin","SET",{"$f":"IF(T_NAV_US[[#This Row],[CustomPricing]]<>\"\",T_NAV_US[[#This Row],[CustomPricing]],T_NAV_US[[#This Row],[USD_Original]])","v":36.17},36.17,null,5,50]
[null,"RE01-0517-000003","N",{"$f":"IF(AND(OR(T_NAV_US[[#This Row],[ColourOptions]]=\"M\",T_NAV_US[[#This Row],[ColourOptions]]=\"Y\"),MID(T_NAV_US[[#This Row],[No.]],11,3)=\"069\"),REPLACE(T_NAV_US[[#This Row],[No.]],11,3,\"xxx\"),T_NAV_US[[#This Row],[No.]])","v":"RE01-0517-000003"},"RE01-0517-000003","Gear 8:1 (20Nm) + Screws","000","Mill Finish",{"$f":"IF(T_NAV_AU[[#This Row],[ColourOptions]]=\"Y\",\"Refer catalogue\", T_NAV_AU[[#This Row],[Colour Description]])","v":"Mill Finish"},"Mill Finish","SET",{"$f":"IF(T_NAV_US[[#This Row],[CustomPricing]]<>\"\",T_NAV_US[[#This Row],[CustomPricing]],T_NAV_US[[#This Row],[USD_Original]])","v":70.760000000000005},70.760000000000005,null,5,50]
[null,"RE01-0517-050003","N",{"$f":"IF(AND(OR(T_NAV_US[[#This Row],[ColourOptions]]=\"M\",T_NAV_US[[#This Row],[ColourOptions]]=\"Y\"),MID(T_NAV_US[[#This Row],[No.]],11,3)=\"069\"),REPLACE(T_NAV_US[[#This Row],[No.]],11,3,\"xxx\"),T_NAV_US[[#This Row],[No.]])","v":"RE01-0517-050003"},"RE01-0517-050003","Gear 8:1 (20Nm) + Screws","050","Black, Satin",{"$f":"IF(T_NAV_AU[[#This Row],[ColourOptions]]=\"Y\",\"Refer catalogue\", T_NAV_AU[[#This Row],[Colour Description]])","v":"Mill Finish"},"Black, Satin","SET",{"$f":"IF(T_NAV_US[[#This Row],[CustomPricing]]<>\"\",T_NAV_US[[#This Row],[CustomPricing]],T_NAV_US[[#This Row],[USD_Original]])","v":72.36},72.36,null,5,50]
[null,"RE01-0601-025000","N",{"$f":"IF(AND(OR(T_NAV_US[[#This Row],[ColourOptions]]=\"M\",T_NAV_US[[#This Row],[ColourOptions]]=\"Y\"),MID(T_NAV_US[[#This Row],[No.]],11,3)=\"069\"),REPLACE(T_NAV_US[[#This Row],[No.]],11,3,\"xxx\"),T_NAV_US[[#This Row],[No.]])","v":"RE01-0601-025000"},"RE01-0601-025000","AUTOMATE VEUE 45mm Motor Bracket Adapter + screws","025","Silver ZINC Plated",{"$f":"IF(T_NAV_AU[[#This Row],[ColourOptions]]=\"Y\",\"Refer catalogue\", T_NAV_AU[[#This Row],[Colour Description]])","v":"Black, Satin"},"Silver ZINC Plated","SET",{"$f":"IF(T_NAV_US[[#This Row],[CustomPricing]]<>\"\",T_NAV_US[[#This Row],[CustomPricing]],T_NAV_US[[#This Row],[USD_Original]])","v":4.2},4.2,null,5,100]
[null,"RE01-0603-025000","N",{"$f":"IF(AND(OR(T_NAV_US[[#This Row],[ColourOptions]]=\"M\",T_NAV_US[[#This Row],[ColourOptions]]=\"Y\"),MID(T_NAV_US[[#This Row],[No.]],11,3)=\"069\"),REPLACE(T_NAV_US[[#This Row],[No.]],11,3,\"xxx\"),T_NAV_US[[#This Row],[No.]])","v":"RE01-0603-025000"},"RE01-0603-025000","AUTOMATE VEUE 45mm SLIM Motor 10mm Sq. Shaft","025","Silver ZINC Plated",{"$f":"IF(T_NAV_AU[[#This Row],[ColourOptions]]=\"Y\",\"Refer catalogue\", T_NAV_AU[[#This Row],[Colour Description]])","v":"Black, Satin"},"Silver ZINC Plated","SET",{"$f":"IF(T_NAV_US[[#This Row],[CustomPricing]]<>\"\",T_NAV_US[[#This Row],[CustomPricing]],T_NAV_US[[#This Row],[USD_Original]])","v":3.13},3.13,null,1,100]
[null,"RE01-0604-025000","N",{"$f":"IF(AND(OR(T_NAV_US[[#This Row],[ColourOptions]]=\"M\",T_NAV_US[[#This Row],[ColourOptions]]=\"Y\"),MID(T_NAV_US[[#This Row],[No.]],11,3)=\"069\"),REPLACE(T_NAV_US[[#This Row],[No.]],11,3,\"xxx\"),T_NAV_US[[#This Row],[No.]])","v":"RE01-0604-025000"},"RE01-0604-025000","SOMFY Round Head Adaptor Set + screws","025","Silver ZINC Plated",{"$f":"IF(T_NAV_AU[[#This Row],[ColourOptions]]=\"Y\",\"Refer catalogue\", T_NAV_AU[[#This Row],[Colour Description]])","v":"Black, Satin"},"Silver ZINC Plated","EA",{"$f":"IF(T_NAV_US[[#This Row],[CustomPricing]]<>\"\",T_NAV_US[[#This Row],[CustomPricing]],T_NAV_US[[#This Row],[USD_Original]])","v":23.22},23.22,null,5,100]
[null,"RE01-0663-050003","N",{"$f":"IF(AND(OR(T_NAV_US[[#This Row],[ColourOptions]]=\"M\",T_NAV_US[[#This Row],[ColourOptions]]=\"Y\"),MID(T_NAV_US[[#This Row],[No.]],11,3)=\"069\"),REPLACE(T_NAV_US[[#This Row],[No.]],11,3,\"xxx\"),T_NAV_US[[#This Row],[No.]])","v":"RE01-0663-050003"},"RE01-0663-050003","SOMFY Drive Wheel - 63mm Tube","050","Black, Satin",{"$f":"IF(T_NAV_AU[[#This Row],[ColourOptions]]=\"Y\",\"Refer catalogue\", T_NAV_AU[[#This Row],[Colour Description]])","v":"Black, Satin"},"Black, Satin","EA",{"$f":"IF(T_NAV_US[[#This Row],[CustomPricing]]<>\"\",T_NAV_US[[#This Row],[CustomPricing]],T_NAV_US[[#This Row],[USD_Original]])","v":8.77},8.77,null,5,100]
[null,"RE01-0664-050003","N",{"$f":"IF(AND(OR(T_NAV_US[[#This Row],[ColourOptions]]=\"M\",T_NAV_US[[#This Row],[ColourOptions]]=\"Y\"),MID(T_NAV_US[[#This Row],[No.]],11,3)=\"069\"),REPLACE(T_NAV_US[[#This Row],[No.]],11,3,\"xxx\"),T_NAV_US[[#This Row],[No.]])","v":"RE01-0664-050003"},"RE01-0664-050003","SOMFY Crown Wheel - 63mm Tube","050","Black, Satin",{"$f":"IF(T_NAV_AU[[#This Row],[ColourOptions]]=\"Y\",\"Refer catalogue\", T_NAV_AU[[#This Row],[Colour Description]])","v":"Black, Satin"},"Black, Satin","EA",{"$f":"IF(T_NAV_US[[#This Row],[CustomPricing]]<>\"\",T_NAV_US[[#This Row],[CustomPricing]],T_NAV_US[[#This Row],[USD_Original]])","v":8.7799999999999994},8.7799999999999994,null,5,100]
[null,"RE01-0664-050508","N",{"$f":"IF(AND(OR(T_NAV_US[[#This Row],[ColourOptions]]=\"M\",T_NAV_US[[#This Row],[ColourOptions]]=\"Y\"),MID(T_NAV_US[[#This Row],[No.]],11,3)=\"069\"),REPLACE(T_NAV_US[[#This Row],[No.]],11,3,\"xxx\"),T_NAV_US[[#This Row],[No.]])","v":"RE01-0664-050508"},"RE01-0664-050508","AUTOMATE | 63mm Drive Wheel | STD Motor","050","Black, Satin",{"$f":"IF(T_NAV_AU[[#This Row],[ColourOptions]]=\"Y\",\"Refer catalogue\", T_NAV_AU[[#This Row],[Colour Description]])","v":"Black, Satin"},"Black, Satin","EA",{"$f":"IF(T_NAV_US[[#This Row],[CustomPricing]]<>\"\",T_NAV_US[[#This Row],[CustomPricing]],T_NAV_US[[#This Row],[USD_Original]])","v":7.61},7.61,null,5,50]
[null,"RE01-0666-050508","N",{"$f":"IF(AND(OR(T_NAV_US[[#This Row],[ColourOptions]]=\"M\",T_NAV_US[[#This Row],[ColourOptions]]=\"Y\"),MID(T_NAV_US[[#This Row],[No.]],11,3)=\"069\"),REPLACE(T_NAV_US[[#This Row],[No.]],11,3,\"xxx\"),T_NAV_US[[#This Row],[No.]])","v":"RE01-0666-050508"},"RE01-0666-050508","Drive Wheel (FT Impact Detect) - 63mm Alum Tube","050","Black, Satin",{"$f":"IF(T_NAV_AU[[#This Row],[ColourOptions]]=\"Y\",\"Refer catalogue\", T_NAV_AU[[#This Row],[Colour Description]])","v":"Black, Satin"},"Black, Satin","EA",{"$f":"IF(T_NAV_US[[#This Row],[CustomPricing]]<>\"\",T_NAV_US[[#This Row],[CustomPricing]],T_NAV_US[[#This Row],[USD_Original]])","v":7.61},7.61,null,5,100]
[null,"RE01-0666-050518","N",{"$f":"IF(AND(OR(T_NAV_US[[#This Row],[ColourOptions]]=\"M\",T_NAV_US[[#This Row],[ColourOptions]]=\"Y\"),MID(T_NAV_US[[#This Row],[No.]],11,3)=\"069\"),REPLACE(T_NAV_US[[#This Row],[No.]],11,3,\"xxx\"),T_NAV_US[[#This Row],[No.]])","v":"RE01-0666-050518"},"RE01-0666-050518","AUTOMATE | 63mm Drive Wheel | Impact Detect","050","Black, Satin",{"$f":"IF(T_NAV_AU[[#This Row],[ColourOptions]]=\"Y\",\"Refer catalogue\", T_NAV_AU[[#This Row],[Colour Description]])","v":"Black, Satin"},"Black, Satin","SET",{"$f":"IF(T_NAV_US[[#This Row],[CustomPricing]]<>\"\",T_NAV_US[[#This Row],[CustomPricing]],T_NAV_US[[#This Row],[USD_Original]])","v":8.83},8.83,null,5,100]
[null,"RE01-0678-050003","N",{"$f":"IF(AND(OR(T_NAV_US[[#This Row],[ColourOptions]]=\"M\",T_NAV_US[[#This Row],[ColourOptions]]=\"Y\"),MID(T_NAV_US[[#This Row],[No.]],11,3)=\"069\"),REPLACE(T_NAV_US[[#This Row],[No.]],11,3,\"xxx\"),T_NAV_US[[#This Row],[No.]])","v":"RE01-0678-050003"},"RE01-0678-050003","SOMFY Drive Wheel - 78mm Tube","050","Black, Satin",{"$f":"IF(T_NAV_AU[[#This Row],[ColourOptions]]=\"Y\",\"Refer catalogue\", T_NAV_AU[[#This Row],[Colour Description]])","v":"Anodised 20"},"Black, Satin","EA",{"$f":"IF(T_NAV_US[[#This Row],[CustomPricing]]<>\"\",T_NAV_US[[#This Row],[CustomPricing]],T_NAV_US[[#This Row],[USD_Original]])","v":9.09},9.09,null,5,100]
[null,"RE01-0678-050508","N",{"$f":"IF(AND(OR(T_NAV_US[[#This Row],[ColourOptions]]=\"M\",T_NAV_US[[#This Row],[ColourOptions]]=\"Y\"),MID(T_NAV_US[[#This Row],[No.]],11,3)=\"069\"),REPLACE(T_NAV_US[[#This Row],[No.]],11,3,\"xxx\"),T_NAV_US[[#This Row],[No.]])","v":"RE01-0678-050508"},"RE01-0678-050508","Crown Wheel - 78mm Steel & Alum. Tube","050","Black, Satin",{"$f":"IF(T_NAV_AU[[#This Row],[ColourOptions]]=\"Y\",\"Refer catalogue\", T_NAV_AU[[#This Row],[Colour Description]])","v":"Mill Finish"},"Black, Satin","EA",{"$f":"IF(T_NAV_US[[#This Row],[CustomPricing]]<>\"\",T_NAV_US[[#This Row],[CustomPricing]],T_NAV_US[[#This Row],[USD_Original]])","v":2.02},2.02,null,5,50]
[null,"RE01-0680-050518","N",{"$f":"IF(AND(OR(T_NAV_US[[#This Row],[ColourOptions]]=\"M\",T_NAV_US[[#This Row],[ColourOptions]]=\"Y\"),MID(T_NAV_US[[#This Row],[No.]],11,3)=\"069\"),REPLACE(T_NAV_US[[#This Row],[No.]],11,3,\"xxx\"),T_NAV_US[[#This Row],[No.]])","v":"RE01-0680-050518"},"RE01-0680-050518","AUTOMATE | 78mm Drive Wheel | Impact Detect","050","Black, Satin",{"$f":"IF(T_NAV_AU[[#This Row],[ColourOptions]]=\"Y\",\"Refer catalogue\", T_NAV_AU[[#This Row],[Colour Description]])","v":"Refer catalogue"},"Black, Satin","SET",{"$f":"IF(T_NAV_US[[#This Row],[CustomPricing]]<>\"\",T_NAV_US[[#This Row],[CustomPricing]],T_NAV_US[[#This Row],[USD_Original]])","v":8.83},8.83,null,5,100]
[null,"RE01-1101-000120","N",{"$f":"IF(AND(OR(T_NAV_US[[#This Row],[ColourOptions]]=\"M\",T_NAV_US[[#This Row],[ColourOptions]]=\"Y\"),MID(T_NAV_US[[#This Row],[No.]],11,3)=\"069\"),REPLACE(T_NAV_US[[#This Row],[No.]],11,3,\"xxx\"),T_NAV_US[[#This Row],[No.]])","v":"RE01-1101-000120"},"RE01-1101-000120","BOX 120 End Plate Set + Screws, Mill","000","Mill Finish",{"$f":"IF(T_NAV_AU[[#This Row],[ColourOptions]]=\"Y\",\"Refer catalogue\", T_NAV_AU[[#This Row],[Colour Description]])","v":"Mill Finish"},"Mill Finish","PAIR",{"$f":"IF(T_NAV_US[[#This Row],[CustomPricing]]<>\"\",T_NAV_US[[#This Row],[CustomPricing]],T_NAV_US[[#This Row],[USD_Original]])","v":32.4},32.4,null,4,16]
[null,"RE01-1101-069120","Y",{"$f":"IF(AND(OR(T_NAV_US[[#This Row],[ColourOptions]]=\"M\",T_NAV_US[[#This Row],[ColourOptions]]=\"Y\"),MID(T_NAV_US[[#This Row],[No.]],11,3)=\"069\"),REPLACE(T_NAV_US[[#This Row],[No.]],11,3,\"xxx\"),T_NAV_US[[#This Row],[No.]])","v":"RE01-1101-xxx120"},"RE01-1101-xxx120","BOX 120 End Plate Set + Screws, Wht","069","Pure White",{"$f":"IF(T_NAV_AU[[#This Row],[ColourOptions]]=\"Y\",\"Refer catalogue\", T_NAV_AU[[#This Row],[Colour Description]])","v":"Black, Satin"},"Refer catalogue","PAIR",{"$f":"IF(T_NAV_US[[#This Row],[CustomPricing]]<>\"\",T_NAV_US[[#This Row],[CustomPricing]],T_NAV_US[[#This Row],[USD_Original]])","v":35.44},35.44,null,4,16]
[null,"RE01-1105-000001","N",{"$f":"IF(AND(OR(T_NAV_US[[#This Row],[ColourOptions]]=\"M\",T_NAV_US[[#This Row],[ColourOptions]]=\"Y\"),MID(T_NAV_US[[#This Row],[No.]],11,3)=\"069\"),REPLACE(T_NAV_US[[#This Row],[No.]],11,3,\"xxx\"),T_NAV_US[[#This Row],[No.]])","v":"RE01-1105-000001"},"RE01-1105-000001","BOX 190 - End Plates & Screws Only Mill","000","Mill Finish",{"$f":"IF(T_NAV_AU[[#This Row],[ColourOptions]]=\"Y\",\"Refer catalogue\", T_NAV_AU[[#This Row],[Colour Description]])","v":"Silver ZINC Plated"},"Mill Finish","SET",{"$f":"IF(T_NAV_US[[#This Row],[CustomPricing]]<>\"\",T_NAV_US[[#This Row],[CustomPricing]],T_NAV_US[[#This Row],[USD_Original]])","v":243.04},243.04,null,1,5]
[null,"RE01-1105-020100","N",{"$f":"IF(AND(OR(T_NAV_US[[#This Row],[ColourOptions]]=\"M\",T_NAV_US[[#This Row],[ColourOptions]]=\"Y\"),MID(T_NAV_US[[#This Row],[No.]],11,3)=\"069\"),REPLACE(T_NAV_US[[#This Row],[No.]],11,3,\"xxx\"),T_NAV_US[[#This Row],[No.]])","v":"RE01-1105-020100"},"RE01-1105-020100","BOX 190 - Univ. Bracket Extrusion x4\" (100mm) Anod","020","Anodised 15",{"$f":"IF(T_NAV_AU[[#This Row],[ColourOptions]]=\"Y\",\"Refer catalogue\", T_NAV_AU[[#This Row],[Colour Description]])","v":"Silver ZINC Plated"},"Anodised 15","EA",{"$f":"IF(T_NAV_US[[#This Row],[CustomPricing]]<>\"\",T_NAV_US[[#This Row],[CustomPricing]],T_NAV_US[[#This Row],[USD_Original]])","v":31.34},31.34,null,2,10]
[null,"RE01-1105-069001","Y",{"$f":"IF(AND(OR(T_NAV_US[[#This Row],[ColourOptions]]=\"M\",T_NAV_US[[#This Row],[ColourOptions]]=\"Y\"),MID(T_NAV_US[[#This Row],[No.]],11,3)=\"069\"),REPLACE(T_NAV_US[[#This Row],[No.]],11,3,\"xxx\"),T_NAV_US[[#This Row],[No.]])","v":"RE01-1105-xxx001"},"RE01-1105-xxx001","BOX 190 - End Plates & Screws Only Wht","069","Pure White",{"$f":"IF(T_NAV_AU[[#This Row],[ColourOptions]]=\"Y\",\"Refer catalogue\", T_NAV_AU[[#This Row],[Colour Description]])","v":"Silver ZINC Plated"},"Refer catalogue","SET",{"$f":"IF(T_NAV_US[[#This Row],[CustomPricing]]<>\"\",T_NAV_US[[#This Row],[CustomPricing]],T_NAV_US[[#This Row],[USD_Original]])","v":250.57},250.57,null,1,5]
[null,"RE01-3020-025000","N",{"$f":"IF(AND(OR(T_NAV_US[[#This Row],[ColourOptions]]=\"M\",T_NAV_US[[#This Row],[ColourOptions]]=\"Y\"),MID(T_NAV_US[[#This Row],[No.]],11,3)=\"069\"),REPLACE(T_NAV_US[[#This Row],[No.]],11,3,\"xxx\"),T_NAV_US[[#This Row],[No.]])","v":"RE01-3020-025000"},"RE01-3020-025000","Open Blind External Brackets | Zinc","025","Silver ZINC Plated",{"$f":"IF(T_NAV_AU[[#This Row],[ColourOptions]]=\"Y\",\"Refer catalogue\", T_NAV_AU[[#This Row],[Colour Description]])","v":"Silver ZINC Plated"},"Silver ZINC Plated","SET",{"$f":"IF(T_NAV_US[[#This Row],[CustomPricing]]<>\"\",T_NAV_US[[#This Row],[CustomPricing]],T_NAV_US[[#This Row],[USD_Original]])","v":16.93},16.93,null,2,20]
[null,"RE01-3020-069000","Y",{"$f":"IF(AND(OR(T_NAV_US[[#This Row],[ColourOptions]]=\"M\",T_NAV_US[[#This Row],[ColourOptions]]=\"Y\"),MID(T_NAV_US[[#This Row],[No.]],11,3)=\"069\"),REPLACE(T_NAV_US[[#This Row],[No.]],11,3,\"xxx\"),T_NAV_US[[#This Row],[No.]])","v":"RE01-3020-xxx000"},"RE01-3020-xxx000","Open Blind External Brackets | White","069","Pure White",{"$f":"IF(T_NAV_AU[[#This Row],[ColourOptions]]=\"Y\",\"Refer catalogue\", T_NAV_AU[[#This Row],[Colour Description]])","v":"Black, Satin"},"Refer catalogue","SET",{"$f":"IF(T_NAV_US[[#This Row],[CustomPricing]]<>\"\",T_NAV_US[[#This Row],[CustomPricing]],T_NAV_US[[#This Row],[USD_Original]])","v":16.93},16.93,null,2,20]
[null,"RE01-3021-012000","N",{"$f":"IF(AND(OR(T_NAV_US[[#This Row],[ColourOptions]]=\"M\",T_NAV_US[[#This Row],[ColourOptions]]=\"Y\"),MID(T_NAV_US[[#This Row],[No.]],11,3)=\"069\"),REPLACE(T_NAV_US[[#This Row],[No.]],11,3,\"xxx\"),T_NAV_US[[#This Row],[No.]])","v":"RE01-3021-012000"},"RE01-3021-012000","Open Blind External Brackets - S/S 304 | Natural","012","S/S 304, Satin",{"$f":"IF(T_NAV_AU[[#This Row],[ColourOptions]]=\"Y\",\"Refer catalogue\", T_NAV_AU[[#This Row],[Colour Description]])","v":"Black, Satin"},"S/S 304, Satin","SET",{"$f":"IF(T_NAV_US[[#This Row],[CustomPricing]]<>\"\",T_NAV_US[[#This Row],[CustomPricing]],T_NAV_US[[#This Row],[USD_Original]])","v":43.45},43.45,null,2,20]
[null,"RE01-3030-025000","N",{"$f":"IF(AND(OR(T_NAV_US[[#This Row],[ColourOptions]]=\"M\",T_NAV_US[[#This Row],[ColourOptions]]=\"Y\"),MID(T_NAV_US[[#This Row],[No.]],11,3)=\"069\"),REPLACE(T_NAV_US[[#This Row],[No.]],11,3,\"xxx\"),T_NAV_US[[#This Row],[No.]])","v":"RE01-3030-025000"},"RE01-3030-025000","External Open Brackets |SQUARE - Zinc Plated","025","Silver ZINC Plated",{"$f":"IF(T_NAV_AU[[#This Row],[ColourOptions]]=\"Y\",\"Refer catalogue\", T_NAV_AU[[#This Row],[Colour Description]])","v":"Black, Satin"},"Silver ZINC Plated","SET",{"$f":"IF(T_NAV_US[[#This Row],[CustomPricing]]<>\"\",T_NAV_US[[#This Row],[CustomPricing]],T_NAV_US[[#This Row],[USD_Original]])","v":18.350000000000001},18.350000000000001,null,2,16]
[null,"RE01-3030-069000","Y",{"$f":"IF(AND(OR(T_NAV_US[[#This Row],[ColourOptions]]=\"M\",T_NAV_US[[#This Row],[ColourOptions]]=\"Y\"),MID(T_NAV_US[[#This Row],[No.]],11,3)=\"069\"),REPLACE(T_NAV_US[[#This Row],[No.]],11,3,\"xxx\"),T_NAV_US[[#This Row],[No.]])","v":"RE01-3030-xxx000"},"RE01-3030-xxx000","External Open Brackets |SQUARE - Pure White","069","Pure White",{"$f":"IF(T_NAV_AU[[#This Row],[ColourOptions]]=\"Y\",\"Refer catalogue\", T_NAV_AU[[#This Row],[Colour Description]])","v":"Black, Satin"},"Refer catalogue","SET",{"$f":"IF(T_NAV_US[[#This Row],[CustomPricing]]<>\"\",T_NAV_US[[#This Row],[CustomPricing]],T_NAV_US[[#This Row],[USD_Original]])","v":18.350000000000001},18.350000000000001,null,2,16]
[null,"RE01-3031-012000","N",{"$f":"IF(AND(OR(T_NAV_US[[#This Row],[ColourOptions]]=\"M\",T_NAV_US[[#This Row],[ColourOptions]]=\"Y\"),MID(T_NAV_US[[#This Row],[No.]],11,3)=\"069\"),REPLACE(T_NAV_US[[#This Row],[No.]],11,3,\"xxx\"),T_NAV_US[[#This Row],[No.]])","v":"RE01-3031-012000"},"RE01-3031-012000","External Open Brackets | SQUARE | SS304 Satin","012","S/S 304, Satin",{"$f":"IF(T_NAV_AU[[#This Row],[ColourOptions]]=\"Y\",\"Refer catalogue\", T_NAV_AU[[#This Row],[Colour Description]])","v":"Black, Satin"},"S/S 304, Satin","SET",{"$f":"IF(T_NAV_US[[#This Row],[CustomPricing]]<>\"\",T_NAV_US[[#This Row],[CustomPricing]],T_NAV_US[[#This Row],[USD_Original]])","v":44.39},44.39,null,2,16]
[null,"RE15-0101-000580","N",{"$f":"IF(AND(OR(T_NAV_US[[#This Row],[ColourOptions]]=\"M\",T_NAV_US[[#This Row],[ColourOptions]]=\"Y\"),MID(T_NAV_US[[#This Row],[No.]],11,3)=\"069\"),REPLACE(T_NAV_US[[#This Row],[No.]],11,3,\"xxx\"),T_NAV_US[[#This Row],[No.]])","v":"RE15-0101-000580"},"RE15-0101-000580","F56 Weight Bar - 56mm x 5.8m (19ft) Mill","000","Mill Finish",{"$f":"IF(T_NAV_AU[[#This Row],[ColourOptions]]=\"Y\",\"Refer catalogue\", T_NAV_AU[[#This Row],[Colour Description]])","v":"Black, Satin"},"Mill Finish","EA",{"$f":"IF(T_NAV_US[[#This Row],[CustomPricing]]<>\"\",T_NAV_US[[#This Row],[CustomPricing]],T_NAV_US[[#This Row],[USD_Original]])","v":105.83},105.83,null,2,48]
[null,"RE15-0101-069580-PF","Y",{"$f":"IF(AND(OR(T_NAV_US[[#This Row],[ColourOptions]]=\"M\",T_NAV_US[[#This Row],[ColourOptions]]=\"Y\"),MID(T_NAV_US[[#This Row],[No.]],11,3)=\"069\"),REPLACE(T_NAV_US[[#This Row],[No.]],11,3,\"xxx\"),T_NAV_US[[#This Row],[No.]])","v":"RE15-0101-xxx580-PF"},"RE15-0101-xxx580-PF","F56 Weight Bar w/P/Film 56mm x 5.8m (19ft) Wht","069","Pure White",{"$f":"IF(T_NAV_AU[[#This Row],[ColourOptions]]=\"Y\",\"Refer catalogue\", T_NAV_AU[[#This Row],[Colour Description]])","v":"Black, Satin"},"Refer catalogue","EA",{"$f":"IF(T_NAV_US[[#This Row],[CustomPricing]]<>\"\",T_NAV_US[[#This Row],[CustomPricing]],T_NAV_US[[#This Row],[USD_Original]])","v":144.82},144.82,null,2,48]
[null,"RE15-0112-000700","N",{"$f":"IF(AND(OR(T_NAV_US[[#This Row],[ColourOptions]]=\"M\",T_NAV_US[[#This Row],[ColourOptions]]=\"Y\"),MID(T_NAV_US[[#This Row],[No.]],11,3)=\"069\"),REPLACE(T_NAV_US[[#This Row],[No.]],11,3,\"xxx\"),T_NAV_US[[#This Row],[No.]])","v":"RE15-0112-000700"},"RE15-0112-000700","F72 HD Ext. Weight Bar -72x31mm 22.9ft (7m) Mill","000","Mill Finish",{"$f":"IF(T_NAV_AU[[#This Row],[ColourOptions]]=\"Y\",\"Refer catalogue\", T_NAV_AU[[#This Row],[Colour Description]])","v":"Black, Satin"},"Mill Finish","EA",{"$f":"IF(T_NAV_US[[#This Row],[CustomPricing]]<>\"\",T_NAV_US[[#This Row],[CustomPricing]],T_NAV_US[[#This Row],[USD_Original]])","v":224.92},224.92,null,1,36]
[null,"RE15-0112-069700-PF","Y",{"$f":"IF(AND(OR(T_NAV_US[[#This Row],[ColourOptions]]=\"M\",T_NAV_US[[#This Row],[ColourOptions]]=\"Y\"),MID(T_NAV_US[[#This Row],[No.]],11,3)=\"069\"),REPLACE(T_NAV_US[[#This Row],[No.]],11,3,\"xxx\"),T_NAV_US[[#This Row],[No.]])","v":"RE15-0112-xxx700-PF"},"RE15-0112-xxx700-PF","F72 HD Ext. Weight Bar -72x31mm 22.9ft (7m) Wht","069","Pure White",{"$f":"IF(T_NAV_AU[[#This Row],[ColourOptions]]=\"Y\",\"Refer catalogue\", T_NAV_AU[[#This Row],[Colour Description]])","v":"Mill Finish"},"Refer catalogue","EA",{"$f":"IF(T_NAV_US[[#This Row],[CustomPricing]]<>\"\",T_NAV_US[[#This Row],[CustomPricing]],T_NAV_US[[#This Row],[USD_Original]])","v":317.02},317.02,null,1,36]
[null,"RE15-0422-050001","N",{"$f":"IF(AND(OR(T_NAV_US[[#This Row],[ColourOptions]]=\"M\",T_NAV_US[[#This Row],[ColourOptions]]=\"Y\"),MID(T_NAV_US[[#This Row],[No.]],11,3)=\"069\"),REPLACE(T_NAV_US[[#This Row],[No.]],11,3,\"xxx\"),T_NAV_US[[#This Row],[No.]])","v":"RE15-0422-050001"},"RE15-0422-050001","Zipscreen Ultra-lock V2 (pin & latch)","050","Black, Satin",{"$f":"IF(T_NAV_AU[[#This Row],[ColourOptions]]=\"Y\",\"Refer catalogue\", T_NAV_AU[[#This Row],[Colour Description]])","v":"Refer catalogue"},"Black, Satin","EA",{"$f":"IF(T_NAV_US[[#This Row],[CustomPricing]]<>\"\",T_NAV_US[[#This Row],[CustomPricing]],T_NAV_US[[#This Row],[USD_Original]])","v":31.25},31.25,null,5,50]
[null,"RE15-0501-050000","N",{"$f":"IF(AND(OR(T_NAV_US[[#This Row],[ColourOptions]]=\"M\",T_NAV_US[[#This Row],[ColourOptions]]=\"Y\"),MID(T_NAV_US[[#This Row],[No.]],11,3)=\"069\"),REPLACE(T_NAV_US[[#This Row],[No.]],11,3,\"xxx\"),T_NAV_US[[#This Row],[No.]])","v":"RE15-0501-050000"},"RE15-0501-050000","F56 Weight Bar Plain End Cap Set + Screws Blk","050","Black, Satin",{"$f":"IF(T_NAV_AU[[#This Row],[ColourOptions]]=\"Y\",\"Refer catalogue\", T_NAV_AU[[#This Row],[Colour Description]])","v":"Mill Finish"},"Black, Satin","SET",{"$f":"IF(T_NAV_US[[#This Row],[CustomPricing]]<>\"\",T_NAV_US[[#This Row],[CustomPricing]],T_NAV_US[[#This Row],[USD_Original]])","v":2.1},2.1,null,5,200]
[null,"RE15-0512-069000","Y",{"$f":"IF(AND(OR(T_NAV_US[[#This Row],[ColourOptions]]=\"M\",T_NAV_US[[#This Row],[ColourOptions]]=\"Y\"),MID(T_NAV_US[[#This Row],[No.]],11,3)=\"069\"),REPLACE(T_NAV_US[[#This Row],[No.]],11,3,\"xxx\"),T_NAV_US[[#This Row],[No.]])","v":"RE15-0512-xxx000"},"RE15-0512-xxx000","F72 Multi-Bar End Cap | Zip White","069","Pure White",{"$f":"IF(T_NAV_AU[[#This Row],[ColourOptions]]=\"Y\",\"Refer catalogue\", T_NAV_AU[[#This Row],[Colour Description]])","v":"Anodised 15"},"Refer catalogue","SET",{"$f":"IF(T_NAV_US[[#This Row],[CustomPricing]]<>\"\",T_NAV_US[[#This Row],[CustomPricing]],T_NAV_US[[#This Row],[USD_Original]])","v":10.28},10.28,null,5,200]
[null,"RE15-0522-069000","Y",{"$f":"IF(AND(OR(T_NAV_US[[#This Row],[ColourOptions]]=\"M\",T_NAV_US[[#This Row],[ColourOptions]]=\"Y\"),MID(T_NAV_US[[#This Row],[No.]],11,3)=\"069\"),REPLACE(T_NAV_US[[#This Row],[No.]],11,3,\"xxx\"),T_NAV_US[[#This Row],[No.]])","v":"RE15-0522-xxx000"},"RE15-0522-xxx000","F72 Multi-Bar End Caps | Wire Guide + screws","069","Pure White",{"$f":"IF(T_NAV_AU[[#This Row],[ColourOptions]]=\"Y\",\"Refer catalogue\", T_NAV_AU[[#This Row],[Colour Description]])","v":"Refer catalogue"},"Refer catalogue","SET",{"$f":"IF(T_NAV_US[[#This Row],[CustomPricing]]<>\"\",T_NAV_US[[#This Row],[CustomPricing]],T_NAV_US[[#This Row],[USD_Original]])","v":30.17},30.17,null,5,200]
[null,"RE15-0540-050000","N",{"$f":"IF(AND(OR(T_NAV_US[[#This Row],[ColourOptions]]=\"M\",T_NAV_US[[#This Row],[ColourOptions]]=\"Y\"),MID(T_NAV_US[[#This Row],[No.]],11,3)=\"069\"),REPLACE(T_NAV_US[[#This Row],[No.]],11,3,\"xxx\"),T_NAV_US[[#This Row],[No.]])","v":"RE15-0540-050000"},"RE15-0540-050000","F72 Plain End Cap Set + Screws","050","Black, Satin",{"$f":"IF(T_NAV_AU[[#This Row],[ColourOptions]]=\"Y\",\"Refer catalogue\", T_NAV_AU[[#This Row],[Colour Description]])","v":"Silver ZINC Plated"},"Black, Satin","SET",{"$f":"IF(T_NAV_US[[#This Row],[CustomPricing]]<>\"\",T_NAV_US[[#This Row],[CustomPricing]],T_NAV_US[[#This Row],[USD_Original]])","v":4.99},4.99,null,5,200]
[null,"RE15-0601-069001","Y",{"$f":"IF(AND(OR(T_NAV_US[[#This Row],[ColourOptions]]=\"M\",T_NAV_US[[#This Row],[ColourOptions]]=\"Y\"),MID(T_NAV_US[[#This Row],[No.]],11,3)=\"069\"),REPLACE(T_NAV_US[[#This Row],[No.]],11,3,\"xxx\"),T_NAV_US[[#This Row],[No.]])","v":"RE15-0601-xxx001"},"RE15-0601-xxx001","F56 Wire Guide End Cap Set + screws Wht","069","Pure White",{"$f":"IF(T_NAV_AU[[#This Row],[ColourOptions]]=\"Y\",\"Refer catalogue\", T_NAV_AU[[#This Row],[Colour Description]])","v":"Refer catalogue"},"Refer catalogue","SET",{"$f":"IF(T_NAV_US[[#This Row],[CustomPricing]]<>\"\",T_NAV_US[[#This Row],[CustomPricing]],T_NAV_US[[#This Row],[USD_Original]])","v":3.79},3.79,null,5,200]
[null,"RE20-0311-050178","N",{"$f":"IF(AND(OR(T_NAV_US[[#This Row],[ColourOptions]]=\"M\",T_NAV_US[[#This Row],[ColourOptions]]=\"Y\"),MID(T_NAV_US[[#This Row],[No.]],11,3)=\"069\"),REPLACE(T_NAV_US[[#This Row],[No.]],11,3,\"xxx\"),T_NAV_US[[#This Row],[No.]])","v":"RE20-0311-050178"},"RE20-0311-050178","Reducer | 78mm to 45mm w/ Screws","050","Black, Satin",{"$f":"IF(T_NAV_AU[[#This Row],[ColourOptions]]=\"Y\",\"Refer catalogue\", T_NAV_AU[[#This Row],[Colour Description]])","v":"S/S 304, Satin"},"Black, Satin","SET",5.24,3.59,null,4,100]
[null,"RE20-0303-069002","Y",{"$f":"IF(AND(OR(T_NAV_US[[#This Row],[ColourOptions]]=\"M\",T_NAV_US[[#This Row],[ColourOptions]]=\"Y\"),MID(T_NAV_US[[#This Row],[No.]],11,3)=\"069\"),REPLACE(T_NAV_US[[#This Row],[No.]],11,3,\"xxx\"),T_NAV_US[[#This Row],[No.]])","v":"RE20-0303-xxx002"},"RE20-0303-xxx002","F56 | Zipscreen - Lock End Cap Set (2 piece) White","069","Pure White",{"$f":"IF(T_NAV_AU[[#This Row],[ColourOptions]]=\"Y\",\"Refer catalogue\", T_NAV_AU[[#This Row],[Colour Description]])","v":"Silver ZINC Plated"},"Refer catalogue","SET",{"$f":"IF(T_NAV_US[[#This Row],[CustomPricing]]<>\"\",T_NAV_US[[#This Row],[CustomPricing]],T_NAV_US[[#This Row],[USD_Original]])","v":3.1},3.1,null,10,200]
[null,"RE24-1312-009001","N",{"$f":"IF(AND(OR(T_NAV_US[[#This Row],[ColourOptions]]=\"M\",T_NAV_US[[#This Row],[ColourOptions]]=\"Y\"),MID(T_NAV_US[[#This Row],[No.]],11,3)=\"069\"),REPLACE(T_NAV_US[[#This Row],[No.]],11,3,\"xxx\"),T_NAV_US[[#This Row],[No.]])","v":"RE24-1312-009001"},"RE24-1312-009001","Swaged RH Stud Terminal ONLY + Fixing Nuts & Wshrs","009","S/S 316, Polished",{"$f":"IF(T_NAV_AU[[#This Row],[ColourOptions]]=\"Y\",\"Refer catalogue\", T_NAV_AU[[#This Row],[Colour Description]])","v":"Refer catalogue"},"S/S 316, Polished","EA",{"$f":"IF(T_NAV_US[[#This Row],[CustomPricing]]<>\"\",T_NAV_US[[#This Row],[CustomPricing]],T_NAV_US[[#This Row],[USD_Original]])","v":4.7699999999999996},4.7699999999999996,null,10,50]
[null,"RE24-1312-009002","N",{"$f":"IF(AND(OR(T_NAV_US[[#This Row],[ColourOptions]]=\"M\",T_NAV_US[[#This Row],[ColourOptions]]=\"Y\"),MID(T_NAV_US[[#This Row],[No.]],11,3)=\"069\"),REPLACE(T_NAV_US[[#This Row],[No.]],11,3,\"xxx\"),T_NAV_US[[#This Row],[No.]])","v":"RE24-1312-009002"},"RE24-1312-009002","Dome Head Terminal for 3.2mm Wire SS 316","009","S/S 316, Polished",{"$f":"IF(T_NAV_AU[[#This Row],[ColourOptions]]=\"Y\",\"Refer catalogue\", T_NAV_AU[[#This Row],[Colour Description]])","v":"S/S 304, Satin"},"S/S 316, Polished","EA",{"$f":"IF(T_NAV_US[[#This Row],[CustomPricing]]<>\"\",T_NAV_US[[#This Row],[CustomPricing]],T_NAV_US[[#This Row],[USD_Original]])","v":3.95},3.95,null,20,200]
[null,"RE24-1312-009420","N",{"$f":"IF(AND(OR(T_NAV_US[[#This Row],[ColourOptions]]=\"M\",T_NAV_US[[#This Row],[ColourOptions]]=\"Y\"),MID(T_NAV_US[[#This Row],[No.]],11,3)=\"069\"),REPLACE(T_NAV_US[[#This Row],[No.]],11,3,\"xxx\"),T_NAV_US[[#This Row],[No.]])","v":"RE24-1312-009420"},"RE24-1312-009420","Swaged Dome Terminal + 4.2m Wire Cable SS 316","009","S/S 316, Polished",{"$f":"IF(T_NAV_AU[[#This Row],[ColourOptions]]=\"Y\",\"Refer catalogue\", T_NAV_AU[[#This Row],[Colour Description]])","v":"Mill Finish"},"S/S 316, Polished","SET",{"$f":"IF(T_NAV_US[[#This Row],[CustomPricing]]<>\"\",T_NAV_US[[#This Row],[CustomPricing]],T_NAV_US[[#This Row],[USD_Original]])","v":20.99},20.99,null,4,40]
[null,"RE24-1314-009400","N",{"$f":"IF(AND(OR(T_NAV_US[[#This Row],[ColourOptions]]=\"M\",T_NAV_US[[#This Row],[ColourOptions]]=\"Y\"),MID(T_NAV_US[[#This Row],[No.]],11,3)=\"069\"),REPLACE(T_NAV_US[[#This Row],[No.]],11,3,\"xxx\"),T_NAV_US[[#This Row],[No.]])","v":"RE24-1314-009400"},"RE24-1314-009400","Swage Fork Terminal-4mm steel Wire-316SS, Polished","009","S/S 316, Polished",{"$f":"IF(T_NAV_AU[[#This Row],[ColourOptions]]=\"Y\",\"Refer catalogue\", T_NAV_AU[[#This Row],[Colour Description]])","v":"Refer catalogue"},"S/S 316, Polished","EA",{"$f":"IF(T_NAV_US[[#This Row],[CustomPricing]]<>\"\",T_NAV_US[[#This Row],[CustomPricing]],T_NAV_US[[#This Row],[USD_Original]])","v":82.84},82.84,null,2,40]
[null,"RE24-1401-009040","N",{"$f":"IF(AND(OR(T_NAV_US[[#This Row],[ColourOptions]]=\"M\",T_NAV_US[[#This Row],[ColourOptions]]=\"Y\"),MID(T_NAV_US[[#This Row],[No.]],11,3)=\"069\"),REPLACE(T_NAV_US[[#This Row],[No.]],11,3,\"xxx\"),T_NAV_US[[#This Row],[No.]])","v":"RE24-1401-009040"},"RE24-1401-009040","Threaded Stud Terminal+Nut&Washer-4mm Wire 316SS","009","S/S 316, Polished",{"$f":"IF(T_NAV_AU[[#This Row],[ColourOptions]]=\"Y\",\"Refer catalogue\", T_NAV_AU[[#This Row],[Colour Description]])","v":"Mill Finish"},"S/S 316, Polished","EA",{"$f":"IF(T_NAV_US[[#This Row],[CustomPricing]]<>\"\",T_NAV_US[[#This Row],[CustomPricing]],T_NAV_US[[#This Row],[USD_Original]])","v":26.86},26.86,null,2,40]
[null,"RE24-2205-009000","N",{"$f":"IF(AND(OR(T_NAV_US[[#This Row],[ColourOptions]]=\"M\",T_NAV_US[[#This Row],[ColourOptions]]=\"Y\"),MID(T_NAV_US[[#This Row],[No.]],11,3)=\"069\"),REPLACE(T_NAV_US[[#This Row],[No.]],11,3,\"xxx\"),T_NAV_US[[#This Row],[No.]])","v":"RE24-2205-009000"},"RE24-2205-009000","Bottom Wire Guide Swivel Bkt - Floor/Wall Mount","009","S/S 316, Polished",{"$f":"IF(T_NAV_AU[[#This Row],[ColourOptions]]=\"Y\",\"Refer catalogue\", T_NAV_AU[[#This Row],[Colour Description]])","v":"Refer catalogue"},"S/S 316, Polished","SET",{"$f":"IF(T_NAV_US[[#This Row],[CustomPricing]]<>\"\",T_NAV_US[[#This Row],[CustomPricing]],T_NAV_US[[#This Row],[USD_Original]])","v":28.56},28.56,null,4,200]
[null,"RE24-2301-009090","N",{"$f":"IF(AND(OR(T_NAV_US[[#This Row],[ColourOptions]]=\"M\",T_NAV_US[[#This Row],[ColourOptions]]=\"Y\"),MID(T_NAV_US[[#This Row],[No.]],11,3)=\"069\"),REPLACE(T_NAV_US[[#This Row],[No.]],11,3,\"xxx\"),T_NAV_US[[#This Row],[No.]])","v":"RE24-2301-009090"},"RE24-2301-009090","Wall Mounting 'L' Bkt-LH&RH Set 90x38mm-316SS","009","S/S 316, Polished",{"$f":"IF(T_NAV_AU[[#This Row],[ColourOptions]]=\"Y\",\"Refer catalogue\", T_NAV_AU[[#This Row],[Colour Description]])","v":"Black, Satin"},"S/S 316, Polished","EA",{"$f":"IF(T_NAV_US[[#This Row],[CustomPricing]]<>\"\",T_NAV_US[[#This Row],[CustomPricing]],T_NAV_US[[#This Row],[USD_Original]])","v":204.54},204.54,null,1,40]
[null,"RE24-2601-009040","N",{"$f":"IF(AND(OR(T_NAV_US[[#This Row],[ColourOptions]]=\"M\",T_NAV_US[[#This Row],[ColourOptions]]=\"Y\"),MID(T_NAV_US[[#This Row],[No.]],11,3)=\"069\"),REPLACE(T_NAV_US[[#This Row],[No.]],11,3,\"xxx\"),T_NAV_US[[#This Row],[No.]])","v":"RE24-2601-009040"},"RE24-2601-009040","Tensioning Bkt&Flat Head Stud Terminal 4mm SS Wire","009","S/S 316, Polished",{"$f":"IF(T_NAV_AU[[#This Row],[ColourOptions]]=\"Y\",\"Refer catalogue\", T_NAV_AU[[#This Row],[Colour Description]])","v":"Black, Satin"},"S/S 316, Polished","EA",{"$f":"IF(T_NAV_US[[#This Row],[CustomPricing]]<>\"\",T_NAV_US[[#This Row],[CustomPricing]],T_NAV_US[[#This Row],[USD_Original]])","v":78.349999999999994},78.349999999999994,null,2,40]
[null,"RE24-2601-009902","N",{"$f":"IF(AND(OR(T_NAV_US[[#This Row],[ColourOptions]]=\"M\",T_NAV_US[[#This Row],[ColourOptions]]=\"Y\"),MID(T_NAV_US[[#This Row],[No.]],11,3)=\"069\"),REPLACE(T_NAV_US[[#This Row],[No.]],11,3,\"xxx\"),T_NAV_US[[#This Row],[No.]])","v":"RE24-2601-009902"},"RE24-2601-009902","Flat Head Stud Terminal – 4mm S/Steel Wire","009","S/S 316, Polished",{"$f":"IF(T_NAV_AU[[#This Row],[ColourOptions]]=\"Y\",\"Refer catalogue\", T_NAV_AU[[#This Row],[Colour Description]])","v":"Refer catalogue"},"S/S 316, Polished","EA",{"$f":"IF(T_NAV_US[[#This Row],[CustomPricing]]<>\"\",T_NAV_US[[#This Row],[CustomPricing]],T_NAV_US[[#This Row],[USD_Original]])","v":17.78},17.78,null,0,1]
[null,"RE24-4004-010032","N",{"$f":"IF(AND(OR(T_NAV_US[[#This Row],[ColourOptions]]=\"M\",T_NAV_US[[#This Row],[ColourOptions]]=\"Y\"),MID(T_NAV_US[[#This Row],[No.]],11,3)=\"069\"),REPLACE(T_NAV_US[[#This Row],[No.]],11,3,\"xxx\"),T_NAV_US[[#This Row],[No.]])","v":"RE24-4004-010032"},"RE24-4004-010032","Wire Guide Top Saddle Terminal Kit w/ Spring","010","S/S 304, Natural",{"$f":"IF(T_NAV_AU[[#This Row],[ColourOptions]]=\"Y\",\"Refer catalogue\", T_NAV_AU[[#This Row],[Colour Description]])","v":"Refer catalogue"},"S/S 304, Natural","SET",{"$f":"IF(T_NAV_US[[#This Row],[CustomPricing]]<>\"\",T_NAV_US[[#This Row],[CustomPricing]],T_NAV_US[[#This Row],[USD_Original]])","v":4.53},4.53,null,4,400]
[null,"RE24-9101-009050","N",{"$f":"IF(AND(OR(T_NAV_US[[#This Row],[ColourOptions]]=\"M\",T_NAV_US[[#This Row],[ColourOptions]]=\"Y\"),MID(T_NAV_US[[#This Row],[No.]],11,3)=\"069\"),REPLACE(T_NAV_US[[#This Row],[No.]],11,3,\"xxx\"),T_NAV_US[[#This Row],[No.]])","v":"RE24-9101-009050"},"RE24-9101-009050","Spring Compression 14.5 IDx50mm Long-SS","009","S/S 316, Polished",{"$f":"IF(T_NAV_AU[[#This Row],[ColourOptions]]=\"Y\",\"Refer catalogue\", T_NAV_AU[[#This Row],[Colour Description]])","v":"Black, Satin"},"S/S 316, Polished","EA",{"$f":"IF(T_NAV_US[[#This Row],[CustomPricing]]<>\"\",T_NAV_US[[#This Row],[CustomPricing]],T_NAV_US[[#This Row],[USD_Original]])","v":5.03},5.03,null,2,500]
[null,"RE29-0102-069500","Y",{"$f":"IF(AND(OR(T_NAV_US[[#This Row],[ColourOptions]]=\"M\",T_NAV_US[[#This Row],[ColourOptions]]=\"Y\"),MID(T_NAV_US[[#This Row],[No.]],11,3)=\"069\"),REPLACE(T_NAV_US[[#This Row],[No.]],11,3,\"xxx\"),T_NAV_US[[#This Row],[No.]])","v":"RE29-0102-xxx500"},"RE29-0102-xxx500","Pivot Arm Terminal Bar - 16.4ft (5.0m) Wht","069","Pure White",{"$f":"IF(T_NAV_AU[[#This Row],[ColourOptions]]=\"Y\",\"Refer catalogue\", T_NAV_AU[[#This Row],[Colour Description]])","v":"Refer catalogue"},"Refer catalogue","EA",{"$f":"IF(T_NAV_US[[#This Row],[CustomPricing]]<>\"\",T_NAV_US[[#This Row],[CustomPricing]],T_NAV_US[[#This Row],[USD_Original]])","v":274.77999999999997},274.77999999999997,null,1,10]
[null,"RE91-0100-025025","N",{"$f":"IF(AND(OR(T_NAV_US[[#This Row],[ColourOptions]]=\"M\",T_NAV_US[[#This Row],[ColourOptions]]=\"Y\"),MID(T_NAV_US[[#This Row],[No.]],11,3)=\"069\"),REPLACE(T_NAV_US[[#This Row],[No.]],11,3,\"xxx\"),T_NAV_US[[#This Row],[No.]])","v":"RE91-0100-025025"},"RE91-0100-025025","25mm Cam Buckle & Strap Assembly","025","Silver ZINC Plated",{"$f":"IF(T_NAV_AU[[#This Row],[ColourOptions]]=\"Y\",\"Refer catalogue\", T_NAV_AU[[#This Row],[Colour Description]])","v":"Black, Satin"},"Silver ZINC Plated","EA",{"$f":"IF(T_NAV_US[[#This Row],[CustomPricing]]<>\"\",T_NAV_US[[#This Row],[CustomPricing]],T_NAV_US[[#This Row],[USD_Original]])","v":7.95},7.95,null,2,100]
[null,"RE91-1101-013025","N",{"$f":"IF(AND(OR(T_NAV_US[[#This Row],[ColourOptions]]=\"M\",T_NAV_US[[#This Row],[ColourOptions]]=\"Y\"),MID(T_NAV_US[[#This Row],[No.]],11,3)=\"069\"),REPLACE(T_NAV_US[[#This Row],[No.]],11,3,\"xxx\"),T_NAV_US[[#This Row],[No.]])","v":"RE91-1101-013025"},"RE91-1101-013025","25mm Footmans Loop - SS 304","013","S/S 304, Polished",{"$f":"IF(T_NAV_AU[[#This Row],[ColourOptions]]=\"Y\",\"Refer catalogue\", T_NAV_AU[[#This Row],[Colour Description]])","v":"Refer catalogue"},"S/S 304, Polished","EA",{"$f":"IF(T_NAV_US[[#This Row],[CustomPricing]]<>\"\",T_NAV_US[[#This Row],[CustomPricing]],T_NAV_US[[#This Row],[USD_Original]])","v":2.1800000000000002},2.1800000000000002,null,10,200]
[null,"RE91-1102-050025","N",{"$f":"IF(AND(OR(T_NAV_US[[#This Row],[ColourOptions]]=\"M\",T_NAV_US[[#This Row],[ColourOptions]]=\"Y\"),MID(T_NAV_US[[#This Row],[No.]],11,3)=\"069\"),REPLACE(T_NAV_US[[#This Row],[No.]],11,3,\"xxx\"),T_NAV_US[[#This Row],[No.]])","v":"RE91-1102-050025"},"RE91-1102-050025","25mm Strap Down Loop Black","050","Black, Satin",{"$f":"IF(T_NAV_AU[[#This Row],[ColourOptions]]=\"Y\",\"Refer catalogue\", T_NAV_AU[[#This Row],[Colour Description]])","v":"S/S 316, Polished"},"Black, Satin","EA",{"$f":"IF(T_NAV_US[[#This Row],[CustomPricing]]<>\"\",T_NAV_US[[#This Row],[CustomPricing]],T_NAV_US[[#This Row],[USD_Original]])","v":1.68},1.68,null,10,1000]
[null,"RE91-1103-009050","N",{"$f":"IF(AND(OR(T_NAV_US[[#This Row],[ColourOptions]]=\"M\",T_NAV_US[[#This Row],[ColourOptions]]=\"Y\"),MID(T_NAV_US[[#This Row],[No.]],11,3)=\"069\"),REPLACE(T_NAV_US[[#This Row],[No.]],11,3,\"xxx\"),T_NAV_US[[#This Row],[No.]])","v":"RE91-1103-009050"},"RE91-1103-009050","Strap Down Spring Clip - 50mm SS 316","009","S/S 316, Polished",{"$f":"IF(T_NAV_AU[[#This Row],[ColourOptions]]=\"Y\",\"Refer catalogue\", T_NAV_AU[[#This Row],[Colour Description]])","v":"S/S 316, Polished"},"S/S 316, Polished","EA",{"$f":"IF(T_NAV_US[[#This Row],[CustomPricing]]<>\"\",T_NAV_US[[#This Row],[CustomPricing]],T_NAV_US[[#This Row],[USD_Original]])","v":2.1800000000000002},2.1800000000000002,null,10,200]
[null,"RE91-1104-013030","N",{"$f":"IF(AND(OR(T_NAV_US[[#This Row],[ColourOptions]]=\"M\",T_NAV_US[[#This Row],[ColourOptions]]=\"Y\"),MID(T_NAV_US[[#This Row],[No.]],11,3)=\"069\"),REPLACE(T_NAV_US[[#This Row],[No.]],11,3,\"xxx\"),T_NAV_US[[#This Row],[No.]])","v":"RE91-1104-013030"},"RE91-1104-013030","Strap Down Pad Eye Saddle – 30mm SS 304","009","S/S 316, Polished",{"$f":"IF(T_NAV_AU[[#This Row],[ColourOptions]]=\"Y\",\"Refer catalogue\", T_NAV_AU[[#This Row],[Colour Description]])","v":"S/S 316, Polished"},"S/S 316, Polished","EA",{"$f":"IF(T_NAV_US[[#This Row],[CustomPricing]]<>\"\",T_NAV_US[[#This Row],[CustomPricing]],T_NAV_US[[#This Row],[USD_Original]])","v":2.85},2.85,null,10,100]
[null,"RE91-1111-013025","N",{"$f":"IF(AND(OR(T_NAV_US[[#This Row],[ColourOptions]]=\"M\",T_NAV_US[[#This Row],[ColourOptions]]=\"Y\"),MID(T_NAV_US[[#This Row],[No.]],11,3)=\"069\"),REPLACE(T_NAV_US[[#This Row],[No.]],11,3,\"xxx\"),T_NAV_US[[#This Row],[No.]])","v":"RE91-1111-013025"},"RE91-1111-013025","25mm Footmans Loop Kit | F72","013","S/S 304, Polished",{"$f":"IF(T_NAV_AU[[#This Row],[ColourOptions]]=\"Y\",\"Refer catalogue\", T_NAV_AU[[#This Row],[Colour Description]])","v":"S/S 316, Polished"},"S/S 304, Polished","EA",{"$f":"IF(T_NAV_US[[#This Row],[CustomPricing]]<>\"\",T_NAV_US[[#This Row],[CustomPricing]],T_NAV_US[[#This Row],[USD_Original]])","v":11.55},11.55,null,5,100]
[null,"SB03-1301-009190","N",{"$f":"IF(AND(OR(T_NAV_US[[#This Row],[ColourOptions]]=\"M\",T_NAV_US[[#This Row],[ColourOptions]]=\"Y\"),MID(T_NAV_US[[#This Row],[No.]],11,3)=\"069\"),REPLACE(T_NAV_US[[#This Row],[No.]],11,3,\"xxx\"),T_NAV_US[[#This Row],[No.]])","v":"SB03-1301-009190"},"SB03-1301-009190","Zipscreen Extreme Adptr Bkt Kit - Univ. 316SS Pol","009","S/S 316, Polished",{"$f":"IF(T_NAV_AU[[#This Row],[ColourOptions]]=\"Y\",\"Refer catalogue\", T_NAV_AU[[#This Row],[Colour Description]])","v":"S/S 316, Polished"},"S/S 316, Polished","SET",{"$f":"IF(T_NAV_US[[#This Row],[CustomPricing]]<>\"\",T_NAV_US[[#This Row],[CustomPricing]],T_NAV_US[[#This Row],[USD_Original]])","v":275.06},275.06,null,1,4]
[null,"SB04-0701-000550","N",{"$f":"IF(AND(OR(T_NAV_US[[#This Row],[ColourOptions]]=\"M\",T_NAV_US[[#This Row],[ColourOptions]]=\"Y\"),MID(T_NAV_US[[#This Row],[No.]],11,3)=\"069\"),REPLACE(T_NAV_US[[#This Row],[No.]],11,3,\"xxx\"),T_NAV_US[[#This Row],[No.]])","v":"SB04-0701-000550"},"SB04-0701-000550","ZIPSCREEN - Zip Inner Rail x 5.5m (18ft.) Mill","000","Mill Finish",{"$f":"IF(T_NAV_AU[[#This Row],[ColourOptions]]=\"Y\",\"Refer catalogue\", T_NAV_AU[[#This Row],[Colour Description]])","v":"S/S 316, Polished"},"Mill Finish","EA",{"$f":"IF(T_NAV_US[[#This Row],[CustomPricing]]<>\"\",T_NAV_US[[#This Row],[CustomPricing]],T_NAV_US[[#This Row],[USD_Original]])","v":43.46},43.46,null,10,120]
[null,"SB04-0701-069550","Y",{"$f":"IF(AND(OR(T_NAV_US[[#This Row],[ColourOptions]]=\"M\",T_NAV_US[[#This Row],[ColourOptions]]=\"Y\"),MID(T_NAV_US[[#This Row],[No.]],11,3)=\"069\"),REPLACE(T_NAV_US[[#This Row],[No.]],11,3,\"xxx\"),T_NAV_US[[#This Row],[No.]])","v":"SB04-0701-xxx550"},"SB04-0701-xxx550","ZIPSCREEN - Zip Inner Rail x 5.5m (18ft) Wht","069","Pure White",{"$f":"IF(T_NAV_AU[[#This Row],[ColourOptions]]=\"Y\",\"Refer catalogue\", T_NAV_AU[[#This Row],[Colour Description]])","v":"S/S 316, Polished"},"Refer catalogue","EA",{"$f":"IF(T_NAV_US[[#This Row],[CustomPricing]]<>\"\",T_NAV_US[[#This Row],[CustomPricing]],T_NAV_US[[#This Row],[USD_Original]])","v":56.83},56.83,null,10,120]
[null,"SB04-0702-000550","N",{"$f":"IF(AND(OR(T_NAV_US[[#This Row],[ColourOptions]]=\"M\",T_NAV_US[[#This Row],[ColourOptions]]=\"Y\"),MID(T_NAV_US[[#This Row],[No.]],11,3)=\"069\"),REPLACE(T_NAV_US[[#This Row],[No.]],11,3,\"xxx\"),T_NAV_US[[#This Row],[No.]])","v":"SB04-0702-000550"},"SB04-0702-000550","ZIPSCREEN -U Mounting Rail x 5.5m (18ft.) Mill","000","Mill Finish",{"$f":"IF(T_NAV_AU[[#This Row],[ColourOptions]]=\"Y\",\"Refer catalogue\", T_NAV_AU[[#This Row],[Colour Description]])","v":"S/S 316, Polished"},"Mill Finish","EA",{"$f":"IF(T_NAV_US[[#This Row],[CustomPricing]]<>\"\",T_NAV_US[[#This Row],[CustomPricing]],T_NAV_US[[#This Row],[USD_Original]])","v":47.13},47.13,null,10,120]
[null,"SB04-0702-069550-PF","Y",{"$f":"IF(AND(OR(T_NAV_US[[#This Row],[ColourOptions]]=\"M\",T_NAV_US[[#This Row],[ColourOptions]]=\"Y\"),MID(T_NAV_US[[#This Row],[No.]],11,3)=\"069\"),REPLACE(T_NAV_US[[#This Row],[No.]],11,3,\"xxx\"),T_NAV_US[[#This Row],[No.]])","v":"SB04-0702-xxx550-PF"},"SB04-0702-xxx550-PF","ZIPSCREEN - U Mounting Rail w/ PF | 5.5m White","069","Pure White",{"$f":"IF(T_NAV_AU[[#This Row],[ColourOptions]]=\"Y\",\"Refer catalogue\", T_NAV_AU[[#This Row],[Colour Description]])","v":"S/S 316, Polished"},"Refer catalogue","EA",{"$f":"IF(T_NAV_US[[#This Row],[CustomPricing]]<>\"\",T_NAV_US[[#This Row],[CustomPricing]],T_NAV_US[[#This Row],[USD_Original]])","v":60.14},60.14,null,10,120]
[null,"SB04-0703-000550","N",{"$f":"IF(AND(OR(T_NAV_US[[#This Row],[ColourOptions]]=\"M\",T_NAV_US[[#This Row],[ColourOptions]]=\"Y\"),MID(T_NAV_US[[#This Row],[No.]],11,3)=\"069\"),REPLACE(T_NAV_US[[#This Row],[No.]],11,3,\"xxx\"),T_NAV_US[[#This Row],[No.]])","v":"SB04-0703-000550"},"SB04-0703-000550","ZIPSCREEN -L Fixing Rail x 5.5m (18ft.) Mill","000","Mill Finish",{"$f":"IF(T_NAV_AU[[#This Row],[ColourOptions]]=\"Y\",\"Refer catalogue\", T_NAV_AU[[#This Row],[Colour Description]])","v":"S/S 304, Natural"},"Mill Finish","EA",{"$f":"IF(T_NAV_US[[#This Row],[CustomPricing]]<>\"\",T_NAV_US[[#This Row],[CustomPricing]],T_NAV_US[[#This Row],[USD_Original]])","v":37.22},37.22,null,10,120]
[null,"SB04-0703-069550","Y",{"$f":"IF(AND(OR(T_NAV_US[[#This Row],[ColourOptions]]=\"M\",T_NAV_US[[#This Row],[ColourOptions]]=\"Y\"),MID(T_NAV_US[[#This Row],[No.]],11,3)=\"069\"),REPLACE(T_NAV_US[[#This Row],[No.]],11,3,\"xxx\"),T_NAV_US[[#This Row],[No.]])","v":"SB04-0703-xxx550"},"SB04-0703-xxx550","ZIPSCREEN -L Fixing Rail x 5.5m (18ft) Wht","069","Pure White",{"$f":"IF(T_NAV_AU[[#This Row],[ColourOptions]]=\"Y\",\"Refer catalogue\", T_NAV_AU[[#This Row],[Colour Description]])","v":"S/S 316, Polished"},"Refer catalogue","EA",{"$f":"IF(T_NAV_US[[#This Row],[CustomPricing]]<>\"\",T_NAV_US[[#This Row],[CustomPricing]],T_NAV_US[[#This Row],[USD_Original]])","v":44.68},44.68,null,10,120]
[null,"SB04-0705-000550","N",{"$f":"IF(AND(OR(T_NAV_US[[#This Row],[ColourOptions]]=\"M\",T_NAV_US[[#This Row],[ColourOptions]]=\"Y\"),MID(T_NAV_US[[#This Row],[No.]],11,3)=\"069\"),REPLACE(T_NAV_US[[#This Row],[No.]],11,3,\"xxx\"),T_NAV_US[[#This Row],[No.]])","v":"SB04-0705-000550"},"SB04-0705-000550","ZIPSCREEN - WM U-Rail x 5.5m (18ft.) Mill","000","Mill Finish",{"$f":"IF(T_NAV_AU[[#This Row],[ColourOptions]]=\"Y\",\"Refer catalogue\", T_NAV_AU[[#This Row],[Colour Description]])","v":"Mill Finish"},"Mill Finish","EA",{"$f":"IF(T_NAV_US[[#This Row],[CustomPricing]]<>\"\",T_NAV_US[[#This Row],[CustomPricing]],T_NAV_US[[#This Row],[USD_Original]])","v":52.02},52.02,null,8,120]
[null,"SB04-0708-000550","N",{"$f":"IF(AND(OR(T_NAV_US[[#This Row],[ColourOptions]]=\"M\",T_NAV_US[[#This Row],[ColourOptions]]=\"Y\"),MID(T_NAV_US[[#This Row],[No.]],11,3)=\"069\"),REPLACE(T_NAV_US[[#This Row],[No.]],11,3,\"xxx\"),T_NAV_US[[#This Row],[No.]])","v":"SB04-0708-000550"},"SB04-0708-000550","ZIPSCREEN - L Fixing Rail | Box 160 & 190 | 5.5m","000","Mill Finish",{"$f":"IF(T_NAV_AU[[#This Row],[ColourOptions]]=\"Y\",\"Refer catalogue\", T_NAV_AU[[#This Row],[Colour Description]])","v":"Refer catalogue"},"Mill Finish","EA",{"$f":"IF(T_NAV_US[[#This Row],[CustomPricing]]<>\"\",T_NAV_US[[#This Row],[CustomPricing]],T_NAV_US[[#This Row],[USD_Original]])","v":58},58,null,8,120]
[null,"SB04-0708-069550-PF","Y",{"$f":"IF(AND(OR(T_NAV_US[[#This Row],[ColourOptions]]=\"M\",T_NAV_US[[#This Row],[ColourOptions]]=\"Y\"),MID(T_NAV_US[[#This Row],[No.]],11,3)=\"069\"),REPLACE(T_NAV_US[[#This Row],[No.]],11,3,\"xxx\"),T_NAV_US[[#This Row],[No.]])","v":"SB04-0708-xxx550-PF"},"SB04-0708-xxx550-PF","ZIPSCREEN - L Fixing Rail w/ PF | Box 160 & 190 | ","069","Pure White",{"$f":"IF(T_NAV_AU[[#This Row],[ColourOptions]]=\"Y\",\"Refer catalogue\", T_NAV_AU[[#This Row],[Colour Description]])","v":"Silver ZINC Plated"},"Refer catalogue","EA",{"$f":"IF(T_NAV_US[[#This Row],[CustomPricing]]<>\"\",T_NAV_US[[#This Row],[CustomPricing]],T_NAV_US[[#This Row],[USD_Original]])","v":68},68,null,8,120]
[null,"SB05-1411-050001","N",{"$f":"IF(AND(OR(T_NAV_US[[#This Row],[ColourOptions]]=\"M\",T_NAV_US[[#This Row],[ColourOptions]]=\"Y\"),MID(T_NAV_US[[#This Row],[No.]],11,3)=\"069\"),REPLACE(T_NAV_US[[#This Row],[No.]],11,3,\"xxx\"),T_NAV_US[[#This Row],[No.]])","v":"SB05-1411-050001"},"SB05-1411-050001","ZIPSCREEN-Inner Rail Funnel&StopSet+screw","050","Black, Satin",{"$f":"IF(T_NAV_AU[[#This Row],[ColourOptions]]=\"Y\",\"Refer catalogue\", T_NAV_AU[[#This Row],[Colour Description]])","v":"S/S 304, Polished"},"Black, Satin","SET",{"$f":"IF(T_NAV_US[[#This Row],[CustomPricing]]<>\"\",T_NAV_US[[#This Row],[CustomPricing]],T_NAV_US[[#This Row],[USD_Original]])","v":3.44},3.44,null,10,500]
[null,"SB05-1412-050001","N",{"$f":"IF(AND(OR(T_NAV_US[[#This Row],[ColourOptions]]=\"M\",T_NAV_US[[#This Row],[ColourOptions]]=\"Y\"),MID(T_NAV_US[[#This Row],[No.]],11,3)=\"069\"),REPLACE(T_NAV_US[[#This Row],[No.]],11,3,\"xxx\"),T_NAV_US[[#This Row],[No.]])","v":"SB05-1412-050001"},"SB05-1412-050001","ZIPSCREEN - Funnel w/ Integrated Top Stop + Screw","050","Black, Satin",{"$f":"IF(T_NAV_AU[[#This Row],[ColourOptions]]=\"Y\",\"Refer catalogue\", T_NAV_AU[[#This Row],[Colour Description]])","v":"Black, Satin"},"Black, Satin","SET",{"$f":"IF(T_NAV_US[[#This Row],[CustomPricing]]<>\"\",T_NAV_US[[#This Row],[CustomPricing]],T_NAV_US[[#This Row],[USD_Original]])","v":3.44},3.44,null,10,500]
[null,"SB05-1511-050001","N",{"$f":"IF(AND(OR(T_NAV_US[[#This Row],[ColourOptions]]=\"M\",T_NAV_US[[#This Row],[ColourOptions]]=\"Y\"),MID(T_NAV_US[[#This Row],[No.]],11,3)=\"069\"),REPLACE(T_NAV_US[[#This Row],[No.]],11,3,\"xxx\"),T_NAV_US[[#This Row],[No.]])","v":"SB05-1511-050001"},"SB05-1511-050001","ZIPSCREEN-Inner Rail Bottom Cap Set+screw B","050","Black, Satin",{"$f":"IF(T_NAV_AU[[#This Row],[ColourOptions]]=\"Y\",\"Refer catalogue\", T_NAV_AU[[#This Row],[Colour Description]])","v":"S/S 316, Polished"},"Black, Satin","SET",{"$f":"IF(T_NAV_US[[#This Row],[CustomPricing]]<>\"\",T_NAV_US[[#This Row],[CustomPricing]],T_NAV_US[[#This Row],[USD_Original]])","v":2.46},2.46,null,10,500]
[null,"SB07-2103-050001","N",{"$f":"IF(AND(OR(T_NAV_US[[#This Row],[ColourOptions]]=\"M\",T_NAV_US[[#This Row],[ColourOptions]]=\"Y\"),MID(T_NAV_US[[#This Row],[No.]],11,3)=\"069\"),REPLACE(T_NAV_US[[#This Row],[No.]],11,3,\"xxx\"),T_NAV_US[[#This Row],[No.]])","v":"SB07-2103-050001"},"SB07-2103-050001","External Weight Bar Lock Set+screw Blk","050","Black, Satin",{"$f":"IF(T_NAV_AU[[#This Row],[ColourOptions]]=\"Y\",\"Refer catalogue\", T_NAV_AU[[#This Row],[Colour Description]])","v":"S/S 316, Polished"},"Black, Satin","SET",{"$f":"IF(T_NAV_US[[#This Row],[CustomPricing]]<>\"\",T_NAV_US[[#This Row],[CustomPricing]],T_NAV_US[[#This Row],[USD_Original]])","v":9.1199999999999992},9.1199999999999992,null,10,100]
[null,"SB07-2202-013000","N",{"$f":"IF(AND(OR(T_NAV_US[[#This Row],[ColourOptions]]=\"M\",T_NAV_US[[#This Row],[ColourOptions]]=\"Y\"),MID(T_NAV_US[[#This Row],[No.]],11,3)=\"069\"),REPLACE(T_NAV_US[[#This Row],[No.]],11,3,\"xxx\"),T_NAV_US[[#This Row],[No.]])","v":"SB07-2202-013000"},"SB07-2202-013000","External Weight Bar Handle + Screws MkII","013","S/S 304, Polished",{"$f":"IF(T_NAV_AU[[#This Row],[ColourOptions]]=\"Y\",\"Refer catalogue\", T_NAV_AU[[#This Row],[Colour Description]])","v":"S/S 316, Polished"},"S/S 304, Polished","SET",{"$f":"IF(T_NAV_US[[#This Row],[CustomPricing]]<>\"\",T_NAV_US[[#This Row],[CustomPricing]],T_NAV_US[[#This Row],[USD_Original]])","v":5.6},5.6,null,10,50]
[null,"SB91-0001-050580","N",{"$f":"IF(AND(OR(T_NAV_US[[#This Row],[ColourOptions]]=\"M\",T_NAV_US[[#This Row],[ColourOptions]]=\"Y\"),MID(T_NAV_US[[#This Row],[No.]],11,3)=\"069\"),REPLACE(T_NAV_US[[#This Row],[No.]],11,3,\"xxx\"),T_NAV_US[[#This Row],[No.]])","v":"SB91-0001-050580"},"SB91-0001-050580","Weight Bar Bubble Seal Strip-8x12mm 20ft. (5.8m)","050","Black, Satin",{"$f":"IF(T_NAV_AU[[#This Row],[ColourOptions]]=\"Y\",\"Refer catalogue\", T_NAV_AU[[#This Row],[Colour Description]])","v":"S/S 304, Polished"},"Black, Satin","EA",{"$f":"IF(T_NAV_US[[#This Row],[CustomPricing]]<>\"\",T_NAV_US[[#This Row],[CustomPricing]],T_NAV_US[[#This Row],[USD_Original]])","v":19.57},19.57,null,10,30]
[null,"SB91-0008-050050","N",{"$f":"IF(AND(OR(T_NAV_US[[#This Row],[ColourOptions]]=\"M\",T_NAV_US[[#This Row],[ColourOptions]]=\"Y\"),MID(T_NAV_US[[#This Row],[No.]],11,3)=\"069\"),REPLACE(T_NAV_US[[#This Row],[No.]],11,3,\"xxx\"),T_NAV_US[[#This Row],[No.]])","v":"SB91-0008-050050"},"SB91-0008-050050","Ultra-Lock Seal V3 – 164ft (50m) roll","050","Black, Satin",{"$f":"IF(T_NAV_AU[[#This Row],[ColourOptions]]=\"Y\",\"Refer catalogue\", T_NAV_AU[[#This Row],[Colour Description]])","v":"S/S 316, Polished"},"Black, Satin","METER",{"$f":"IF(T_NAV_US[[#This Row],[CustomPricing]]<>\"\",T_NAV_US[[#This Row],[CustomPricing]],T_NAV_US[[#This Row],[USD_Original]])","v":2.68},2.68,null,50,500]
[null,"SB91-0012-050300","N",{"$f":"IF(AND(OR(T_NAV_US[[#This Row],[ColourOptions]]=\"M\",T_NAV_US[[#This Row],[ColourOptions]]=\"Y\"),MID(T_NAV_US[[#This Row],[No.]],11,3)=\"069\"),REPLACE(T_NAV_US[[#This Row],[No.]],11,3,\"xxx\"),T_NAV_US[[#This Row],[No.]])","v":"SB91-0012-050300"},"SB91-0012-050300","Fabric Brush T Slot 10mm H x 4.8mm W - 218yd roll","050","Black, Satin",{"$f":"IF(T_NAV_AU[[#This Row],[ColourOptions]]=\"Y\",\"Refer catalogue\", T_NAV_AU[[#This Row],[Colour Description]])","v":"Mill Finish"},"Black, Satin","METER",{"$f":"IF(T_NAV_US[[#This Row],[CustomPricing]]<>\"\",T_NAV_US[[#This Row],[CustomPricing]],T_NAV_US[[#This Row],[USD_Original]])","v":2.35},2.35,null,300,1200]
[null,"SB91-0013-050150","N",{"$f":"IF(AND(OR(T_NAV_US[[#This Row],[ColourOptions]]=\"M\",T_NAV_US[[#This Row],[ColourOptions]]=\"Y\"),MID(T_NAV_US[[#This Row],[No.]],11,3)=\"069\"),REPLACE(T_NAV_US[[#This Row],[No.]],11,3,\"xxx\"),T_NAV_US[[#This Row],[No.]])","v":"SB91-0013-050150"},"SB91-0013-050150","Weight Bar Bubble Seal Push Fit – 150m Roll","050","Black, Satin",{"$f":"IF(T_NAV_AU[[#This Row],[ColourOptions]]=\"Y\",\"Refer catalogue\", T_NAV_AU[[#This Row],[Colour Description]])","v":"Refer catalogue"},"Black, Satin","METER",{"$f":"IF(T_NAV_US[[#This Row],[CustomPricing]]<>\"\",T_NAV_US[[#This Row],[CustomPricing]],T_NAV_US[[#This Row],[USD_Original]])","v":2.1800000000000002},2.1800000000000002,null,150,1500]
[null,"SB91-0018-050040","N",{"$f":"IF(AND(OR(T_NAV_US[[#This Row],[ColourOptions]]=\"M\",T_NAV_US[[#This Row],[ColourOptions]]=\"Y\"),MID(T_NAV_US[[#This Row],[No.]],11,3)=\"069\"),REPLACE(T_NAV_US[[#This Row],[No.]],11,3,\"xxx\"),T_NAV_US[[#This Row],[No.]])","v":"SB91-0018-050040"},"SB91-0018-050040","16mm Bubble Seal | F72 | 40 Lm Rolls","050","Black, Satin",{"$f":"IF(T_NAV_AU[[#This Row],[ColourOptions]]=\"Y\",\"Refer catalogue\", T_NAV_AU[[#This Row],[Colour Description]])","v":"Mill Finish"},"Black, Satin","METER",{"$f":"IF(T_NAV_US[[#This Row],[CustomPricing]]<>\"\",T_NAV_US[[#This Row],[CustomPricing]],T_NAV_US[[#This Row],[USD_Original]])","v":3.54},3.54,null,40,2000]
[null,"SB91-0408-001015","N",{"$f":"IF(AND(OR(T_NAV_US[[#This Row],[ColourOptions]]=\"M\",T_NAV_US[[#This Row],[ColourOptions]]=\"Y\"),MID(T_NAV_US[[#This Row],[No.]],11,3)=\"069\"),REPLACE(T_NAV_US[[#This Row],[No.]],11,3,\"xxx\"),T_NAV_US[[#This Row],[No.]])","v":"SB91-0408-001015"},"SB91-0408-001015","7.2mm spline with 15mm tail 100m (328 ft) Roll Clr","001","Clear",{"$f":"IF(T_NAV_AU[[#This Row],[ColourOptions]]=\"Y\",\"Refer catalogue\", T_NAV_AU[[#This Row],[Colour Description]])","v":"Refer catalogue"},"Clear","EA",{"$f":"IF(T_NAV_US[[#This Row],[CustomPricing]]<>\"\",T_NAV_US[[#This Row],[CustomPricing]],T_NAV_US[[#This Row],[USD_Original]])","v":89.84},89.84,null,1,10]
[null,"SB91-0409-050015","N",{"$f":"IF(AND(OR(T_NAV_US[[#This Row],[ColourOptions]]=\"M\",T_NAV_US[[#This Row],[ColourOptions]]=\"Y\"),MID(T_NAV_US[[#This Row],[No.]],11,3)=\"069\"),REPLACE(T_NAV_US[[#This Row],[No.]],11,3,\"xxx\"),T_NAV_US[[#This Row],[No.]])","v":"SB91-0409-050015"},"SB91-0409-050015","7mm Fabric Spline w/ 15mm Tail (100m rolls)","050","Black, Satin",{"$f":"IF(T_NAV_AU[[#This Row],[ColourOptions]]=\"Y\",\"Refer catalogue\", T_NAV_AU[[#This Row],[Colour Description]])","v":"Mill Finish"},"Black, Satin","ROLL",{"$f":"IF(T_NAV_US[[#This Row],[CustomPricing]]<>\"\",T_NAV_US[[#This Row],[CustomPricing]],T_NAV_US[[#This Row],[USD_Original]])","v":378.56},378.56,null,1,10]
[null,"SB91-0516-050009","N",{"$f":"IF(AND(OR(T_NAV_US[[#This Row],[ColourOptions]]=\"M\",T_NAV_US[[#This Row],[ColourOptions]]=\"Y\"),MID(T_NAV_US[[#This Row],[No.]],11,3)=\"069\"),REPLACE(T_NAV_US[[#This Row],[No.]],11,3,\"xxx\"),T_NAV_US[[#This Row],[No.]])","v":"SB91-0516-050009"},"SB91-0516-050009","Foam Tape 1.6mm x 9.0mm | 45m (147.6ft) roll","050","Black, Satin",{"$f":"IF(T_NAV_AU[[#This Row],[ColourOptions]]=\"Y\",\"Refer catalogue\", T_NAV_AU[[#This Row],[Colour Description]])","v":"Refer catalogue"},"Black, Satin","METER",{"$f":"IF(T_NAV_US[[#This Row],[CustomPricing]]<>\"\",T_NAV_US[[#This Row],[CustomPricing]],T_NAV_US[[#This Row],[USD_Original]])","v":0.73},0.73,null,45,450]
[null,"SB91-1015-050200","N",{"$f":"IF(AND(OR(T_NAV_US[[#This Row],[ColourOptions]]=\"M\",T_NAV_US[[#This Row],[ColourOptions]]=\"Y\"),MID(T_NAV_US[[#This Row],[No.]],11,3)=\"069\"),REPLACE(T_NAV_US[[#This Row],[No.]],11,3,\"xxx\"),T_NAV_US[[#This Row],[No.]])","v":"SB91-1015-050200"},"SB91-1015-050200","20 x 5mm Ballast x 2m (0.8kg/m) | Wrapped","050","Black, Satin",{"$f":"IF(T_NAV_AU[[#This Row],[ColourOptions]]=\"Y\",\"Refer catalogue\", T_NAV_AU[[#This Row],[Colour Description]])","v":"Mill Finish"},"Black, Satin","EA",{"$f":"IF(T_NAV_US[[#This Row],[CustomPricing]]<>\"\",T_NAV_US[[#This Row],[CustomPricing]],T_NAV_US[[#This Row],[USD_Original]])","v":17.989999999999998},17.989999999999998,null,10,100]
[null,"SB91-1018-050200","N",{"$f":"IF(AND(OR(T_NAV_US[[#This Row],[ColourOptions]]=\"M\",T_NAV_US[[#This Row],[ColourOptions]]=\"Y\"),MID(T_NAV_US[[#This Row],[No.]],11,3)=\"069\"),REPLACE(T_NAV_US[[#This Row],[No.]],11,3,\"xxx\"),T_NAV_US[[#This Row],[No.]])","v":"SB91-1018-050200"},"SB91-1018-050200","25 x 8mm Ballast x 2m (1.6kg/m) | Wrapped","033","Black, Satin",{"$f":"IF(T_NAV_AU[[#This Row],[ColourOptions]]=\"Y\",\"Refer catalogue\", T_NAV_AU[[#This Row],[Colour Description]])","v":"Refer catalogue"},"Black, Satin","EA",{"$f":"IF(T_NAV_US[[#This Row],[CustomPricing]]<>\"\",T_NAV_US[[#This Row],[CustomPricing]],T_NAV_US[[#This Row],[USD_Original]])","v":28.76},28.76,null,5,50]
[null,"SH91-0135-050200","N",{"$f":"IF(AND(OR(T_NAV_US[[#This Row],[ColourOptions]]=\"M\",T_NAV_US[[#This Row],[ColourOptions]]=\"Y\"),MID(T_NAV_US[[#This Row],[No.]],11,3)=\"069\"),REPLACE(T_NAV_US[[#This Row],[No.]],11,3,\"xxx\"),T_NAV_US[[#This Row],[No.]])","v":"SH91-0135-050200"},"SH91-0135-050200","ZIP/No.6 GAUGE-Dble Sided 200mt (218 yd.) roll Blk","050","Black, Satin",{"$f":"IF(T_NAV_AU[[#This Row],[ColourOptions]]=\"Y\",\"Refer catalogue\", T_NAV_AU[[#This Row],[Colour Description]])","v":"Mill Finish"},"Black, Satin","METER",{"$f":"IF(T_NAV_US[[#This Row],[CustomPricing]]<>\"\",T_NAV_US[[#This Row],[CustomPricing]],T_NAV_US[[#This Row],[USD_Original]])","v":8.35},8.35,null,200,400]

{"sheet":"ChangeLog","index":14,"n_rows":28,"n_cols":3,"rows_kept":28,"cut":false,"hidden":true,"merged":[]}
[]
[]
[]
[null,"v4.00","Included Top Hardware Upgrade."]
[null,null,"Removed 'fascia' option"]
[null,null,"Capped max ballast at 4pcs. "]
[null,null,"Limit wire guide extreme to 5m drop"]
[]
[null,"v4.01","cleaned up leftover VEUE & EXTREME on inputs & BOM page"]
[]
[null,"v4.03","added extra job ref input (AS)"]
[null,null,"Added Push one remotes (AS)"]
[null,null,"reviewed clear() code, feels faster now, clears more cells. "]
[]
[null,"v4.04","Add to Box Type ZS Compatibility\nBox 120 (Full Cover) & Box 120 (Semi Cover) to Index 2.5 & 3.5 (over 3m drop)\n\nAdd Warning w_ZipscreenBox120: like 'Box 120' selected AND drop > 3m AND system = Zipscreen"]
[null,null,"removed Channel Guide"]
[null,null,"removed anodised"]
[null,null,"removed ballast input when control = spring"]
[null,null,"US location shows V1 tubes"]
[]
[]
["2024-02-13","v4.04_nextRev","Added warning if selected: i_SystemType, i_InstallationType AND L_Tube iserror - Tube is beyond spec"]
[null,null,"Revised Blind Size Index of Blind Width dependent system - WG, VEUE (Did not change Zipscreen)"]
["2024-02-23","v4.04_nextRev","Add External Battery Motor & associated price list/selection\n- AU only, 3x ITEMS added to price list\n- BOM duplicated line for 1piece 78mm Drive Wheel (shows up only for DCFT). Modified 2pcs 78mm Drive Wheel to show up with FT only"]
["2024-03-08","v4.05","- Added worksheets  BOM_Pick & BOM_Length. More work to refine formatting and size of input/output table, reference to column position in BOM.\n- Moved fabric spline / pvc spline & zip to 'fabric' section (out of tube/weight bars), moved locks under weight bars \n- fixed an issue with spring selection at the narrower widths (added intermediate columns on spring charts) - was suggesting light between 550mm - 730mm when it doesn't fit. \n- Added options to select black/grey crank handles and clips"]
["2024-03-14","v4.06","Added PriceList_US (no other changes)  (AS)\nself drilling screws werent showing up\n\n04-Apr DC - updated Zipscreen option 6 & 4.3 Tube formula - =L_ZS_TubeType_S100\n\n09-Apr AS - introduced FFA mod, choose from any headbox - then allows any tube selection bypassing system capacity charts. Removed any Check error flags on inputs page"]
["2024-05-02","v4.07","Added motor min width. Warning if input blind width is less than motor min width\nAdded Box 160 to Ctr_Selections. WIP - to continue\nw_ControlWidth to exclude Motor\nGear min width = 550 (Was 500)\nAllowed custom colour input. (removed data validation). \nRe-arranged VBA code when checking each list for values. "]
["2024-06-05","v4.08","fixed issue with extreme not showing on 6m x 3m"]

{"sheet":"ItemCodes","index":15,"n_rows":166,"n_cols":13,"rows_kept":166,"cut":false,"hidden":true,"merged":[]}
[]
[null,"NEEDS UPDATING - COPY PASTE FROM BOM ",null,null,null,null,null,null,null,null,null,null,{"$f":"_xlfn.TEXTJOIN(\"*|\",TRUE,G:G)&\"*\"","v":"AW05-*|AW91-*|AW92-*|HD82-*|HD86-*|MT01-*|MT02-*|MT03-*|RB05-*|RB56-*|RB80-*|RB91-*|RB92-*|RB93-*|RC91-*|RE01-*|RE15-*|RE20-*|RE24-*|RE29-*|RE91-*|SB03-*|SB04-*|SB05-*|SB07-*|SB91-*|SH91-*|SS91-*"}]
[]
[]
[null,"RE01-0101-xxxLLL",null,{"$f":"LEFT(B5,9)","v":"RE01-0101"},null,{"$f":"LEFT(D5,5)","v":"RE01-"},{"$f":"_xlfn._xlws.SORT(_xlfn.UNIQUE(F5:F166))","v":"AW05-"},null,null,null,null,null,{"$f":"_xlfn.TEXTJOIN(\"*|\",TRUE,D:D)&\"*\"","v":"RE01-0101*|RE01-0102*|RE01-0103*|RE01-1101*|RE01-3020*|RE01-3021*|RE01-3030*|RE01-3031*|RE01-1105*|SB91-0012*|RE01-0106*|RE01-0107*|SB91-0516*|RE01-1105*|RB80-1503*|SB03-1301*|RB80-1201*|RB80-0476*|RB80-0478*|RE91-1102*|RE91-1111*|RE91-1104*|RE91-1103*|RE91-1101*|RE91-1105*|RE91-0100*|RE24-4001*|RE24-4004*|RE24-2205*|RE24-9201*|RE24-1312*|RB91-3602*|RB80-0481*|RE24-1314*|RE24-2601*|RE24-1401*|RE24-9101*|RE24-2301*|RE91-0101*|RC91-0201*|AW91-1501*|HD82-2366*|RE91-1001*|AW05-0701*|AW05-0701*|AW05-0701*|SB04-0701*|SB04-0702*|SB04-0703*|SB04-0705*|SB05-1412*|SB05-1511*|HD86-0332*|SB04-0704*|HD82-1923*|RE01-0421*|RE01-0421*|RE01-0510*|MT03-0106*|RE01-0377*|RE01-0380*|MT03-0106*|RE20-0311*|SB04-0708*|RE01-0405*|RE01-0701*|RE01-0214*|RE01-0403*|RE01-0513*|RE01-0517*|RE01-0502*|RB05-9102*|RB05-9101*|RB05-9101*|RB05-9101*|MT01-1145*|MT01-1145*|MT02-0301*|RE01-0664*|RE01-0666*|RE01-0666*|RE01-0680*|RE01-0679*|RE01-0680*|RE01-0663*|RE01-0601*|RE01-0603*|RB56-0764*|RB56-0763*|RE01-0604*|RE01-0602*|RE01-0663*|RE01-0678*|MT02-0101*|MT02-0101*|MT02-0101*|MT02-0101*|MT01-1145*|MT01-1145*|MT01-1145*|MT01-1145*|MT01-1145*|MT01-1145*|MT01-1145*|MT03-0198*|RB80-0301*|RB80-0701*|RB80-0411*|RB56-0762*|RE01-0203*|RE01-0213*|RB80-0202*|RB80-0211*|RB80-0201*|RE15-0101*|RE15-0501*|RE15-0601*|RE91-2001*|RE20-0303*|SB91-0001*|SB91-0013*|SB91-0018*|SB91-0019*|SB91-0301*|SB07-2201*|SB07-2202*|SB91-1003*|SB91-0006*|SB91-0008*|RE15-0112*|RE15-0512*|RE15-0522*|RE15-0540*|SB91-0408*|SB91-0409*|SB91-1015*|SB91-1018*|RE29-0102*|AW05-0801*|SB07-2103*|RE15-0422*|RE15-0411*|RE01-0363*|RE01-0378*|RE01-0379*|AW92-0901*|SH91-0135*|SS91-5131*|RB91-0403*|SS91-5140*|SB91-0405*|RE20-0301*|RB93-0110*|RB93-0130*|RB93-0160*|RB80-0501*|RB80-0501*|RB92-1502*|RB92-1503*|RB80-0601*|RB80-0601*|RB80-0601*"}]
[null,"RE01-0102-xxxLLL",null,{"$f":"LEFT(B6,9)","v":"RE01-0102"},null,{"$f":"LEFT(D6,5)","v":"RE01-"},"AW91-"]
[null,"RE01-0103-xxxLLL",null,"RE01-0103",null,"RE01-","AW92-"]
[null,"RE01-1101-xxx120",null,"RE01-1101",null,"RE01-","HD82-"]
[null,"RE01-3020-xxx000",null,"RE01-3020",null,"RE01-","HD86-",null,null,{"$f":"LEN(M9)","v":1781},null,null,"RE01-0101*|RE01-0102*|RE01-0103*|RE01-1101*|RE01-3020*|RE01-3021*|RE01-3030*|RE01-3031*|RE01-1105*|SB91-0012*|RE01-0106*|RE01-0107*|SB91-0516*|RE01-1105*|RB80-1503*|SB03-1301*|RB80-1201*|RB80-0476*|RB80-0478*|RE91-1102*|RE91-1111*|RE91-1104*|RE91-1103*|RE91-1101*|RE91-1105*|RE91-0100*|RE24-4001*|RE24-4004*|RE24-2205*|RE24-9201*|RE24-1312*|RB91-3602*|RB80-0481*|RE24-1314*|RE24-2601*|RE24-1401*|RE24-9101*|RE24-2301*|RE91-0101*|RC91-0201*|AW91-1501*|HD82-2366*|RE91-1001*|AW05-0701*|AW05-0701*|AW05-0701*|SB04-0701*|SB04-0702*|SB04-0703*|SB04-0705*|SB05-1412*|SB05-1511*|HD86-0332*|SB04-0704*|HD82-1923*|RE01-0421*|RE01-0421*|RE01-0510*|MT03-0106*|RE01-0377*|RE01-0380*|MT03-0106*|RE20-0311*|SB04-0708*|RE01-0405*|RE01-0701*|RE01-0214*|RE01-0403*|RE01-0513*|RE01-0517*|RE01-0502*|RB05-9102*|RB05-9101*|RB05-9101*|RB05-9101*|MT01-1145*|MT01-1145*|MT02-0301*|RE01-0664*|RE01-0666*|RE01-0666*|RE01-0680*|RE01-0679*|RE01-0680*|RE01-0663*|RE01-0601*|RE01-0603*|RB56-0764*|RB56-0763*|RE01-0604*|RE01-0602*|RE01-0663*|RE01-0678*|MT02-0101*|MT02-0101*|MT02-0101*|MT02-0101*|MT01-1145*|MT01-1145*|MT01-1145*|MT01-1145*|MT01-1145*|MT01-1145*|MT01-1145*|MT03-0198*|RB80-0301*|RB80-0701*|RB80-0411*|RB56-0762*|RE01-0203*|RE01-0213*|RB80-0202*|RB80-0211*|RB80-0201*|RE15-0101*|RE15-0501*|RE15-0601*|RE91-2001*|RE20-0303*|SB91-0001*|SB91-0013*|SB91-0018*|SB91-0019*|SB91-0301*|SB07-2201*|SB07-2202*|SB91-1003*|SB91-0006*|SB91-0008*|RE15-0112*|RE15-0512*|RE15-0522*|RE15-0540*|SB91-0408*|SB91-0409*|SB91-1015*|SB91-1018*|RE29-0102*|AW05-0801*|SB07-2103*|RE15-0422*|RE15-0411*|RE01-0363*|RE01-0378*|RE01-0379*|AW92-0901*|SH91-0135*|SS91-5131*|RB91-0403*|SS91-5140*|SB91-0405*|RE20-0301*|RB93-0110*|RB93-0130*|RB93-0160*|RB80-0501*|RB80-0501*|RB92-1502*|RB92-1503*|RB80-0601*|RB80-0601*|RB80-0601*"]
[null,"RE01-3021-012000",null,"RE01-3021",null,"RE01-","MT01-"]
[null,"RE01-3030-xxx000",null,"RE01-3030",null,"RE01-","MT02-"]
[null,"RE01-3031-012000",null,"RE01-3031",null,"RE01-","MT03-"]
[null,"RE01-1105-xxx001",null,"RE01-1105",null,"RE01-","RB05-"]
[null,"SB91-0012-050300",null,"SB91-0012",null,"SB91-","RB56-"]
[null,"RE01-0106-xxxLLL",null,"RE01-0106",null,"RE01-","RB80-"]
[null,"RE01-0107-xxxLLL",null,"RE01-0107",null,"RE01-","RB91-"]
[null,"SB91-0516-050009",null,"SB91-0516",null,"SB91-","RB92-"]
[null,"RE01-1105-020100",null,"RE01-1105",null,"RE01-","RB93-"]
[null,"RB80-1503-xxx110",null,"RB80-1503",null,"RB80-","RC91-"]
[null,"SB03-1301-009190",null,"SB03-1301",null,"SB03-","RE01-"]
[null,"RB80-1201-xxx109",null,"RB80-1201",null,"RB80-","RE15-"]
[null,"RB80-0476-xxx100",null,"RB80-0476",null,"RB80-","RE20-"]
[null,"RB80-0478-xxx100",null,"RB80-0478",null,"RB80-","RE24-"]
[null,"RE91-1102-050025",null,"RE91-1102",null,"RE91-","RE29-"]
[null,"RE91-1111-013025",null,"RE91-1111",null,"RE91-","RE91-"]
[null,"RE91-1104-013030",null,"RE91-1104",null,"RE91-","SB03-"]
[null,"RE91-1103-009050",null,"RE91-1103",null,"RE91-","SB04-"]
[null,"RE91-1101-013025",null,"RE91-1101",null,"RE91-","SB05-"]
[null,"RE91-1105-009000",null,"RE91-1105",null,"RE91-","SB07-"]
[null,"RE91-0100-025025",null,"RE91-0100",null,"RE91-","SB91-"]
[null,"RE24-4001-009032",null,"RE24-4001",null,"RE24-","SH91-"]
[null,"RE24-4004-010032",null,"RE24-4004",null,"RE24-","SS91-"]
[null,"RE24-2205-009000",null,"RE24-2205",null,"RE24-"]
[null,"RE24-9201-009020",null,"RE24-9201",null,"RE24-"]
[null,"RE24-1312-009420",null,"RE24-1312",null,"RE24-"]
[null,"RB91-3602-006041",null,"RB91-3602",null,"RB91-"]
[null,"RB80-0481-012000",null,"RB80-0481",null,"RB80-"]
[null,"RE24-1314-009400",null,"RE24-1314",null,"RE24-"]
[null,"RE24-2601-009040",null,"RE24-2601",null,"RE24-"]
[null,"RE24-1401-009040",null,"RE24-1401",null,"RE24-"]
[null,"RE24-9101-009050",null,"RE24-9101",null,"RE24-"]
[null,"RE24-2301-009090",null,"RE24-2301",null,"RE24-"]
[null,"RE91-0101-xxxLLL",null,"RE91-0101",null,"RE91-"]
[null,"RC91-0201-050000",null,"RC91-0201",null,"RC91-"]
[null,"AW91-1501-050000",null,"AW91-1501",null,"AW91-"]
[null,"HD82-2366-010008",null,"HD82-2366",null,"HD82-"]
[null,"RE91-1001-050000",null,"RE91-1001",null,"RE91-"]
[null,"AW05-0701-xxx100",null,"AW05-0701",null,"AW05-"]
[null,"AW05-0701-xxx140",null,"AW05-0701",null,"AW05-"]
[null,"AW05-0701-xxx160",null,"AW05-0701",null,"AW05-"]
[null,"SB04-0701-xxxLLL",null,"SB04-0701",null,"SB04-"]
[null,"SB04-0702-xxxLLL",null,"SB04-0702",null,"SB04-"]
[null,"SB04-0703-xxxLLL",null,"SB04-0703",null,"SB04-"]
[null,"SB04-0705-xxxLLL",null,"SB04-0705",null,"SB04-"]
[null,"SB05-1412-050001",null,"SB05-1412",null,"SB05-"]
[null,"SB05-1511-050001",null,"SB05-1511",null,"SB05-"]
[null,"HD86-0332-010009",null,"HD86-0332",null,"HD86-"]
[null,"SB04-0704-xxxLLL",null,"SB04-0704",null,"SB04-"]
[null,"HD82-1923-xxx013",null,"HD82-1923",null,"HD82-"]
[null,"RE01-0421-050101",null,"RE01-0421",null,"RE01-"]
[null,"RE01-0421",null,"RE01-0421",null,"RE01-"]
[null,"RE01-0510",null,"RE01-0510",null,"RE01-"]
[null,"MT03-0106",null,"MT03-0106",null,"MT03-"]
[null,"RE01-0377",null,"RE01-0377",null,"RE01-"]
[null,"RE01-0380",null,"RE01-0380",null,"RE01-"]
[null,"MT03-0106",null,{"$f":"LEFT(B66,9)","v":"MT03-0106"},null,{"$f":"LEFT(D66,5)","v":"MT03-"}]
[null,"RE20-0311",null,"RE20-0311",null,"RE20-"]
[null,"SB04-0708",null,"SB04-0708",null,"SB04-"]
[null,"RE01-0405-050078",null,"RE01-0405",null,"RE01-"]
[null,"RE01-0701-050078",null,"RE01-0701",null,"RE01-"]
[null,"RE01-0214-050000",null,"RE01-0214",null,"RE01-"]
[null,"RE01-0403-013000",null,{"$f":"LEFT(B72,9)","v":"RE01-0403"},null,{"$f":"LEFT(D72,5)","v":"RE01-"}]
[null,"RE01-0513-xxx002",null,"RE01-0513",null,"RE01-"]
[null,"RE01-0517-xxx002",null,"RE01-0517",null,"RE01-"]
[null,"RE01-0502",null,"RE01-0502",null,"RE01-"]
[null,"RB05-9102-xxx000",null,"RB05-9102",null,"RB05-"]
[null,"RB05-9101-340100",null,"RB05-9101",null,"RB05-"]
[null,"RB05-9101-340150",null,"RB05-9101",null,"RB05-"]
[null,"RB05-9101-340200",null,"RB05-9101",null,"RB05-"]
[null,"MT01-1145-050001",null,"MT01-1145",null,"MT01-"]
[null,"MT01-1145-069003",null,"MT01-1145",null,"MT01-"]
[null,"MT02-0301-072001",null,"MT02-0301",null,"MT02-"]
[null,"RE01-0664-050508",null,"RE01-0664",null,"RE01-"]
[null,"RE01-0666-050508",null,"RE01-0666",null,"RE01-"]
[null,"RE01-0666-050518",null,"RE01-0666",null,"RE01-"]
[null,"RE01-0680-050508",null,"RE01-0680",null,"RE01-"]
[null,"RE01-0679-050508",null,"RE01-0679",null,"RE01-"]
[null,"RE01-0680-050518",null,"RE01-0680",null,"RE01-"]
[null,"RE01-0663-050518",null,"RE01-0663",null,"RE01-"]
[null,"RE01-0601-025000",null,"RE01-0601",null,"RE01-"]
[null,"RE01-0603-025000",null,"RE01-0603",null,"RE01-"]
[null,"RB56-0764-014050",null,"RB56-0764",null,"RB56-"]
[null,"RB56-0763-014050",null,"RB56-0763",null,"RB56-"]
[null,"RE01-0604-025000",null,"RE01-0604",null,"RE01-"]
[null,"RE01-0602-025000",null,"RE01-0602",null,"RE01-"]
[null,"RE01-0663-050003",null,"RE01-0663",null,"RE01-"]
[null,"RE01-0678-050003",null,"RE01-0678",null,"RE01-"]
[null,"MT02-0101-050004",null,"MT02-0101",null,"MT02-"]
[null,"MT02-0101-069004",null,"MT02-0101",null,"MT02-"]
[null,"MT02-0101-050008",null,"MT02-0101",null,"MT02-"]
[null,"MT02-0101-069008",null,"MT02-0101",null,"MT02-"]
[null,"MT01-1145-069011",null,"MT01-1145",null,"MT01-"]
[null,"MT01-1145-069013",null,"MT01-1145",null,"MT01-"]
[null,"MT01-1145-069014",null,"MT01-1145",null,"MT01-"]
[null,"MT01-1145-069018",null,"MT01-1145",null,"MT01-"]
[null,"MT01-1145-069015",null,"MT01-1145",null,"MT01-"]
[null,"MT01-1145-069016",null,"MT01-1145",null,"MT01-"]
[null,"MT01-1145-069017",null,"MT01-1145",null,"MT01-"]
[null,"MT03-0198-025008",null,"MT03-0198",null,"MT03-"]
[null,"RB80-0301-073100",null,"RB80-0301",null,"RB80-"]
[null,"RB80-0701-073100",null,"RB80-0701",null,"RB80-"]
[null,"RB80-0411-025050",null,"RB80-0411",null,"RB80-"]
[null,"RB56-0762-014050",null,"RB56-0762",null,"RB56-"]
[null,"RE01-0203-050063",null,"RE01-0203",null,"RE01-"]
[null,"RE01-0213",null,"RE01-0213",null,"RE01-"]
[null,"RB80-0202-073100",null,"RB80-0202",null,"RB80-"]
[null,"RB80-0211-073100",null,"RB80-0211",null,"RB80-"]
[null,"RB80-0201-073100",null,"RB80-0201",null,"RB80-"]
[null,"RE15-0101-xxxLLL",null,"RE15-0101",null,"RE15-"]
[null,"RE15-0501-xxx000",null,"RE15-0501",null,"RE15-"]
[null,"RE15-0601-xxx001",null,"RE15-0601",null,"RE15-"]
[null,"RE91-2001-xxx000",null,"RE91-2001",null,"RE91-"]
[null,"RE20-0303-xxx002",null,"RE20-0303",null,"RE20-"]
[null,"SB91-0001-050580",null,"SB91-0001",null,"SB91-"]
[null,"SB91-0013-050150",null,"SB91-0013",null,"SB91-"]
[null,"SB91-0018-050040",null,"SB91-0018",null,"SB91-"]
[null,"SB91-0019-050580",null,"SB91-0019",null,"SB91-"]
[null,"SB91-0301-050LLL",null,"SB91-0301",null,"SB91-"]
[null,"SB07-2201-022001",null,"SB07-2201",null,"SB07-"]
[null,"SB07-2202-xxx000",null,"SB07-2202",null,"SB07-"]
[null,"SB91-1003-033300",null,"SB91-1003",null,"SB91-"]
[null,"SB91-0006-050050",null,"SB91-0006",null,"SB91-"]
[null,"SB91-0008-050050",null,"SB91-0008",null,"SB91-"]
[null,"RE15-0112-xxxLLL",null,"RE15-0112",null,"RE15-"]
[null,"RE15-0512-xxx000",null,"RE15-0512",null,"RE15-"]
[null,"RE15-0522-xxx000",null,{"$f":"LEFT(B136,9)","v":"RE15-0522"},null,{"$f":"LEFT(D136,5)","v":"RE15-"}]
[null,"RE15-0540-050000",null,"RE15-0540",null,"RE15-"]
[null,"SB91-0408-001015",null,"SB91-0408",null,"SB91-"]
[null,"SB91-0409-050015",null,"SB91-0409",null,"SB91-"]
[null,"SB91-1015",null,"SB91-1015",null,"SB91-"]
[null,"SB91-1018",null,"SB91-1018",null,"SB91-"]
[null,"RE29-0102-xxxLLL",null,"RE29-0102",null,"RE29-"]
[null,"AW05-0801-xxx000",null,"AW05-0801",null,"AW05-"]
[null,"SB07-2103-050001",null,"SB07-2103",null,"SB07-"]
[null,"RE15-0422-050001",null,"RE15-0422",null,"RE15-"]
[null,"RE15-0411-016000",null,"RE15-0411",null,"RE15-"]
[null,"RE01-0363-000LLL",null,"RE01-0363",null,"RE01-"]
[null,"RE01-0378-000LLL",null,"RE01-0378",null,"RE01-"]
[null,"RE01-0379-000LLL",null,"RE01-0379",null,"RE01-"]
[null,"AW92-0901-000LLL",null,"AW92-0901",null,"AW92-"]
[null,"SH91-0135-050200",null,"SH91-0135",null,"SH91-"]
[null,"SS91-5131-001480",null,"SS91-5131",null,"SS91-"]
[null,"RB91-0403-000LLL",null,"RB91-0403",null,"RB91-"]
[null,"SS91-5140-001480",null,"SS91-5140",null,"SS91-"]
[null,"SB91-0405-050015",null,"SB91-0405",null,"SB91-"]
[null,"RE20-0301-050078",null,"RE20-0301",null,"RE20-"]
[null,"RB93-0110-000LLL",null,"RB93-0110",null,"RB93-"]
[null,"RB93-0130-000LLL",null,"RB93-0130",null,"RB93-"]
[null,"RB93-0160-000LLL",null,"RB93-0160",null,"RB93-"]
[null,"RB80-0501-050110",null,"RB80-0501",null,"RB80-"]
[null,"RB80-0501-050130",null,"RB80-0501",null,"RB80-"]
[null,"RB92-1502-001075",null,"RB92-1502",null,"RB92-"]
[null,"RB92-1503-001075",null,"RB92-1503",null,"RB92-"]
[null,"RB80-0601-073110",null,"RB80-0601",null,"RB80-"]
[null,"RB80-0601-073130",null,"RB80-0601",null,"RB80-"]
[null,"RB80-0601-073160",null,"RB80-0601",null,"RB80-"]

{"sheet":"BOM_Length","index":16,"n_rows":12,"n_cols":23,"rows_kept":12,"cut":false,"hidden":true,"merged":[[8,6,9,6],[8,1,9,1],[8,2,9,2],[8,3,9,3],[8,4,9,4],[8,5,9,5]]}
[null,null,null,"SHOW",null,null,"SHOW"]
[null,null,"Job Name:",{"$f":"IF(i_CustName=0,\"\",i_CustName)","v":""}]
[null,null,"Job Ref 1:",{"$f":"IF(i_JobNumber=0,\"\",i_JobNumber)","v":""}]
[null,null,"Job Ref 2:",{"$f":"IF(i_JobNumber2=0,\"\",i_JobNumber2)","v":""}]
[null,null,"Blind Width:",3000,"mm"]
[null,"LENGTH","Blind Drop:",3000,"mm"]
[null,"Zipscreen, Box 120 (Full Cover), Side Guide - Recess Fix, F56, Motor Control",null,null,null,null,null,null,null,null,null,null,null,null,"can't use lambda"]
[null,{"$f":"MATCH(B9,BOM_Header,0)","v":1},{"$error":"#N/A"},9,11,18,{"$error":"#N/A"}]
[null,"PART NUMBER","DESCRIPTION","CUT LENGTH\n(mm)","U.O.M","Total QTY","LINE COST\n(AUD)"]
[null,null,null,null,null,null,null,null,null,null,null,null,null,null,"Start here",null,"Add colours",null,null,null,"Create array",null,"output Dropdown "]
[null,{"$f":"_xlfn._xlws.FILTER(OFFSET(c_PartNumber,7,B8-1,200,1),(OFFSET(c_PartNumber,7,-(COLUMN(BD17)-COLUMN(AX17)),200,1)<>\"HIDE\")*(OFFSET(c_PartNumber,7,-(COLUMN(BD17)-COLUMN(AZ17)),200,1)=$B$6))","v":{"$error":"#VALUE!"}},{"$f":"_xlfn._xlws.FILTER(OFFSET(c_PartNumber,7,C8-1,200,1),(OFFSET(c_PartNumber,7,-(COLUMN(BE17)-COLUMN(AY17)),200,1)<>\"HIDE\")*(OFFSET(c_PartNumber,7,-(COLUMN(BE17)-COLUMN(BA17)),200,1)=$B$6))","v":{"$error":"#N/A"}},{"$f":"_xlfn._xlws.FILTER(OFFSET(c_PartNumber,7,D8-1,200,1),(OFFSET(c_PartNumber,7,-(COLUMN(BF17)-COLUMN(AZ17)),200,1)<>\"HIDE\")*(OFFSET(c_PartNumber,7,-(COLUMN(BF17)-COLUMN(BB17)),200,1)=$B$6))","v":{"$error":"#VALUE!"}},{"$f":"_xlfn._xlws.FILTER(OFFSET(c_PartNumber,7,E8-1,200,1),(OFFSET(c_PartNumber,7,-(COLUMN(BG17)-COLUMN(BA17)),200,1)<>\"HIDE\")*(OFFSET(c_PartNumber,7,-(COLUMN(BG17)-COLUMN(BC17)),200,1)=$B$6))","v":{"$error":"#VALUE!"}},{"$f":"_xlfn._xlws.FILTER(OFFSET(c_PartNumber,7,F8-1,200,1),(OFFSET(c_PartNumber,7,-(COLUMN(BH17)-COLUMN(BB17)),200,1)<>\"HIDE\")*(OFFSET(c_PartNumber,7,-(COLUMN(BH17)-COLUMN(BD17)),200,1)=$B$6))","v":{"$error":"#VALUE!"}},{"$f":"_xlfn._xlws.FILTER(OFFSET(c_PartNumber,7,G8-1,200,1),(OFFSET(c_PartNumber,7,-(COLUMN(BI17)-COLUMN(BC17)),200,1)<>\"HIDE\")*(OFFSET(c_PartNumber,7,-(COLUMN(BI17)-COLUMN(BE17)),200,1)=$B$6))","v":{"$error":"#N/A"}},null,null,null,null,null,null,null,"RE01-0101-xxxLLL",null,123,456,null,null,"RE01-0101-123LLL"]
[null,null,null,null,null,null,null,null,null,null,null,null,null,null,null,null,null,null,null,null,"RE01-0101-456LLL"]